{"text_format":"1","workbook":"xlsx","n_sheets":49,"sheets":["Tabelas x áreas","Arquivos","Limites","XML_DLO","Mapas","KM1","csv_KM1","OV1","csv_OV1","MR1","csv_MR1","CCA","csv_CCA","CC1","csv_CC1","CC2","csv_CC2","CR1","csv_CR1","CR2","csv_CR2","OVA","csv_OVA","LIQA","csv_LIQA","CRA","csv_CRA","CRB_a","csv_CRB_a","CRB_b","csv_CRB_b","CRB_c","csv_CRB_c","CRB_d","csv_CRB_d","CRB_e","csv_CRB_e","CRB_f","csv_CRB_f","CRB_g","csv_CRB_g","MRA","csv_MRA","CCRA","csv_CCRA","IRRBBA","csv_IRRBBA","IRRBB1","csv_IRRBB1"],"not_rendered":{"charts":0,"images":0,"macros":1,"external_links":1,"defined_names":740,"comments":0,"pivot_tables":0},"unopened":[],"bounds":{"document_bytes":16777216,"sheet_cells":100000,"rows_first":2000,"rows_last":500,"rows_between":2000,"halvings":0,"cell_chars":16384,"cell_head_chars":4096},"cells_cut":0,"cells_raw":0,"read":"whole","date_system":"1900"}

{"sheet":"Tabelas x áreas","index":0,"n_rows":31,"n_cols":6,"rows_kept":31,"cut":false,"hidden":false,"merged":[[4,1,4,3]]}
[]
[]
[]
[]
[]
[]
[]
[]
[null,null,"TABELA","ÁREA RESPONSÁVEL ","Periodicidade"]
[null,null,"KM1","Gecap (DLO)","trimestral","OK"]
[null,null,"OV1","Gecap (DLO)","trimestral","OK"]
[null,null,"MR1","Gecap (DLO) - Gerim Valida","trimestral","OK"]
[null,null,"CCA","GECAP (CRK)","semestral","OK"]
[null,null,"CC1","GECAP (DLO)","semestral","OK"]
[null,null,"CC2","GEVIC","semestral","OK"]
[null,null,"CR1","GERIC ","semestral","OK"]
[null,null,"CR2","GERIC ","semestral","OK"]
[null,null,"OVA","GECAP (Pilar III - Rel. Consolidado)","anual","OK"]
[null,null,"LIQA","GERIM","anual","OK"]
[null,null,"CRA","GERIC ","anual","OK"]
[null,null,"CRB_a","GERIC ","anual","OK"]
[null,null,"CRB_b","GERIC ","anual","OK"]
[null,null,"CRB_c","GERIC ","anual","OK"]
[null,null,"CRB_d","GERIC ","anual","OK"]
[null,null,"CRB_e","GERIC ","anual","OK"]
[null,null,"CRB_f","GERIC ","anual","OK"]
[null,null,"CRB_g","GERIC ","anual","OK"]
[null,null,"CCRA","GERIC ","anual","OK"]
[null,null,"MRA","GERIM","anual","OK"]
[null,null,"IRRBBA","GERIM","anual","OK"]
[null,null,"IRRBB1","GERIM","anual","OK"]

{"sheet":"Arquivos","index":1,"n_rows":34,"n_cols":7,"rows_kept":34,"cut":false,"hidden":false,"merged":[[0,0,1,0],[4,2,4,6]]}
[]
[]
[]
[]
["Carga de Dados",null,"Geração de Arquivos CSV"]
[null,null,"teste"]
["Carregar DLO Xml"]
["Carregar Dados Gerim",null,"Arquivos Trimestrais",null,"Arquivos Semestrais",null,"Arquivos Anuais"]
["Carregar Dados GERIC"]
["Carregar Dados GECAP"]
["Carregar Dados GEVIC"]
["Carregar Dados LFS"]
["data referência",null,"KM1",null,"KM1",null,"KM1"]
["2023-12-01",null,"OV1",null,"OV1",null,"OV1"]
[null,null,"MR1",null,"MR1",null,"MR1"]
[null,null,null,null,"CCA",null,"CCA"]
[null,null,null,null,"CC1",null,"CC1"]
[null,null,null,null,"CC2",null,"CC2"]
[null,null,null,null,"CR1",null,"CR1"]
[null,null,null,null,"CR2",null,"CR2"]
[null,null,null,null,null,null,"OVA"]
[null,null,null,null,null,null,"LIQA"]
[null,null,null,null,null,null,"CRA"]
[null,null,null,null,null,null,"CRB_a"]
[null,null,null,null,null,null,"CRB_b"]
[null,null,null,null,null,null,"CRB_c"]
[null,null,null,null,null,null,"CRB_d"]
[null,null,null,null,null,null,"CRB_e"]
[null,null,null,null,null,null,"CRB_f"]
[null,null,null,null,null,null,"CRB_g"]
[null,null,null,null,null,null,"CCRA"]
[null,null,null,null,null,null,"MRA"]
[null,null,null,null,null,null,"IRRBBA"]
[null,null,null,null,null,null,"IRRBB1"]

{"sheet":"Limites","index":2,"n_rows":78,"n_cols":11,"rows_kept":78,"cut":false,"hidden":false,"merged":[[0,0,1,0]]}
[]
[]
[]
[]
[null,null,"Data","Fator F","ACP_Conservação","ACP_ContraCiclico","ACP_Sistemico","ACP_Total","Min INI","Min ICP","F+ACP"]
[null,null,"2019-12-01",0.08,{"$f":"K6-D6","v":2.5000000000000008E-2},0,0,{"$f":"SUM(E6:G6)","v":2.5000000000000008E-2},0.06,4.4999999999999998E-2,{"$f":"8%+2.5%","v":0.10500000000000001}]
["Carregar DLO Xml",null,"2020-01-01",0.08,2.5000000000000008E-2,0,0,{"$f":"SUM(E7:G7)","v":2.5000000000000008E-2},0.06,4.4999999999999998E-2,{"$f":"8%+2.5%","v":0.10500000000000001}]
["Carregar Dados Gerim",null,"2020-02-01",0.08,2.5000000000000008E-2,0,0,2.5000000000000008E-2,0.06,4.4999999999999998E-2,{"$f":"8%+2.5%","v":0.10500000000000001}]
["Carregar Dados GERIC",null,"2020-03-01",0.08,2.5000000000000008E-2,0,0,2.5000000000000008E-2,0.06,4.4999999999999998E-2,{"$f":"8%+2.5%","v":0.10500000000000001}]
["Carregar Dados GECAP",null,"2020-04-01",0.08,1.2499999999999997E-2,0,0,1.2499999999999997E-2,0.06,4.4999999999999998E-2,{"$f":"8%+1.25%","v":9.2499999999999999E-2}]
["Carregar Dados GEVIC",null,"2020-05-01",0.08,1.2499999999999997E-2,0,0,1.2499999999999997E-2,0.06,4.4999999999999998E-2,{"$f":"8%+1.25%","v":9.2499999999999999E-2}]
["Carregar Dados LFS",null,"2020-06-01",0.08,1.2499999999999997E-2,0,0,1.2499999999999997E-2,0.06,4.4999999999999998E-2,{"$f":"8%+1.25%","v":9.2499999999999999E-2}]
[null,null,"2020-07-01",0.08,1.2499999999999997E-2,0,0,1.2499999999999997E-2,0.06,4.4999999999999998E-2,{"$f":"8%+1.25%","v":9.2499999999999999E-2}]
[null,null,"2020-08-01",0.08,1.2499999999999997E-2,0,0,1.2499999999999997E-2,0.06,4.4999999999999998E-2,9.2499999999999999E-2]
[null,null,"2020-09-01",0.08,1.2499999999999997E-2,0,0,1.2499999999999997E-2,0.06,4.4999999999999998E-2,9.2499999999999999E-2]
[null,null,"2020-10-01",0.08,1.2499999999999997E-2,0,0,1.2499999999999997E-2,0.06,4.4999999999999998E-2,9.2499999999999999E-2]
[null,null,"2020-11-01",0.08,1.2499999999999997E-2,0,0,1.2499999999999997E-2,0.06,4.4999999999999998E-2,9.2499999999999999E-2]
[null,null,"2020-12-01",0.08,1.2499999999999997E-2,0,0,1.2499999999999997E-2,0.06,4.4999999999999998E-2,9.2499999999999999E-2]
[null,null,"2021-01-01",0.08,1.2499999999999997E-2,0,0,1.2499999999999997E-2,0.06,4.4999999999999998E-2,9.2499999999999999E-2]
[null,null,"2021-02-01",0.08,1.2499999999999997E-2,0,0,1.2499999999999997E-2,0.06,4.4999999999999998E-2,9.2499999999999999E-2]
[null,null,"2021-03-01",0.08,1.2499999999999997E-2,0,0,1.2499999999999997E-2,0.06,4.4999999999999998E-2,9.2499999999999999E-2]
[null,null,"2021-04-01",0.08,1.6250000000000001E-2,0,0,1.6250000000000001E-2,0.06,4.4999999999999998E-2,{"$f":"8%+1.625%","v":9.6250000000000002E-2}]
[null,null,"2021-05-01",0.08,1.6250000000000001E-2,0,0,1.6250000000000001E-2,0.06,4.4999999999999998E-2,9.6250000000000002E-2]
[null,null,"2021-06-01",0.08,1.6250000000000001E-2,0,0,1.6250000000000001E-2,0.06,4.4999999999999998E-2,9.6250000000000002E-2]
[null,null,"2021-07-01",0.08,1.6250000000000001E-2,0,0,1.6250000000000001E-2,0.06,4.4999999999999998E-2,9.6250000000000002E-2]
[null,null,"2021-08-01",0.08,1.6250000000000001E-2,0,0,1.6250000000000001E-2,0.06,4.4999999999999998E-2,9.6250000000000002E-2]
[null,null,"2021-09-01",0.08,1.6250000000000001E-2,0,0,1.6250000000000001E-2,0.06,4.4999999999999998E-2,9.6250000000000002E-2]
[null,null,"2021-10-01",0.08,2.0000000000000004E-2,0,0,2.0000000000000004E-2,0.06,4.4999999999999998E-2,{"$f":"8%+2%","v":0.1}]
[null,null,"2021-11-01",0.08,2.0000000000000004E-2,0,0,2.0000000000000004E-2,0.06,4.4999999999999998E-2,0.1]
[null,null,"2021-12-01",0.08,2.0000000000000004E-2,0,0,2.0000000000000004E-2,0.06,4.4999999999999998E-2,0.1]
[null,null,"2022-01-01",0.08,2.0000000000000004E-2,0,0,2.0000000000000004E-2,0.06,4.4999999999999998E-2,0.1]
[null,null,"2022-02-01",0.08,2.0000000000000004E-2,0,0,2.0000000000000004E-2,0.06,4.4999999999999998E-2,0.1]
[null,null,"2022-03-01",0.08,2.0000000000000004E-2,0,0,2.0000000000000004E-2,0.06,4.4999999999999998E-2,0.1]
[null,null,"2022-04-01",0.08,2.5000000000000008E-2,0,0,2.5000000000000008E-2,0.06,4.4999999999999998E-2,{"$f":"8%+2.5%","v":0.10500000000000001}]
[null,null,"2022-05-01",0.08,2.5000000000000008E-2,0,0,2.5000000000000008E-2,0.06,4.4999999999999998E-2,{"$f":"8%+2.5%","v":0.10500000000000001}]
[null,null,"2022-06-01",0.08,2.5000000000000008E-2,0,0,2.5000000000000008E-2,0.06,4.4999999999999998E-2,0.10500000000000001]
[null,null,"2022-07-01",0.08,2.5000000000000008E-2,0,0,2.5000000000000008E-2,0.06,4.4999999999999998E-2,0.10500000000000001]
[null,null,"2022-08-01",0.08,{"$f":"K38-D38","v":2.5000000000000008E-2},0,0,2.5000000000000008E-2,0.06,4.4999999999999998E-2,0.10500000000000001]
[null,null,"2022-09-01",0.08,2.5000000000000008E-2,0,0,2.5000000000000008E-2,0.06,4.4999999999999998E-2,0.10500000000000001]
[null,null,"2022-10-01",0.08,2.5000000000000008E-2,0,0,2.5000000000000008E-2,0.06,4.4999999999999998E-2,0.10500000000000001]
[null,null,"2022-11-01",0.08,2.5000000000000008E-2,0,0,2.5000000000000008E-2,0.06,4.4999999999999998E-2,0.10500000000000001]
[null,null,"2022-12-01",0.08,2.5000000000000008E-2,0,0,2.5000000000000008E-2,0.06,4.4999999999999998E-2,0.10500000000000001]
[null,null,"2023-01-01",0.08,2.5000000000000008E-2,0,0,2.5000000000000008E-2,0.06,4.4999999999999998E-2,0.10500000000000001]
[null,null,"2023-02-01",0.08,2.5000000000000008E-2,0,0,2.5000000000000008E-2,0.06,4.4999999999999998E-2,0.10500000000000001]
[null,null,"2023-03-01",0.08,2.5000000000000008E-2,0,0,2.5000000000000008E-2,0.06,4.4999999999999998E-2,0.10500000000000001]
[null,null,"2023-04-01",0.08,2.5000000000000008E-2,0,0,2.5000000000000008E-2,0.06,4.4999999999999998E-2,0.10500000000000001]
[null,null,"2023-05-01",0.08,2.5000000000000008E-2,0,0,2.5000000000000008E-2,0.06,4.4999999999999998E-2,0.10500000000000001]
[null,null,"2023-06-01",0.08,2.5000000000000008E-2,0,0,2.5000000000000008E-2,0.06,4.4999999999999998E-2,0.10500000000000001]
[null,null,"2023-07-01",0.08,2.5000000000000008E-2,0,0,2.5000000000000008E-2,0.06,4.4999999999999998E-2,0.10500000000000001]
[null,null,"2023-08-01",0.08,2.5000000000000008E-2,0,0,2.5000000000000008E-2,0.06,4.4999999999999998E-2,0.10500000000000001]
[null,null,"2023-09-01",0.08,2.5000000000000008E-2,0,0,2.5000000000000008E-2,0.06,4.4999999999999998E-2,0.10500000000000001]
[null,null,"2023-10-01",0.08,2.5000000000000008E-2,0,0,2.5000000000000008E-2,0.06,4.4999999999999998E-2,0.10500000000000001]
[null,null,"2023-11-01",0.08,2.5000000000000008E-2,0,0,2.5000000000000008E-2,0.06,4.4999999999999998E-2,0.10500000000000001]
[null,null,"2023-12-01",0.08,2.5000000000000008E-2,0,0,2.5000000000000008E-2,0.06,4.4999999999999998E-2,0.10500000000000001]
[null,null,"2024-01-01",0.08,2.5000000000000008E-2,0,0,2.5000000000000008E-2,0.06,4.4999999999999998E-2,0.10500000000000001]
[null,null,"2024-02-01",0.08,2.5000000000000008E-2,0,0,2.5000000000000008E-2,0.06,4.4999999999999998E-2,0.10500000000000001]
[null,null,"2024-03-01",0.08,2.5000000000000008E-2,0,0,2.5000000000000008E-2,0.06,4.4999999999999998E-2,0.10500000000000001]
[null,null,"2024-04-01",0.08,2.5000000000000008E-2,0,0,2.5000000000000008E-2,0.06,4.4999999999999998E-2,0.10500000000000001]
[null,null,"2024-05-01",0.08,2.5000000000000008E-2,0,0,2.5000000000000008E-2,0.06,4.4999999999999998E-2,0.10500000000000001]
[null,null,"2024-06-01",0.08,2.5000000000000008E-2,0,0,2.5000000000000008E-2,0.06,4.4999999999999998E-2,0.10500000000000001]
[null,null,"2024-07-01",0.08,2.5000000000000008E-2,0,0,2.5000000000000008E-2,0.06,4.4999999999999998E-2,0.10500000000000001]
[null,null,"2024-08-01",0.08,2.5000000000000008E-2,0,0,2.5000000000000008E-2,0.06,4.4999999999999998E-2,0.10500000000000001]
[null,null,"2024-09-01",0.08,2.5000000000000008E-2,0,0,2.5000000000000008E-2,0.06,4.4999999999999998E-2,0.10500000000000001]
[null,null,"2024-10-01",0.08,2.5000000000000008E-2,0,0,2.5000000000000008E-2,0.06,4.4999999999999998E-2,0.10500000000000001]
[null,null,"2024-11-01",0.08,2.5000000000000008E-2,0,0,2.5000000000000008E-2,0.06,4.4999999999999998E-2,0.10500000000000001]
[null,null,"2024-12-01",0.08,2.5000000000000008E-2,0,0,2.5000000000000008E-2,0.06,4.4999999999999998E-2,0.10500000000000001]
[null,null,"2025-01-01",0.08,2.5000000000000008E-2,0,0,2.5000000000000008E-2,0.06,4.4999999999999998E-2,0.10500000000000001]
[null,null,"2025-02-01",0.08,2.5000000000000008E-2,0,0,2.5000000000000008E-2,0.06,4.4999999999999998E-2,0.10500000000000001]
[null,null,"2025-03-01",0.08,2.5000000000000008E-2,0,0,2.5000000000000008E-2,0.06,4.4999999999999998E-2,0.10500000000000001]
[null,null,"2025-04-01",0.08,{"$f":"K70-D70","v":2.5000000000000008E-2},0,0,2.5000000000000008E-2,0.06,4.4999999999999998E-2,0.10500000000000001]
[null,null,"2025-05-01",0.08,2.5000000000000008E-2,0,0,{"$f":"SUM(E71:G71)","v":2.5000000000000008E-2},0.06,4.4999999999999998E-2,0.10500000000000001]
[null,null,"2025-06-01",0.08,2.5000000000000008E-2,0,0,2.5000000000000008E-2,0.06,4.4999999999999998E-2,0.10500000000000001]
[null,null,"2025-07-01",0.08,2.5000000000000008E-2,0,0,2.5000000000000008E-2,0.06,4.4999999999999998E-2,0.10500000000000001]
[null,null,"2025-08-01",0.08,2.5000000000000008E-2,0,0,2.5000000000000008E-2,0.06,4.4999999999999998E-2,0.10500000000000001]
[null,null,"2025-09-01",0.08,2.5000000000000008E-2,0,0,2.5000000000000008E-2,0.06,4.4999999999999998E-2,0.10500000000000001]
[null,null,"2025-10-01",0.08,2.5000000000000008E-2,0,0,2.5000000000000008E-2,0.06,4.4999999999999998E-2,0.10500000000000001]
[null,null,"2025-11-01",0.08,2.5000000000000008E-2,0,0,2.5000000000000008E-2,0.06,4.4999999999999998E-2,0.10500000000000001]
[null,null,"2025-12-01",0.08,2.5000000000000008E-2,0,0,2.5000000000000008E-2,0.06,4.4999999999999998E-2,0.10500000000000001]

{"sheet":"XML_DLO","index":3,"n_rows":59796,"n_cols":11,"rows_kept":4500,"cut":true,"hidden":false,"merged":[[0,0,1,0]],"bounds":{"rows_first":2000,"rows_last":500,"rows_between":2000,"halvings":0}}
[]
[]
[]
[]
[null,null,"dataBase","codigoConta","valorConta","valorCosif","codigoCosif","saldoCosif","valorDetalhe","codigoElemento","valorElemento"]
[null,null,"2019-12-01","100",1667529160.73]
["Carregar DLO Xml",null,"2019-12-01","101",1667529160.73]
["Carregar Dados Gerim",null,"2019-12-01","102",1667529160.73]
["Carregar Dados GERIC",null,"2019-12-01","103",1494555431.1600001]
["Carregar Dados GECAP",null,"2019-12-01","104",1494555431.1600001]
["Carregar Dados GEVIC",null,"2019-12-01","108",1494555431.1600001]
["Carregar Dados LFS",null,"2019-12-01","109",1667529160.73]
[null,null,"2019-12-01","110",1494555431.1600001]
[null,null,"2019-12-01","111",1494555431.1600001]
[null,null,"2019-12-01","111.01",1063070146.37,1063070146.37,64110008,163070146.37]
[null,null,"2019-12-01","111.01",1063070146.37,1063070146.37,61110135,694489135.69000006]
[null,null,"2019-12-01","111.01",1063070146.37,1063070146.37,61110166,205510864.31]
[null,null,"2019-12-01","111.02",997617870.35000002,997617870.35000002,61520000,791287591.21000004]
[null,null,"2019-12-01","111.02",997617870.35000002,997617870.35000002,61510003,148015279.13999999]
[null,null,"2019-12-01","111.02",997617870.35000002,997617870.35000002,61580208,58315000]
[null,null,"2019-12-01","111.90",0]
[null,null,"2019-12-01","111.90.01",997617870.35000002]
[null,null,"2019-12-01","111.91",160292390.30000001]
[null,null,"2019-12-01","111.91.01",160292390.30000001,160292390.30000001,61610202,-2358.5500000000002]
[null,null,"2019-12-01","111.91.01",160292390.30000001,160292390.30000001,61640007,162671991.78999999]
[null,null,"2019-12-01","111.91.01",160292390.30000001,160292390.30000001,61610109,-2377242.94]
[null,null,"2019-12-01","111.92",305887375.04000002]
[null,null,"2019-12-01","111.92.01",0,null,null,null,0,2,"0.00"]
[null,null,"2019-12-01","111.92.01",0,null,null,null,0,3,"16"]
[null,null,"2019-12-01","111.92.02",122106960.15000001,122106960.15000001,25198100,2830335.43]
[null,null,"2019-12-01","111.92.02",122106960.15000001,122106960.15000001,25199109,-2830335.4]
[null,null,"2019-12-01","111.92.02",122106960.15000001,122106960.15000001,25199202,-131822556.18000001]
[null,null,"2019-12-01","111.92.02",122106960.15000001,122106960.15000001,25198203,253929516.30000001]
[null,null,"2019-12-01","111.92.04",182590612.03999999,182590612.03999999,30973509,182590612.03999999]
[null,null,"2019-12-01","111.92.04",182590612.03999999,182590612.03999999,null,null,182590612.03999999,2,"182590612.04"]
[null,null,"2019-12-01","111.92.04",182590612.03999999,182590612.03999999,null,null,182590612.03999999,3,"16"]
[null,null,"2019-12-01","111.92.06",1189802.8500000001]
[null,null,"2019-12-01","111.92.06.01.01.01",1189802.8500000001,1189802.8500000001,30984701,694465.52]
[null,null,"2019-12-01","111.92.06.01.01.01",1189802.8500000001,1189802.8500000001,30984608,495337.33]
[null,null,"2019-12-01","111.93",0,null,null,null,0,2,"0.00"]
[null,null,"2019-12-01","111.93",0,null,null,null,0,3,"16"]
[null,null,"2019-12-01","111.93.02",159450825.13999999]
[null,null,"2019-12-01","111.93.02.01",1594508251.3800001]
[null,null,"2019-12-01","111.94",99952820.219999999]
[null,null,"2019-12-01","111.94.01",0,null,null,null,0,2,"0.00"]
[null,null,"2019-12-01","111.94.01",0,null,null,null,0,3,"16"]
[null,null,"2019-12-01","111.94.01.02",159450825.13999999]
[null,null,"2019-12-01","111.94.01.02.01",1594508251.3800001]
[null,null,"2019-12-01","111.94.02",99952820.219999999,null,null,null,99952820.219999999,2,"99952820.22"]
[null,null,"2019-12-01","111.94.02",99952820.219999999,null,null,null,99952820.219999999,3,"16"]
[null,null,"2019-12-01","111.94.02.01",259403645.36000001]
[null,null,"2019-12-01","111.94.02.01.01",309611121.5,309611121.5,30984402,246638046.31999999]
[null,null,"2019-12-01","111.94.02.01.01",309611121.5,309611121.5,30984309,2797876.88]
[null,null,"2019-12-01","111.94.02.01.01",309611121.5,309611121.5,30984206,60175198.299999997]
[null,null,"2019-12-01","111.94.02.01.90",50207476.140000001]
[null,null,"2019-12-01","111.94.02.01.90.01",50207476.140000001,50207476.140000001,49430992,50207476.140000001]
[null,null,"2019-12-01","111.94.02.02",159450825.13999999]
[null,null,"2019-12-01","111.94.03",0]
[null,null,"2019-12-01","111.94.03.02",235606695.18000001]
[null,null,"2019-12-01","111.94.04",159450825.13999999]
[null,null,"2019-12-01","111.94.04.01",0]
[null,null,"2019-12-01","111.94.04.01.01",159450825.13999999]
[null,null,"2019-12-01","111.94.04.01.01.02",159450825.13999999]
[null,null,"2019-12-01","111.94.04.02",159450825.13999999]
[null,null,"2019-12-01","111.94.04.04",99952820.219999999]
[null,null,"2019-12-01","111.94.05",0]
[null,null,"2019-12-01","111.94.05.02",159450825.13999999]
[null,null,"2019-12-01","120",172973729.56999999]
[null,null,"2019-12-01","120.01",172973729.56999999]
[null,null,"2019-12-01","120.01.01",172973729.56999999,582520942.25,90981012,23016450.559999999]
[null,null,"2019-12-01","120.01.01",172973729.56999999,582520942.25,90981036,95140951.689999998]
[null,null,"2019-12-01","120.01.01",172973729.56999999,582520942.25,90981050,464363540]
[null,null,"2019-12-01","120.01.01",172973729.56999999,582520942.25,null,null,23016450.559999999,2,"23016450.56"]
[null,null,"2019-12-01","120.01.01",172973729.56999999,582520942.25,null,null,23016450.559999999,3,"96"]
[null,null,"2019-12-01","120.01.01",172973729.56999999,582520942.25,null,null,57084571.009999998,2,"95140951.69"]
[null,null,"2019-12-01","120.01.01",172973729.56999999,582520942.25,null,null,57084571.009999998,3,"02"]
[null,null,"2019-12-01","120.01.01",172973729.56999999,582520942.25,null,null,92872708,2,"464363540.00"]
[null,null,"2019-12-01","120.01.01",172973729.56999999,582520942.25,null,null,92872708,3,"04"]
[null,null,"2019-12-01","120.01.02",0]
[null,null,"2019-12-01","120.01.02.02",56365502.25,null,null,null,56365502.25,2,"187885007.49"]
[null,null,"2019-12-01","120.01.02.02",56365502.25,null,null,null,56365502.25,3,"27"]
[null,null,"2019-12-01","120.92",0]
[null,null,"2019-12-01","120.92.05",0]
[null,null,"2019-12-01","120.92.05.01",172973729.56999999]
[null,null,"2019-12-01","140",8.08]
[null,null,"2019-12-01","141",18491356917.110001]
[null,null,"2019-12-01","142",16665418263.73]
[null,null,"2019-12-01","142.01",140248176.68000001,null,null,null,140248176.68000001,2,"140248176.68"]
[null,null,"2019-12-01","142.01",140248176.68000001,null,null,null,140248176.68000001,43,"99"]
[null,null,"2019-12-01","142.02",12465812.43]
[null,null,"2019-12-01","142.02.01",12465812.43,null,null,null,12465812.43,2,"12465812.43"]
[null,null,"2019-12-01","142.02.01",12465812.43,null,null,null,12465812.43,43,"99"]
[null,null,"2019-12-01","142.03",3396359285.6900001]
[null,null,"2019-12-01","142.03.01",3295022074.6100001,null,null,null,3295022074.6100001,2,"3295022074.61"]
[null,null,"2019-12-01","142.03.01",3295022074.6100001,null,null,null,3295022074.6100001,43,"99"]
[null,null,"2019-12-01","142.03.03",101337211.08,null,null,null,101337211.08,2,"101337211.08"]
[null,null,"2019-12-01","142.03.03",101337211.08,null,null,null,101337211.08,43,"99"]
[null,null,"2019-12-01","142.05",614266949.83000004]
[null,null,"2019-12-01","142.05.01",614266949.83000004,null,null,null,614266949.83000004,2,"614266949.83"]
[null,null,"2019-12-01","142.05.01",614266949.83000004,null,null,null,614266949.83000004,43,"99"]
[null,null,"2019-12-01","142.06",10005784853.35]
[null,null,"2019-12-01","142.06.01",10005784853.35,null,null,null,10005784853.35,2,"10005784853.35"]
[null,null,"2019-12-01","142.06.01",10005784853.35,null,null,null,10005784853.35,43,"99"]
[null,null,"2019-12-01","142.08",2047088236.8,null,null,null,2047088236.8,2,"2047088236.80"]
[null,null,"2019-12-01","142.08",2047088236.8,null,null,null,2047088236.8,43,"99"]
[null,null,"2019-12-01","142.09",133352439.39,null,null,null,133352439.39,2,"133352439.39"]
[null,null,"2019-12-01","142.09",133352439.39,null,null,null,133352439.39,43,"99"]
[null,null,"2019-12-01","142.10",315852509.56,null,null,null,315852509.56,2,"315852509.56"]
[null,null,"2019-12-01","142.10",315852509.56,null,null,null,315852509.56,43,"99"]
[null,null,"2019-12-01","143",273457059.36000001,null,null,null,273457059.36000001,2,"273457059.36"]
[null,null,"2019-12-01","143",273457059.36000001,null,null,null,273457059.36000001,43,"99"]
[null,null,"2019-12-01","145",839971501.15999997]
[null,null,"2019-12-01","145.01",419985750.57999998]
[null,null,"2019-12-01","145.01.01",419985750.57999998,null,null,null,419985750.57999998,2,"419985750.58"]
[null,null,"2019-12-01","145.01.01",419985750.57999998,null,null,null,419985750.57999998,43,"99"]
[null,null,"2019-12-01","145.02",8881423.2899999991]
[null,null,"2019-12-01","145.02.01",8881423.2899999991,null,null,null,8881423.2899999991,2,"8881423.29"]
[null,null,"2019-12-01","145.02.01",8881423.2899999991,null,null,null,8881423.2899999991,43,"99"]
[null,null,"2019-12-01","145.03",428867173.87]
[null,null,"2019-12-01","145.03.01",419985750.57999998,null,null,null,419985750.57999998,2,"419985750.58"]
[null,null,"2019-12-01","145.03.01",419985750.57999998,null,null,null,419985750.57999998,43,"99"]
[null,null,"2019-12-01","145.03.02",8881423.2899999991,null,null,null,8881423.2899999991,2,"8881423.29"]
[null,null,"2019-12-01","145.03.02",8881423.2899999991,null,null,null,8881423.2899999991,43,"99"]
[null,null,"2019-12-01","145.03.06",17576044.050000001,null,null,null,17576044.050000001,2,"17576044.05"]
[null,null,"2019-12-01","145.03.06",17576044.050000001,null,null,null,17576044.050000001,43,"99"]
[null,null,"2019-12-01","146",1259424211.5799999]
[null,null,"2019-12-01","146.01",1573773602.99]
[null,null,"2019-12-01","146.01.01",1442672946.5699999,null,null,null,1442672946.5699999,2,"1442672946.57"]
[null,null,"2019-12-01","146.01.01",1442672946.5699999,null,null,null,1442672946.5699999,43,"99"]
[null,null,"2019-12-01","146.01.02",128747391.94,null,null,null,128747391.94,2,"128747391.94"]
[null,null,"2019-12-01","146.01.02",128747391.94,null,null,null,128747391.94,43,"99"]
[null,null,"2019-12-01","146.01.03",2353264.48,null,null,null,2353264.48,2,"2353264.48"]
[null,null,"2019-12-01","146.01.03",2353264.48,null,null,null,2353264.48,43,"99"]
[null,null,"2019-12-01","146.02",-314349391.41000003]
[null,null,"2019-12-01","146.02.01",-314106327.61000001,null,null,null,-78814355.530000001,2,"98517944.41"]
[null,null,"2019-12-01","146.02.01",-314106327.61000001,null,null,null,-78814355.530000001,43,"72"]
[null,null,"2019-12-01","146.02.01",-314106327.61000001,null,null,null,-235291972.08000001,2,"470583944.16"]
[null,null,"2019-12-01","146.02.01",-314106327.61000001,null,null,null,-235291972.08000001,43,"73"]
[null,null,"2019-12-01","146.02.02",0,null,null,null,0,2,"128747391.94"]
[null,null,"2019-12-01","146.02.02",0,null,null,null,0,43,"74"]
[null,null,"2019-12-01","146.02.03",-243063.8,null,null,null,-243063.8,2,"486127.60"]
[null,null,"2019-12-01","146.02.03",-243063.8,null,null,null,-243063.8,43,"76"]
[null,null,"2019-12-01","146.02.03",-243063.8,null,null,null,0,2,"1867136.88"]
[null,null,"2019-12-01","146.02.03",-243063.8,null,null,null,0,43,"78"]
[null,null,"2019-12-01","150",833764580.37]
[null,null,"2019-12-01","160",193745549.41]
[null,null,"2019-12-01","160.01",315852509.56]
[null,null,"2019-12-01","160.08",122106960.15000001]
[null,null,"2019-12-01","170",750388122.33000004]
[null,null,"2019-12-01","171",46205445.439999998]
[null,null,"2019-12-01","172",46205445.439999998]
[null,null,"2019-12-01","172.01",46205445.439999998,null,null,null,46205445.439999998,2,"46205445.44"]
[null,null,"2019-12-01","172.01",46205445.439999998,null,null,null,46205445.439999998,46,"0.00"]
[null,null,"2019-12-01","172.01",46205445.439999998,null,null,null,46205445.439999998,61,"9"]
[null,null,"2019-12-01","172.01",46205445.439999998,null,null,null,46205445.439999998,62,"1"]
[null,null,"2019-12-01","190",50025874821.900002]
[null,null,"2019-12-01","191",8337645803.6499996]
[null,null,"2019-12-01","192",1478403456.3099999,null,null,null,1478403456.3099999,76,"20191204"]
[null,null,"2019-12-01","192.01",1035448073.38]
[null,null,"2019-12-01","192.02",442955382.93000001]
[null,null,"2019-12-01","510",457058.37]
[null,null,"2019-12-01","510.01",0,137962884.81,11110006,134177230.16]
[null,null,"2019-12-01","510.01",0,137962884.81,11540009,3785654.65]
[null,null,"2019-12-01","510.01",0,137962884.81,null,null,0,2,"3785654.65"]
[null,null,"2019-12-01","510.01",0,137962884.81,null,null,0,4,"11"]
[null,null,"2019-12-01","510.01",0,137962884.81,null,null,0,41,"002"]
[null,null,"2019-12-01","510.01",0,137962884.81,null,null,0,42,"99"]
[null,null,"2019-12-01","510.01",0,137962884.81,null,null,0,43,"99"]
[null,null,"2019-12-01","510.01",0,137962884.81,null,null,0,45,"999"]
[null,null,"2019-12-01","510.01",0,137962884.81,null,null,0,2,"134177230.16"]
[null,null,"2019-12-01","510.01",0,137962884.81,null,null,0,4,"11"]
[null,null,"2019-12-01","510.01",0,137962884.81,null,null,0,41,"001"]
[null,null,"2019-12-01","510.01",0,137962884.81,null,null,0,42,"99"]
[null,null,"2019-12-01","510.01",0,137962884.81,null,null,0,43,"99"]
[null,null,"2019-12-01","510.01",0,137962884.81,null,null,0,45,"999"]
[null,null,"2019-12-01","510.03",457058.37,2285291.87,11520005,2285291.87]
[null,null,"2019-12-01","510.03",457058.37,2285291.87,null,null,457058.37,2,"2285291.87"]
[null,null,"2019-12-01","510.03",457058.37,2285291.87,null,null,457058.37,4,"11"]
[null,null,"2019-12-01","510.03",457058.37,2285291.87,null,null,457058.37,41,"022"]
[null,null,"2019-12-01","510.03",457058.37,2285291.87,null,null,457058.37,42,"99"]
[null,null,"2019-12-01","510.03",457058.37,2285291.87,null,null,457058.37,43,"99"]
[null,null,"2019-12-01","510.03",457058.37,2285291.87,null,null,457058.37,45,"999"]
[null,null,"2019-12-01","510.03",457058.37,2285291.87,null,null,0,2,"0.00"]
[null,null,"2019-12-01","510.03",457058.37,2285291.87,null,null,0,4,"11"]
[null,null,"2019-12-01","510.03",457058.37,2285291.87,null,null,0,41,"021"]
[null,null,"2019-12-01","510.03",457058.37,2285291.87,null,null,0,42,"99"]
[null,null,"2019-12-01","510.03",457058.37,2285291.87,null,null,0,43,"99"]
[null,null,"2019-12-01","510.03",457058.37,2285291.87,null,null,0,45,"999"]
[null,null,"2019-12-01","520",9027873.1600000001]
[null,null,"2019-12-01","520.01",0,393528283.24000001,12110036,94989544.989999995]
[null,null,"2019-12-01","520.01",0,393528283.24000001,12110074,298538738.25]
[null,null,"2019-12-01","520.01",0,393528283.24000001,null,null,0,2,"393528283.24"]
[null,null,"2019-12-01","520.01",0,393528283.24000001,null,null,0,4,"11"]
[null,null,"2019-12-01","520.01",0,393528283.24000001,null,null,0,41,"033"]
[null,null,"2019-12-01","520.01",0,393528283.24000001,null,null,0,42,"106"]
[null,null,"2019-12-01","520.01",0,393528283.24000001,null,null,0,43,"99"]
[null,null,"2019-12-01","520.01",0,393528283.24000001,null,null,0,45,"020"]
[null,null,"2019-12-01","520.02",0,306143816.88999999,13210076,201033667.18000001]
[null,null,"2019-12-01","520.02",0,306143816.88999999,13210038,105110149.70999999]
[null,null,"2019-12-01","520.02",0,306143816.88999999,null,null,0,2,"306143816.89"]
[null,null,"2019-12-01","520.02",0,306143816.88999999,null,null,0,4,"11"]
[null,null,"2019-12-01","520.02",0,306143816.88999999,null,null,0,41,"004"]
[null,null,"2019-12-01","520.02",0,306143816.88999999,null,null,0,42,"99"]
[null,null,"2019-12-01","520.02",0,306143816.88999999,null,null,0,43,"99"]
[null,null,"2019-12-01","520.02",0,306143816.88999999,null,null,0,45,"020"]
[null,null,"2019-12-01","520.03",3515208.81,26457467.34,12120071,26457467.34]
[null,null,"2019-12-01","520.03",3515208.81,26457467.34,null,null,3515208.81,2,"17576044.05"]
[null,null,"2019-12-01","520.03",3515208.81,26457467.34,null,null,3515208.81,4,"11"]
[null,null,"2019-12-01","520.03",3515208.81,26457467.34,null,null,3515208.81,41,"033"]
[null,null,"2019-12-01","520.03",3515208.81,26457467.34,null,null,3515208.81,42,"99"]
[null,null,"2019-12-01","520.03",3515208.81,26457467.34,null,null,3515208.81,43,"99"]
[null,null,"2019-12-01","520.03",3515208.81,26457467.34,null,null,3515208.81,45,"021"]
[null,null,"2019-12-01","520.03",3515208.81,26457467.34,null,null,0,2,"8881423.29"]
[null,null,"2019-12-01","520.03",3515208.81,26457467.34,null,null,0,4,"21"]
[null,null,"2019-12-01","520.03",3515208.81,26457467.34,null,null,0,41,"102"]
[null,null,"2019-12-01","520.03",3515208.81,26457467.34,null,null,0,42,"101"]
[null,null,"2019-12-01","520.03",3515208.81,26457467.34,null,null,0,43,"99"]
[null,null,"2019-12-01","520.03",3515208.81,26457467.34,null,null,0,45,"022"]
[null,null,"2019-12-01","520.03",3515208.81,26457467.34,null,null,0,2,"8881423.29"]
[null,null,"2019-12-01","520.03",3515208.81,26457467.34,null,null,0,4,"11"]
[null,null,"2019-12-01","520.03",3515208.81,26457467.34,null,null,0,41,"033"]
[null,null,"2019-12-01","520.03",3515208.81,26457467.34,null,null,0,42,"106"]
[null,null,"2019-12-01","520.03",3515208.81,26457467.34,null,null,0,43,"99"]
[null,null,"2019-12-01","520.03",3515208.81,26457467.34,null,null,0,45,"021"]
[null,null,"2019-12-01","526.01",5032503.1100000003,10065006.220000001,12210204,10065006.220000001]
[null,null,"2019-12-01","526.01",5032503.1100000003,10065006.220000001,null,null,0,2,"0.00"]
[null,null,"2019-12-01","526.01",5032503.1100000003,10065006.220000001,null,null,0,4,"11"]
[null,null,"2019-12-01","526.01",5032503.1100000003,10065006.220000001,null,null,0,41,"074"]
[null,null,"2019-12-01","526.01",5032503.1100000003,10065006.220000001,null,null,0,42,"196"]
[null,null,"2019-12-01","526.01",5032503.1100000003,10065006.220000001,null,null,0,43,"99"]
[null,null,"2019-12-01","526.01",5032503.1100000003,10065006.220000001,null,null,0,45,"020"]
[null,null,"2019-12-01","526.01",5032503.1100000003,10065006.220000001,null,null,5032503.1100000003,2,"10065006.22"]
[null,null,"2019-12-01","526.01",5032503.1100000003,10065006.220000001,null,null,5032503.1100000003,4,"11"]
[null,null,"2019-12-01","526.01",5032503.1100000003,10065006.220000001,null,null,5032503.1100000003,41,"074"]
[null,null,"2019-12-01","526.01",5032503.1100000003,10065006.220000001,null,null,5032503.1100000003,42,"99"]
[null,null,"2019-12-01","526.01",5032503.1100000003,10065006.220000001,null,null,5032503.1100000003,43,"99"]
[null,null,"2019-12-01","526.01",5032503.1100000003,10065006.220000001,null,null,5032503.1100000003,45,"020"]
[null,null,"2019-12-01","526.01",5032503.1100000003,10065006.220000001,null,null,0,2,"0.00"]
[null,null,"2019-12-01","526.01",5032503.1100000003,10065006.220000001,null,null,0,4,"11"]
[null,null,"2019-12-01","526.01",5032503.1100000003,10065006.220000001,null,null,0,41,"033"]
[null,null,"2019-12-01","526.01",5032503.1100000003,10065006.220000001,null,null,0,42,"99"]
[null,null,"2019-12-01","526.01",5032503.1100000003,10065006.220000001,null,null,0,43,"99"]
[null,null,"2019-12-01","526.01",5032503.1100000003,10065006.220000001,null,null,0,45,"020"]
[null,null,"2019-12-01","526.01",5032503.1100000003,10065006.220000001,null,null,0,2,"0.00"]
[null,null,"2019-12-01","526.01",5032503.1100000003,10065006.220000001,null,null,0,4,"11"]
[null,null,"2019-12-01","526.01",5032503.1100000003,10065006.220000001,null,null,0,41,"033"]
[null,null,"2019-12-01","526.01",5032503.1100000003,10065006.220000001,null,null,0,42,"196"]
[null,null,"2019-12-01","526.01",5032503.1100000003,10065006.220000001,null,null,0,43,"99"]
[null,null,"2019-12-01","526.01",5032503.1100000003,10065006.220000001,null,null,0,45,"020"]
[null,null,"2019-12-01","527.01",480161.24,2400806.21,12610206,2400806.21]
[null,null,"2019-12-01","527.01",480161.24,2400806.21,null,null,480161.24,2,"2400806.21"]
[null,null,"2019-12-01","527.01",480161.24,2400806.21,null,null,480161.24,4,"11"]
[null,null,"2019-12-01","527.01",480161.24,2400806.21,null,null,480161.24,41,"032"]
[null,null,"2019-12-01","527.01",480161.24,2400806.21,null,null,480161.24,42,"99"]
[null,null,"2019-12-01","527.01",480161.24,2400806.21,null,null,480161.24,43,"99"]
[null,null,"2019-12-01","527.01",480161.24,2400806.21,null,null,480161.24,45,"020"]
[null,null,"2019-12-01","530",35983063.189999998]
[null,null,"2019-12-01","530.10",0,4997854.9000000004,13120104,4937001.74]
[null,null,"2019-12-01","530.10",0,4997854.9000000004,13120403,60853.16]
[null,null,"2019-12-01","530.10",0,4997854.9000000004,null,null,0,2,"4997854.90"]
[null,null,"2019-12-01","530.10",0,4997854.9000000004,null,null,0,4,"33"]
[null,null,"2019-12-01","530.10",0,4997854.9000000004,null,null,0,41,"102"]
[null,null,"2019-12-01","530.10",0,4997854.9000000004,null,null,0,42,"99"]
[null,null,"2019-12-01","530.10",0,4997854.9000000004,null,null,0,43,"99"]
[null,null,"2019-12-01","530.10",0,4997854.9000000004,null,null,0,45,"999"]
[null,null,"2019-12-01","530.13",26823994.699999999,101337211.08,13115999,3734674.05]
[null,null,"2019-12-01","530.13",26823994.699999999,101337211.08,13115250,501863.56]
[null,null,"2019-12-01","530.13",26823994.699999999,101337211.08,13115652,14065567.25]
[null,null,"2019-12-01","530.13",26823994.699999999,101337211.08,13115308,78047502.310000002]
[null,null,"2019-12-01","530.13",26823994.699999999,101337211.08,13115755,4987603.91]
[null,null,"2019-12-01","530.13",26823994.699999999,101337211.08,null,null,6281296.25,2,"502503.70"]
[null,null,"2019-12-01","530.13",26823994.699999999,101337211.08,null,null,6281296.25,4,"11"]
[null,null,"2019-12-01","530.13",26823994.699999999,101337211.08,null,null,6281296.25,41,"805"]
[null,null,"2019-12-01","530.13",26823994.699999999,101337211.08,null,null,6281296.25,42,"99"]
[null,null,"2019-12-01","530.13",26823994.699999999,101337211.08,null,null,6281296.25,43,"99"]
[null,null,"2019-12-01","530.13",26823994.699999999,101337211.08,null,null,6281296.25,45,"999"]
[null,null,"2019-12-01","530.13",26823994.699999999,101337211.08,null,null,20542698.420000002,2,"20542698.42"]
[null,null,"2019-12-01","530.13",26823994.699999999,101337211.08,null,null,20542698.420000002,4,"11"]
[null,null,"2019-12-01","530.13",26823994.699999999,101337211.08,null,null,20542698.420000002,41,"102"]
[null,null,"2019-12-01","530.13",26823994.699999999,101337211.08,null,null,20542698.420000002,42,"99"]
[null,null,"2019-12-01","530.13",26823994.699999999,101337211.08,null,null,20542698.420000002,43,"99"]
[null,null,"2019-12-01","530.13",26823994.699999999,101337211.08,null,null,20542698.420000002,45,"999"]
[null,null,"2019-12-01","530.13",26823994.699999999,101337211.08,null,null,0,2,"80292008.96"]
[null,null,"2019-12-01","530.13",26823994.699999999,101337211.08,null,null,0,4,"11"]
[null,null,"2019-12-01","530.13",26823994.699999999,101337211.08,null,null,0,41,"004"]
[null,null,"2019-12-01","530.13",26823994.699999999,101337211.08,null,null,0,42,"99"]
[null,null,"2019-12-01","530.13",26823994.699999999,101337211.08,null,null,0,43,"99"]
[null,null,"2019-12-01","530.13",26823994.699999999,101337211.08,null,null,0,45,"999"]
[null,null,"2019-12-01","530.20",9159068.4900000002,2831968619.3499999,13445023,156913005.56999999]
[null,null,"2019-12-01","530.20",9159068.4900000002,2831968619.3499999,13110059,180410684.59999999]
[null,null,"2019-12-01","530.20",9159068.4900000002,2831968619.3499999,13616003,93569972.260000005]
[null,null,"2019-12-01","530.20",9159068.4900000002,2831968619.3499999,13620020,11570718.74]
[null,null,"2019-12-01","530.20",9159068.4900000002,2831968619.3499999,13110035,2215984263.6900001]
[null,null,"2019-12-01","530.20",9159068.4900000002,2831968619.3499999,13110073,150115233.53]
[null,null,"2019-12-01","530.20",9159068.4900000002,2831968619.3499999,13625104,1706576.44]
[null,null,"2019-12-01","530.20",9159068.4900000002,2831968619.3499999,13110190,3380027.54]
[null,null,"2019-12-01","530.20",9159068.4900000002,2831968619.3499999,13110255,18318136.98]
[null,null,"2019-12-01","530.20",9159068.4900000002,2831968619.3499999,null,null,0,2,"106847267.44"]
[null,null,"2019-12-01","530.20",9159068.4900000002,2831968619.3499999,null,null,0,4,"11"]
[null,null,"2019-12-01","530.20",9159068.4900000002,2831968619.3499999,null,null,0,41,"004"]
[null,null,"2019-12-01","530.20",9159068.4900000002,2831968619.3499999,null,null,0,42,"121"]
[null,null,"2019-12-01","530.20",9159068.4900000002,2831968619.3499999,null,null,0,43,"99"]
[null,null,"2019-12-01","530.20",9159068.4900000002,2831968619.3499999,null,null,0,45,"999"]
[null,null,"2019-12-01","530.20",9159068.4900000002,2831968619.3499999,null,null,0,2,"2706803214.93"]
[null,null,"2019-12-01","530.20",9159068.4900000002,2831968619.3499999,null,null,0,4,"11"]
[null,null,"2019-12-01","530.20",9159068.4900000002,2831968619.3499999,null,null,0,41,"004"]
[null,null,"2019-12-01","530.20",9159068.4900000002,2831968619.3499999,null,null,0,42,"99"]
[null,null,"2019-12-01","530.20",9159068.4900000002,2831968619.3499999,null,null,0,43,"99"]
[null,null,"2019-12-01","530.20",9159068.4900000002,2831968619.3499999,null,null,0,45,"999"]
[null,null,"2019-12-01","530.20",9159068.4900000002,2831968619.3499999,null,null,0,2,"0.00"]
[null,null,"2019-12-01","530.20",9159068.4900000002,2831968619.3499999,null,null,0,4,"11"]
[null,null,"2019-12-01","530.20",9159068.4900000002,2831968619.3499999,null,null,0,41,"102"]
[null,null,"2019-12-01","530.20",9159068.4900000002,2831968619.3499999,null,null,0,42,"99"]
[null,null,"2019-12-01","530.20",9159068.4900000002,2831968619.3499999,null,null,0,43,"99"]
[null,null,"2019-12-01","530.20",9159068.4900000002,2831968619.3499999,null,null,0,45,"999"]
[null,null,"2019-12-01","530.20",9159068.4900000002,2831968619.3499999,null,null,9159068.4900000002,2,"18318136.98"]
[null,null,"2019-12-01","530.20",9159068.4900000002,2831968619.3499999,null,null,9159068.4900000002,4,"11"]
[null,null,"2019-12-01","530.20",9159068.4900000002,2831968619.3499999,null,null,9159068.4900000002,41,"074"]
[null,null,"2019-12-01","530.20",9159068.4900000002,2831968619.3499999,null,null,9159068.4900000002,42,"99"]
[null,null,"2019-12-01","530.20",9159068.4900000002,2831968619.3499999,null,null,9159068.4900000002,43,"99"]
[null,null,"2019-12-01","530.20",9159068.4900000002,2831968619.3499999,null,null,9159068.4900000002,45,"999"]
[null,null,"2019-12-01","535",3038235.67]
[null,null,"2019-12-01","535.05",3038235.67,151911783.47,13615028,151911783.47]
[null,null,"2019-12-01","535.05",3038235.67,151911783.47,null,null,3038235.67,2,"151911783.47"]
[null,null,"2019-12-01","535.05",3038235.67,151911783.47,null,null,3038235.67,4,"11"]
[null,null,"2019-12-01","535.05",3038235.67,151911783.47,null,null,3038235.67,41,"124"]
[null,null,"2019-12-01","535.05",3038235.67,151911783.47,null,null,3038235.67,42,"99"]
[null,null,"2019-12-01","535.05",3038235.67,151911783.47,null,null,3038235.67,43,"99"]
[null,null,"2019-12-01","535.05",3038235.67,151911783.47,null,null,3038235.67,45,"020"]
[null,null,"2019-12-01","540",20446954.649999999]
[null,null,"2019-12-01","540.07",20446954.649999999,614266949.83000004,14233100,406330618.08999997]
[null,null,"2019-12-01","540.07",20446954.649999999,614266949.83000004,14260001,400638.22]
[null,null,"2019-12-01","540.07",20446954.649999999,614266949.83000004,14233997,1513324.11]
[null,null,"2019-12-01","540.07",20446954.649999999,614266949.83000004,14299601,-72911475.390000001]
[null,null,"2019-12-01","540.07",20446954.649999999,614266949.83000004,14265109,173143057.52000001]
[null,null,"2019-12-01","540.07",20446954.649999999,614266949.83000004,14228005,105790787.28]
[null,null,"2019-12-01","540.07",20446954.649999999,614266949.83000004,null,null,20046316.43,2,"100231582.13"]
[null,null,"2019-12-01","540.07",20446954.649999999,614266949.83000004,null,null,20046316.43,4,"11"]
[null,null,"2019-12-01","540.07",20446954.649999999,614266949.83000004,null,null,20046316.43,41,"023"]
[null,null,"2019-12-01","540.07",20446954.649999999,614266949.83000004,null,null,20046316.43,42,"99"]
[null,null,"2019-12-01","540.07",20446954.649999999,614266949.83000004,null,null,20046316.43,43,"99"]
[null,null,"2019-12-01","540.07",20446954.649999999,614266949.83000004,null,null,20046316.43,45,"999"]
[null,null,"2019-12-01","540.07",20446954.649999999,614266949.83000004,null,null,400638.22,2,"400638.22"]
[null,null,"2019-12-01","540.07",20446954.649999999,614266949.83000004,null,null,400638.22,4,"11"]
[null,null,"2019-12-01","540.07",20446954.649999999,614266949.83000004,null,null,400638.22,41,"102"]
[null,null,"2019-12-01","540.07",20446954.649999999,614266949.83000004,null,null,400638.22,42,"99"]
[null,null,"2019-12-01","540.07",20446954.649999999,614266949.83000004,null,null,400638.22,43,"99"]
[null,null,"2019-12-01","540.07",20446954.649999999,614266949.83000004,null,null,400638.22,45,"999"]
[null,null,"2019-12-01","540.07",20446954.649999999,614266949.83000004,null,null,0,2,"513634729.48"]
[null,null,"2019-12-01","540.07",20446954.649999999,614266949.83000004,null,null,0,4,"11"]
[null,null,"2019-12-01","540.07",20446954.649999999,614266949.83000004,null,null,0,41,"004"]
[null,null,"2019-12-01","540.07",20446954.649999999,614266949.83000004,null,null,0,42,"99"]
[null,null,"2019-12-01","540.07",20446954.649999999,614266949.83000004,null,null,0,43,"99"]
[null,null,"2019-12-01","540.07",20446954.649999999,614266949.83000004,null,null,0,45,"999"]
[null,null,"2019-12-01","540.07",20446954.649999999,614266949.83000004,null,null,0,2,"0.00"]
[null,null,"2019-12-01","540.07",20446954.649999999,614266949.83000004,null,null,0,4,"35"]
[null,null,"2019-12-01","540.07",20446954.649999999,614266949.83000004,null,null,0,41,"999"]
[null,null,"2019-12-01","540.07",20446954.649999999,614266949.83000004,null,null,0,42,"99"]
[null,null,"2019-12-01","540.07",20446954.649999999,614266949.83000004,null,null,0,43,"99"]
[null,null,"2019-12-01","540.07",20446954.649999999,614266949.83000004,null,null,0,45,"999"]
[null,null,"2019-12-01","545",0,33162030,15250003,33162030]
[null,null,"2019-12-01","545",0,33162030,null,null,0,2,"33162030.00"]
[null,null,"2019-12-01","545",0,33162030,null,null,0,4,"31"]
[null,null,"2019-12-01","545",0,33162030,null,null,0,41,"999"]
[null,null,"2019-12-01","545",0,33162030,null,null,0,42,"99"]
[null,null,"2019-12-01","545",0,33162030,null,null,0,43,"99"]
[null,null,"2019-12-01","545",0,33162030,null,null,0,45,"999"]
[null,null,"2019-12-01","550",7202489251.9899998]
[null,null,"2019-12-01","550.04",395189834.98000002,974214745.03999996,16410000,10580800.939999999]
[null,null,"2019-12-01","550.04",395189834.98000002,974214745.03999996,16430004,978686689.49000001]
[null,null,"2019-12-01","550.04",395189834.98000002,974214745.03999996,16950003,-15052745.390000001]
[null,null,"2019-12-01","550.04",395189834.98000002,974214745.03999996,null,null,182236162.33000001,2,"520674749.51"]
[null,null,"2019-12-01","550.04",395189834.98000002,974214745.03999996,null,null,182236162.33000001,4,"11"]
[null,null,"2019-12-01","550.04",395189834.98000002,974214745.03999996,null,null,182236162.33000001,41,"047"]
[null,null,"2019-12-01","550.04",395189834.98000002,974214745.03999996,null,null,182236162.33000001,42,"99"]
[null,null,"2019-12-01","550.04",395189834.98000002,974214745.03999996,null,null,182236162.33000001,43,"99"]
[null,null,"2019-12-01","550.04",395189834.98000002,974214745.03999996,null,null,182236162.33000001,45,"999"]
[null,null,"2019-12-01","550.04",395189834.98000002,974214745.03999996,null,null,39017129.630000003,2,"78034259.25"]
[null,null,"2019-12-01","550.04",395189834.98000002,974214745.03999996,null,null,39017129.630000003,4,"11"]
[null,null,"2019-12-01","550.04",395189834.98000002,974214745.03999996,null,null,39017129.630000003,41,"068"]
[null,null,"2019-12-01","550.04",395189834.98000002,974214745.03999996,null,null,39017129.630000003,42,"99"]
[null,null,"2019-12-01","550.04",395189834.98000002,974214745.03999996,null,null,39017129.630000003,43,"99"]
[null,null,"2019-12-01","550.04",395189834.98000002,974214745.03999996,null,null,39017129.630000003,45,"999"]
[null,null,"2019-12-01","550.04",395189834.98000002,974214745.03999996,null,null,103552990.77,2,"295865687.92"]
[null,null,"2019-12-01","550.04",395189834.98000002,974214745.03999996,null,null,103552990.77,4,"11"]
[null,null,"2019-12-01","550.04",395189834.98000002,974214745.03999996,null,null,103552990.77,41,"038"]
[null,null,"2019-12-01","550.04",395189834.98000002,974214745.03999996,null,null,103552990.77,42,"99"]
[null,null,"2019-12-01","550.04",395189834.98000002,974214745.03999996,null,null,103552990.77,43,"99"]
[null,null,"2019-12-01","550.04",395189834.98000002,974214745.03999996,null,null,103552990.77,45,"999"]
[null,null,"2019-12-01","550.04",395189834.98000002,974214745.03999996,null,null,1150.93,2,"2301.85"]
[null,null,"2019-12-01","550.04",395189834.98000002,974214745.03999996,null,null,1150.93,4,"11"]
[null,null,"2019-12-01","550.04",395189834.98000002,974214745.03999996,null,null,1150.93,41,"066"]
[null,null,"2019-12-01","550.04",395189834.98000002,974214745.03999996,null,null,1150.93,42,"99"]
[null,null,"2019-12-01","550.04",395189834.98000002,974214745.03999996,null,null,1150.93,43,"99"]
[null,null,"2019-12-01","550.04",395189834.98000002,974214745.03999996,null,null,1150.93,45,"999"]
[null,null,"2019-12-01","550.04",395189834.98000002,974214745.03999996,null,null,27766035.539999999,2,"37021380.72"]
[null,null,"2019-12-01","550.04",395189834.98000002,974214745.03999996,null,null,27766035.539999999,4,"11"]
[null,null,"2019-12-01","550.04",395189834.98000002,974214745.03999996,null,null,27766035.539999999,41,"072"]
[null,null,"2019-12-01","550.04",395189834.98000002,974214745.03999996,null,null,27766035.539999999,42,"99"]
[null,null,"2019-12-01","550.04",395189834.98000002,974214745.03999996,null,null,27766035.539999999,43,"99"]
[null,null,"2019-12-01","550.04",395189834.98000002,974214745.03999996,null,null,27766035.539999999,45,"999"]
[null,null,"2019-12-01","550.04",395189834.98000002,974214745.03999996,null,null,42616365.789999999,2,"42616365.79"]
[null,null,"2019-12-01","550.04",395189834.98000002,974214745.03999996,null,null,42616365.789999999,4,"11"]
[null,null,"2019-12-01","550.04",395189834.98000002,974214745.03999996,null,null,42616365.789999999,41,"102"]
[null,null,"2019-12-01","550.04",395189834.98000002,974214745.03999996,null,null,42616365.789999999,42,"99"]
[null,null,"2019-12-01","550.04",395189834.98000002,974214745.03999996,null,null,42616365.789999999,43,"99"]
[null,null,"2019-12-01","550.04",395189834.98000002,974214745.03999996,null,null,42616365.789999999,45,"999"]
[null,null,"2019-12-01","550.05",630200.79,1555899.03,16920002,-384005.7]
[null,null,"2019-12-01","550.05",630200.79,1555899.03,16120998,1939904.73]
[null,null,"2019-12-01","550.05",630200.79,1555899.03,null,null,469633.04,2,"1341808.70"]
[null,null,"2019-12-01","550.05",630200.79,1555899.03,null,null,469633.04,4,"11"]
[null,null,"2019-12-01","550.05",630200.79,1555899.03,null,null,469633.04,41,"039"]
[null,null,"2019-12-01","550.05",630200.79,1555899.03,null,null,469633.04,42,"99"]
[null,null,"2019-12-01","550.05",630200.79,1555899.03,null,null,469633.04,43,"99"]
[null,null,"2019-12-01","550.05",630200.79,1555899.03,null,null,469633.04,45,"999"]
[null,null,"2019-12-01","550.05",630200.79,1555899.03,null,null,160567.75,2,"214090.33"]
[null,null,"2019-12-01","550.05",630200.79,1555899.03,null,null,160567.75,4,"11"]
[null,null,"2019-12-01","550.05",630200.79,1555899.03,null,null,160567.75,41,"072"]
[null,null,"2019-12-01","550.05",630200.79,1555899.03,null,null,160567.75,42,"99"]
[null,null,"2019-12-01","550.05",630200.79,1555899.03,null,null,160567.75,43,"99"]
[null,null,"2019-12-01","550.05",630200.79,1555899.03,null,null,160567.75,45,"999"]
[null,null,"2019-12-01","550.05",630200.79,1555899.03,null,null,0,2,"0.00"]
[null,null,"2019-12-01","550.05",630200.79,1555899.03,null,null,0,4,"11"]
[null,null,"2019-12-01","550.05",630200.79,1555899.03,null,null,0,41,"102"]
[null,null,"2019-12-01","550.05",630200.79,1555899.03,null,null,0,42,"99"]
[null,null,"2019-12-01","550.05",630200.79,1555899.03,null,null,0,43,"99"]
[null,null,"2019-12-01","550.05",630200.79,1555899.03,null,null,0,45,"999"]
[null,null,"2019-12-01","550.13",6806669216.2200003,9030014209.2800007,16305153,11179423.42]
[null,null,"2019-12-01","550.13",6806669216.2200003,9030014209.2800007,16315057,124341111.59999999]
[null,null,"2019-12-01","550.13",6806669216.2200003,9030014209.2800007,16305050,17076396.449999999]
[null,null,"2019-12-01","550.13",6806669216.2200003,9030014209.2800007,16305256,3043503.93]
[null,null,"2019-12-01","550.13",6806669216.2200003,9030014209.2800007,16315150,5524976.2300000004]
[null,null,"2019-12-01","550.13",6806669216.2200003,9030014209.2800007,16315105,1712084.49]
[null,null,"2019-12-01","550.13",6806669216.2200003,9030014209.2800007,16315253,28715950.199999999]
[null,null,"2019-12-01","550.13",6806669216.2200003,9030014209.2800007,16315208,3563621]
[null,null,"2019-12-01","550.13",6806669216.2200003,9030014209.2800007,16920002,-342108376.68000001]
[null,null,"2019-12-01","550.13",6806669216.2200003,9030014209.2800007,16120998,8958887635.4599991]
[null,null,"2019-12-01","550.13",6806669216.2200003,9030014209.2800007,16130108,8203947.8099999996]
[null,null,"2019-12-01","550.13",6806669216.2200003,9030014209.2800007,16315356,27093533.890000001]
[null,null,"2019-12-01","550.13",6806669216.2200003,9030014209.2800007,16130902,10127226.109999999]
[null,null,"2019-12-01","550.13",6806669216.2200003,9030014209.2800007,16930009,-6736266.2300000004]
[null,null,"2019-12-01","550.13",6806669216.2200003,9030014209.2800007,16315404,8137572.5800000001]
[null,null,"2019-12-01","550.13",6806669216.2200003,9030014209.2800007,16210004,105603788.47]
[null,null,"2019-12-01","550.13",6806669216.2200003,9030014209.2800007,16345151,71948656.810000002]
[null,null,"2019-12-01","550.13",6806669216.2200003,9030014209.2800007,16110001,441242.68]
[null,null,"2019-12-01","550.13",6806669216.2200003,9030014209.2800007,16940006,-6741818.9400000004]
[null,null,"2019-12-01","550.13",6806669216.2200003,9030014209.2800007,null,null,228473821.88,2,"456947643.75"]
[null,null,"2019-12-01","550.13",6806669216.2200003,9030014209.2800007,null,null,228473821.88,4,"11"]
[null,null,"2019-12-01","550.13",6806669216.2200003,9030014209.2800007,null,null,228473821.88,41,"072"]
[null,null,"2019-12-01","550.13",6806669216.2200003,9030014209.2800007,null,null,228473821.88,42,"168"]
[null,null,"2019-12-01","550.13",6806669216.2200003,9030014209.2800007,null,null,228473821.88,43,"99"]
[null,null,"2019-12-01","550.13",6806669216.2200003,9030014209.2800007,null,null,228473821.88,45,"999"]
[null,null,"2019-12-01","550.13",6806669216.2200003,9030014209.2800007,null,null,0,2,"0.00"]
[null,null,"2019-12-01","550.13",6806669216.2200003,9030014209.2800007,null,null,0,4,"11"]
[null,null,"2019-12-01","550.13",6806669216.2200003,9030014209.2800007,null,null,0,41,"082"]
[null,null,"2019-12-01","550.13",6806669216.2200003,9030014209.2800007,null,null,0,42,"99"]
[null,null,"2019-12-01","550.13",6806669216.2200003,9030014209.2800007,null,null,0,43,"99"]
[null,null,"2019-12-01","550.13",6806669216.2200003,9030014209.2800007,null,null,0,45,"999"]
[null,null,"2019-12-01","550.13",6806669216.2200003,9030014209.2800007,null,null,0,2,"0.00"]
[null,null,"2019-12-01","550.13",6806669216.2200003,9030014209.2800007,null,null,0,4,"11"]
[null,null,"2019-12-01","550.13",6806669216.2200003,9030014209.2800007,null,null,0,41,"102"]
[null,null,"2019-12-01","550.13",6806669216.2200003,9030014209.2800007,null,null,0,42,"121"]
[null,null,"2019-12-01","550.13",6806669216.2200003,9030014209.2800007,null,null,0,43,"99"]
[null,null,"2019-12-01","550.13",6806669216.2200003,9030014209.2800007,null,null,0,45,"999"]
[null,null,"2019-12-01","550.13",6806669216.2200003,9030014209.2800007,null,null,5984613513.5600004,2,"7979484684.75"]
[null,null,"2019-12-01","550.13",6806669216.2200003,9030014209.2800007,null,null,5984613513.5600004,4,"11"]
[null,null,"2019-12-01","550.13",6806669216.2200003,9030014209.2800007,null,null,5984613513.5600004,41,"072"]
[null,null,"2019-12-01","550.13",6806669216.2200003,9030014209.2800007,null,null,5984613513.5600004,42,"99"]
[null,null,"2019-12-01","550.13",6806669216.2200003,9030014209.2800007,null,null,5984613513.5600004,43,"99"]
[null,null,"2019-12-01","550.13",6806669216.2200003,9030014209.2800007,null,null,5984613513.5600004,45,"999"]
[null,null,"2019-12-01","550.13",6806669216.2200003,9030014209.2800007,null,null,593581880.77999997,2,"593581880.78"]
[null,null,"2019-12-01","550.13",6806669216.2200003,9030014209.2800007,null,null,593581880.77999997,4,"11"]
[null,null,"2019-12-01","550.13",6806669216.2200003,9030014209.2800007,null,null,593581880.77999997,41,"102"]
[null,null,"2019-12-01","550.13",6806669216.2200003,9030014209.2800007,null,null,593581880.77999997,42,"99"]
[null,null,"2019-12-01","550.13",6806669216.2200003,9030014209.2800007,null,null,593581880.77999997,43,"99"]
[null,null,"2019-12-01","550.13",6806669216.2200003,9030014209.2800007,null,null,593581880.77999997,45,"999"]
[null,null,"2019-12-01","570",596784812.47000003]
[null,null,"2019-12-01","570.06",451633440.87,601426376.78999996,18879003,624574897.98000002]
[null,null,"2019-12-01","570.06",451633440.87,601426376.78999996,18996003,-23148521.190000001]
[null,null,"2019-12-01","570.06",451633440.87,601426376.78999996,null,null,2254633.12,2,"2254633.12"]
[null,null,"2019-12-01","570.06",451633440.87,601426376.78999996,null,null,2254633.12,4,"11"]
[null,null,"2019-12-01","570.06",451633440.87,601426376.78999996,null,null,2254633.12,41,"102"]
[null,null,"2019-12-01","570.06",451633440.87,601426376.78999996,null,null,2254633.12,42,"99"]
[null,null,"2019-12-01","570.06",451633440.87,601426376.78999996,null,null,2254633.12,43,"99"]
[null,null,"2019-12-01","570.06",451633440.87,601426376.78999996,null,null,2254633.12,45,"999"]
[null,null,"2019-12-01","570.06",451633440.87,601426376.78999996,null,null,449378807.75,2,"599171743.67"]
[null,null,"2019-12-01","570.06",451633440.87,601426376.78999996,null,null,449378807.75,4,"11"]
[null,null,"2019-12-01","570.06",451633440.87,601426376.78999996,null,null,449378807.75,41,"072"]
[null,null,"2019-12-01","570.06",451633440.87,601426376.78999996,null,null,449378807.75,42,"99"]
[null,null,"2019-12-01","570.06",451633440.87,601426376.78999996,null,null,449378807.75,43,"99"]
[null,null,"2019-12-01","570.06",451633440.87,601426376.78999996,null,null,449378807.75,45,"999"]
[null,null,"2019-12-01","570.09",8052179.6500000004,8052179.6500000004,18805008,60766.33]
[null,null,"2019-12-01","570.09",8052179.6500000004,8052179.6500000004,18803000,7991413.3200000003]
[null,null,"2019-12-01","570.09",8052179.6500000004,8052179.6500000004,null,null,8052179.6500000004,2,"8052179.65"]
[null,null,"2019-12-01","570.09",8052179.6500000004,8052179.6500000004,null,null,8052179.6500000004,4,"11"]
[null,null,"2019-12-01","570.09",8052179.6500000004,8052179.6500000004,null,null,8052179.6500000004,41,"102"]
[null,null,"2019-12-01","570.09",8052179.6500000004,8052179.6500000004,null,null,8052179.6500000004,42,"99"]
[null,null,"2019-12-01","570.09",8052179.6500000004,8052179.6500000004,null,null,8052179.6500000004,43,"99"]
[null,null,"2019-12-01","570.09",8052179.6500000004,8052179.6500000004,null,null,8052179.6500000004,45,"999"]
[null,null,"2019-12-01","570.10",137099191.94,921010193.12,18360000,74457.7]
[null,null,"2019-12-01","570.10",137099191.94,921010193.12,18840056,714402916.74000001]
[null,null,"2019-12-01","570.10",137099191.94,921010193.12,18865990,33698747.509999998]
[null,null,"2019-12-01","570.10",137099191.94,921010193.12,18840207,20835987.760000002]
[null,null,"2019-12-01","570.10",137099191.94,921010193.12,18840159,1641725.54]
[null,null,"2019-12-01","570.10",137099191.94,921010193.12,18892004,55540538.399999999]
[null,null,"2019-12-01","570.10",137099191.94,921010193.12,18590007,7264.9]
[null,null,"2019-12-01","570.10",137099191.94,921010193.12,18390001,1878716.61]
[null,null,"2019-12-01","570.10",137099191.94,921010193.12,18430002,116124.83]
[null,null,"2019-12-01","570.10",137099191.94,921010193.12,18845109,40615419.859999999]
[null,null,"2019-12-01","570.10",137099191.94,921010193.12,18845305,413487.45]
[null,null,"2019-12-01","570.10",137099191.94,921010193.12,18226704,-23023.63]
[null,null,"2019-12-01","570.10",137099191.94,921010193.12,18330009,383179.52000000002]
[null,null,"2019-12-01","570.10",137099191.94,921010193.12,18380004,119055.44]
[null,null,"2019-12-01","570.10",137099191.94,921010193.12,18885004,11926.65]
[null,null,"2019-12-01","570.10",137099191.94,921010193.12,18845202,4752844.38]
[null,null,"2019-12-01","570.10",137099191.94,921010193.12,18840908,25787397.289999999]
[null,null,"2019-12-01","570.10",137099191.94,921010193.12,18999206,-2776862.94]
[null,null,"2019-12-01","570.10",137099191.94,921010193.12,18370007,16140645.74]
[null,null,"2019-12-01","570.10",137099191.94,921010193.12,18845903,7389643.3700000001]
[null,null,"2019-12-01","570.10",137099191.94,921010193.12,null,null,112966636.65000001,2,"112966636.65"]
[null,null,"2019-12-01","570.10",137099191.94,921010193.12,null,null,112966636.65000001,4,"11"]
[null,null,"2019-12-01","570.10",137099191.94,921010193.12,null,null,112966636.65000001,41,"102"]
[null,null,"2019-12-01","570.10",137099191.94,921010193.12,null,null,112966636.65000001,42,"99"]
[null,null,"2019-12-01","570.10",137099191.94,921010193.12,null,null,112966636.65000001,43,"99"]
[null,null,"2019-12-01","570.10",137099191.94,921010193.12,null,null,112966636.65000001,45,"999"]
[null,null,"2019-12-01","570.10",137099191.94,921010193.12,null,null,0,2,"759778445.88"]
[null,null,"2019-12-01","570.10",137099191.94,921010193.12,null,null,0,4,"11"]
[null,null,"2019-12-01","570.10",137099191.94,921010193.12,null,null,0,41,"004"]
[null,null,"2019-12-01","570.10",137099191.94,921010193.12,null,null,0,42,"99"]
[null,null,"2019-12-01","570.10",137099191.94,921010193.12,null,null,0,43,"99"]
[null,null,"2019-12-01","570.10",137099191.94,921010193.12,null,null,0,45,"999"]
[null,null,"2019-12-01","570.10",137099191.94,921010193.12,null,null,24132555.300000001,2,"48265110.59"]
[null,null,"2019-12-01","570.10",137099191.94,921010193.12,null,null,24132555.300000001,4,"11"]
[null,null,"2019-12-01","570.10",137099191.94,921010193.12,null,null,24132555.300000001,41,"074"]
[null,null,"2019-12-01","570.10",137099191.94,921010193.12,null,null,24132555.300000001,42,"99"]
[null,null,"2019-12-01","570.10",137099191.94,921010193.12,null,null,24132555.300000001,43,"99"]
[null,null,"2019-12-01","570.10",137099191.94,921010193.12,null,null,24132555.300000001,45,"999"]
[null,null,"2019-12-01","570.10",137099191.94,921010193.12,null,null,0,2,"0.00"]
[null,null,"2019-12-01","570.10",137099191.94,921010193.12,null,null,0,4,"11"]
[null,null,"2019-12-01","570.10",137099191.94,921010193.12,null,null,0,41,"072"]
[null,null,"2019-12-01","570.10",137099191.94,921010193.12,null,null,0,42,"99"]
[null,null,"2019-12-01","570.10",137099191.94,921010193.12,null,null,0,43,"99"]
[null,null,"2019-12-01","570.10",137099191.94,921010193.12,null,null,0,45,"999"]
[null,null,"2019-12-01","580",133352439.39,133352439.39,19810401,1224]
[null,null,"2019-12-01","580",133352439.39,133352439.39,19899109,-5730529.29]
[null,null,"2019-12-01","580",133352439.39,133352439.39,19910002,533664.97]
[null,null,"2019-12-01","580",133352439.39,133352439.39,19899903,-23584835.09]
[null,null,"2019-12-01","580",133352439.39,133352439.39,19840000,1540106.99]
[null,null,"2019-12-01","580",133352439.39,133352439.39,19810607,34164455.990000002]
[null,null,"2019-12-01","580",133352439.39,133352439.39,19810102,126428351.81999999]
[null,null,"2019-12-01","580",133352439.39,133352439.39,null,null,133352439.39,2,"133352439.39"]
[null,null,"2019-12-01","580",133352439.39,133352439.39,null,null,133352439.39,4,"11"]
[null,null,"2019-12-01","580",133352439.39,133352439.39,null,null,133352439.39,41,"102"]
[null,null,"2019-12-01","580",133352439.39,133352439.39,null,null,133352439.39,42,"99"]
[null,null,"2019-12-01","580",133352439.39,133352439.39,null,null,133352439.39,43,"99"]
[null,null,"2019-12-01","580",133352439.39,133352439.39,null,null,133352439.39,45,"999"]
[null,null,"2019-12-01","590",193745549.41]
[null,null,"2019-12-01","590.10",193745549.41,315852509.56,21599208,-3001.61]
[null,null,"2019-12-01","590.10",193745549.41,315852509.56,22910202,1204.6500000000001]
[null,null,"2019-12-01","590.10",193745549.41,315852509.56,21310009,17370.14]
[null,null,"2019-12-01","590.10",193745549.41,315852509.56,21210219,135484132.21000001]
[null,null,"2019-12-01","590.10",193745549.41,315852509.56,22999106,-2070731.63]
[null,null,"2019-12-01","590.10",193745549.41,315852509.56,22420008,26594698.48]
[null,null,"2019-12-01","590.10",193745549.41,315852509.56,22110002,119438.41]
[null,null,"2019-12-01","590.10",193745549.41,315852509.56,21990003,47801.71]
[null,null,"2019-12-01","590.10",193745549.41,315852509.56,22999302,-63267501.25]
[null,null,"2019-12-01","590.10",193745549.41,315852509.56,22999508,-5105031.76]
[null,null,"2019-12-01","590.10",193745549.41,315852509.56,22999704,-1752601.72]
[null,null,"2019-12-01","590.10",193745549.41,315852509.56,22399005,-41393857.229999997]
[null,null,"2019-12-01","590.10",193745549.41,315852509.56,22930000,86122179.819999993]
[null,null,"2019-12-01","590.10",193745549.41,315852509.56,21599105,-1246.68]
[null,null,"2019-12-01","590.10",193745549.41,315852509.56,22910109,2216673.08]
[null,null,"2019-12-01","590.10",193745549.41,315852509.56,22970008,1916743.72]
[null,null,"2019-12-01","590.10",193745549.41,315852509.56,25199109,-2830335.4]
[null,null,"2019-12-01","590.10",193745549.41,315852509.56,22499008,-19393278.649999999]
[null,null,"2019-12-01","590.10",193745549.41,315852509.56,22496001,-5818344.6799999997]
[null,null,"2019-12-01","590.10",193745549.41,315852509.56,22950004,10042669.83]
[null,null,"2019-12-01","590.10",193745549.41,315852509.56,21510201,226038.97]
[null,null,"2019-12-01","590.10",193745549.41,315852509.56,22310101,16857097.920000002]
[null,null,"2019-12-01","590.10",193745549.41,315852509.56,25198203,253929516.30000001]
[null,null,"2019-12-01","590.10",193745549.41,315852509.56,25198100,2830335.43]
[null,null,"2019-12-01","590.10",193745549.41,315852509.56,22310204,46000020.869999997]
[null,null,"2019-12-01","590.10",193745549.41,315852509.56,22410001,6908146.7000000002]
[null,null,"2019-12-01","590.10",193745549.41,315852509.56,21320006,140958.54]
[null,null,"2019-12-01","590.10",193745549.41,315852509.56,21399006,-144030.43]
[null,null,"2019-12-01","590.10",193745549.41,315852509.56,25199202,-131822556.18000001]
[null,null,"2019-12-01","590.10",193745549.41,315852509.56,null,null,193745549.41,2,"193745549.41"]
[null,null,"2019-12-01","590.10",193745549.41,315852509.56,null,null,193745549.41,4,"11"]
[null,null,"2019-12-01","590.10",193745549.41,315852509.56,null,null,193745549.41,41,"102"]
[null,null,"2019-12-01","590.10",193745549.41,315852509.56,null,null,193745549.41,42,"99"]
[null,null,"2019-12-01","590.10",193745549.41,315852509.56,null,null,193745549.41,43,"99"]
[null,null,"2019-12-01","590.10",193745549.41,315852509.56,null,null,193745549.41,45,"999"]
[null,null,"2019-12-01","590.10",193745549.41,315852509.56,null,null,0,2,"122106960.15"]
[null,null,"2019-12-01","590.10",193745549.41,315852509.56,null,null,0,4,"37"]
[null,null,"2019-12-01","590.10",193745549.41,315852509.56,null,null,0,41,"102"]
[null,null,"2019-12-01","590.10",193745549.41,315852509.56,null,null,0,42,"99"]
[null,null,"2019-12-01","590.10",193745549.41,315852509.56,null,null,0,43,"99"]
[null,null,"2019-12-01","590.10",193745549.41,315852509.56,null,null,0,45,"999"]
[null,null,"2019-12-01","600",451338298.25999999]
[null,null,"2019-12-01","600.05",451338298.25999999,1442672946.5699999,30986204,1238569096.9200001]
[null,null,"2019-12-01","600.05",451338298.25999999,1442672946.5699999,30986101,204103849.65000001]
[null,null,"2019-12-01","600.05",451338298.25999999,1442672946.5699999,null,null,335882734.69999999,2,"895687292.52"]
[null,null,"2019-12-01","600.05",451338298.25999999,1442672946.5699999,null,null,335882734.69999999,4,"11"]
[null,null,"2019-12-01","600.05",451338298.25999999,1442672946.5699999,null,null,335882734.69999999,41,"072"]
[null,null,"2019-12-01","600.05",451338298.25999999,1442672946.5699999,null,null,335882734.69999999,42,"99"]
[null,null,"2019-12-01","600.05",451338298.25999999,1442672946.5699999,null,null,335882734.69999999,43,"12"]
[null,null,"2019-12-01","600.05",451338298.25999999,1442672946.5699999,null,null,335882734.69999999,45,"999"]
[null,null,"2019-12-01","600.05",451338298.25999999,1442672946.5699999,null,null,335882734.69999999,46,"0.00"]
[null,null,"2019-12-01","600.05",451338298.25999999,1442672946.5699999,null,null,44606082.32,2,"89212164.64"]
[null,null,"2019-12-01","600.05",451338298.25999999,1442672946.5699999,null,null,44606082.32,4,"11"]
[null,null,"2019-12-01","600.05",451338298.25999999,1442672946.5699999,null,null,44606082.32,41,"102"]
[null,null,"2019-12-01","600.05",451338298.25999999,1442672946.5699999,null,null,44606082.32,42,"99"]
[null,null,"2019-12-01","600.05",451338298.25999999,1442672946.5699999,null,null,44606082.32,43,"12"]
[null,null,"2019-12-01","600.05",451338298.25999999,1442672946.5699999,null,null,44606082.32,45,"999"]
[null,null,"2019-12-01","600.05",451338298.25999999,1442672946.5699999,null,null,44606082.32,46,"0.00"]
[null,null,"2019-12-01","600.05",451338298.25999999,1442672946.5699999,null,null,8733831.3300000001,2,"43669156.67"]
[null,null,"2019-12-01","600.05",451338298.25999999,1442672946.5699999,null,null,8733831.3300000001,4,"11"]
[null,null,"2019-12-01","600.05",451338298.25999999,1442672946.5699999,null,null,8733831.3300000001,41,"102"]
[null,null,"2019-12-01","600.05",451338298.25999999,1442672946.5699999,null,null,8733831.3300000001,42,"99"]
[null,null,"2019-12-01","600.05",451338298.25999999,1442672946.5699999,null,null,8733831.3300000001,43,"11"]
[null,null,"2019-12-01","600.05",451338298.25999999,1442672946.5699999,null,null,8733831.3300000001,45,"999"]
[null,null,"2019-12-01","600.05",451338298.25999999,1442672946.5699999,null,null,8733831.3300000001,46,"0.00"]
[null,null,"2019-12-01","600.05",451338298.25999999,1442672946.5699999,null,null,62115649.909999996,2,"414104332.74"]
[null,null,"2019-12-01","600.05",451338298.25999999,1442672946.5699999,null,null,62115649.909999996,4,"11"]
[null,null,"2019-12-01","600.05",451338298.25999999,1442672946.5699999,null,null,62115649.909999996,41,"072"]
[null,null,"2019-12-01","600.05",451338298.25999999,1442672946.5699999,null,null,62115649.909999996,42,"99"]
[null,null,"2019-12-01","600.05",451338298.25999999,1442672946.5699999,null,null,62115649.909999996,43,"11"]
[null,null,"2019-12-01","600.05",451338298.25999999,1442672946.5699999,null,null,62115649.909999996,45,"999"]
[null,null,"2019-12-01","600.05",451338298.25999999,1442672946.5699999,null,null,62115649.909999996,46,"0.00"]
[null,null,"2019-12-01","605",65642004.229999997]
[null,null,"2019-12-01","605.05",65642004.229999997,79291541.950000003,30986101,79291541.950000003]
[null,null,"2019-12-01","605.05",65642004.229999997,79291541.950000003,null,null,13649537.720000001,2,"27299075.43"]
[null,null,"2019-12-01","605.05",65642004.229999997,79291541.950000003,null,null,13649537.720000001,4,"11"]
[null,null,"2019-12-01","605.05",65642004.229999997,79291541.950000003,null,null,13649537.720000001,41,"068"]
[null,null,"2019-12-01","605.05",65642004.229999997,79291541.950000003,null,null,13649537.720000001,42,"99"]
[null,null,"2019-12-01","605.05",65642004.229999997,79291541.950000003,null,null,13649537.720000001,43,"99"]
[null,null,"2019-12-01","605.05",65642004.229999997,79291541.950000003,null,null,13649537.720000001,45,"999"]
[null,null,"2019-12-01","605.05",65642004.229999997,79291541.950000003,null,null,51992466.520000003,2,"51992466.52"]
[null,null,"2019-12-01","605.05",65642004.229999997,79291541.950000003,null,null,51992466.520000003,4,"11"]
[null,null,"2019-12-01","605.05",65642004.229999997,79291541.950000003,null,null,51992466.520000003,41,"102"]
[null,null,"2019-12-01","605.05",65642004.229999997,79291541.950000003,null,null,51992466.520000003,42,"99"]
[null,null,"2019-12-01","605.05",65642004.229999997,79291541.950000003,null,null,51992466.520000003,43,"99"]
[null,null,"2019-12-01","605.05",65642004.229999997,79291541.950000003,null,null,51992466.520000003,45,"999"]
[null,null,"2019-12-01","605.06",0,49455849.990000002,30986101,49455849.990000002]
[null,null,"2019-12-01","605.06",0,49455849.990000002,null,null,0,2,"49455849.99"]
[null,null,"2019-12-01","605.06",0,49455849.990000002,null,null,0,4,"51"]
[null,null,"2019-12-01","605.06",0,49455849.990000002,null,null,0,41,"999"]
[null,null,"2019-12-01","605.06",0,49455849.990000002,null,null,0,42,"99"]
[null,null,"2019-12-01","605.06",0,49455849.990000002,null,null,0,43,"99"]
[null,null,"2019-12-01","605.06",0,49455849.990000002,null,null,0,45,"999"]
[null,null,"2019-12-01","620",2110200.6800000002]
[null,null,"2019-12-01","620.06",1867136.88,1867136.88,30185108,1867136.88]
[null,null,"2019-12-01","620.06",1867136.88,1867136.88,null,null,1867136.88,2,"1867136.88"]
[null,null,"2019-12-01","620.06",1867136.88,1867136.88,null,null,1867136.88,4,"11"]
[null,null,"2019-12-01","620.06",1867136.88,1867136.88,null,null,1867136.88,41,"102"]
[null,null,"2019-12-01","620.06",1867136.88,1867136.88,null,null,1867136.88,42,"99"]
[null,null,"2019-12-01","620.06",1867136.88,1867136.88,null,null,1867136.88,43,"16"]
[null,null,"2019-12-01","620.06",1867136.88,1867136.88,null,null,1867136.88,45,"999"]
[null,null,"2019-12-01","620.06",1867136.88,1867136.88,null,null,1867136.88,46,"0.00"]
[null,null,"2019-12-01","620.09",243063.8,486127.6,30130153,486127.6]
[null,null,"2019-12-01","620.09",243063.8,486127.6,null,null,243063.8,2,"486127.60"]
[null,null,"2019-12-01","620.09",243063.8,486127.6,null,null,243063.8,4,"11"]
[null,null,"2019-12-01","620.09",243063.8,486127.6,null,null,243063.8,41,"102"]
[null,null,"2019-12-01","620.09",243063.8,486127.6,null,null,243063.8,42,"99"]
[null,null,"2019-12-01","620.09",243063.8,486127.6,null,null,243063.8,43,"17"]
[null,null,"2019-12-01","620.09",243063.8,486127.6,null,null,243063.8,45,"999"]
[null,null,"2019-12-01","620.09",243063.8,486127.6,null,null,243063.8,46,"0.00"]
[null,null,"2019-12-01","620.09",243063.8,486127.6,null,null,0,2,"0.00"]
[null,null,"2019-12-01","620.09",243063.8,486127.6,null,null,0,4,"11"]
[null,null,"2019-12-01","620.09",243063.8,486127.6,null,null,0,41,"102"]
[null,null,"2019-12-01","620.09",243063.8,486127.6,null,null,0,42,"99"]
[null,null,"2019-12-01","620.09",243063.8,486127.6,null,null,0,43,"16"]
[null,null,"2019-12-01","620.09",243063.8,486127.6,null,null,0,45,"999"]
[null,null,"2019-12-01","620.09",243063.8,486127.6,null,null,0,46,"0.00"]
[null,null,"2019-12-01","630",604402602.11000001]
[null,null,"2019-12-01","630.01",604402602.11000001,515386660.75999999,18825507,514019737.95999998]
[null,null,"2019-12-01","630.01",604402602.11000001,515386660.75999999,18825105,1366922.8]
[null,null,"2019-12-01","630.01",604402602.11000001,515386660.75999999,null,null,398627062.85000002,2,"159450825.14"]
[null,null,"2019-12-01","630.01",604402602.11000001,515386660.75999999,null,null,398627062.85000002,4,"11"]
[null,null,"2019-12-01","630.01",604402602.11000001,515386660.75999999,null,null,398627062.85000002,41,"251"]
[null,null,"2019-12-01","630.01",604402602.11000001,515386660.75999999,null,null,398627062.85000002,42,"99"]
[null,null,"2019-12-01","630.01",604402602.11000001,515386660.75999999,null,null,398627062.85000002,43,"99"]
[null,null,"2019-12-01","630.01",604402602.11000001,515386660.75999999,null,null,398627062.85000002,45,"999"]
[null,null,"2019-12-01","630.01",604402602.11000001,515386660.75999999,null,null,0,2,"50207476.14"]
[null,null,"2019-12-01","630.01",604402602.11000001,515386660.75999999,null,null,0,4,"38"]
[null,null,"2019-12-01","630.01",604402602.11000001,515386660.75999999,null,null,0,41,"102"]
[null,null,"2019-12-01","630.01",604402602.11000001,515386660.75999999,null,null,0,42,"99"]
[null,null,"2019-12-01","630.01",604402602.11000001,515386660.75999999,null,null,0,43,"99"]
[null,null,"2019-12-01","630.01",604402602.11000001,515386660.75999999,null,null,0,45,"999"]
[null,null,"2019-12-01","630.01",604402602.11000001,515386660.75999999,null,null,0,2,"99952820.22"]
[null,null,"2019-12-01","630.01",604402602.11000001,515386660.75999999,null,null,0,4,"37"]
[null,null,"2019-12-01","630.01",604402602.11000001,515386660.75999999,null,null,0,41,"102"]
[null,null,"2019-12-01","630.01",604402602.11000001,515386660.75999999,null,null,0,42,"99"]
[null,null,"2019-12-01","630.01",604402602.11000001,515386660.75999999,null,null,0,43,"99"]
[null,null,"2019-12-01","630.01",604402602.11000001,515386660.75999999,null,null,0,45,"999"]
[null,null,"2019-12-01","630.01",604402602.11000001,515386660.75999999,null,null,205775539.25999999,2,"205775539.26"]
[null,null,"2019-12-01","630.01",604402602.11000001,515386660.75999999,null,null,205775539.25999999,4,"11"]
[null,null,"2019-12-01","630.01",604402602.11000001,515386660.75999999,null,null,205775539.25999999,41,"102"]
[null,null,"2019-12-01","630.01",604402602.11000001,515386660.75999999,null,null,205775539.25999999,42,"99"]
[null,null,"2019-12-01","630.01",604402602.11000001,515386660.75999999,null,null,205775539.25999999,43,"99"]
[null,null,"2019-12-01","630.01",604402602.11000001,515386660.75999999,null,null,205775539.25999999,45,"999"]
[null,null,"2019-12-01","630.02",0,1189802.8500000001,18825507,1189802.8500000001]
[null,null,"2019-12-01","630.02",0,1189802.8500000001,null,null,0,2,"1189802.85"]
[null,null,"2019-12-01","630.02",0,1189802.8500000001,null,null,0,4,"37"]
[null,null,"2019-12-01","630.02",0,1189802.8500000001,null,null,0,41,"302"]
[null,null,"2019-12-01","630.02",0,1189802.8500000001,null,null,0,42,"99"]
[null,null,"2019-12-01","630.02",0,1189802.8500000001,null,null,0,43,"99"]
[null,null,"2019-12-01","630.02",0,1189802.8500000001,null,null,0,45,"999"]
[null,null,"2019-12-01","630.02",0,1189802.8500000001,null,null,0,2,"0.00"]
[null,null,"2019-12-01","630.02",0,1189802.8500000001,null,null,0,4,"11"]
[null,null,"2019-12-01","630.02",0,1189802.8500000001,null,null,0,41,"302"]
[null,null,"2019-12-01","630.02",0,1189802.8500000001,null,null,0,42,"99"]
[null,null,"2019-12-01","630.02",0,1189802.8500000001,null,null,0,43,"99"]
[null,null,"2019-12-01","630.02",0,1189802.8500000001,null,null,0,45,"999"]
[null,null,"2019-12-01","660",230.24]
[null,null,"2019-12-01","660.01",230.24,23023.63,18225200,23023.63]
[null,null,"2019-12-01","660.01",230.24,23023.63,null,null,230.24,2,"23023.63"]
[null,null,"2019-12-01","660.01",230.24,23023.63,null,null,230.24,4,"11"]
[null,null,"2019-12-01","660.01",230.24,23023.63,null,null,230.24,41,"102"]
[null,null,"2019-12-01","660.01",230.24,23023.63,null,null,230.24,42,"99"]
[null,null,"2019-12-01","660.01",230.24,23023.63,null,null,230.24,43,"02"]
[null,null,"2019-12-01","660.01",230.24,23023.63,null,null,230.24,45,"020"]
[null,null,"2019-12-01","660.01",230.24,23023.63,null,null,230.24,46,"0.00"]
[null,null,"2019-12-01","700",9318818573.8199997]
[null,null,"2019-12-01","770",49977728.75]
[null,null,"2019-12-01","800",48726829.5]
[null,null,"2019-12-01","800.01",9243502.3399999999]
[null,null,"2019-12-01","800.02",501863.56]
[null,null,"2019-12-01","800.03",0]
[null,null,"2019-12-01","810",0]
[null,null,"2019-12-01","810.10",0]
[null,null,"2019-12-01","810.20",0]
[null,null,"2019-12-01","820",0]
[null,null,"2019-12-01","820.01",0]
[null,null,"2019-12-01","820.02",0]
[null,null,"2019-12-01","820.03",0]
[null,null,"2019-12-01","820.04",0]
[null,null,"2019-12-01","830",0]
[null,null,"2019-12-01","830.01",0]
[null,null,"2019-12-01","830.02",0]
[null,null,"2019-12-01","830.03",0]
[null,null,"2019-12-01","830.04",0]
[null,null,"2019-12-01","840",0]
[null,null,"2019-12-01","840.01",0]
[null,null,"2019-12-01","840.02",0]
[null,null,"2019-12-01","840.03",0]
[null,null,"2019-12-01","840.04",0]
[null,null,"2019-12-01","850",1129193]
[null,null,"2019-12-01","850.01",75279.53]
[null,null,"2019-12-01","850.02",15055.91]
[null,null,"2019-12-01","860",121706.25]
[null,null,"2019-12-01","860.01",4868.25]
[null,null,"2019-12-01","860.04",0]
[null,null,"2019-12-01","860.07",4868.25]
[null,null,"2019-12-01","860.08",0]
[null,null,"2019-12-01","860.09",0]
[null,null,"2019-12-01","860.10",0]
[null,null,"2019-12-01","870",864183734]
[null,null,"2019-12-01","872",69134698.719999999]
[null,null,"2019-12-01","872.10.02",285783690,null,null,null,285783690,17,"8165248285.72"]
[null,null,"2019-12-01","872.10.02",285783690,null,null,null,285783690,20,"0.00"]
[null,null,"2019-12-01","872.10.03",61748149.140000001,null,null,null,61748149.140000001,17,"1385556879.89"]
[null,null,"2019-12-01","872.10.03",61748149.140000001,null,null,null,61748149.140000001,18,"378675952.87"]
[null,null,"2019-12-01","872.10.03",61748149.140000001,null,null,null,61748149.140000001,19,"985204335.06"]
[null,null,"2019-12-01","872.10.03",61748149.140000001,null,null,null,61748149.140000001,20,"0.00"]
[null,null,"2019-12-01","872.10.05",1789411144.0699999,null,null,null,1789411144.0699999,11,"2527633728.60"]
[null,null,"2019-12-01","872.10.05",1789411144.0699999,null,null,null,1789411144.0699999,12,"178608033.97"]
[null,null,"2019-12-01","872.10.05",1789411144.0699999,null,null,null,1789411144.0699999,14,"916830618.50"]
[null,null,"2019-12-01","872.10.05",1789411144.0699999,null,null,null,1789411144.0699999,16,"0.00"]
[null,null,"2019-12-01","872.10.05",1789411144.0699999,null,null,null,1789411144.0699999,20,"0.00"]
[null,null,"2019-12-01","872.10.08",152136348.75999999,null,null,null,152136348.75999999,11,"267435265.73"]
[null,null,"2019-12-01","872.10.08",152136348.75999999,null,null,null,152136348.75999999,12,"0.00"]
[null,null,"2019-12-01","872.10.08",152136348.75999999,null,null,null,152136348.75999999,14,"115298916.97"]
[null,null,"2019-12-01","872.10.08",152136348.75999999,null,null,null,152136348.75999999,16,"0.00"]
[null,null,"2019-12-01","872.10.08",152136348.75999999,null,null,null,152136348.75999999,20,"0.00"]
[null,null,"2019-12-01","872.10.09",47651041.619999997,null,null,null,47651041.619999997,11,"0.00"]
[null,null,"2019-12-01","872.10.09",47651041.619999997,null,null,null,47651041.619999997,12,"47654613.85"]
[null,null,"2019-12-01","872.10.09",47651041.619999997,null,null,null,47651041.619999997,14,"3572.23"]
[null,null,"2019-12-01","872.10.09",47651041.619999997,null,null,null,47651041.619999997,16,"0.00"]
[null,null,"2019-12-01","872.10.09",47651041.619999997,null,null,null,47651041.619999997,20,"0.00"]
[null,null,"2019-12-01","872.10.10",3432316.03,null,null,null,3432316.03,11,"0.00"]
[null,null,"2019-12-01","872.10.10",3432316.03,null,null,null,3432316.03,12,"3432316.03"]
[null,null,"2019-12-01","872.10.10",3432316.03,null,null,null,3432316.03,14,"0.00"]
[null,null,"2019-12-01","872.10.10",3432316.03,null,null,null,3432316.03,16,"0.00"]
[null,null,"2019-12-01","872.10.10",3432316.03,null,null,null,3432316.03,20,"0.00"]
[null,null,"2019-12-01","872.10.11",19256861.82,null,null,null,19256861.82,11,"0.00"]
[null,null,"2019-12-01","872.10.11",19256861.82,null,null,null,19256861.82,12,"19256861.82"]
[null,null,"2019-12-01","872.10.11",19256861.82,null,null,null,19256861.82,14,"0.00"]
[null,null,"2019-12-01","872.10.11",19256861.82,null,null,null,19256861.82,16,"0.00"]
[null,null,"2019-12-01","872.10.11",19256861.82,null,null,null,19256861.82,20,"0.00"]
[null,null,"2019-12-01","872.10.21",695168418.28999996]
[null,null,"2019-12-01","872.10.22",2296329565.29]
[null,null,"2019-12-01","872.20.02",253136996.75,null,null,null,253136996.75,17,"7232485621.44"]
[null,null,"2019-12-01","872.20.02",253136996.75,null,null,null,253136996.75,20,"0.00"]
[null,null,"2019-12-01","872.20.03",111279655.86,null,null,null,111279655.86,17,"1392520691.53"]
[null,null,"2019-12-01","872.20.03",111279655.86,null,null,null,111279655.86,18,"1786898047.15"]
[null,null,"2019-12-01","872.20.03",111279655.86,null,null,null,111279655.86,19,"77790215.86"]
[null,null,"2019-12-01","872.20.03",111279655.86,null,null,null,111279655.86,20,"0.00"]
[null,null,"2019-12-01","872.20.05",2082854207.3199999,null,null,null,2082854207.3199999,11,"2590165674.51"]
[null,null,"2019-12-01","872.20.05",2082854207.3199999,null,null,null,2082854207.3199999,12,"186951515.25"]
[null,null,"2019-12-01","872.20.05",2082854207.3199999,null,null,null,2082854207.3199999,14,"694262982.44"]
[null,null,"2019-12-01","872.20.05",2082854207.3199999,null,null,null,2082854207.3199999,16,"0.00"]
[null,null,"2019-12-01","872.20.05",2082854207.3199999,null,null,null,2082854207.3199999,20,"0.00"]
[null,null,"2019-12-01","872.20.08",5477791.9299999997,null,null,null,5477791.9299999997,11,"5477791.93"]
[null,null,"2019-12-01","872.20.08",5477791.9299999997,null,null,null,5477791.9299999997,12,"0.00"]
[null,null,"2019-12-01","872.20.08",5477791.9299999997,null,null,null,5477791.9299999997,14,"0.00"]
[null,null,"2019-12-01","872.20.08",5477791.9299999997,null,null,null,5477791.9299999997,16,"0.00"]
[null,null,"2019-12-01","872.20.08",5477791.9299999997,null,null,null,5477791.9299999997,20,"0.00"]
[null,null,"2019-12-01","872.20.09",40709168.159999996,null,null,null,40709168.159999996,11,"0.00"]
[null,null,"2019-12-01","872.20.09",40709168.159999996,null,null,null,40709168.159999996,12,"40709522.95"]
[null,null,"2019-12-01","872.20.09",40709168.159999996,null,null,null,40709168.159999996,14,"354.79"]
[null,null,"2019-12-01","872.20.09",40709168.159999996,null,null,null,40709168.159999996,16,"0.00"]
[null,null,"2019-12-01","872.20.09",40709168.159999996,null,null,null,40709168.159999996,20,"0.00"]
[null,null,"2019-12-01","872.20.10",3626841.84,null,null,null,3626841.84,11,"0.00"]
[null,null,"2019-12-01","872.20.10",3626841.84,null,null,null,3626841.84,12,"3626841.84"]
[null,null,"2019-12-01","872.20.10",3626841.84,null,null,null,3626841.84,14,"0.00"]
[null,null,"2019-12-01","872.20.10",3626841.84,null,null,null,3626841.84,16,"0.00"]
[null,null,"2019-12-01","872.20.10",3626841.84,null,null,null,3626841.84,20,"0.00"]
[null,null,"2019-12-01","872.20.11",15191311.380000001,null,null,null,15191311.380000001,11,"0.00"]
[null,null,"2019-12-01","872.20.11",15191311.380000001,null,null,null,15191311.380000001,12,"15191311.38"]
[null,null,"2019-12-01","872.20.11",15191311.380000001,null,null,null,15191311.380000001,14,"0.00"]
[null,null,"2019-12-01","872.20.11",15191311.380000001,null,null,null,15191311.380000001,16,"0.00"]
[null,null,"2019-12-01","872.20.11",15191311.380000001,null,null,null,15191311.380000001,20,"0.00"]
[null,null,"2019-12-01","872.20.12",664.55,null,null,null,664.55,11,"0.00"]
[null,null,"2019-12-01","872.20.12",664.55,null,null,null,664.55,12,"664.55"]
[null,null,"2019-12-01","872.20.12",664.55,null,null,null,664.55,14,"0.00"]
[null,null,"2019-12-01","872.20.12",664.55,null,null,null,664.55,16,"0.00"]
[null,null,"2019-12-01","872.20.12",664.55,null,null,null,664.55,20,"0.00"]
[null,null,"2019-12-01","872.20.21",518585323.08999997]
[null,null,"2019-12-01","872.20.22",2110365529.29]
[null,null,"2019-12-01","872.30.02",268624275.76999998,null,null,null,268624275.76999998,17,"7674979307.64"]
[null,null,"2019-12-01","872.30.02",268624275.76999998,null,null,null,268624275.76999998,20,"0.00"]
[null,null,"2019-12-01","872.30.03",162347598.36000001,null,null,null,162347598.36000001,17,"1600799453.76"]
[null,null,"2019-12-01","872.30.03",162347598.36000001,null,null,null,162347598.36000001,18,"3037703356.34"]
[null,null,"2019-12-01","872.30.03",162347598.36000001,null,null,null,162347598.36000001,19,"80880069.49"]
[null,null,"2019-12-01","872.30.03",162347598.36000001,null,null,null,162347598.36000001,20,"0.00"]
[null,null,"2019-12-01","872.30.05",2034295637.4000001,null,null,null,2034295637.4000001,11,"2498694662.23"]
[null,null,"2019-12-01","872.30.05",2034295637.4000001,null,null,null,2034295637.4000001,12,"191854704.28"]
[null,null,"2019-12-01","872.30.05",2034295637.4000001,null,null,null,2034295637.4000001,14,"656253729.11"]
[null,null,"2019-12-01","872.30.05",2034295637.4000001,null,null,null,2034295637.4000001,16,"0.00"]
[null,null,"2019-12-01","872.30.05",2034295637.4000001,null,null,null,2034295637.4000001,20,"0.00"]
[null,null,"2019-12-01","872.30.08",4361376.4400000004,null,null,null,4361376.4400000004,11,"4372786.41"]
[null,null,"2019-12-01","872.30.08",4361376.4400000004,null,null,null,4361376.4400000004,12,"0.00"]
[null,null,"2019-12-01","872.30.08",4361376.4400000004,null,null,null,4361376.4400000004,14,"11409.97"]
[null,null,"2019-12-01","872.30.08",4361376.4400000004,null,null,null,4361376.4400000004,16,"0.00"]
[null,null,"2019-12-01","872.30.08",4361376.4400000004,null,null,null,4361376.4400000004,20,"0.00"]
[null,null,"2019-12-01","872.30.09",41913247.25,null,null,null,41913247.25,11,"0.00"]
[null,null,"2019-12-01","872.30.09",41913247.25,null,null,null,41913247.25,12,"41913301.23"]
[null,null,"2019-12-01","872.30.09",41913247.25,null,null,null,41913247.25,14,"53.98"]
[null,null,"2019-12-01","872.30.09",41913247.25,null,null,null,41913247.25,16,"0.00"]
[null,null,"2019-12-01","872.30.09",41913247.25,null,null,null,41913247.25,20,"0.00"]
[null,null,"2019-12-01","872.30.10",3390731.37,null,null,null,3390731.37,11,"0.00"]
[null,null,"2019-12-01","872.30.10",3390731.37,null,null,null,3390731.37,12,"3390731.37"]
[null,null,"2019-12-01","872.30.10",3390731.37,null,null,null,3390731.37,14,"0.00"]
[null,null,"2019-12-01","872.30.10",3390731.37,null,null,null,3390731.37,16,"0.00"]
[null,null,"2019-12-01","872.30.10",3390731.37,null,null,null,3390731.37,20,"0.00"]
[null,null,"2019-12-01","872.30.11",15715159.26,null,null,null,15715159.26,11,"0.00"]
[null,null,"2019-12-01","872.30.11",15715159.26,null,null,null,15715159.26,12,"15715159.26"]
[null,null,"2019-12-01","872.30.11",15715159.26,null,null,null,15715159.26,14,"0.00"]
[null,null,"2019-12-01","872.30.11",15715159.26,null,null,null,15715159.26,16,"0.00"]
[null,null,"2019-12-01","872.30.11",15715159.26,null,null,null,15715159.26,20,"0.00"]
[null,null,"2019-12-01","872.30.12",3431.62,null,null,null,3431.62,11,"0.00"]
[null,null,"2019-12-01","872.30.12",3431.62,null,null,null,3431.62,12,"3431.62"]
[null,null,"2019-12-01","872.30.12",3431.62,null,null,null,3431.62,14,"0.00"]
[null,null,"2019-12-01","872.30.12",3431.62,null,null,null,3431.62,16,"0.00"]
[null,null,"2019-12-01","872.30.12",3431.62,null,null,null,3431.62,20,"0.00"]
[null,null,"2019-12-01","872.30.21",553525251.07000005]
[null,null,"2019-12-01","872.30.22",2131990575.1199999]
[null,null,"2019-12-01","890",45082984.229999997]
[null,null,"2019-12-01","890.01.00",166487144.05000001]
[null,null,"2019-12-01","890.10.01",115018852.51000001,null,null,null,115018852.51000001,31,"684566563.14"]
[null,null,"2019-12-01","890.10.01",115018852.51000001,null,null,null,115018852.51000001,32,"-523141717.70"]
[null,null,"2019-12-01","890.10.01",115018852.51000001,null,null,null,115018852.51000001,33,"0.33"]
[null,null,"2019-12-01","890.10.01",115018852.51000001,null,null,null,115018852.51000001,34,"0.65"]
[null,null,"2019-12-01","890.10.01",115018852.51000001,null,null,null,115018852.51000001,35,"1.34"]
[null,null,"2019-12-01","890.30.01",81339454.200000003,null,null,null,81339454.200000003,31,"-323268848.97"]
[null,null,"2019-12-01","890.30.01",81339454.200000003,null,null,null,81339454.200000003,32,"177329501.41"]
[null,null,"2019-12-01","890.30.01",81339454.200000003,null,null,null,81339454.200000003,33,"-0.62"]
[null,null,"2019-12-01","890.30.01",81339454.200000003,null,null,null,81339454.200000003,34,"-1.25"]
[null,null,"2019-12-01","890.30.01",81339454.200000003,null,null,null,81339454.200000003,35,"-2.66"]
[null,null,"2019-12-01","890.30.02",237841.64,null,null,null,237841.64,31,"-765346.75"]
[null,null,"2019-12-01","890.30.02",237841.64,null,null,null,237841.64,32,"826025.24"]
[null,null,"2019-12-01","890.30.02",237841.64,null,null,null,237841.64,33,"9999"]
[null,null,"2019-12-01","890.30.02",237841.64,null,null,null,237841.64,34,"9999"]
[null,null,"2019-12-01","890.30.02",237841.64,null,null,null,237841.64,35,"9999"]
[null,null,"2019-12-01","890.40.01",13951603.289999999,null,null,null,13951603.289999999,31,"-58784197.63"]
[null,null,"2019-12-01","890.40.01",13951603.289999999,null,null,null,13951603.289999999,32,"39178289.47"]
[null,null,"2019-12-01","890.40.01",13951603.289999999,null,null,null,13951603.289999999,33,"-1.78"]
[null,null,"2019-12-01","890.40.01",13951603.289999999,null,null,null,13951603.289999999,34,"-3.34"]
[null,null,"2019-12-01","890.40.01",13951603.289999999,null,null,null,13951603.289999999,35,"-5.84"]
[null,null,"2019-12-01","890.40.02",551399.68000000005,null,null,null,551399.68000000005,31,"1890983.39"]
[null,null,"2019-12-01","890.40.02",551399.68000000005,null,null,null,551399.68000000005,32,"-1199495.92"]
[null,null,"2019-12-01","890.40.02",551399.68000000005,null,null,null,551399.68000000005,33,"9999"]
[null,null,"2019-12-01","890.40.02",551399.68000000005,null,null,null,551399.68000000005,34,"9999"]
[null,null,"2019-12-01","890.40.02",551399.68000000005,null,null,null,551399.68000000005,35,"9999"]
[null,null,"2019-12-01","890.99.01",470976.96,null,null,null,470976.96,31,"-5756373.26"]
[null,null,"2019-12-01","890.99.01",470976.96,null,null,null,470976.96,32,"-1461375.86"]
[null,null,"2019-12-01","890.99.01",470976.96,null,null,null,470976.96,33,"9999"]
[null,null,"2019-12-01","890.99.01",470976.96,null,null,null,470976.96,34,"9999"]
[null,null,"2019-12-01","890.99.01",470976.96,null,null,null,470976.96,35,"9999"]
[null,null,"2019-12-01","900",10232980036.57]
[null,null,"2019-12-01","910",818638402.92999995]
[null,null,"2019-12-01","910.01",613978802.19000006]
[null,null,"2019-12-01","910.02",204659600.72999999]
[null,null,"2019-12-01","911",863721387.15999997]
[null,null,"2019-12-01","920",613978802.19000006]
[null,null,"2019-12-01","920.01",460484101.64999998]
[null,null,"2019-12-01","920.02",153494700.55000001]
[null,null,"2019-12-01","930",460484101.64999998]
[null,null,"2019-12-01","931",524440226.87]
[null,null,"2019-12-01","932",460484101.64999998]
[null,null,"2019-12-01","950",848890757.79999995]
[null,null,"2019-12-01","950.01",848890757.79999995]
[null,null,"2019-12-01","951",880576628.97000003]
[null,null,"2019-12-01","951.01",880576628.97000003]
[null,null,"2019-12-01","952",1034071329.51]
[null,null,"2019-12-01","953",547983272.65999997]
[null,null,"2019-12-01","960",640019030.96000004]
[null,null,"2019-12-01","940",255824500.91]
[null,null,"2019-12-01","942",255824500.91]
[null,null,"2019-12-01","943",0,null,null,null,0,5,"0.00"]
[null,null,"2019-12-01","943",0,null,null,null,0,6,"9318818573.82"]
[null,null,"2019-12-01","943",0,null,null,null,0,7,"1"]
[null,null,"2019-12-01","943",0,null,null,null,0,8,"0.00"]
[null,null,"2019-12-01","943",0,null,null,null,0,81,"BR"]
[null,null,"2019-12-01","943.01",0]
[null,null,"2019-12-01","943.02",0]
[null,null,"2019-12-01","954",593066256.88999999]
[null,null,"2019-12-01","955",0]
[null,null,"2019-12-01","956",803807773.57000005]
[null,null,"2019-12-01","970",704182676.88999999]
[null,null,"2019-12-01","980",48547471365.589996]
[null,null,"2019-12-01","981",8337645803.6499996]
[null,null,"2020-03-01","100",1688323085.9000001]
[null,null,"2020-03-01","101",1688323085.9000001]
[null,null,"2020-03-01","102",1688323085.9000001]
[null,null,"2020-03-01","103",1527467532.3099999]
[null,null,"2020-03-01","104",1527467532.3099999]
[null,null,"2020-03-01","108",1527467532.3099999]
[null,null,"2020-03-01","109",1688323085.9000001]
[null,null,"2020-03-01","110",1527467532.3099999]
[null,null,"2020-03-01","111",1527467532.3099999]
[null,null,"2020-03-01","111.01",1063070146.36,1063070146.36,64110008,163070146.36000001]
[null,null,"2020-03-01","111.01",1063070146.36,1063070146.36,61110135,694489135.69000006]
[null,null,"2020-03-01","111.01",1063070146.36,1063070146.36,61110166,205510864.31]
[null,null,"2020-03-01","111.02",939302870.35000002,939302870.35000002,61520000,791287591.21000004]
[null,null,"2020-03-01","111.02",939302870.35000002,939302870.35000002,61510003,148015279.13999999]
[null,null,"2020-03-01","111.05",847010981.82000005,847010981.82000005,70000009,847010981.82000005]
[null,null,"2020-03-01","111.90",0]
[null,null,"2020-03-01","111.90.01",939302870.35000002]
[null,null,"2020-03-01","111.91",918071055.04999995]
[null,null,"2020-03-01","111.91.01",161522517.06,161522517.06,61610202,37.03]
[null,null,"2020-03-01","111.91.01",161522517.06,161522517.06,61640007,162671991.78999999]
[null,null,"2020-03-01","111.91.01",161522517.06,161522517.06,61610109,-1149511.76]
[null,null,"2020-03-01","111.91.03",25548816.600000001,25548816.600000001,61880207,25548816.600000001]
[null,null,"2020-03-01","111.91.04",730999721.38999999,730999721.38999999,80000006,730999721.38999999]
[null,null,"2020-03-01","111.92",299107562.81]
[null,null,"2020-03-01","111.92.01",0]
[null,null,"2020-03-01","111.92.02",125987027.5,125987027.5,25105100,1500000]
[null,null,"2020-03-01","111.92.02",125987027.5,125987027.5,25199154,-137119770.36000001]
[null,null,"2020-03-01","111.92.02",125987027.5,125987027.5,25199350,-5708686.3200000003]
[null,null,"2020-03-01","111.92.02",125987027.5,125987027.5,25199051,-50000]
[null,null,"2020-03-01","111.92.02",125987027.5,125987027.5,25195457,-27529.85]
[null,null,"2020-03-01","111.92.02",125987027.5,125987027.5,25115107,254016213.77000001]
[null,null,"2020-03-01","111.92.02",125987027.5,125987027.5,25135008,13376800.26]
[null,null,"2020-03-01","111.92.04",173029323.75999999,173029323.75999999,30973509,173029323.75999999]
[null,null,"2020-03-01","111.92.06",91211.55]
[null,null,"2020-03-01","111.92.06.01.01.01",91211.55,91211.55,30984701,42766.07]
[null,null,"2020-03-01","111.92.06.01.01.01",91211.55,91211.55,30984608,48445.48]
[null,null,"2020-03-01","111.93",0]
[null,null,"2020-03-01","111.93.02",163220538.06999999]
[null,null,"2020-03-01","111.93.02.01",1632205380.6700001]
[null,null,"2020-03-01","111.94",104737848.36]
[null,null,"2020-03-01","111.94.01",0]
[null,null,"2020-03-01","111.94.01.02",163220538.06999999]
[null,null,"2020-03-01","111.94.01.02.01",1632205380.6700001]
[null,null,"2020-03-01","111.94.02",104737848.36]
[null,null,"2020-03-01","111.94.02.01",267958386.43000001]
[null,null,"2020-03-01","111.94.02.01.01",317829546.25999999,317829546.25999999,30984402,246680906.5]
[null,null,"2020-03-01","111.94.02.01.01",317829546.25999999,317829546.25999999,30984309,3387037.52]
[null,null,"2020-03-01","111.94.02.01.01",317829546.25999999,317829546.25999999,30984206,67761602.239999995]
[null,null,"2020-03-01","111.94.02.01.90",49871159.829999998]
[null,null,"2020-03-01","111.94.02.01.90.01",49871159.829999998,49871159.829999998,49430992,49871159.829999998]
[null,null,"2020-03-01","111.94.02.02",163220538.06999999]
[null,null,"2020-03-01","111.94.03",0]
[null,null,"2020-03-01","111.94.03.02",240749469.56999999]
[null,null,"2020-03-01","111.94.04",163220538.06999999]
[null,null,"2020-03-01","111.94.04.01",0]
[null,null,"2020-03-01","111.94.04.01.01",163220538.06999999]
[null,null,"2020-03-01","111.94.04.01.01.02",163220538.06999999]
[null,null,"2020-03-01","111.94.04.02",163220538.06999999]
[null,null,"2020-03-01","111.94.04.04",104737848.36]
[null,null,"2020-03-01","111.94.05",0]
[null,null,"2020-03-01","111.94.05.02",163220538.06999999]
[null,null,"2020-03-01","120",160855553.59]
[null,null,"2020-03-01","120.01",160855553.59]
[null,null,"2020-03-01","120.01.01",160855553.59,597934895.78999996,90981012,23371534.190000001]
[null,null,"2020-03-01","120.01.01",160855553.59,597934895.78999996,90981050,398546500.79000002]
[null,null,"2020-03-01","120.01.01",160855553.59,597934895.78999996,90981036,96291198.739999995]
[null,null,"2020-03-01","120.01.01",160855553.59,597934895.78999996,90981067,79725662.069999993]
[null,null,"2020-03-01","120.01.01",160855553.59,597934895.78999996,null,null,23371534.190000001,2,"23371534.19"]
[null,null,"2020-03-01","120.01.01",160855553.59,597934895.78999996,null,null,23371534.190000001,3,"96"]
[null,null,"2020-03-01","120.01.01",160855553.59,597934895.78999996,null,null,79709300.159999996,2,"398546500.79"]
[null,null,"2020-03-01","120.01.01",160855553.59,597934895.78999996,null,null,79709300.159999996,3,"04"]
[null,null,"2020-03-01","120.01.01",160855553.59,597934895.78999996,null,null,57774719.240000002,2,"96291198.74"]
[null,null,"2020-03-01","120.01.01",160855553.59,597934895.78999996,null,null,57774719.240000002,3,"02"]
[null,null,"2020-03-01","120.01.01",160855553.59,597934895.78999996,null,null,0,2,"79725662.07"]
[null,null,"2020-03-01","120.01.01",160855553.59,597934895.78999996,null,null,0,3,"05"]
[null,null,"2020-03-01","120.01.02",0]
[null,null,"2020-03-01","120.01.02.02",37577001.5,null,null,null,37577001.5,2,"187885007.49"]
[null,null,"2020-03-01","120.01.02.02",37577001.5,null,null,null,37577001.5,3,"28"]
[null,null,"2020-03-01","120.92",0]
[null,null,"2020-03-01","120.92.05",0]
[null,null,"2020-03-01","120.92.05.01",160855553.59]
[null,null,"2020-03-01","140",7.88]
[null,null,"2020-03-01","141",19376750364.900002]
[null,null,"2020-03-01","142",17970897347.169998]
[null,null,"2020-03-01","142.01",148789224.31,null,null,null,148789224.31,2,"148789224.31"]
[null,null,"2020-03-01","142.01",148789224.31,null,null,null,148789224.31,43,"99"]
[null,null,"2020-03-01","142.02",37632095.289999999]
[null,null,"2020-03-01","142.02.01",37632095.289999999,null,null,null,37632095.289999999,2,"37632095.29"]
[null,null,"2020-03-01","142.02.01",37632095.289999999,null,null,null,37632095.289999999,43,"99"]
[null,null,"2020-03-01","142.03",3574102393.3000002]
[null,null,"2020-03-01","142.03.01",3479472240.5300002,null,null,null,3479472240.5300002,2,"3479472240.53"]
[null,null,"2020-03-01","142.03.01",3479472240.5300002,null,null,null,3479472240.5300002,43,"99"]
[null,null,"2020-03-01","142.03.03",94630152.769999996,null,null,null,94630152.769999996,2,"94630152.77"]
[null,null,"2020-03-01","142.03.03",94630152.769999996,null,null,null,94630152.769999996,43,"99"]
[null,null,"2020-03-01","142.05",603171064.61000001]
[null,null,"2020-03-01","142.05.01",606886763.58000004,null,null,null,606886763.58000004,2,"606886763.58"]
[null,null,"2020-03-01","142.05.01",606886763.58000004,null,null,null,606886763.58000004,43,"99"]
[null,null,"2020-03-01","142.05.02",3715698.97,null,null,null,3715698.97,2,"3715698.97"]
[null,null,"2020-03-01","142.05.02",3715698.97,null,null,null,3715698.97,43,"99"]
[null,null,"2020-03-01","142.06",11101168021.32]
[null,null,"2020-03-01","142.06.01",11101168021.32,null,null,null,11101168021.32,2,"11101168021.32"]
[null,null,"2020-03-01","142.06.01",11101168021.32,null,null,null,11101168021.32,43,"99"]
[null,null,"2020-03-01","142.08",2042110687.3499999,null,null,null,2042110687.3499999,2,"2042110687.35"]
[null,null,"2020-03-01","142.08",2042110687.3499999,null,null,null,2042110687.3499999,43,"99"]
[null,null,"2020-03-01","142.09",132387067.59999999,null,null,null,132387067.59999999,2,"132387067.60"]
[null,null,"2020-03-01","142.09",132387067.59999999,null,null,null,132387067.59999999,43,"99"]
[null,null,"2020-03-01","142.10",331536793.38999999,null,null,null,331536793.38999999,2,"331536793.39"]
[null,null,"2020-03-01","142.10",331536793.38999999,null,null,null,331536793.38999999,43,"99"]
[null,null,"2020-03-01","143",280687247.24000001,null,null,null,280687247.24000001,2,"280687247.24"]
[null,null,"2020-03-01","143",280687247.24000001,null,null,null,280687247.24000001,43,"99"]
[null,null,"2020-03-01","145",100002737.48]
[null,null,"2020-03-01","145.01",50001368.740000002]
[null,null,"2020-03-01","145.01.01",50001368.740000002,null,null,null,50001368.740000002,2,"50001368.74"]
[null,null,"2020-03-01","145.01.01",50001368.740000002,null,null,null,50001368.740000002,43,"99"]
[null,null,"2020-03-01","145.02",39557324.149999999]
[null,null,"2020-03-01","145.02.01",39557324.149999999,null,null,null,39557324.149999999,2,"39557324.15"]
[null,null,"2020-03-01","145.02.01",39557324.149999999,null,null,null,39557324.149999999,43,"99"]
[null,null,"2020-03-01","145.03",89558692.890000001]
[null,null,"2020-03-01","145.03.01",50001368.740000002,null,null,null,50001368.740000002,2,"50001368.74"]
[null,null,"2020-03-01","145.03.01",50001368.740000002,null,null,null,50001368.740000002,43,"99"]
[null,null,"2020-03-01","145.03.02",39557324.149999999,null,null,null,39557324.149999999,2,"39557324.15"]
[null,null,"2020-03-01","145.03.02",39557324.149999999,null,null,null,39557324.149999999,43,"99"]
[null,null,"2020-03-01","145.03.06",10267711.74,null,null,null,10267711.74,2,"10267711.74"]
[null,null,"2020-03-01","145.03.06",10267711.74,null,null,null,10267711.74,43,"99"]
[null,null,"2020-03-01","146",1586537527.49]
[null,null,"2020-03-01","146.01",1881571468.23]
[null,null,"2020-03-01","146.01.01",1653673730.8099999,null,null,null,1653673730.8099999,2,"1653673730.81"]
[null,null,"2020-03-01","146.01.01",1653673730.8099999,null,null,null,1653673730.8099999,43,"99"]
[null,null,"2020-03-01","146.01.02",225655868.13,null,null,null,225655868.13,2,"225655868.13"]
[null,null,"2020-03-01","146.01.02",225655868.13,null,null,null,225655868.13,43,"99"]
[null,null,"2020-03-01","146.01.03",2241869.29,null,null,null,2241869.29,2,"2241869.29"]
[null,null,"2020-03-01","146.01.03",2241869.29,null,null,null,2241869.29,43,"99"]
[null,null,"2020-03-01","146.02",-295033940.74000001]
[null,null,"2020-03-01","146.02.01",-294844307.02999997,null,null,null,-231142660.02000001,2,"462285320.05"]
[null,null,"2020-03-01","146.02.01",-294844307.02999997,null,null,null,-231142660.02000001,43,"73"]
[null,null,"2020-03-01","146.02.01",-294844307.02999997,null,null,null,-63701647.009999998,2,"79627058.76"]
[null,null,"2020-03-01","146.02.01",-294844307.02999997,null,null,null,-63701647.009999998,43,"72"]
[null,null,"2020-03-01","146.02.02",0,null,null,null,0,2,"225655868.13"]
[null,null,"2020-03-01","146.02.02",0,null,null,null,0,43,"74"]
[null,null,"2020-03-01","146.02.03",-189633.7,null,null,null,-189633.7,2,"379267.41"]
[null,null,"2020-03-01","146.02.03",-189633.7,null,null,null,-189633.7,43,"76"]
[null,null,"2020-03-01","146.02.03",-189633.7,null,null,null,0,2,"1862601.88"]
[null,null,"2020-03-01","146.02.03",-189633.7,null,null,null,0,43,"78"]
[null,null,"2020-03-01","150",844161542.95000005]
[null,null,"2020-03-01","160",205549765.88999999]
[null,null,"2020-03-01","160.01",331536793.38999999]
[null,null,"2020-03-01","160.08",125987027.5]
[null,null,"2020-03-01","170",759745388.65999997]
[null,null,"2020-03-01","171",40070605]
[null,null,"2020-03-01","172",40070605]
[null,null,"2020-03-01","172.01",40070605,null,null,null,40070605,2,"40070605.00"]
[null,null,"2020-03-01","172.01",40070605,null,null,null,40070605,46,"0.00"]
[null,null,"2020-03-01","172.01",40070605,null,null,null,40070605,61,"9"]
[null,null,"2020-03-01","172.01",40070605,null,null,null,40070605,62,"1"]
[null,null,"2020-03-01","190",50649692577]
[null,null,"2020-03-01","191",8441615429.5]
[null,null,"2020-03-01","192",1380677971.3199999,null,null,null,1380677971.3199999,76,"20200324"]
[null,null,"2020-03-01","192.01",245000772.31]
[null,null,"2020-03-01","192.02",1135677199.01]
[null,null,"2020-03-01","200",0]
[null,null,"2020-03-01","200.01",47851784.25,null,null,null,30167606.539999999,46,"-151596.06"]
[null,null,"2020-03-01","200.01",47851784.25,null,null,null,30167606.539999999,62,"6"]
[null,null,"2020-03-01","200.01",47851784.25,null,null,null,30167606.539999999,63,"30319202.60"]
[null,null,"2020-03-01","200.01",47851784.25,null,null,null,30167606.539999999,64,"0.00"]
[null,null,"2020-03-01","200.01",47851784.25,null,null,null,30167606.539999999,65,"0.00"]
[null,null,"2020-03-01","200.01",47851784.25,null,null,null,30167606.539999999,66,"1"]
[null,null,"2020-03-01","200.01",47851784.25,null,null,null,30167606.539999999,67,"2"]
[null,null,"2020-03-01","200.01",47851784.25,null,null,null,30167606.539999999,68,"1"]
[null,null,"2020-03-01","200.01",47851784.25,null,null,null,17684177.710000001,46,"0.00"]
[null,null,"2020-03-01","200.01",47851784.25,null,null,null,17684177.710000001,62,"6"]
[null,null,"2020-03-01","200.01",47851784.25,null,null,null,17684177.710000001,63,"17684177.71"]
[null,null,"2020-03-01","200.01",47851784.25,null,null,null,17684177.710000001,64,"0.00"]
[null,null,"2020-03-01","200.01",47851784.25,null,null,null,17684177.710000001,65,"0.00"]
[null,null,"2020-03-01","200.01",47851784.25,null,null,null,17684177.710000001,66,"7"]
[null,null,"2020-03-01","200.01",47851784.25,null,null,null,17684177.710000001,67,"2"]
[null,null,"2020-03-01","200.01",47851784.25,null,null,null,17684177.710000001,68,"1"]
[null,null,"2020-03-01","200.02",40143006.039999999,null,null,null,2594768.37,46,"0.00"]
[null,null,"2020-03-01","200.02",40143006.039999999,null,null,null,2594768.37,62,"6"]
[null,null,"2020-03-01","200.02",40143006.039999999,null,null,null,2594768.37,63,"2594768.37"]
[null,null,"2020-03-01","200.02",40143006.039999999,null,null,null,2594768.37,64,"0.00"]
[null,null,"2020-03-01","200.02",40143006.039999999,null,null,null,2594768.37,65,"0.00"]
[null,null,"2020-03-01","200.02",40143006.039999999,null,null,null,2594768.37,66,"1"]
[null,null,"2020-03-01","200.02",40143006.039999999,null,null,null,2594768.37,67,"2"]
[null,null,"2020-03-01","200.02",40143006.039999999,null,null,null,2594768.37,68,"1"]
[null,null,"2020-03-01","200.02",40143006.039999999,null,null,null,37548237.670000002,46,"0.00"]
[null,null,"2020-03-01","200.02",40143006.039999999,null,null,null,37548237.670000002,62,"6"]
[null,null,"2020-03-01","200.02",40143006.039999999,null,null,null,37548237.670000002,63,"37548237.67"]
[null,null,"2020-03-01","200.02",40143006.039999999,null,null,null,37548237.670000002,64,"0.00"]
[null,null,"2020-03-01","200.02",40143006.039999999,null,null,null,37548237.670000002,65,"0.00"]
[null,null,"2020-03-01","200.02",40143006.039999999,null,null,null,37548237.670000002,66,"8"]
[null,null,"2020-03-01","200.02",40143006.039999999,null,null,null,37548237.670000002,67,"2"]
[null,null,"2020-03-01","200.02",40143006.039999999,null,null,null,37548237.670000002,68,"1"]
[null,null,"2020-03-01","200.03",40070605,null,null,null,40070605,46,"0.00"]
[null,null,"2020-03-01","200.03",40070605,null,null,null,40070605,62,"5"]
[null,null,"2020-03-01","200.03",40070605,null,null,null,40070605,63,"40070605.00"]
[null,null,"2020-03-01","200.03",40070605,null,null,null,40070605,64,"0.00"]
[null,null,"2020-03-01","200.03",40070605,null,null,null,40070605,65,"0.00"]
[null,null,"2020-03-01","200.03",40070605,null,null,null,40070605,66,"1"]
[null,null,"2020-03-01","200.03",40070605,null,null,null,40070605,67,"2"]
[null,null,"2020-03-01","200.03",40070605,null,null,null,40070605,68,"1"]
[null,null,"2020-03-01","200.04",39849290.310000002,null,null,null,39301506.369999997,46,"0.00"]
[null,null,"2020-03-01","200.04",39849290.310000002,null,null,null,39301506.369999997,62,"6"]
[null,null,"2020-03-01","200.04",39849290.310000002,null,null,null,39301506.369999997,63,"39301506.37"]
[null,null,"2020-03-01","200.04",39849290.310000002,null,null,null,39301506.369999997,64,"0.00"]
[null,null,"2020-03-01","200.04",39849290.310000002,null,null,null,39301506.369999997,65,"0.00"]
[null,null,"2020-03-01","200.04",39849290.310000002,null,null,null,39301506.369999997,66,"1"]
[null,null,"2020-03-01","200.04",39849290.310000002,null,null,null,39301506.369999997,67,"2"]
[null,null,"2020-03-01","200.04",39849290.310000002,null,null,null,39301506.369999997,68,"1"]
[null,null,"2020-03-01","200.04",39849290.310000002,null,null,null,446130.94,46,"0.00"]
[null,null,"2020-03-01","200.04",39849290.310000002,null,null,null,446130.94,62,"6"]
[null,null,"2020-03-01","200.04",39849290.310000002,null,null,null,446130.94,63,"446130.94"]
[null,null,"2020-03-01","200.04",39849290.310000002,null,null,null,446130.94,64,"0.00"]
[null,null,"2020-03-01","200.04",39849290.310000002,null,null,null,446130.94,65,"0.00"]
[null,null,"2020-03-01","200.04",39849290.310000002,null,null,null,446130.94,66,"8"]
[null,null,"2020-03-01","200.04",39849290.310000002,null,null,null,446130.94,67,"2"]
[null,null,"2020-03-01","200.04",39849290.310000002,null,null,null,446130.94,68,"1"]
[null,null,"2020-03-01","200.04",39849290.310000002,null,null,null,101653,46,"0.00"]
[null,null,"2020-03-01","200.04",39849290.310000002,null,null,null,101653,62,"6"]
[null,null,"2020-03-01","200.04",39849290.310000002,null,null,null,101653,63,"101653.00"]
[null,null,"2020-03-01","200.04",39849290.310000002,null,null,null,101653,64,"0.00"]
[null,null,"2020-03-01","200.04",39849290.310000002,null,null,null,101653,65,"0.00"]
[null,null,"2020-03-01","200.04",39849290.310000002,null,null,null,101653,66,"7"]
[null,null,"2020-03-01","200.04",39849290.310000002,null,null,null,101653,67,"2"]
[null,null,"2020-03-01","200.04",39849290.310000002,null,null,null,101653,68,"1"]
[null,null,"2020-03-01","200.05",39391213.899999999,null,null,null,34891213.899999999,46,"0.00"]
[null,null,"2020-03-01","200.05",39391213.899999999,null,null,null,34891213.899999999,62,"6"]
[null,null,"2020-03-01","200.05",39391213.899999999,null,null,null,34891213.899999999,63,"34891213.90"]
[null,null,"2020-03-01","200.05",39391213.899999999,null,null,null,34891213.899999999,64,"0.00"]
[null,null,"2020-03-01","200.05",39391213.899999999,null,null,null,34891213.899999999,65,"0.00"]
[null,null,"2020-03-01","200.05",39391213.899999999,null,null,null,34891213.899999999,66,"1"]
[null,null,"2020-03-01","200.05",39391213.899999999,null,null,null,34891213.899999999,67,"2"]
[null,null,"2020-03-01","200.05",39391213.899999999,null,null,null,34891213.899999999,68,"1"]
[null,null,"2020-03-01","200.05",39391213.899999999,null,null,null,4500000,46,"0.00"]
[null,null,"2020-03-01","200.05",39391213.899999999,null,null,null,4500000,62,"6"]
[null,null,"2020-03-01","200.05",39391213.899999999,null,null,null,4500000,63,"4500000.00"]
[null,null,"2020-03-01","200.05",39391213.899999999,null,null,null,4500000,64,"0.00"]
[null,null,"2020-03-01","200.05",39391213.899999999,null,null,null,4500000,65,"0.00"]
[null,null,"2020-03-01","200.05",39391213.899999999,null,null,null,4500000,66,"7"]
[null,null,"2020-03-01","200.05",39391213.899999999,null,null,null,4500000,67,"2"]
[null,null,"2020-03-01","200.05",39391213.899999999,null,null,null,4500000,68,"1"]
[null,null,"2020-03-01","200.06",36752405.170000002,null,null,null,4903.84,46,"-24.65"]
[null,null,"2020-03-01","200.06",36752405.170000002,null,null,null,4903.84,62,"6"]
[null,null,"2020-03-01","200.06",36752405.170000002,null,null,null,4903.84,63,"4928.49"]
[null,null,"2020-03-01","200.06",36752405.170000002,null,null,null,4903.84,64,"0.00"]
[null,null,"2020-03-01","200.06",36752405.170000002,null,null,null,4903.84,65,"0.00"]
[null,null,"2020-03-01","200.06",36752405.170000002,null,null,null,4903.84,66,"1"]
[null,null,"2020-03-01","200.06",36752405.170000002,null,null,null,4903.84,67,"2"]
[null,null,"2020-03-01","200.06",36752405.170000002,null,null,null,4903.84,68,"1"]
[null,null,"2020-03-01","200.06",36752405.170000002,null,null,null,10752408.720000001,46,"0.00"]
[null,null,"2020-03-01","200.06",36752405.170000002,null,null,null,10752408.720000001,62,"6"]
[null,null,"2020-03-01","200.06",36752405.170000002,null,null,null,10752408.720000001,63,"10752408.72"]
[null,null,"2020-03-01","200.06",36752405.170000002,null,null,null,10752408.720000001,64,"0.00"]
[null,null,"2020-03-01","200.06",36752405.170000002,null,null,null,10752408.720000001,65,"0.00"]
[null,null,"2020-03-01","200.06",36752405.170000002,null,null,null,10752408.720000001,66,"8"]
[null,null,"2020-03-01","200.06",36752405.170000002,null,null,null,10752408.720000001,67,"2"]
[null,null,"2020-03-01","200.06",36752405.170000002,null,null,null,10752408.720000001,68,"1"]
[null,null,"2020-03-01","200.06",36752405.170000002,null,null,null,25995092.609999999,46,"0.00"]
[null,null,"2020-03-01","200.06",36752405.170000002,null,null,null,25995092.609999999,62,"6"]
[null,null,"2020-03-01","200.06",36752405.170000002,null,null,null,25995092.609999999,63,"25995092.61"]
[null,null,"2020-03-01","200.06",36752405.170000002,null,null,null,25995092.609999999,64,"0.00"]
[null,null,"2020-03-01","200.06",36752405.170000002,null,null,null,25995092.609999999,65,"0.00"]
[null,null,"2020-03-01","200.06",36752405.170000002,null,null,null,25995092.609999999,66,"7"]
[null,null,"2020-03-01","200.06",36752405.170000002,null,null,null,25995092.609999999,67,"2"]
[null,null,"2020-03-01","200.06",36752405.170000002,null,null,null,25995092.609999999,68,"1"]
[null,null,"2020-03-01","200.07",31390693.120000001,null,null,null,8869600.9399999995,46,"0.00"]
[null,null,"2020-03-01","200.07",31390693.120000001,null,null,null,8869600.9399999995,62,"6"]
[null,null,"2020-03-01","200.07",31390693.120000001,null,null,null,8869600.9399999995,63,"8869600.94"]
[null,null,"2020-03-01","200.07",31390693.120000001,null,null,null,8869600.9399999995,64,"0.00"]
[null,null,"2020-03-01","200.07",31390693.120000001,null,null,null,8869600.9399999995,65,"0.00"]
[null,null,"2020-03-01","200.07",31390693.120000001,null,null,null,8869600.9399999995,66,"1"]
[null,null,"2020-03-01","200.07",31390693.120000001,null,null,null,8869600.9399999995,67,"2"]
[null,null,"2020-03-01","200.07",31390693.120000001,null,null,null,8869600.9399999995,68,"1"]
[null,null,"2020-03-01","200.07",31390693.120000001,null,null,null,21050825.07,46,"0.00"]
[null,null,"2020-03-01","200.07",31390693.120000001,null,null,null,21050825.07,62,"6"]
[null,null,"2020-03-01","200.07",31390693.120000001,null,null,null,21050825.07,63,"21050825.07"]
[null,null,"2020-03-01","200.07",31390693.120000001,null,null,null,21050825.07,64,"0.00"]
[null,null,"2020-03-01","200.07",31390693.120000001,null,null,null,21050825.07,65,"0.00"]
[null,null,"2020-03-01","200.07",31390693.120000001,null,null,null,21050825.07,66,"8"]
[null,null,"2020-03-01","200.07",31390693.120000001,null,null,null,21050825.07,67,"2"]
[null,null,"2020-03-01","200.07",31390693.120000001,null,null,null,21050825.07,68,"1"]
[null,null,"2020-03-01","200.07",31390693.120000001,null,null,null,1470267.11,46,"0.00"]
[null,null,"2020-03-01","200.07",31390693.120000001,null,null,null,1470267.11,62,"6"]
[null,null,"2020-03-01","200.07",31390693.120000001,null,null,null,1470267.11,63,"1470267.11"]
[null,null,"2020-03-01","200.07",31390693.120000001,null,null,null,1470267.11,64,"0.00"]
[null,null,"2020-03-01","200.07",31390693.120000001,null,null,null,1470267.11,65,"0.00"]
[null,null,"2020-03-01","200.07",31390693.120000001,null,null,null,1470267.11,66,"7"]
[null,null,"2020-03-01","200.07",31390693.120000001,null,null,null,1470267.11,67,"2"]
[null,null,"2020-03-01","200.07",31390693.120000001,null,null,null,1470267.11,68,"1"]
[null,null,"2020-03-01","200.08",27740291.48,null,null,null,20499374.579999998,46,"0.00"]
[null,null,"2020-03-01","200.08",27740291.48,null,null,null,20499374.579999998,62,"6"]
[null,null,"2020-03-01","200.08",27740291.48,null,null,null,20499374.579999998,63,"20499374.58"]
[null,null,"2020-03-01","200.08",27740291.48,null,null,null,20499374.579999998,64,"0.00"]
[null,null,"2020-03-01","200.08",27740291.48,null,null,null,20499374.579999998,65,"0.00"]
[null,null,"2020-03-01","200.08",27740291.48,null,null,null,20499374.579999998,66,"1"]
[null,null,"2020-03-01","200.08",27740291.48,null,null,null,20499374.579999998,67,"2"]
[null,null,"2020-03-01","200.08",27740291.48,null,null,null,20499374.579999998,68,"1"]
[null,null,"2020-03-01","200.08",27740291.48,null,null,null,5331729.9000000004,46,"0.00"]
[null,null,"2020-03-01","200.08",27740291.48,null,null,null,5331729.9000000004,62,"6"]
[null,null,"2020-03-01","200.08",27740291.48,null,null,null,5331729.9000000004,63,"5331729.90"]
[null,null,"2020-03-01","200.08",27740291.48,null,null,null,5331729.9000000004,64,"0.00"]
[null,null,"2020-03-01","200.08",27740291.48,null,null,null,5331729.9000000004,65,"0.00"]
[null,null,"2020-03-01","200.08",27740291.48,null,null,null,5331729.9000000004,66,"8"]
[null,null,"2020-03-01","200.08",27740291.48,null,null,null,5331729.9000000004,67,"2"]
[null,null,"2020-03-01","200.08",27740291.48,null,null,null,5331729.9000000004,68,"1"]
[null,null,"2020-03-01","200.08",27740291.48,null,null,null,1909187,46,"0.00"]
[null,null,"2020-03-01","200.08",27740291.48,null,null,null,1909187,62,"6"]
[null,null,"2020-03-01","200.08",27740291.48,null,null,null,1909187,63,"1909187.00"]
[null,null,"2020-03-01","200.08",27740291.48,null,null,null,1909187,64,"0.00"]
[null,null,"2020-03-01","200.08",27740291.48,null,null,null,1909187,65,"0.00"]
[null,null,"2020-03-01","200.08",27740291.48,null,null,null,1909187,66,"7"]
[null,null,"2020-03-01","200.08",27740291.48,null,null,null,1909187,67,"2"]
[null,null,"2020-03-01","200.08",27740291.48,null,null,null,1909187,68,"1"]
[null,null,"2020-03-01","200.09",27380924.989999998,null,null,null,24179956.309999999,46,"-244242.02"]
[null,null,"2020-03-01","200.09",27380924.989999998,null,null,null,24179956.309999999,62,"6"]
[null,null,"2020-03-01","200.09",27380924.989999998,null,null,null,24179956.309999999,63,"24424198.33"]
[null,null,"2020-03-01","200.09",27380924.989999998,null,null,null,24179956.309999999,64,"0.00"]
[null,null,"2020-03-01","200.09",27380924.989999998,null,null,null,24179956.309999999,65,"0.00"]
[null,null,"2020-03-01","200.09",27380924.989999998,null,null,null,24179956.309999999,66,"1"]
[null,null,"2020-03-01","200.09",27380924.989999998,null,null,null,24179956.309999999,67,"2"]
[null,null,"2020-03-01","200.09",27380924.989999998,null,null,null,24179956.309999999,68,"1"]
[null,null,"2020-03-01","200.09",27380924.989999998,null,null,null,2484068.6800000002,46,"0.00"]
[null,null,"2020-03-01","200.09",27380924.989999998,null,null,null,2484068.6800000002,62,"6"]
[null,null,"2020-03-01","200.09",27380924.989999998,null,null,null,2484068.6800000002,63,"2484068.68"]
[null,null,"2020-03-01","200.09",27380924.989999998,null,null,null,2484068.6800000002,64,"0.00"]
[null,null,"2020-03-01","200.09",27380924.989999998,null,null,null,2484068.6800000002,65,"0.00"]
[null,null,"2020-03-01","200.09",27380924.989999998,null,null,null,2484068.6800000002,66,"8"]
[null,null,"2020-03-01","200.09",27380924.989999998,null,null,null,2484068.6800000002,67,"2"]
[null,null,"2020-03-01","200.09",27380924.989999998,null,null,null,2484068.6800000002,68,"1"]
[null,null,"2020-03-01","200.09",27380924.989999998,null,null,null,716900,46,"0.00"]
[null,null,"2020-03-01","200.09",27380924.989999998,null,null,null,716900,62,"6"]
[null,null,"2020-03-01","200.09",27380924.989999998,null,null,null,716900,63,"716900.00"]
[null,null,"2020-03-01","200.09",27380924.989999998,null,null,null,716900,64,"0.00"]
[null,null,"2020-03-01","200.09",27380924.989999998,null,null,null,716900,65,"0.00"]
[null,null,"2020-03-01","200.09",27380924.989999998,null,null,null,716900,66,"7"]
[null,null,"2020-03-01","200.09",27380924.989999998,null,null,null,716900,67,"2"]
[null,null,"2020-03-01","200.09",27380924.989999998,null,null,null,716900,68,"1"]
[null,null,"2020-03-01","200.10",26248349.850000001,null,null,null,15991829.07,46,"-80363.02"]
[null,null,"2020-03-01","200.10",26248349.850000001,null,null,null,15991829.07,62,"6"]
[null,null,"2020-03-01","200.10",26248349.850000001,null,null,null,15991829.07,63,"16072192.09"]
[null,null,"2020-03-01","200.10",26248349.850000001,null,null,null,15991829.07,64,"0.00"]
[null,null,"2020-03-01","200.10",26248349.850000001,null,null,null,15991829.07,65,"0.00"]
[null,null,"2020-03-01","200.10",26248349.850000001,null,null,null,15991829.07,66,"1"]
[null,null,"2020-03-01","200.10",26248349.850000001,null,null,null,15991829.07,67,"2"]
[null,null,"2020-03-01","200.10",26248349.850000001,null,null,null,15991829.07,68,"1"]
[null,null,"2020-03-01","200.10",26248349.850000001,null,null,null,10191354.779999999,46,"0.00"]
[null,null,"2020-03-01","200.10",26248349.850000001,null,null,null,10191354.779999999,62,"6"]
[null,null,"2020-03-01","200.10",26248349.850000001,null,null,null,10191354.779999999,63,"10191354.78"]
[null,null,"2020-03-01","200.10",26248349.850000001,null,null,null,10191354.779999999,64,"0.00"]
[null,null,"2020-03-01","200.10",26248349.850000001,null,null,null,10191354.779999999,65,"0.00"]
[null,null,"2020-03-01","200.10",26248349.850000001,null,null,null,10191354.779999999,66,"8"]
[null,null,"2020-03-01","200.10",26248349.850000001,null,null,null,10191354.779999999,67,"2"]
[null,null,"2020-03-01","200.10",26248349.850000001,null,null,null,10191354.779999999,68,"1"]
[null,null,"2020-03-01","200.10",26248349.850000001,null,null,null,65166,46,"0.00"]
[null,null,"2020-03-01","200.10",26248349.850000001,null,null,null,65166,62,"6"]
[null,null,"2020-03-01","200.10",26248349.850000001,null,null,null,65166,63,"65166.00"]
[null,null,"2020-03-01","200.10",26248349.850000001,null,null,null,65166,64,"0.00"]
[null,null,"2020-03-01","200.10",26248349.850000001,null,null,null,65166,65,"0.00"]
[null,null,"2020-03-01","200.10",26248349.850000001,null,null,null,65166,66,"7"]
[null,null,"2020-03-01","200.10",26248349.850000001,null,null,null,65166,67,"2"]
[null,null,"2020-03-01","200.10",26248349.850000001,null,null,null,65166,68,"1"]
[null,null,"2020-03-01","200.11",24881082.370000001,null,null,null,21730717.84,46,"0.00"]
[null,null,"2020-03-01","200.11",24881082.370000001,null,null,null,21730717.84,62,"6"]
[null,null,"2020-03-01","200.11",24881082.370000001,null,null,null,21730717.84,63,"21730717.84"]
[null,null,"2020-03-01","200.11",24881082.370000001,null,null,null,21730717.84,64,"0.00"]
[null,null,"2020-03-01","200.11",24881082.370000001,null,null,null,21730717.84,65,"0.00"]
[null,null,"2020-03-01","200.11",24881082.370000001,null,null,null,21730717.84,66,"1"]
[null,null,"2020-03-01","200.11",24881082.370000001,null,null,null,21730717.84,67,"2"]
[null,null,"2020-03-01","200.11",24881082.370000001,null,null,null,21730717.84,68,"1"]
[null,null,"2020-03-01","200.11",24881082.370000001,null,null,null,3150364.53,46,"0.00"]
[null,null,"2020-03-01","200.11",24881082.370000001,null,null,null,3150364.53,62,"6"]
[null,null,"2020-03-01","200.11",24881082.370000001,null,null,null,3150364.53,63,"3150364.53"]
[null,null,"2020-03-01","200.11",24881082.370000001,null,null,null,3150364.53,64,"0.00"]
[null,null,"2020-03-01","200.11",24881082.370000001,null,null,null,3150364.53,65,"0.00"]
[null,null,"2020-03-01","200.11",24881082.370000001,null,null,null,3150364.53,66,"7"]
[null,null,"2020-03-01","200.11",24881082.370000001,null,null,null,3150364.53,67,"2"]
[null,null,"2020-03-01","200.11",24881082.370000001,null,null,null,3150364.53,68,"1"]
[null,null,"2020-03-01","200.12",24465344.77,null,null,null,24167780.77,46,"-10347898.17"]
[null,null,"2020-03-01","200.12",24465344.77,null,null,null,24167780.77,62,"6"]
[null,null,"2020-03-01","200.12",24465344.77,null,null,null,24167780.77,63,"34515678.94"]
[null,null,"2020-03-01","200.12",24465344.77,null,null,null,24167780.77,64,"0.00"]
[null,null,"2020-03-01","200.12",24465344.77,null,null,null,24167780.77,65,"0.00"]
[null,null,"2020-03-01","200.12",24465344.77,null,null,null,24167780.77,66,"1"]
[null,null,"2020-03-01","200.12",24465344.77,null,null,null,24167780.77,67,"2"]
[null,null,"2020-03-01","200.12",24465344.77,null,null,null,24167780.77,68,"1"]
[null,null,"2020-03-01","200.12",24465344.77,null,null,null,297564,46,"0.00"]
[null,null,"2020-03-01","200.12",24465344.77,null,null,null,297564,62,"6"]
[null,null,"2020-03-01","200.12",24465344.77,null,null,null,297564,63,"297564.00"]
[null,null,"2020-03-01","200.12",24465344.77,null,null,null,297564,64,"0.00"]
[null,null,"2020-03-01","200.12",24465344.77,null,null,null,297564,65,"0.00"]
[null,null,"2020-03-01","200.12",24465344.77,null,null,null,297564,66,"7"]
[null,null,"2020-03-01","200.12",24465344.77,null,null,null,297564,67,"2"]
[null,null,"2020-03-01","200.12",24465344.77,null,null,null,297564,68,"1"]
[null,null,"2020-03-01","200.13",23926640.420000002,null,null,null,8656251.1699999999,46,"0.00"]
[null,null,"2020-03-01","200.13",23926640.420000002,null,null,null,8656251.1699999999,62,"6"]
[null,null,"2020-03-01","200.13",23926640.420000002,null,null,null,8656251.1699999999,63,"8656251.17"]
[null,null,"2020-03-01","200.13",23926640.420000002,null,null,null,8656251.1699999999,64,"0.00"]
[null,null,"2020-03-01","200.13",23926640.420000002,null,null,null,8656251.1699999999,65,"0.00"]
[null,null,"2020-03-01","200.13",23926640.420000002,null,null,null,8656251.1699999999,66,"1"]
[null,null,"2020-03-01","200.13",23926640.420000002,null,null,null,8656251.1699999999,67,"2"]
[null,null,"2020-03-01","200.13",23926640.420000002,null,null,null,8656251.1699999999,68,"1"]
[null,null,"2020-03-01","200.13",23926640.420000002,null,null,null,15270389.25,46,"0.00"]
[null,null,"2020-03-01","200.13",23926640.420000002,null,null,null,15270389.25,62,"6"]
[null,null,"2020-03-01","200.13",23926640.420000002,null,null,null,15270389.25,63,"15270389.25"]
[null,null,"2020-03-01","200.13",23926640.420000002,null,null,null,15270389.25,64,"0.00"]
[null,null,"2020-03-01","200.13",23926640.420000002,null,null,null,15270389.25,65,"0.00"]
[null,null,"2020-03-01","200.13",23926640.420000002,null,null,null,15270389.25,66,"8"]
[null,null,"2020-03-01","200.13",23926640.420000002,null,null,null,15270389.25,67,"2"]
[null,null,"2020-03-01","200.13",23926640.420000002,null,null,null,15270389.25,68,"1"]
[null,null,"2020-03-01","200.14",18847760.280000001,null,null,null,18797760.280000001,46,"0.00"]
[null,null,"2020-03-01","200.14",18847760.280000001,null,null,null,18797760.280000001,62,"6"]
[null,null,"2020-03-01","200.14",18847760.280000001,null,null,null,18797760.280000001,63,"18797760.28"]
[null,null,"2020-03-01","200.14",18847760.280000001,null,null,null,18797760.280000001,64,"0.00"]
[null,null,"2020-03-01","200.14",18847760.280000001,null,null,null,18797760.280000001,65,"0.00"]
[null,null,"2020-03-01","200.14",18847760.280000001,null,null,null,18797760.280000001,66,"1"]
[null,null,"2020-03-01","200.14",18847760.280000001,null,null,null,18797760.280000001,67,"2"]
[null,null,"2020-03-01","200.14",18847760.280000001,null,null,null,18797760.280000001,68,"1"]
[null,null,"2020-03-01","200.14",18847760.280000001,null,null,null,50000,46,"0.00"]
[null,null,"2020-03-01","200.14",18847760.280000001,null,null,null,50000,62,"6"]
[null,null,"2020-03-01","200.14",18847760.280000001,null,null,null,50000,63,"50000.00"]
[null,null,"2020-03-01","200.14",18847760.280000001,null,null,null,50000,64,"0.00"]
[null,null,"2020-03-01","200.14",18847760.280000001,null,null,null,50000,65,"0.00"]
[null,null,"2020-03-01","200.14",18847760.280000001,null,null,null,50000,66,"7"]
[null,null,"2020-03-01","200.14",18847760.280000001,null,null,null,50000,67,"2"]
[null,null,"2020-03-01","200.14",18847760.280000001,null,null,null,50000,68,"1"]
[null,null,"2020-03-01","200.15",16710935.43,null,null,null,16710935.43,46,"-83974.57"]
[null,null,"2020-03-01","200.15",16710935.43,null,null,null,16710935.43,62,"6"]
[null,null,"2020-03-01","200.15",16710935.43,null,null,null,16710935.43,63,"16794910.00"]
[null,null,"2020-03-01","200.15",16710935.43,null,null,null,16710935.43,64,"0.00"]
[null,null,"2020-03-01","200.15",16710935.43,null,null,null,16710935.43,65,"0.00"]
[null,null,"2020-03-01","200.15",16710935.43,null,null,null,16710935.43,66,"1"]
[null,null,"2020-03-01","200.15",16710935.43,null,null,null,16710935.43,67,"2"]
[null,null,"2020-03-01","200.15",16710935.43,null,null,null,16710935.43,68,"1"]
[null,null,"2020-03-01","200.16",16557163.859999999,null,null,null,16557163.859999999,46,"0.00"]
[null,null,"2020-03-01","200.16",16557163.859999999,null,null,null,16557163.859999999,62,"6"]
[null,null,"2020-03-01","200.16",16557163.859999999,null,null,null,16557163.859999999,63,"16557163.86"]
[null,null,"2020-03-01","200.16",16557163.859999999,null,null,null,16557163.859999999,64,"0.00"]
[null,null,"2020-03-01","200.16",16557163.859999999,null,null,null,16557163.859999999,65,"0.00"]
[null,null,"2020-03-01","200.16",16557163.859999999,null,null,null,16557163.859999999,66,"1"]
[null,null,"2020-03-01","200.16",16557163.859999999,null,null,null,16557163.859999999,67,"2"]
[null,null,"2020-03-01","200.16",16557163.859999999,null,null,null,16557163.859999999,68,"1"]
[null,null,"2020-03-01","200.17",15760436.09,null,null,null,1224049.07,46,"0.00"]
[null,null,"2020-03-01","200.17",15760436.09,null,null,null,1224049.07,62,"6"]
[null,null,"2020-03-01","200.17",15760436.09,null,null,null,1224049.07,63,"1224049.07"]
[null,null,"2020-03-01","200.17",15760436.09,null,null,null,1224049.07,64,"0.00"]
[null,null,"2020-03-01","200.17",15760436.09,null,null,null,1224049.07,65,"0.00"]
[null,null,"2020-03-01","200.17",15760436.09,null,null,null,1224049.07,66,"1"]
[null,null,"2020-03-01","200.17",15760436.09,null,null,null,1224049.07,67,"2"]
[null,null,"2020-03-01","200.17",15760436.09,null,null,null,1224049.07,68,"1"]
[null,null,"2020-03-01","200.17",15760436.09,null,null,null,14524764.02,46,"0.00"]
[null,null,"2020-03-01","200.17",15760436.09,null,null,null,14524764.02,62,"6"]
[null,null,"2020-03-01","200.17",15760436.09,null,null,null,14524764.02,63,"14524764.02"]
[null,null,"2020-03-01","200.17",15760436.09,null,null,null,14524764.02,64,"0.00"]
[null,null,"2020-03-01","200.17",15760436.09,null,null,null,14524764.02,65,"0.00"]
[null,null,"2020-03-01","200.17",15760436.09,null,null,null,14524764.02,66,"8"]
[null,null,"2020-03-01","200.17",15760436.09,null,null,null,14524764.02,67,"2"]
[null,null,"2020-03-01","200.17",15760436.09,null,null,null,14524764.02,68,"1"]
[null,null,"2020-03-01","200.17",15760436.09,null,null,null,11623,46,"0.00"]
[null,null,"2020-03-01","200.17",15760436.09,null,null,null,11623,62,"6"]
[null,null,"2020-03-01","200.17",15760436.09,null,null,null,11623,63,"11623.00"]
[null,null,"2020-03-01","200.17",15760436.09,null,null,null,11623,64,"0.00"]
[null,null,"2020-03-01","200.17",15760436.09,null,null,null,11623,65,"0.00"]
[null,null,"2020-03-01","200.17",15760436.09,null,null,null,11623,66,"7"]
[null,null,"2020-03-01","200.17",15760436.09,null,null,null,11623,67,"2"]
[null,null,"2020-03-01","200.17",15760436.09,null,null,null,11623,68,"1"]
[null,null,"2020-03-01","200.18",14428674.48,null,null,null,9874674.4800000004,46,"0.00"]
[null,null,"2020-03-01","200.18",14428674.48,null,null,null,9874674.4800000004,62,"6"]
[null,null,"2020-03-01","200.18",14428674.48,null,null,null,9874674.4800000004,63,"9874674.48"]
[null,null,"2020-03-01","200.18",14428674.48,null,null,null,9874674.4800000004,64,"0.00"]
[null,null,"2020-03-01","200.18",14428674.48,null,null,null,9874674.4800000004,65,"0.00"]
[null,null,"2020-03-01","200.18",14428674.48,null,null,null,9874674.4800000004,66,"1"]
[null,null,"2020-03-01","200.18",14428674.48,null,null,null,9874674.4800000004,67,"2"]
[null,null,"2020-03-01","200.18",14428674.48,null,null,null,9874674.4800000004,68,"1"]
[null,null,"2020-03-01","200.18",14428674.48,null,null,null,4554000,46,"0.00"]
[null,null,"2020-03-01","200.18",14428674.48,null,null,null,4554000,62,"6"]
[null,null,"2020-03-01","200.18",14428674.48,null,null,null,4554000,63,"4554000.00"]
[null,null,"2020-03-01","200.18",14428674.48,null,null,null,4554000,64,"0.00"]
[null,null,"2020-03-01","200.18",14428674.48,null,null,null,4554000,65,"0.00"]
[null,null,"2020-03-01","200.18",14428674.48,null,null,null,4554000,66,"7"]
[null,null,"2020-03-01","200.18",14428674.48,null,null,null,4554000,67,"2"]
[null,null,"2020-03-01","200.18",14428674.48,null,null,null,4554000,68,"1"]
[null,null,"2020-03-01","200.19",13665219.52,null,null,null,13650267.52,46,"-68594.34"]
[null,null,"2020-03-01","200.19",13665219.52,null,null,null,13650267.52,62,"6"]
[null,null,"2020-03-01","200.19",13665219.52,null,null,null,13650267.52,63,"13718861.86"]
[null,null,"2020-03-01","200.19",13665219.52,null,null,null,13650267.52,64,"0.00"]
[null,null,"2020-03-01","200.19",13665219.52,null,null,null,13650267.52,65,"0.00"]
[null,null,"2020-03-01","200.19",13665219.52,null,null,null,13650267.52,66,"1"]
[null,null,"2020-03-01","200.19",13665219.52,null,null,null,13650267.52,67,"2"]
[null,null,"2020-03-01","200.19",13665219.52,null,null,null,13650267.52,68,"1"]
[null,null,"2020-03-01","200.19",13665219.52,null,null,null,14952,46,"0.00"]
[null,null,"2020-03-01","200.19",13665219.52,null,null,null,14952,62,"6"]
[null,null,"2020-03-01","200.19",13665219.52,null,null,null,14952,63,"14952.00"]
[null,null,"2020-03-01","200.19",13665219.52,null,null,null,14952,64,"0.00"]
[null,null,"2020-03-01","200.19",13665219.52,null,null,null,14952,65,"0.00"]
[null,null,"2020-03-01","200.19",13665219.52,null,null,null,14952,66,"7"]
[null,null,"2020-03-01","200.19",13665219.52,null,null,null,14952,67,"2"]
[null,null,"2020-03-01","200.19",13665219.52,null,null,null,14952,68,"1"]
[null,null,"2020-03-01","200.20",13375522.76,null,null,null,13375522.76,46,"0.00"]
[null,null,"2020-03-01","200.20",13375522.76,null,null,null,13375522.76,62,"6"]
[null,null,"2020-03-01","200.20",13375522.76,null,null,null,13375522.76,63,"13375522.76"]
[null,null,"2020-03-01","200.20",13375522.76,null,null,null,13375522.76,64,"0.00"]
[null,null,"2020-03-01","200.20",13375522.76,null,null,null,13375522.76,65,"0.00"]
[null,null,"2020-03-01","200.20",13375522.76,null,null,null,13375522.76,66,"1"]
[null,null,"2020-03-01","200.20",13375522.76,null,null,null,13375522.76,67,"2"]
[null,null,"2020-03-01","200.20",13375522.76,null,null,null,13375522.76,68,"1"]
[null,null,"2020-03-01","210",1527467532.3099999]
[null,null,"2020-03-01","211",381866883.07999998]
[null,null,"2020-03-01","212",9164805193.8600006]
[null,null,"2020-03-01","213",334015098.82999998]
[null,null,"2020-03-01","214",9164805193.8600006]
[null,null,"2020-03-01","510",233790.79]
[null,null,"2020-03-01","510.01",0,147620270.34999999,11110006,144039765.78999999]
[null,null,"2020-03-01","510.01",0,147620270.34999999,11540009,3580504.56]
[null,null,"2020-03-01","510.01",0,147620270.34999999,null,null,0,2,"3580504.56"]
[null,null,"2020-03-01","510.01",0,147620270.34999999,null,null,0,4,"11"]
[null,null,"2020-03-01","510.01",0,147620270.34999999,null,null,0,41,"002"]
[null,null,"2020-03-01","510.01",0,147620270.34999999,null,null,0,42,"99"]
[null,null,"2020-03-01","510.01",0,147620270.34999999,null,null,0,43,"99"]
[null,null,"2020-03-01","510.01",0,147620270.34999999,null,null,0,45,"999"]
[null,null,"2020-03-01","510.01",0,147620270.34999999,null,null,0,2,"144039765.79"]
[null,null,"2020-03-01","510.01",0,147620270.34999999,null,null,0,4,"11"]
[null,null,"2020-03-01","510.01",0,147620270.34999999,null,null,0,41,"001"]
[null,null,"2020-03-01","510.01",0,147620270.34999999,null,null,0,42,"99"]
[null,null,"2020-03-01","510.01",0,147620270.34999999,null,null,0,43,"99"]
[null,null,"2020-03-01","510.01",0,147620270.34999999,null,null,0,45,"999"]
[null,null,"2020-03-01","510.03",233790.79,1168953.96,11520005,1168953.96]
[null,null,"2020-03-01","510.03",233790.79,1168953.96,null,null,233790.79,2,"1168953.96"]
[null,null,"2020-03-01","510.03",233790.79,1168953.96,null,null,233790.79,4,"11"]
[null,null,"2020-03-01","510.03",233790.79,1168953.96,null,null,233790.79,41,"022"]
[null,null,"2020-03-01","510.03",233790.79,1168953.96,null,null,233790.79,42,"99"]
[null,null,"2020-03-01","510.03",233790.79,1168953.96,null,null,233790.79,43,"99"]
[null,null,"2020-03-01","510.03",233790.79,1168953.96,null,null,233790.79,45,"999"]
[null,null,"2020-03-01","510.03",233790.79,1168953.96,null,null,0,2,"0.00"]
[null,null,"2020-03-01","510.03",233790.79,1168953.96,null,null,0,4,"11"]
[null,null,"2020-03-01","510.03",233790.79,1168953.96,null,null,0,41,"021"]
[null,null,"2020-03-01","510.03",233790.79,1168953.96,null,null,0,42,"99"]
[null,null,"2020-03-01","510.03",233790.79,1168953.96,null,null,0,43,"99"]
[null,null,"2020-03-01","510.03",233790.79,1168953.96,null,null,0,45,"999"]
[null,null,"2020-03-01","520",19606365.210000001]
[null,null,"2020-03-01","520.01",0,176332.85,12110074,176332.85]
[null,null,"2020-03-01","520.01",0,176332.85,null,null,0,2,"176332.85"]
[null,null,"2020-03-01","520.01",0,176332.85,null,null,0,4,"11"]
[null,null,"2020-03-01","520.01",0,176332.85,null,null,0,41,"033"]
[null,null,"2020-03-01","520.01",0,176332.85,null,null,0,42,"106"]
[null,null,"2020-03-01","520.01",0,176332.85,null,null,0,43,"99"]
[null,null,"2020-03-01","520.01",0,176332.85,null,null,0,45,"020"]
[null,null,"2020-03-01","520.02",0,1128017909.95,13210076,205367971.38999999]
[null,null,"2020-03-01","520.02",0,1128017909.95,13210038,740832312.38]
[null,null,"2020-03-01","520.02",0,1128017909.95,13210052,181817626.18000001]
[null,null,"2020-03-01","520.02",0,1128017909.95,null,null,0,2,"1128017909.95"]
[null,null,"2020-03-01","520.02",0,1128017909.95,null,null,0,4,"11"]
[null,null,"2020-03-01","520.02",0,1128017909.95,null,null,0,41,"004"]
[null,null,"2020-03-01","520.02",0,1128017909.95,null,null,0,42,"99"]
[null,null,"2020-03-01","520.02",0,1128017909.95,null,null,0,43,"99"]
[null,null,"2020-03-01","520.02",0,1128017909.95,null,null,0,45,"020"]
[null,null,"2020-03-01","520.03",2053542.35,49825035.890000001,12120071,49825035.890000001]
[null,null,"2020-03-01","520.03",2053542.35,49825035.890000001,null,null,0,2,"39557324.15"]
[null,null,"2020-03-01","520.03",2053542.35,49825035.890000001,null,null,0,4,"11"]
[null,null,"2020-03-01","520.03",2053542.35,49825035.890000001,null,null,0,41,"033"]
[null,null,"2020-03-01","520.03",2053542.35,49825035.890000001,null,null,0,42,"106"]
[null,null,"2020-03-01","520.03",2053542.35,49825035.890000001,null,null,0,43,"99"]
[null,null,"2020-03-01","520.03",2053542.35,49825035.890000001,null,null,0,45,"021"]
[null,null,"2020-03-01","520.03",2053542.35,49825035.890000001,null,null,0,2,"39557324.15"]
[null,null,"2020-03-01","520.03",2053542.35,49825035.890000001,null,null,0,4,"21"]
[null,null,"2020-03-01","520.03",2053542.35,49825035.890000001,null,null,0,41,"102"]
[null,null,"2020-03-01","520.03",2053542.35,49825035.890000001,null,null,0,42,"101"]
[null,null,"2020-03-01","520.03",2053542.35,49825035.890000001,null,null,0,43,"99"]
[null,null,"2020-03-01","520.03",2053542.35,49825035.890000001,null,null,0,45,"022"]
[null,null,"2020-03-01","520.03",2053542.35,49825035.890000001,null,null,2053542.35,2,"10267711.74"]
[null,null,"2020-03-01","520.03",2053542.35,49825035.890000001,null,null,2053542.35,4,"11"]
[null,null,"2020-03-01","520.03",2053542.35,49825035.890000001,null,null,2053542.35,41,"033"]
[null,null,"2020-03-01","520.03",2053542.35,49825035.890000001,null,null,2053542.35,42,"99"]
[null,null,"2020-03-01","520.03",2053542.35,49825035.890000001,null,null,2053542.35,43,"99"]
[null,null,"2020-03-01","520.03",2053542.35,49825035.890000001,null,null,2053542.35,45,"021"]
[null,null,"2020-03-01","526.01",16710673,33421346.010000002,12210400,25006638.59]
[null,null,"2020-03-01","526.01",16710673,33421346.010000002,12210204,8414707.4199999999]
[null,null,"2020-03-01","526.01",16710673,33421346.010000002,null,null,16710673.01,2,"33421346.01"]
[null,null,"2020-03-01","526.01",16710673,33421346.010000002,null,null,16710673.01,4,"11"]
[null,null,"2020-03-01","526.01",16710673,33421346.010000002,null,null,16710673.01,41,"074"]
[null,null,"2020-03-01","526.01",16710673,33421346.010000002,null,null,16710673.01,42,"99"]
[null,null,"2020-03-01","526.01",16710673,33421346.010000002,null,null,16710673.01,43,"99"]
[null,null,"2020-03-01","526.01",16710673,33421346.010000002,null,null,16710673.01,45,"020"]
[null,null,"2020-03-01","526.01",16710673,33421346.010000002,null,null,0,2,"0.00"]
[null,null,"2020-03-01","526.01",16710673,33421346.010000002,null,null,0,4,"11"]
[null,null,"2020-03-01","526.01",16710673,33421346.010000002,null,null,0,41,"033"]
[null,null,"2020-03-01","526.01",16710673,33421346.010000002,null,null,0,42,"99"]
[null,null,"2020-03-01","526.01",16710673,33421346.010000002,null,null,0,43,"99"]
[null,null,"2020-03-01","526.01",16710673,33421346.010000002,null,null,0,45,"020"]
[null,null,"2020-03-01","526.01",16710673,33421346.010000002,null,null,0,2,"0.00"]
[null,null,"2020-03-01","526.01",16710673,33421346.010000002,null,null,0,4,"11"]
[null,null,"2020-03-01","526.01",16710673,33421346.010000002,null,null,0,41,"033"]
[null,null,"2020-03-01","526.01",16710673,33421346.010000002,null,null,0,42,"196"]
[null,null,"2020-03-01","526.01",16710673,33421346.010000002,null,null,0,43,"99"]
[null,null,"2020-03-01","526.01",16710673,33421346.010000002,null,null,0,45,"020"]
[null,null,"2020-03-01","526.01",16710673,33421346.010000002,null,null,0,2,"0.00"]
[null,null,"2020-03-01","526.01",16710673,33421346.010000002,null,null,0,4,"11"]
[null,null,"2020-03-01","526.01",16710673,33421346.010000002,null,null,0,41,"074"]
[null,null,"2020-03-01","526.01",16710673,33421346.010000002,null,null,0,42,"196"]
[null,null,"2020-03-01","526.01",16710673,33421346.010000002,null,null,0,43,"99"]
[null,null,"2020-03-01","526.01",16710673,33421346.010000002,null,null,0,45,"020"]
[null,null,"2020-03-01","527.01",842149.86,4210749.28,12610206,4210749.28]
[null,null,"2020-03-01","527.01",842149.86,4210749.28,null,null,842149.86,2,"4210749.28"]
[null,null,"2020-03-01","527.01",842149.86,4210749.28,null,null,842149.86,4,"11"]
[null,null,"2020-03-01","527.01",842149.86,4210749.28,null,null,842149.86,41,"032"]
[null,null,"2020-03-01","527.01",842149.86,4210749.28,null,null,842149.86,42,"99"]
[null,null,"2020-03-01","527.01",842149.86,4210749.28,null,null,842149.86,43,"99"]
[null,null,"2020-03-01","527.01",842149.86,4210749.28,null,null,842149.86,45,"020"]
[null,null,"2020-03-01","530",37934429.960000001]
[null,null,"2020-03-01","530.10",0,2412680.63,13120104,2355630.79]
[null,null,"2020-03-01","530.10",0,2412680.63,13120403,57049.84]
[null,null,"2020-03-01","530.10",0,2412680.63,null,null,0,2,"2412680.63"]
[null,null,"2020-03-01","530.10",0,2412680.63,null,null,0,4,"33"]
[null,null,"2020-03-01","530.10",0,2412680.63,null,null,0,41,"102"]
[null,null,"2020-03-01","530.10",0,2412680.63,null,null,0,42,"99"]
[null,null,"2020-03-01","530.10",0,2412680.63,null,null,0,43,"99"]
[null,null,"2020-03-01","530.10",0,2412680.63,null,null,0,45,"999"]
[null,null,"2020-03-01","530.13",25503574.890000001,94630152.769999996,13115999,400622.96]
[null,null,"2020-03-01","530.13",25503574.890000001,94630152.769999996,13115250,370930.45]
[null,null,"2020-03-01","530.13",25503574.890000001,94630152.769999996,13115652,9982613.6600000001]
[null,null,"2020-03-01","530.13",25503574.890000001,94630152.769999996,13115308,78760778.540000007]
[null,null,"2020-03-01","530.13",25503574.890000001,94630152.769999996,13115755,5115207.16]
[null,null,"2020-03-01","530.13",25503574.890000001,94630152.769999996,null,null,15859157.25,2,"15859157.25"]
[null,null,"2020-03-01","530.13",25503574.890000001,94630152.769999996,null,null,15859157.25,4,"11"]
[null,null,"2020-03-01","530.13",25503574.890000001,94630152.769999996,null,null,15859157.25,41,"102"]
[null,null,"2020-03-01","530.13",25503574.890000001,94630152.769999996,null,null,15859157.25,42,"99"]
[null,null,"2020-03-01","530.13",25503574.890000001,94630152.769999996,null,null,15859157.25,43,"99"]
[null,null,"2020-03-01","530.13",25503574.890000001,94630152.769999996,null,null,15859157.25,45,"999"]
[null,null,"2020-03-01","530.13",25503574.890000001,94630152.769999996,null,null,9644417.6300000008,2,"771553.41"]
[null,null,"2020-03-01","530.13",25503574.890000001,94630152.769999996,null,null,9644417.6300000008,4,"11"]
[null,null,"2020-03-01","530.13",25503574.890000001,94630152.769999996,null,null,9644417.6300000008,41,"805"]
[null,null,"2020-03-01","530.13",25503574.890000001,94630152.769999996,null,null,9644417.6300000008,42,"99"]
[null,null,"2020-03-01","530.13",25503574.890000001,94630152.769999996,null,null,9644417.6300000008,43,"99"]
[null,null,"2020-03-01","530.13",25503574.890000001,94630152.769999996,null,null,9644417.6300000008,45,"999"]
[null,null,"2020-03-01","530.13",25503574.890000001,94630152.769999996,null,null,0,2,"78077156.12"]
[null,null,"2020-03-01","530.13",25503574.890000001,94630152.769999996,null,null,0,4,"11"]
[null,null,"2020-03-01","530.13",25503574.890000001,94630152.769999996,null,null,0,41,"004"]
[null,null,"2020-03-01","530.13",25503574.890000001,94630152.769999996,null,null,0,42,"99"]
[null,null,"2020-03-01","530.13",25503574.890000001,94630152.769999996,null,null,0,43,"99"]
[null,null,"2020-03-01","530.13",25503574.890000001,94630152.769999996,null,null,0,45,"999"]
[null,null,"2020-03-01","530.13",25503574.890000001,94630152.769999996,null,null,0,2,"-77714.01"]
[null,null,"2020-03-01","530.13",25503574.890000001,94630152.769999996,null,null,0,4,"11"]
[null,null,"2020-03-01","530.13",25503574.890000001,94630152.769999996,null,null,0,41,"004"]
[null,null,"2020-03-01","530.13",25503574.890000001,94630152.769999996,null,null,0,42,"99"]
[null,null,"2020-03-01","530.13",25503574.890000001,94630152.769999996,null,null,0,43,"99"]
[null,null,"2020-03-01","530.13",25503574.890000001,94630152.769999996,null,null,0,45,"999"]
[null,null,"2020-03-01","530.20",12430855.07,2195656387.9099998,13445023,260469869.24000001]
[null,null,"2020-03-01","530.20",12430855.07,2195656387.9099998,13110059,146389368]
[null,null,"2020-03-01","530.20",12430855.07,2195656387.9099998,13616003,94501910.140000001]
[null,null,"2020-03-01","530.20",12430855.07,2195656387.9099998,13620020,11161889.76]
[null,null,"2020-03-01","530.20",12430855.07,2195656387.9099998,13190990,3052489.54]
[null,null,"2020-03-01","530.20",12430855.07,2195656387.9099998,13110035,1502395196.3499999]
[null,null,"2020-03-01","530.20",12430855.07,2195656387.9099998,13110073,142798550.28999999]
[null,null,"2020-03-01","530.20",12430855.07,2195656387.9099998,13625104,12869757.699999999]
[null,null,"2020-03-01","530.20",12430855.07,2195656387.9099998,13110190,3260625.83]
[null,null,"2020-03-01","530.20",12430855.07,2195656387.9099998,13110255,18756731.059999999]
[null,null,"2020-03-01","530.20",12430855.07,2195656387.9099998,null,null,0,2,"2055313609.71"]
[null,null,"2020-03-01","530.20",12430855.07,2195656387.9099998,null,null,0,4,"11"]
[null,null,"2020-03-01","530.20",12430855.07,2195656387.9099998,null,null,0,41,"004"]
[null,null,"2020-03-01","530.20",12430855.07,2195656387.9099998,null,null,0,42,"99"]
[null,null,"2020-03-01","530.20",12430855.07,2195656387.9099998,null,null,0,43,"99"]
[null,null,"2020-03-01","530.20",12430855.07,2195656387.9099998,null,null,0,45,"999"]
[null,null,"2020-03-01","530.20",12430855.07,2195656387.9099998,null,null,9378365.5299999993,2,"18756731.06"]
[null,null,"2020-03-01","530.20",12430855.07,2195656387.9099998,null,null,9378365.5299999993,4,"11"]
[null,null,"2020-03-01","530.20",12430855.07,2195656387.9099998,null,null,9378365.5299999993,41,"074"]
[null,null,"2020-03-01","530.20",12430855.07,2195656387.9099998,null,null,9378365.5299999993,42,"99"]
[null,null,"2020-03-01","530.20",12430855.07,2195656387.9099998,null,null,9378365.5299999993,43,"99"]
[null,null,"2020-03-01","530.20",12430855.07,2195656387.9099998,null,null,9378365.5299999993,45,"999"]
[null,null,"2020-03-01","530.20",12430855.07,2195656387.9099998,null,null,0,2,"118533557.60"]
[null,null,"2020-03-01","530.20",12430855.07,2195656387.9099998,null,null,0,4,"11"]
[null,null,"2020-03-01","530.20",12430855.07,2195656387.9099998,null,null,0,41,"004"]
[null,null,"2020-03-01","530.20",12430855.07,2195656387.9099998,null,null,0,42,"121"]
[null,null,"2020-03-01","530.20",12430855.07,2195656387.9099998,null,null,0,43,"99"]
[null,null,"2020-03-01","530.20",12430855.07,2195656387.9099998,null,null,0,45,"999"]
[null,null,"2020-03-01","530.20",12430855.07,2195656387.9099998,null,null,3052489.54,2,"3052489.54"]
[null,null,"2020-03-01","530.20",12430855.07,2195656387.9099998,null,null,3052489.54,4,"11"]
[null,null,"2020-03-01","530.20",12430855.07,2195656387.9099998,null,null,3052489.54,41,"102"]
[null,null,"2020-03-01","530.20",12430855.07,2195656387.9099998,null,null,3052489.54,42,"99"]
[null,null,"2020-03-01","530.20",12430855.07,2195656387.9099998,null,null,3052489.54,43,"99"]
[null,null,"2020-03-01","530.20",12430855.07,2195656387.9099998,null,null,3052489.54,45,"999"]
[null,null,"2020-03-01","535",3067705.24]
[null,null,"2020-03-01","535.05",3067705.24,153385262.03999999,13615028,153385262.03999999]
[null,null,"2020-03-01","535.05",3067705.24,153385262.03999999,null,null,3067705.24,2,"153385262.04"]
[null,null,"2020-03-01","535.05",3067705.24,153385262.03999999,null,null,3067705.24,4,"11"]
[null,null,"2020-03-01","535.05",3067705.24,153385262.03999999,null,null,3067705.24,41,"124"]
[null,null,"2020-03-01","535.05",3067705.24,153385262.03999999,null,null,3067705.24,42,"99"]
[null,null,"2020-03-01","535.05",3067705.24,153385262.03999999,null,null,3067705.24,43,"99"]
[null,null,"2020-03-01","535.05",3067705.24,153385262.03999999,null,null,3067705.24,45,"020"]
[null,null,"2020-03-01","540",28014232.600000001]
[null,null,"2020-03-01","540.07",28014232.600000001,606886763.58000004,14233100,412000460.98000002]
[null,null,"2020-03-01","540.07",28014232.600000001,606886763.58000004,14130904,3061394.62]
[null,null,"2020-03-01","540.07",28014232.600000001,606886763.58000004,14233997,1462859.92]
[null,null,"2020-03-01","540.07",28014232.600000001,606886763.58000004,14110900,654304.35]
[null,null,"2020-03-01","540.07",28014232.600000001,606886763.58000004,14260001,283858.57]
[null,null,"2020-03-01","540.07",28014232.600000001,606886763.58000004,14299601,-72723326.040000007]
[null,null,"2020-03-01","540.07",28014232.600000001,606886763.58000004,14140901,7416875.8300000001]
[null,null,"2020-03-01","540.07",28014232.600000001,606886763.58000004,14265109,174290817.03999999]
[null,null,"2020-03-01","540.07",28014232.600000001,606886763.58000004,14228005,80439518.310000002]
[null,null,"2020-03-01","540.07",28014232.600000001,606886763.58000004,null,null,20313498.199999999,2,"101567491.00"]
[null,null,"2020-03-01","540.07",28014232.600000001,606886763.58000004,null,null,20313498.199999999,4,"11"]
[null,null,"2020-03-01","540.07",28014232.600000001,606886763.58000004,null,null,20313498.199999999,41,"023"]
[null,null,"2020-03-01","540.07",28014232.600000001,606886763.58000004,null,null,20313498.199999999,42,"99"]
[null,null,"2020-03-01","540.07",28014232.600000001,606886763.58000004,null,null,20313498.199999999,43,"99"]
[null,null,"2020-03-01","540.07",28014232.600000001,606886763.58000004,null,null,20313498.199999999,45,"999"]
[null,null,"2020-03-01","540.07",28014232.600000001,606886763.58000004,null,null,0,2,"493902839.21"]
[null,null,"2020-03-01","540.07",28014232.600000001,606886763.58000004,null,null,0,4,"11"]
[null,null,"2020-03-01","540.07",28014232.600000001,606886763.58000004,null,null,0,41,"004"]
[null,null,"2020-03-01","540.07",28014232.600000001,606886763.58000004,null,null,0,42,"99"]
[null,null,"2020-03-01","540.07",28014232.600000001,606886763.58000004,null,null,0,43,"99"]
[null,null,"2020-03-01","540.07",28014232.600000001,606886763.58000004,null,null,0,45,"999"]
[null,null,"2020-03-01","540.07",28014232.600000001,606886763.58000004,null,null,0,2,"3715698.97"]
[null,null,"2020-03-01","540.07",28014232.600000001,606886763.58000004,null,null,0,4,"35"]
[null,null,"2020-03-01","540.07",28014232.600000001,606886763.58000004,null,null,0,41,"999"]
[null,null,"2020-03-01","540.07",28014232.600000001,606886763.58000004,null,null,0,42,"99"]
[null,null,"2020-03-01","540.07",28014232.600000001,606886763.58000004,null,null,0,43,"99"]
[null,null,"2020-03-01","540.07",28014232.600000001,606886763.58000004,null,null,0,45,"999"]
[null,null,"2020-03-01","540.07",28014232.600000001,606886763.58000004,null,null,7700734.4000000004,2,"7700734.40"]
[null,null,"2020-03-01","540.07",28014232.600000001,606886763.58000004,null,null,7700734.4000000004,4,"11"]
[null,null,"2020-03-01","540.07",28014232.600000001,606886763.58000004,null,null,7700734.4000000004,41,"102"]
[null,null,"2020-03-01","540.07",28014232.600000001,606886763.58000004,null,null,7700734.4000000004,42,"99"]
[null,null,"2020-03-01","540.07",28014232.600000001,606886763.58000004,null,null,7700734.4000000004,43,"99"]
[null,null,"2020-03-01","540.07",28014232.600000001,606886763.58000004,null,null,7700734.4000000004,45,"999"]
[null,null,"2020-03-01","545",0,18945350,15250003,18945350]
[null,null,"2020-03-01","545",0,18945350,null,null,0,2,"18945350.00"]
[null,null,"2020-03-01","545",0,18945350,null,null,0,4,"31"]
[null,null,"2020-03-01","545",0,18945350,null,null,0,41,"999"]
[null,null,"2020-03-01","545",0,18945350,null,null,0,42,"99"]
[null,null,"2020-03-01","545",0,18945350,null,null,0,43,"99"]
[null,null,"2020-03-01","545",0,18945350,null,null,0,45,"999"]
[null,null,"2020-03-01","550",7914844639.8100004]
[null,null,"2020-03-01","550.04",454294148.31999999,1171767516.5899999,16410103,24945849.920000002]
[null,null,"2020-03-01","550.04",454294148.31999999,1171767516.5899999,16430303,128448965.81999999]
[null,null,"2020-03-01","550.04",454294148.31999999,1171767516.5899999,16430107,1032965340.29]
[null,null,"2020-03-01","550.04",454294148.31999999,1171767516.5899999,16950003,-14592639.439999999]
[null,null,"2020-03-01","550.04",454294148.31999999,1171767516.5899999,null,null,175875241.53999999,2,"502500690.10"]
[null,null,"2020-03-01","550.04",454294148.31999999,1171767516.5899999,null,null,175875241.53999999,4,"11"]
[null,null,"2020-03-01","550.04",454294148.31999999,1171767516.5899999,null,null,175875241.53999999,41,"038"]
[null,null,"2020-03-01","550.04",454294148.31999999,1171767516.5899999,null,null,175875241.53999999,42,"99"]
[null,null,"2020-03-01","550.04",454294148.31999999,1171767516.5899999,null,null,175875241.53999999,43,"99"]
[null,null,"2020-03-01","550.04",454294148.31999999,1171767516.5899999,null,null,175875241.53999999,45,"999"]
[null,null,"2020-03-01","550.04",454294148.31999999,1171767516.5899999,null,null,178121117.11000001,2,"508917477.47"]
[null,null,"2020-03-01","550.04",454294148.31999999,1171767516.5899999,null,null,178121117.11000001,4,"11"]
[null,null,"2020-03-01","550.04",454294148.31999999,1171767516.5899999,null,null,178121117.11000001,41,"047"]
[null,null,"2020-03-01","550.04",454294148.31999999,1171767516.5899999,null,null,178121117.11000001,42,"99"]
[null,null,"2020-03-01","550.04",454294148.31999999,1171767516.5899999,null,null,178121117.11000001,43,"99"]
[null,null,"2020-03-01","550.04",454294148.31999999,1171767516.5899999,null,null,178121117.11000001,45,"999"]
[null,null,"2020-03-01","550.04",454294148.31999999,1171767516.5899999,null,null,218.11,2,"436.22"]
[null,null,"2020-03-01","550.04",454294148.31999999,1171767516.5899999,null,null,218.11,4,"11"]
[null,null,"2020-03-01","550.04",454294148.31999999,1171767516.5899999,null,null,218.11,41,"066"]
[null,null,"2020-03-01","550.04",454294148.31999999,1171767516.5899999,null,null,218.11,42,"99"]
[null,null,"2020-03-01","550.04",454294148.31999999,1171767516.5899999,null,null,218.11,43,"99"]
[null,null,"2020-03-01","550.04",454294148.31999999,1171767516.5899999,null,null,218.11,45,"999"]
[null,null,"2020-03-01","550.04",454294148.31999999,1171767516.5899999,null,null,24856209.960000001,2,"24856209.96"]
[null,null,"2020-03-01","550.04",454294148.31999999,1171767516.5899999,null,null,24856209.960000001,4,"11"]
[null,null,"2020-03-01","550.04",454294148.31999999,1171767516.5899999,null,null,24856209.960000001,41,"102"]
[null,null,"2020-03-01","550.04",454294148.31999999,1171767516.5899999,null,null,24856209.960000001,42,"99"]
[null,null,"2020-03-01","550.04",454294148.31999999,1171767516.5899999,null,null,24856209.960000001,43,"99"]
[null,null,"2020-03-01","550.04",454294148.31999999,1171767516.5899999,null,null,24856209.960000001,45,"999"]
[null,null,"2020-03-01","550.04",454294148.31999999,1171767516.5899999,null,null,23085030.539999999,2,"30780040.72"]
[null,null,"2020-03-01","550.04",454294148.31999999,1171767516.5899999,null,null,23085030.539999999,4,"11"]
[null,null,"2020-03-01","550.04",454294148.31999999,1171767516.5899999,null,null,23085030.539999999,41,"072"]
[null,null,"2020-03-01","550.04",454294148.31999999,1171767516.5899999,null,null,23085030.539999999,42,"99"]
[null,null,"2020-03-01","550.04",454294148.31999999,1171767516.5899999,null,null,23085030.539999999,43,"99"]
[null,null,"2020-03-01","550.04",454294148.31999999,1171767516.5899999,null,null,23085030.539999999,45,"999"]
[null,null,"2020-03-01","550.04",454294148.31999999,1171767516.5899999,null,null,52356331.060000002,2,"104712662.12"]
[null,null,"2020-03-01","550.04",454294148.31999999,1171767516.5899999,null,null,52356331.060000002,4,"11"]
[null,null,"2020-03-01","550.04",454294148.31999999,1171767516.5899999,null,null,52356331.060000002,41,"068"]
[null,null,"2020-03-01","550.04",454294148.31999999,1171767516.5899999,null,null,52356331.060000002,42,"99"]
[null,null,"2020-03-01","550.04",454294148.31999999,1171767516.5899999,null,null,52356331.060000002,43,"99"]
[null,null,"2020-03-01","550.04",454294148.31999999,1171767516.5899999,null,null,52356331.060000002,45,"999"]
[null,null,"2020-03-01","550.05",509804.68,1456584.8,16120606,1827907.72]
[null,null,"2020-03-01","550.05",509804.68,1456584.8,16920002,-371322.92]
[null,null,"2020-03-01","550.05",509804.68,1456584.8,null,null,509804.68,2,"1456584.80"]
[null,null,"2020-03-01","550.05",509804.68,1456584.8,null,null,509804.68,4,"11"]
[null,null,"2020-03-01","550.05",509804.68,1456584.8,null,null,509804.68,41,"039"]
[null,null,"2020-03-01","550.05",509804.68,1456584.8,null,null,509804.68,42,"99"]
[null,null,"2020-03-01","550.05",509804.68,1456584.8,null,null,509804.68,43,"99"]
[null,null,"2020-03-01","550.05",509804.68,1456584.8,null,null,509804.68,45,"999"]
[null,null,"2020-03-01","550.05",509804.68,1456584.8,null,null,0,2,"0.00"]
[null,null,"2020-03-01","550.05",509804.68,1456584.8,null,null,0,4,"11"]
[null,null,"2020-03-01","550.05",509804.68,1456584.8,null,null,0,41,"102"]
[null,null,"2020-03-01","550.05",509804.68,1456584.8,null,null,0,42,"99"]
[null,null,"2020-03-01","550.05",509804.68,1456584.8,null,null,0,43,"99"]
[null,null,"2020-03-01","550.05",509804.68,1456584.8,null,null,0,45,"999"]
[null,null,"2020-03-01","550.05",509804.68,1456584.8,null,null,0,2,"0.00"]
[null,null,"2020-03-01","550.05",509804.68,1456584.8,null,null,0,4,"11"]
[null,null,"2020-03-01","550.05",509804.68,1456584.8,null,null,0,41,"072"]
[null,null,"2020-03-01","550.05",509804.68,1456584.8,null,null,0,42,"99"]
[null,null,"2020-03-01","550.05",509804.68,1456584.8,null,null,0,43,"99"]
[null,null,"2020-03-01","550.05",509804.68,1456584.8,null,null,0,45,"999"]
[null,null,"2020-03-01","550.13",7460040686.8100004,9927943919.9300003,16305050,20971132.100000001]
[null,null,"2020-03-01","550.13",7460040686.8100004,9927943919.9300003,16305256,3103977.05]
[null,null,"2020-03-01","550.13",7460040686.8100004,9927943919.9300003,16315150,5420366.1100000003]
[null,null,"2020-03-01","550.13",7460040686.8100004,9927943919.9300003,16315105,1761548.69]
[null,null,"2020-03-01","550.13",7460040686.8100004,9927943919.9300003,16920002,-343006696.13999999]
[null,null,"2020-03-01","550.13",7460040686.8100004,9927943919.9300003,16120998,584529406.67999995]
[null,null,"2020-03-01","550.13",7460040686.8100004,9927943919.9300003,16315356,27520827.899999999]
[null,null,"2020-03-01","550.13",7460040686.8100004,9927943919.9300003,16130902,8089532.5599999996]
[null,null,"2020-03-01","550.13",7460040686.8100004,9927943919.9300003,16315404,8255677.3399999999]
[null,null,"2020-03-01","550.13",7460040686.8100004,9927943919.9300003,16120204,59522564.07]
[null,null,"2020-03-01","550.13",7460040686.8100004,9927943919.9300003,16120400,326086816.56]
[null,null,"2020-03-01","550.13",7460040686.8100004,9927943919.9300003,16940006,-6638375.4900000002]
[null,null,"2020-03-01","550.13",7460040686.8100004,9927943919.9300003,16305153,11931621.310000001]
[null,null,"2020-03-01","550.13",7460040686.8100004,9927943919.9300003,16315057,131083530.41]
[null,null,"2020-03-01","550.13",7460040686.8100004,9927943919.9300003,16120606,66719111.049999997]
[null,null,"2020-03-01","550.13",7460040686.8100004,9927943919.9300003,16315253,21504102.050000001]
[null,null,"2020-03-01","550.13",7460040686.8100004,9927943919.9300003,16315208,3383247.55]
[null,null,"2020-03-01","550.13",7460040686.8100004,9927943919.9300003,16130108,7861258.54]
[null,null,"2020-03-01","550.13",7460040686.8100004,9927943919.9300003,16930009,-4778819.62]
[null,null,"2020-03-01","550.13",7460040686.8100004,9927943919.9300003,16120156,6718748101.9399996]
[null,null,"2020-03-01","550.13",7460040686.8100004,9927943919.9300003,16210004,89908901.159999996]
[null,null,"2020-03-01","550.13",7460040686.8100004,9927943919.9300003,16345151,69678680.510000005]
[null,null,"2020-03-01","550.13",7460040686.8100004,9927943919.9300003,16110001,614407.57999999996]
[null,null,"2020-03-01","550.13",7460040686.8100004,9927943919.9300003,16120352,26743053.84]
[null,null,"2020-03-01","550.13",7460040686.8100004,9927943919.9300003,16120307,132623193.83]
[null,null,"2020-03-01","550.13",7460040686.8100004,9927943919.9300003,16120503,40918103.719999999]
[null,null,"2020-03-01","550.13",7460040686.8100004,9927943919.9300003,16120101,1915388648.6300001]
[null,null,"2020-03-01","550.13",7460040686.8100004,9927943919.9300003,null,null,0,2,"0.00"]
[null,null,"2020-03-01","550.13",7460040686.8100004,9927943919.9300003,null,null,0,4,"11"]
[null,null,"2020-03-01","550.13",7460040686.8100004,9927943919.9300003,null,null,0,41,"102"]
[null,null,"2020-03-01","550.13",7460040686.8100004,9927943919.9300003,null,null,0,42,"121"]
[null,null,"2020-03-01","550.13",7460040686.8100004,9927943919.9300003,null,null,0,43,"99"]
[null,null,"2020-03-01","550.13",7460040686.8100004,9927943919.9300003,null,null,0,45,"999"]
[null,null,"2020-03-01","550.13",7460040686.8100004,9927943919.9300003,null,null,586741746.99000001,2,"586741746.99"]
[null,null,"2020-03-01","550.13",7460040686.8100004,9927943919.9300003,null,null,586741746.99000001,4,"11"]
[null,null,"2020-03-01","550.13",7460040686.8100004,9927943919.9300003,null,null,586741746.99000001,41,"102"]
[null,null,"2020-03-01","550.13",7460040686.8100004,9927943919.9300003,null,null,586741746.99000001,42,"99"]
[null,null,"2020-03-01","550.13",7460040686.8100004,9927943919.9300003,null,null,586741746.99000001,43,"99"]
[null,null,"2020-03-01","550.13",7460040686.8100004,9927943919.9300003,null,null,586741746.99000001,45,"999"]
[null,null,"2020-03-01","550.13",7460040686.8100004,9927943919.9300003,null,null,0,2,"0.00"]
[null,null,"2020-03-01","550.13",7460040686.8100004,9927943919.9300003,null,null,0,4,"11"]
[null,null,"2020-03-01","550.13",7460040686.8100004,9927943919.9300003,null,null,0,41,"082"]
[null,null,"2020-03-01","550.13",7460040686.8100004,9927943919.9300003,null,null,0,42,"99"]
[null,null,"2020-03-01","550.13",7460040686.8100004,9927943919.9300003,null,null,0,43,"99"]
[null,null,"2020-03-01","550.13",7460040686.8100004,9927943919.9300003,null,null,0,45,"999"]
[null,null,"2020-03-01","550.13",7460040686.8100004,9927943919.9300003,null,null,6608093560.0600004,2,"8810791413.41"]
[null,null,"2020-03-01","550.13",7460040686.8100004,9927943919.9300003,null,null,6608093560.0600004,4,"11"]
[null,null,"2020-03-01","550.13",7460040686.8100004,9927943919.9300003,null,null,6608093560.0600004,41,"072"]
[null,null,"2020-03-01","550.13",7460040686.8100004,9927943919.9300003,null,null,6608093560.0600004,42,"99"]
[null,null,"2020-03-01","550.13",7460040686.8100004,9927943919.9300003,null,null,6608093560.0600004,43,"99"]
[null,null,"2020-03-01","550.13",7460040686.8100004,9927943919.9300003,null,null,6608093560.0600004,45,"999"]
[null,null,"2020-03-01","550.13",7460040686.8100004,9927943919.9300003,null,null,265205379.77000001,2,"530410759.53"]
[null,null,"2020-03-01","550.13",7460040686.8100004,9927943919.9300003,null,null,265205379.77000001,4,"11"]
[null,null,"2020-03-01","550.13",7460040686.8100004,9927943919.9300003,null,null,265205379.77000001,41,"072"]
[null,null,"2020-03-01","550.13",7460040686.8100004,9927943919.9300003,null,null,265205379.77000001,42,"168"]
[null,null,"2020-03-01","550.13",7460040686.8100004,9927943919.9300003,null,null,265205379.77000001,43,"99"]
[null,null,"2020-03-01","550.13",7460040686.8100004,9927943919.9300003,null,null,265205379.77000001,45,"999"]
[null,null,"2020-03-01","570",589179671.19000006]
[null,null,"2020-03-01","570.06",437654500.83999997,583160988.54999995,18879003,607551736.05999994]
[null,null,"2020-03-01","570.06",437654500.83999997,583160988.54999995,18996003,-24390747.510000002]
[null,null,"2020-03-01","570.06",437654500.83999997,583160988.54999995,null,null,436519463.13999999,2,"582025950.85"]
[null,null,"2020-03-01","570.06",437654500.83999997,583160988.54999995,null,null,436519463.13999999,4,"11"]
[null,null,"2020-03-01","570.06",437654500.83999997,583160988.54999995,null,null,436519463.13999999,41,"072"]
[null,null,"2020-03-01","570.06",437654500.83999997,583160988.54999995,null,null,436519463.13999999,42,"99"]
[null,null,"2020-03-01","570.06",437654500.83999997,583160988.54999995,null,null,436519463.13999999,43,"99"]
[null,null,"2020-03-01","570.06",437654500.83999997,583160988.54999995,null,null,436519463.13999999,45,"999"]
[null,null,"2020-03-01","570.06",437654500.83999997,583160988.54999995,null,null,1135037.7,2,"1135037.70"]
[null,null,"2020-03-01","570.06",437654500.83999997,583160988.54999995,null,null,1135037.7,4,"11"]
[null,null,"2020-03-01","570.06",437654500.83999997,583160988.54999995,null,null,1135037.7,41,"102"]
[null,null,"2020-03-01","570.06",437654500.83999997,583160988.54999995,null,null,1135037.7,42,"99"]
[null,null,"2020-03-01","570.06",437654500.83999997,583160988.54999995,null,null,1135037.7,43,"99"]
[null,null,"2020-03-01","570.06",437654500.83999997,583160988.54999995,null,null,1135037.7,45,"999"]
[null,null,"2020-03-01","570.09",6669775.1299999999,6669775.1299999999,18805008,779405.85]
[null,null,"2020-03-01","570.09",6669775.1299999999,6669775.1299999999,18803000,5890369.2800000003]
[null,null,"2020-03-01","570.09",6669775.1299999999,6669775.1299999999,null,null,6669775.1299999999,2,"6669775.13"]
[null,null,"2020-03-01","570.09",6669775.1299999999,6669775.1299999999,null,null,6669775.1299999999,4,"11"]
[null,null,"2020-03-01","570.09",6669775.1299999999,6669775.1299999999,null,null,6669775.1299999999,41,"102"]
[null,null,"2020-03-01","570.09",6669775.1299999999,6669775.1299999999,null,null,6669775.1299999999,42,"99"]
[null,null,"2020-03-01","570.09",6669775.1299999999,6669775.1299999999,null,null,6669775.1299999999,43,"99"]
[null,null,"2020-03-01","570.09",6669775.1299999999,6669775.1299999999,null,null,6669775.1299999999,45,"999"]
[null,null,"2020-03-01","570.10",144855395.22999999,920011333.91999996,18360000,14327]
[null,null,"2020-03-01","570.10",144855395.22999999,920011333.91999996,18840056,728363844.82000005]
[null,null,"2020-03-01","570.10",144855395.22999999,920011333.91999996,18840207,22168986.530000001]
[null,null,"2020-03-01","570.10",144855395.22999999,920011333.91999996,18865990,30474545.600000001]
[null,null,"2020-03-01","570.10",144855395.22999999,920011333.91999996,18840159,1654540.2]
[null,null,"2020-03-01","570.10",144855395.22999999,920011333.91999996,18892004,48908250.210000001]
[null,null,"2020-03-01","570.10",144855395.22999999,920011333.91999996,18390001,1828450.78]
[null,null,"2020-03-01","570.10",144855395.22999999,920011333.91999996,18430002,521.44000000000005]
[null,null,"2020-03-01","570.10",144855395.22999999,920011333.91999996,18845109,19942896.789999999]
[null,null,"2020-03-01","570.10",144855395.22999999,920011333.91999996,18845305,837858.62]
[null,null,"2020-03-01","570.10",144855395.22999999,920011333.91999996,18330009,347256.44]
[null,null,"2020-03-01","570.10",144855395.22999999,920011333.91999996,18380004,139826.10999999999]
[null,null,"2020-03-01","570.10",144855395.22999999,920011333.91999996,18845202,1812463.06]
[null,null,"2020-03-01","570.10",144855395.22999999,920011333.91999996,18885004,17609942.399999999]
[null,null,"2020-03-01","570.10",144855395.22999999,920011333.91999996,18840908,26249941.32]
[null,null,"2020-03-01","570.10",144855395.22999999,920011333.91999996,18999206,-2934565.08]
[null,null,"2020-03-01","570.10",144855395.22999999,920011333.91999996,18370007,16377606.32]
[null,null,"2020-03-01","570.10",144855395.22999999,920011333.91999996,18845903,6214641.3600000003]
[null,null,"2020-03-01","570.10",144855395.22999999,920011333.91999996,null,null,0,2,"750119204.67"]
[null,null,"2020-03-01","570.10",144855395.22999999,920011333.91999996,null,null,0,4,"11"]
[null,null,"2020-03-01","570.10",144855395.22999999,920011333.91999996,null,null,0,41,"004"]
[null,null,"2020-03-01","570.10",144855395.22999999,920011333.91999996,null,null,0,42,"99"]
[null,null,"2020-03-01","570.10",144855395.22999999,920011333.91999996,null,null,0,43,"99"]
[null,null,"2020-03-01","570.10",144855395.22999999,920011333.91999996,null,null,0,45,"999"]
[null,null,"2020-03-01","570.10",144855395.22999999,920011333.91999996,null,null,25036734.030000001,2,"50073468.05"]
[null,null,"2020-03-01","570.10",144855395.22999999,920011333.91999996,null,null,25036734.030000001,4,"11"]
[null,null,"2020-03-01","570.10",144855395.22999999,920011333.91999996,null,null,25036734.030000001,41,"074"]
[null,null,"2020-03-01","570.10",144855395.22999999,920011333.91999996,null,null,25036734.030000001,42,"99"]
[null,null,"2020-03-01","570.10",144855395.22999999,920011333.91999996,null,null,25036734.030000001,43,"99"]
[null,null,"2020-03-01","570.10",144855395.22999999,920011333.91999996,null,null,25036734.030000001,45,"999"]
[null,null,"2020-03-01","570.10",144855395.22999999,920011333.91999996,null,null,0,2,"0.00"]
[null,null,"2020-03-01","570.10",144855395.22999999,920011333.91999996,null,null,0,4,"11"]
[null,null,"2020-03-01","570.10",144855395.22999999,920011333.91999996,null,null,0,41,"072"]
[null,null,"2020-03-01","570.10",144855395.22999999,920011333.91999996,null,null,0,42,"99"]
[null,null,"2020-03-01","570.10",144855395.22999999,920011333.91999996,null,null,0,43,"99"]
[null,null,"2020-03-01","570.10",144855395.22999999,920011333.91999996,null,null,0,45,"999"]
[null,null,"2020-03-01","570.10",144855395.22999999,920011333.91999996,null,null,119818661.2,2,"119818661.20"]
[null,null,"2020-03-01","570.10",144855395.22999999,920011333.91999996,null,null,119818661.2,4,"11"]
[null,null,"2020-03-01","570.10",144855395.22999999,920011333.91999996,null,null,119818661.2,41,"102"]
[null,null,"2020-03-01","570.10",144855395.22999999,920011333.91999996,null,null,119818661.2,42,"99"]
[null,null,"2020-03-01","570.10",144855395.22999999,920011333.91999996,null,null,119818661.2,43,"99"]
[null,null,"2020-03-01","570.10",144855395.22999999,920011333.91999996,null,null,119818661.2,45,"999"]
[null,null,"2020-03-01","580",132387067.59999999,132387067.59999999,19810401,1224]
[null,null,"2020-03-01","580",132387067.59999999,132387067.59999999,19899109,-5419479.29]
[null,null,"2020-03-01","580",132387067.59999999,132387067.59999999,19910002,70503.63]
[null,null,"2020-03-01","580",132387067.59999999,132387067.59999999,19899903,-25599056.579999998]
[null,null,"2020-03-01","580",132387067.59999999,132387067.59999999,19840000,1667128.39]
[null,null,"2020-03-01","580",132387067.59999999,132387067.59999999,19810607,35225112.149999999]
[null,null,"2020-03-01","580",132387067.59999999,132387067.59999999,19810102,126441635.3]
[null,null,"2020-03-01","580",132387067.59999999,132387067.59999999,null,null,132387067.59999999,2,"132387067.60"]
[null,null,"2020-03-01","580",132387067.59999999,132387067.59999999,null,null,132387067.59999999,4,"11"]
[null,null,"2020-03-01","580",132387067.59999999,132387067.59999999,null,null,132387067.59999999,41,"102"]
[null,null,"2020-03-01","580",132387067.59999999,132387067.59999999,null,null,132387067.59999999,42,"99"]
[null,null,"2020-03-01","580",132387067.59999999,132387067.59999999,null,null,132387067.59999999,43,"99"]
[null,null,"2020-03-01","580",132387067.59999999,132387067.59999999,null,null,132387067.59999999,45,"999"]
[null,null,"2020-03-01","590",205549765.88999999]
[null,null,"2020-03-01","590.10",205549765.88999999,331536793.38999999,25105100,1500000]
[null,null,"2020-03-01","590.10",205549765.88999999,331536793.38999999,22530204,96192867.049999997]
[null,null,"2020-03-01","590.10",205549765.88999999,331536793.38999999,25199051,-50000]
[null,null,"2020-03-01","590.10",205549765.88999999,331536793.38999999,21599208,-3001.61]
[null,null,"2020-03-01","590.10",205549765.88999999,331536793.38999999,21310009,17370.14]
[null,null,"2020-03-01","590.10",205549765.88999999,331536793.38999999,21210219,140487023.38999999]
[null,null,"2020-03-01","590.10",205549765.88999999,331536793.38999999,25135008,13376800.26]
[null,null,"2020-03-01","590.10",205549765.88999999,331536793.38999999,22530905,221082]
[null,null,"2020-03-01","590.10",205549765.88999999,331536793.38999999,22599403,-1245799.3600000001]
[null,null,"2020-03-01","590.10",205549765.88999999,331536793.38999999,21990003,49251.71]
[null,null,"2020-03-01","590.10",205549765.88999999,331536793.38999999,25115107,254016213.77000001]
[null,null,"2020-03-01","590.10",205549765.88999999,331536793.38999999,22560102,16853235.460000001]
[null,null,"2020-03-01","590.10",205549765.88999999,331536793.38999999,21599105,-1246.68]
[null,null,"2020-03-01","590.10",205549765.88999999,331536793.38999999,22530307,12717218.699999999]
[null,null,"2020-03-01","590.10",205549765.88999999,331536793.38999999,22590000,61803.14]
[null,null,"2020-03-01","590.10",205549765.88999999,331536793.38999999,25199154,-137119770.36000001]
[null,null,"2020-03-01","590.10",205549765.88999999,331536793.38999999,22520001,6908146.75]
[null,null,"2020-03-01","590.10",205549765.88999999,331536793.38999999,22505105,28220.959999999999]
[null,null,"2020-03-01","590.10",205549765.88999999,331536793.38999999,25199350,-5708686.3200000003]
[null,null,"2020-03-01","590.10",205549765.88999999,331536793.38999999,22540005,1377041.86]
[null,null,"2020-03-01","590.10",205549765.88999999,331536793.38999999,22530101,25130178.010000002]
[null,null,"2020-03-01","590.10",205549765.88999999,331536793.38999999,21510201,226038.97]
[null,null,"2020-03-01","590.10",205549765.88999999,331536793.38999999,22599609,-41604913.479999997]
[null,null,"2020-03-01","590.10",205549765.88999999,331536793.38999999,22599207,-5899354.21]
[null,null,"2020-03-01","590.10",205549765.88999999,331536793.38999999,22560205,47360334.310000002]
[null,null,"2020-03-01","590.10",205549765.88999999,331536793.38999999,22599908,-48401.760000000002]
[null,null,"2020-03-01","590.10",205549765.88999999,331536793.38999999,22599300,-93392593.129999995]
[null,null,"2020-03-01","590.10",205549765.88999999,331536793.38999999,21320006,140958.54]
[null,null,"2020-03-01","590.10",205549765.88999999,331536793.38999999,25195457,-27529.85]
[null,null,"2020-03-01","590.10",205549765.88999999,331536793.38999999,21399006,-144030.43]
[null,null,"2020-03-01","590.10",205549765.88999999,331536793.38999999,22505208,118335.56]
[null,null,"2020-03-01","590.10",205549765.88999999,331536793.38999999,null,null,0,2,"125987027.50"]
[null,null,"2020-03-01","590.10",205549765.88999999,331536793.38999999,null,null,0,4,"37"]
[null,null,"2020-03-01","590.10",205549765.88999999,331536793.38999999,null,null,0,41,"102"]
[null,null,"2020-03-01","590.10",205549765.88999999,331536793.38999999,null,null,0,42,"99"]
[null,null,"2020-03-01","590.10",205549765.88999999,331536793.38999999,null,null,0,43,"99"]
[null,null,"2020-03-01","590.10",205549765.88999999,331536793.38999999,null,null,0,45,"999"]
[null,null,"2020-03-01","590.10",205549765.88999999,331536793.38999999,null,null,205549765.88999999,2,"205549765.89"]
[null,null,"2020-03-01","590.10",205549765.88999999,331536793.38999999,null,null,205549765.88999999,4,"11"]
[null,null,"2020-03-01","590.10",205549765.88999999,331536793.38999999,null,null,205549765.88999999,41,"102"]
[null,null,"2020-03-01","590.10",205549765.88999999,331536793.38999999,null,null,205549765.88999999,42,"99"]
[null,null,"2020-03-01","590.10",205549765.88999999,331536793.38999999,null,null,205549765.88999999,43,"99"]
[null,null,"2020-03-01","590.10",205549765.88999999,331536793.38999999,null,null,205549765.88999999,45,"999"]
[null,null,"2020-03-01","600",494797883.38999999]
[null,null,"2020-03-01","600.05",494797883.38999999,1653673730.8099999,30986204,1464184808.72]
[null,null,"2020-03-01","600.05",494797883.38999999,1653673730.8099999,30986101,189488922.09]
[null,null,"2020-03-01","600.05",494797883.38999999,1653673730.8099999,null,null,5823100.0199999996,2,"29115500.09"]
[null,null,"2020-03-01","600.05",494797883.38999999,1653673730.8099999,null,null,5823100.0199999996,4,"11"]
[null,null,"2020-03-01","600.05",494797883.38999999,1653673730.8099999,null,null,5823100.0199999996,41,"102"]
[null,null,"2020-03-01","600.05",494797883.38999999,1653673730.8099999,null,null,5823100.0199999996,42,"99"]
[null,null,"2020-03-01","600.05",494797883.38999999,1653673730.8099999,null,null,5823100.0199999996,43,"11"]
[null,null,"2020-03-01","600.05",494797883.38999999,1653673730.8099999,null,null,5823100.0199999996,45,"999"]
[null,null,"2020-03-01","600.05",494797883.38999999,1653673730.8099999,null,null,5823100.0199999996,46,"0.00"]
[null,null,"2020-03-01","600.05",494797883.38999999,1653673730.8099999,null,null,357306142.37,2,"952816379.64"]
[null,null,"2020-03-01","600.05",494797883.38999999,1653673730.8099999,null,null,357306142.37,4,"11"]
[null,null,"2020-03-01","600.05",494797883.38999999,1653673730.8099999,null,null,357306142.37,41,"072"]
[null,null,"2020-03-01","600.05",494797883.38999999,1653673730.8099999,null,null,357306142.37,42,"99"]
[null,null,"2020-03-01","600.05",494797883.38999999,1653673730.8099999,null,null,357306142.37,43,"12"]
[null,null,"2020-03-01","600.05",494797883.38999999,1653673730.8099999,null,null,357306142.37,45,"999"]
[null,null,"2020-03-01","600.05",494797883.38999999,1653673730.8099999,null,null,357306142.37,46,"0.00"]
[null,null,"2020-03-01","600.05",494797883.38999999,1653673730.8099999,null,null,44153376.210000001,2,"88306752.41"]
[null,null,"2020-03-01","600.05",494797883.38999999,1653673730.8099999,null,null,44153376.210000001,4,"11"]
[null,null,"2020-03-01","600.05",494797883.38999999,1653673730.8099999,null,null,44153376.210000001,41,"102"]
[null,null,"2020-03-01","600.05",494797883.38999999,1653673730.8099999,null,null,44153376.210000001,42,"99"]
[null,null,"2020-03-01","600.05",494797883.38999999,1653673730.8099999,null,null,44153376.210000001,43,"12"]
[null,null,"2020-03-01","600.05",494797883.38999999,1653673730.8099999,null,null,44153376.210000001,45,"999"]
[null,null,"2020-03-01","600.05",494797883.38999999,1653673730.8099999,null,null,44153376.210000001,46,"0.00"]
[null,null,"2020-03-01","600.05",494797883.38999999,1653673730.8099999,null,null,87515264.799999997,2,"583435098.67"]
[null,null,"2020-03-01","600.05",494797883.38999999,1653673730.8099999,null,null,87515264.799999997,4,"11"]
[null,null,"2020-03-01","600.05",494797883.38999999,1653673730.8099999,null,null,87515264.799999997,41,"072"]
[null,null,"2020-03-01","600.05",494797883.38999999,1653673730.8099999,null,null,87515264.799999997,42,"99"]
[null,null,"2020-03-01","600.05",494797883.38999999,1653673730.8099999,null,null,87515264.799999997,43,"11"]
[null,null,"2020-03-01","600.05",494797883.38999999,1653673730.8099999,null,null,87515264.799999997,45,"999"]
[null,null,"2020-03-01","600.05",494797883.38999999,1653673730.8099999,null,null,87515264.799999997,46,"0.00"]
[null,null,"2020-03-01","605",96084526.959999993]
[null,null,"2020-03-01","605.05",96084526.959999993,134277848.12,30986101,134277848.12]
[null,null,"2020-03-01","605.05",96084526.959999993,134277848.12,null,null,57891205.799999997,2,"57891205.80"]
[null,null,"2020-03-01","605.05",96084526.959999993,134277848.12,null,null,57891205.799999997,4,"11"]
[null,null,"2020-03-01","605.05",96084526.959999993,134277848.12,null,null,57891205.799999997,41,"102"]
[null,null,"2020-03-01","605.05",96084526.959999993,134277848.12,null,null,57891205.799999997,42,"99"]
[null,null,"2020-03-01","605.05",96084526.959999993,134277848.12,null,null,57891205.799999997,43,"99"]
[null,null,"2020-03-01","605.05",96084526.959999993,134277848.12,null,null,57891205.799999997,45,"999"]
[null,null,"2020-03-01","605.05",96084526.959999993,134277848.12,null,null,38193321.159999996,2,"76386642.32"]
[null,null,"2020-03-01","605.05",96084526.959999993,134277848.12,null,null,38193321.159999996,4,"11"]
[null,null,"2020-03-01","605.05",96084526.959999993,134277848.12,null,null,38193321.159999996,41,"068"]
[null,null,"2020-03-01","605.05",96084526.959999993,134277848.12,null,null,38193321.159999996,42,"99"]
[null,null,"2020-03-01","605.05",96084526.959999993,134277848.12,null,null,38193321.159999996,43,"99"]
[null,null,"2020-03-01","605.05",96084526.959999993,134277848.12,null,null,38193321.159999996,45,"999"]
[null,null,"2020-03-01","605.06",0,91378020.010000005,30986101,91378020.010000005]
[null,null,"2020-03-01","605.06",0,91378020.010000005,null,null,0,2,"91378020.01"]
[null,null,"2020-03-01","605.06",0,91378020.010000005,null,null,0,4,"51"]
[null,null,"2020-03-01","605.06",0,91378020.010000005,null,null,0,41,"999"]
[null,null,"2020-03-01","605.06",0,91378020.010000005,null,null,0,42,"99"]
[null,null,"2020-03-01","605.06",0,91378020.010000005,null,null,0,43,"99"]
[null,null,"2020-03-01","605.06",0,91378020.010000005,null,null,0,45,"999"]
[null,null,"2020-03-01","620",2052235.58]
[null,null,"2020-03-01","620.06",1862601.88,1862601.88,30185108,1862601.88]
[null,null,"2020-03-01","620.06",1862601.88,1862601.88,null,null,1862601.88,2,"1862601.88"]
[null,null,"2020-03-01","620.06",1862601.88,1862601.88,null,null,1862601.88,4,"11"]
[null,null,"2020-03-01","620.06",1862601.88,1862601.88,null,null,1862601.88,41,"102"]
[null,null,"2020-03-01","620.06",1862601.88,1862601.88,null,null,1862601.88,42,"99"]
[null,null,"2020-03-01","620.06",1862601.88,1862601.88,null,null,1862601.88,43,"16"]
[null,null,"2020-03-01","620.06",1862601.88,1862601.88,null,null,1862601.88,45,"999"]
[null,null,"2020-03-01","620.06",1862601.88,1862601.88,null,null,1862601.88,46,"0.00"]
[null,null,"2020-03-01","620.09",189633.7,379267.41,30130153,379267.41]
[null,null,"2020-03-01","620.09",189633.7,379267.41,null,null,189633.7,2,"379267.41"]
[null,null,"2020-03-01","620.09",189633.7,379267.41,null,null,189633.7,4,"11"]
[null,null,"2020-03-01","620.09",189633.7,379267.41,null,null,189633.7,41,"102"]
[null,null,"2020-03-01","620.09",189633.7,379267.41,null,null,189633.7,42,"99"]
[null,null,"2020-03-01","620.09",189633.7,379267.41,null,null,189633.7,43,"17"]
[null,null,"2020-03-01","620.09",189633.7,379267.41,null,null,189633.7,45,"999"]
[null,null,"2020-03-01","620.09",189633.7,379267.41,null,null,189633.7,46,"0.00"]
[null,null,"2020-03-01","620.09",189633.7,379267.41,null,null,0,2,"0.00"]
[null,null,"2020-03-01","620.09",189633.7,379267.41,null,null,0,4,"11"]
[null,null,"2020-03-01","620.09",189633.7,379267.41,null,null,0,41,"102"]
[null,null,"2020-03-01","620.09",189633.7,379267.41,null,null,0,42,"99"]
[null,null,"2020-03-01","620.09",189633.7,379267.41,null,null,0,43,"16"]
[null,null,"2020-03-01","620.09",189633.7,379267.41,null,null,0,45,"999"]
[null,null,"2020-03-01","620.09",189633.7,379267.41,null,null,0,46,"0.00"]
[null,null,"2020-03-01","630",621483225.11000001]
[null,null,"2020-03-01","630.01",621483225.11000001,531261426.19999999,18825507,529894503.39999998]
[null,null,"2020-03-01","630.01",621483225.11000001,531261426.19999999,18825105,1366922.8]
[null,null,"2020-03-01","630.01",621483225.11000001,531261426.19999999,null,null,0,2,"104737848.36"]
[null,null,"2020-03-01","630.01",621483225.11000001,531261426.19999999,null,null,0,4,"37"]
[null,null,"2020-03-01","630.01",621483225.11000001,531261426.19999999,null,null,0,41,"102"]
[null,null,"2020-03-01","630.01",621483225.11000001,531261426.19999999,null,null,0,42,"99"]
[null,null,"2020-03-01","630.01",621483225.11000001,531261426.19999999,null,null,0,43,"99"]
[null,null,"2020-03-01","630.01",621483225.11000001,531261426.19999999,null,null,0,45,"999"]
[null,null,"2020-03-01","630.01",621483225.11000001,531261426.19999999,null,null,0,2,"49871159.83"]
[null,null,"2020-03-01","630.01",621483225.11000001,531261426.19999999,null,null,0,4,"38"]
[null,null,"2020-03-01","630.01",621483225.11000001,531261426.19999999,null,null,0,41,"102"]
[null,null,"2020-03-01","630.01",621483225.11000001,531261426.19999999,null,null,0,42,"99"]
[null,null,"2020-03-01","630.01",621483225.11000001,531261426.19999999,null,null,0,43,"99"]
[null,null,"2020-03-01","630.01",621483225.11000001,531261426.19999999,null,null,0,45,"999"]
[null,null,"2020-03-01","630.01",621483225.11000001,531261426.19999999,null,null,408051345.17000002,2,"163220538.07"]
[null,null,"2020-03-01","630.01",621483225.11000001,531261426.19999999,null,null,408051345.17000002,4,"11"]
[null,null,"2020-03-01","630.01",621483225.11000001,531261426.19999999,null,null,408051345.17000002,41,"251"]
[null,null,"2020-03-01","630.01",621483225.11000001,531261426.19999999,null,null,408051345.17000002,42,"99"]
[null,null,"2020-03-01","630.01",621483225.11000001,531261426.19999999,null,null,408051345.17000002,43,"99"]
[null,null,"2020-03-01","630.01",621483225.11000001,531261426.19999999,null,null,408051345.17000002,45,"999"]
[null,null,"2020-03-01","630.01",621483225.11000001,531261426.19999999,null,null,213431879.94,2,"213431879.94"]
[null,null,"2020-03-01","630.01",621483225.11000001,531261426.19999999,null,null,213431879.94,4,"11"]
[null,null,"2020-03-01","630.01",621483225.11000001,531261426.19999999,null,null,213431879.94,41,"102"]
[null,null,"2020-03-01","650.01",915952,915952,null,null,915952,2,"915952.00"]
[null,null,"2020-03-01","800.03",0]
[null,null,"2020-03-01","860.01",4563.99]
[null,null,"2020-03-01","872.10.09",45497279.299999997,null,null,null,45497279.299999997,12,"45501206.32"]
[null,null,"2020-03-01","872.20.08",4322162.37,null,null,null,4322162.37,20,"0.00"]
[null,null,"2020-03-01","872.30.08",4200803.17,null,null,null,4200803.17,16,"0.00"]
[null,null,"2020-03-01","891.10.10.01",236861625.36000001,null,null,null,-677739108.41999996,54,"07"]
[null,null,"2020-03-01","891.20.20.01",-409297745.56,null,null,null,-249895542.93000001,83,"BRL"]
[null,null,"2020-03-01","951",864882657.17999995]
[null,null,"2020-06-01","102",1782520503.8099999]
[null,null,"2020-06-01","111.93",0]
[null,null,"2020-06-01","111.94.10.01",297181600.48000002,297181600.48000002,30984402,228408582.33000001]
[null,null,"2020-06-01","142.03.03",91435068.780000001,null,null,null,91435068.780000001,2,"91435068.78"]
[null,null,"2020-06-01","145.03.01",155864839.03,null,null,null,155864839.03,43,"99"]
[null,null,"2020-06-01","170",802134226.72000003]
[null,null,"2020-06-01","200.01",47221186.380000003,null,null,null,1800000,62,"6"]
[null,null,"2020-06-01","200.04",39564815.219999999,null,null,null,13564797.810000001,46,"0.00"]
[null,null,"2020-06-01","200.05",38839247.43,null,null,null,446130.94,46,"0.00"]
[null,null,"2020-06-01","200.06",38074175.090000004,null,null,null,20284981.670000002,66,"1"]
[null,null,"2020-06-01","200.08",33544379.18,null,null,null,19806695.289999999,68,"1"]
[null,null,"2020-06-01","200.08",33544379.18,null,null,null,8004247.5,66,"1"]
[null,null,"2020-06-01","200.09",28274732.359999999,null,null,null,1216900,68,"1"]
[null,null,"2020-06-01","200.12",25006662.23,null,null,null,25006662.23,65,"0.00"]
[null,null,"2020-06-01","200.13",24675853.969999999,null,null,null,290654,65,"0.00"]
[null,null,"2020-06-01","200.15",19938793.370000001,null,null,null,1229922.28,64,"0.00"]
[null,null,"2020-06-01","200.16",19460005.32,null,null,null,4437180,66,"7"]
[null,null,"2020-06-01","200.17",18525414.920000002,null,null,null,59749,64,"0.00"]
[null,null,"2020-06-01","200.20",14900713.34,null,null,null,10700,63,"10700.00"]
[null,null,"2020-06-01","510.01",0,232117862.34,null,null,0,41,"002"]
[null,null,"2020-06-01","520",31161836.920000002]
[null,null,"2020-06-01","526.01",21767804.199999999,43535608.409999996,12210400,35081409.729999997]
[null,null,"2020-06-01","530.07",1574.64,78731.960000000006,null,null,1574.64,42,"99"]
[null,null,"2020-06-01","530.10",0,3703714.53,13120403,60853.16]
[null,null,"2020-06-01","530.20",10509491.09,2850532095.3299999,13620020,10751438.789999999]
[null,null,"2020-06-01","540.07",32903051.440000001,695339005.99000001,null,null,12311088.27,42,"99"]
[null,null,"2020-06-01","550.04",564261617.69000006,1435466919.47,16430107,1293665433.6900001]
[null,null,"2020-06-01","550.04",564261617.69000006,1435466919.47,null,null,0,41,"066"]
[null,null,"2020-06-01","550.05",496790.79,1419402.26,null,null,0,41,"072"]
[null,null,"2020-06-01","550.13",8124224202.5200005,10867177177.200001,16345151,66986518.240000002]
[null,null,"2020-06-01","550.13",8124224202.5200005,10867177177.200001,null,null,292246384.17000002,2,"584492768.34"]
[null,null,"2020-06-01","570.06",438120423.75999999,583502185.38999999,null,null,436145284.88999999,42,"99"]
[null,null,"2020-06-01","570.10",168093736.47999999,993546173.22000003,null,null,0,41,"004"]
[null,null,"2020-06-01","590.10",227142227.33000001,347107767.98000002,21210219,160333642.22999999]
[null,null,"2020-06-01","590.10",227142227.33000001,347107767.98000002,22510107,205196]
[null,null,"2020-06-01","590.10",227142227.33000001,347107767.98000002,null,null,0,42,"99"]
[null,null,"2020-06-01","600.05",526222189.47000003,1873835884.49,null,null,115538582.94,4,"11"]
[null,null,"2020-06-01","620.06",1827043.41,1827043.41,null,null,1827043.41,46,"0.00"]
[null,null,"2020-06-01","630.01",652806730.60000002,514986571.16000003,null,null,217804970.68000001,2,"217804970.68"]
[null,null,"2020-06-01","630.02",0,279615.93,null,null,0,2,"0.00"]
[null,null,"2020-06-01","810.10",0]
[null,null,"2020-06-01","850.01",80767.149999999994]
[null,null,"2020-06-01","872.10.11",17325995.84,null,null,null,17325995.84,16,"0.00"]
[null,null,"2020-06-01","872.20.09",42117512.759999998,null,null,null,42117512.759999998,12,"42117566.74"]
[null,null,"2020-06-01","872.30.10",1802756.72,null,null,null,1802756.72,11,"0.00"]
[null,null,"2020-06-01","872.30.11",15160930.43,null,null,null,15160930.43,12,"15160930.43"]
[null,null,"2020-06-01","891.20.10.01",414606791.13999999,null,null,null,283375689.58999997,83,"BRL"]
[null,null,"2020-06-01","891.20.10.01",414606791.13999999,null,null,null,53923.31,83,"BRL"]
[null,null,"2020-06-01","956",396048625.58999997]
[null,null,"2020-09-01","111.02",691760462.70000005,691760462.70000005,61520000,533742808.97000003]
[null,null,"2020-09-01","111.92.06.01.01.01",596339.41,596339.41,30984608,351394.39]
[null,null,"2020-09-01","120.01.01",86259218.040000007,620156981.63999999,null,null,58640309.170000002,2,"97733848.62"]
[null,null,"2020-09-01","142.03",3447215789.8400002]
[null,null,"2020-09-01","146",1113793093.1400001]
[null,null,"2020-09-01","200.01",53787783.710000001,null,null,null,47575402.450000003,62,"6"]
[null,null,"2020-09-01","200.02",40673165,null,null,null,32442885.390000001,46,"-162999.33"]
[null,null,"2020-09-01","200.04",37643564.689999998,null,null,null,18884853.73,62,"6"]
[null,null,"2020-09-01","200.05",37437804.130000003,null,null,null,13696134.99,46,"0.00"]
[null,null,"2020-09-01","200.06",37221412.539999999,null,null,null,4500000,68,"1"]
[null,null,"2020-09-01","200.07",35085701.149999999,null,null,null,1529,63,"1529.00"]
[null,null,"2020-09-01","200.08",34812043.100000001,null,null,null,34282150.159999996,68,"1"]
[null,null,"2020-09-01","200.10",31856014.02,null,null,null,31856014.02,67,"2"]
[null,null,"2020-09-01","200.12",24808675.399999999,null,null,null,7422365.4400000004,64,"0.00"]
[null,null,"2020-09-01","200.12",24808675.399999999,null,null,null,17286859.960000001,67,"2"]
[null,null,"2020-09-01","200.15",20494857.960000001,null,null,null,20260866.100000001,67,"2"]
[null,null,"2020-09-01","200.18",18937648.84,null,null,null,6860769.46,64,"0.00"]
[null,null,"2020-09-01","200.20",17275204.93,null,null,null,17268204.93,63,"17268204.93"]
[null,null,"2020-09-01","510.03",282589.40999999997,1412947.04,null,null,16494.87,4,"11"]
[null,null,"2020-09-01","520.01",0,697549634.58000004,null,null,0,43,"99"]
[null,null,"2020-09-01","526.01",84276362.040000007,168552724.08000001,null,null,0,4,"11"]
[null,null,"2020-09-01","526.01",84276362.040000007,168552724.08000001,null,null,84276362.040000007,43,"99"]
[null,null,"2020-09-01","530.13",9586239.6699999999,89064821.579999998,13115308,79187678.180000007]
[null,null,"2020-09-01","530.20",10696405.289999999,3194759857.6900001,13110073,184076869.38]
[null,null,"2020-09-01","535.05",3190402.12,159520105.88999999,null,null,3190402.12,45,"020"]
[null,null,"2020-09-01","540.07",34748498.890000001,551235962.70000005,null,null,0,41,"004"]
[null,null,"2020-09-01","550.04",688270535.01999998,1777308615.1400001,null,null,39210084.960000001,4,"11"]
[null,null,"2020-09-01","550.05",478068.18,1365909.1,null,null,478068.19,41,"039"]
[null,null,"2020-09-01","550.13",8627125625.3600006,11685666023.389999,16120307,122369254.91]
[null,null,"2020-09-01","550.13",8627125625.3600006,11685666023.389999,null,null,514397709.72000003,41,"072"]
[null,null,"2020-09-01","570.10",188306138.94,1039121081.78,18840207,27099375.170000002]
[null,null,"2020-09-01","570.10",188306138.94,1039121081.78,null,null,0,43,"99"]
[null,null,"2020-09-01","570.10",188306138.94,1039121081.78,null,null,157711092.72999999,4,"11"]
[null,null,"2020-09-01","590.10",148057056.65000001,342378644.94999999,22510107,205196]
[null,null,"2020-09-01","600.05",528036720.97000003,1796341708.49,null,null,94254830.989999995,41,"072"]
[null,null,"2020-09-01","600.05",528036720.97000003,1796341708.49,null,null,0,4,"51"]
[null,null,"2020-09-01","600.05",528036720.97000003,1796341708.49,null,null,18907988.199999999,46,"0.00"]
[null,null,"2020-09-01","630.01",672437981.74000001,518739713.13,18825301,247830127.03]
[null,null,"2020-09-01","630.01",672437981.74000001,518739713.13,null,null,0,4,"38"]
[null,null,"2020-09-01","650.01",15027.19,14878.41,null,null,148.78,4,"21"]
[null,null,"2020-09-01","820.01",0]
[null,null,"2020-09-01","872.10.08",5477791.9299999997,null,null,null,5477791.9299999997,20,"0.00"]
[null,null,"2020-09-01","872.10.10",2344100.23,null,null,null,2344100.23,12,"2344100.23"]
[null,null,"2020-09-01","872.20.08",4361376.4400000004,null,null,null,4361376.4400000004,20,"0.00"]
[null,null,"2020-09-01","872.30.03",157168880.28,null,null,null,157168880.28,19,"93171379.24"]
[null,null,"2020-09-01","891.10.10.01",499217799.95999998,null,null,null,-1441166.68,54,"09"]
[null,null,"2020-09-01","891.20.10.01",426457971.79000002,null,null,null,311749.56,54,"09"]
[null,null,"2020-09-01","891.20.20.01",-430474168.72000003,null,null,null,474827.59,83,"BRL"]
[null,null,"2020-09-01","954",613396571.10000002]
[null,null,"2020-12-01","111.92.01",0]
[null,null,"2020-12-01","111.94.08.03",179622403.63]
[null,null,"2020-12-01","120.01.02.02",37577001.5,null,null,null,37577001.5,3,"28"]
[null,null,"2020-12-01","146",1189876121.3900001]
[null,null,"2020-12-01","146.01.01",1835827676.96,null,null,null,1835827676.96,43,"99"]
[null,null,"2020-12-01","192.02",303871433.56]
[null,null,"2020-12-01","200.03",79131808.25,null,null,null,19399857,66,"7"]
[null,null,"2020-12-01","200.05",53830365.340000004,null,null,null,49366969.119999997,64,"0.00"]
[null,null,"2020-12-01","200.07",43396897.68,null,null,null,11354,63,"11354.00"]
[null,null,"2020-12-01","200.07",43396897.68,null,null,null,8614407.2699999996,63,"8614407.27"]
[null,null,"2020-12-01","200.09",41243735.670000002,null,null,null,13503341.199999999,63,"13503341.20"]
[null,null,"2020-12-01","200.09",41243735.670000002,null,null,null,27529124.440000001,65,"0.00"]
[null,null,"2020-12-01","200.11",40501410.890000001,null,null,null,22702891.359999999,68,"1"]
[null,null,"2020-12-01","200.13",38190199.869999997,null,null,null,4436275,62,"6"]
[null,null,"2020-12-01","200.16",29809893.350000001,null,null,null,446130.94,46,"0.00"]
[null,null,"2020-12-01","200.17",29524944.390000001,null,null,null,5394794.9400000004,65,"0.00"]
[null,null,"2020-12-01","200.17",29524944.390000001,null,null,null,24130149.449999999,46,"0.00"]
[null,null,"2020-12-01","200.18",28216606.780000001,null,null,null,20101688.899999999,68,"1"]
[null,null,"2020-12-01","200.19",25682371.440000001,null,null,null,13102500.75,66,"1"]
[null,null,"2020-12-01","510.03",3745678.75,18728393.75,null,null,6701.16,4,"11"]
[null,null,"2020-12-01","520.03",4606220,340857597.06999999,null,null,0,45,"022"]
[null,null,"2020-12-01","526.01",85225122.329999998,170450244.65000001,null,null,85225122.329999998,45,"020"]
[null,null,"2020-12-01","530.10",0,5283450.18,null,null,0,4,"33"]
[null,null,"2020-12-01","530.20",1012951.89,3463563553.4099998,null,null,1012951.89,42,"99"]
[null,null,"2020-12-01","540.07",25257535.879999999,804259143.12,null,null,0,4,"11"]
[null,null,"2020-12-01","550.04",925048388.96000004,2299555306.4299998,16410103,70336160.760000005]
[null,null,"2020-12-01","550.04",925048388.96000004,2299555306.4299998,null,null,56550608.899999999,2,"113101217.79"]
[null,null,"2020-12-01","550.05",582187.14,1558181.3,null,null,69044.399999999994,2,"92059.20"]
[null,null,"2020-12-01","550.13",9331525959.1000004,12657704766.41,16120156,8213640215.0900002]
[null,null,"2020-12-01","550.13",9331525959.1000004,12657704766.41,null,null,0,45,"999"]
[null,null,"2020-12-01","550.13",9331525959.1000004,12657704766.41,null,null,7757852958.9300003,42,"99"]
[null,null,"2020-12-01","570.10",95790315.120000005,1010014382.01,18892004,96946589.540000007]
[null,null,"2020-12-01","570.10",95790315.120000005,1010014382.01,null,null,66289550.899999999,45,"999"]
[null,null,"2020-12-01","580",143518399.72999999,143518399.72999999,null,null,143518399.72999999,41,"102"]
[null,null,"2020-12-01","590.10",173530941.00999999,354308093.51999998,22540005,967890]
[null,null,"2020-12-01","600.05",544004848.13999999,1835827676.96,null,null,0,45,"999"]
[null,null,"2020-12-01","605.05",190530772.19,268261072.56,null,null,77730300.379999995,2,"155460600.75"]
[null,null,"2020-12-01","605.05",190530772.19,268261072.56,null,null,77730300.379999995,43,"99"]
[null,null,"2020-12-01","630.01",700502835.34000003,515519415.44,null,null,449056009.06999999,4,"11"]
[null,null,"2020-12-01","630.02",0,934340.9,null,null,0,4,"37"]
[null,null,"2020-12-01","650.01",589257.17000000004,583422.93999999994,null,null,583422.93999999994,43,"99"]
[null,null,"2020-12-01","840",0]
[null,null,"2020-12-01","872.10.08",5477791.9299999997,null,null,null,5477791.9299999997,16,"0.00"]
[null,null,"2020-12-01","872.20.05",2034295637.4000001,null,null,null,2034295637.4000001,14,"656253729.11"]
[null,null,"2020-12-01","872.20.10",2119537.7799999998,null,null,null,2119537.7799999998,16,"0.00"]
[null,null,"2020-12-01","872.30.12",5406.82,null,null,null,5406.82,14,"0.00"]
[null,null,"2020-12-01","891.10.20.01",-958816562.48000002,null,null,null,-1618265349.53,54,"12"]
[null,null,"2020-12-01","891.20.20.01",-440585371.49000001,null,null,null,-329087.78999999998,54,"05"]
[null,null,"2020-12-01","920.01",617618456.60000002]
[null,null,"2020-12-01","943",0,null,null,null,0,7,"1"]
[null,null,"2021-03-01","111.92.02",171861263,171861263,25135008,62723988.899999999]
[null,null,"2021-03-01","111.94.10.01",286428425.98000002,286428425.98000002,30950151,-40195619.030000001]
[null,null,"2021-03-01","141",31673034112.830002]
[null,null,"2021-03-01","146.01.03",2743290.03,null,null,null,2743290.03,43,"99"]
[null,null,"2021-03-01","170",960469873]
[null,null,"2021-03-01","200.01",115128958.25,null,null,null,54236022.049999997,64,"0.00"]
[null,null,"2021-03-01","200.03",90832761.019999996,null,null,null,60965753.950000003,63,"60965753.95"]
[null,null,"2021-03-01","200.04",86257533.370000005,null,null,null,13100685.140000001,46,"0.00"]
[null,null,"2021-03-01","200.06",70342931.5,null,null,null,70342931.5,63,"70342931.50"]
[null,null,"2021-03-01","200.09",66686854.479999997,null,null,null,66686854.479999997,62,"6"]
[null,null,"2021-03-01","200.10",53830365.340000004,null,null,null,49366969.119999997,62,"6"]
[null,null,"2021-03-01","200.12",50387902.5,null,null,null,188785,62,"6"]
[null,null,"2021-03-01","200.14",41611069.450000003,null,null,null,41611069.450000003,46,"0.00"]
[null,null,"2021-03-01","200.15",40733775.799999997,null,null,null,26338152.739999998,67,"2"]
[null,null,"2021-03-01","200.18",38336622.100000001,null,null,null,27232176.68,66,"1"]
[null,null,"2021-03-01","200.20",37457548.990000002,null,null,null,37407548.990000002,65,"0.00"]
[null,null,"2021-03-01","510.01",0,180707062.55000001,null,null,0,4,"11"]
[null,null,"2021-03-01","520.03",78220.83,418877929,12120057,32951018.5]
[null,null,"2021-03-01","526.01",85574187.090000004,173670151.63,null,null,840592.49,42,"99"]
[null,null,"2021-03-01","530.13",35831983.130000003,90183668.230000004,13115308,79758997.150000006]
[null,null,"2021-03-01","530.13",35831983.130000003,90183668.230000004,null,null,0,4,"11"]
[null,null,"2021-03-01","540",36816447.960000001]
[null,null,"2021-03-01","540.07",36816447.960000001,619285202.98000002,14233997,3844981.85]
[null,null,"2021-03-01","545",0,24284675,15250003,24284675]
[null,null,"2021-03-01","550.04",1079421426.05,2704119621.96,null,null,142551336.44999999,43,"99"]
[null,null,"2021-03-01","550.13",9817930352.3500004,13310828381.41,16120204,78180567.530000001]
[null,null,"2021-03-01","550.13",9817930352.3500004,13310828381.41,null,null,598879403.36000001,2,"1197758806.71"]
[null,null,"2021-03-01","550.13",9817930352.3500004,13310828381.41,null,null,138896112.69,4,"11"]
[null,null,"2021-03-01","570.09",6680395.4199999999,6680395.4199999999,null,null,6680395.4199999999,4,"11"]
[null,null,"2021-03-01","570.10",111625071.63,978549181.52999997,18885004,65019.91]
[null,null,"2021-03-01","590.10",189722771.72,361584034.72000003,25105100,4000000]
[null,null,"2021-03-01","590.10",189722771.72,361584034.72000003,22510107,334771.65999999997]
[null,null,"2021-03-01","590.10",189722771.72,361584034.72000003,22599908,-57073.77]
[null,null,"2021-03-01","600.05",627104196.20000005,2063915060.6900001,null,null,18942227.640000001,45,"999"]
[null,null,"2021-03-01","600.05",627104196.20000005,2063915060.6900001,null,null,99162754.310000002,46,"0.00"]
[null,null,"2021-03-01","620.09",639119.34,1278238.68,null,null,639119.34,2,"1278238.68"]
[null,null,"2021-03-01","630.01",716475583.10000002,529722706.48000002,null,null,203098661.47,2,"203098661.47"]
[null,null,"2021-03-01","630.02",0,1349750.92,null,null,0,2,"1349750.92"]
[null,null,"2021-03-01","840",0]
[null,null,"2021-03-01","872.10.08",4322162.37,null,null,null,4322162.37,16,"0.00"]
[null,null,"2021-03-01","872.10.12",664.55,null,null,null,664.55,11,"0.00"]
[null,null,"2021-03-01","872.30.02",500748148.47000003,null,null,null,500748148.47000003,20,"0.00"]
[null,null,"2021-03-01","872.30.22",2319736488.6599998]
[null,null,"2021-03-01","891.10.20.01",-1387566654.74,null,null,null,-9486266.6300000008,83,"BRL"]
[null,null,"2021-03-01","891.10.20.01",-1387566654.74,null,null,null,-1453872020.6500001,54,"12"]
[null,null,"2021-03-01","910.01",792543317.44000006]
[null,null,"2021-05-01","100",2222616255]
[null,null,"2021-05-01","111.91",1694422758.26]
[null,null,"2021-05-01","111.94.10.01",290111543.31,290111543.31,30984299,50666404.350000001]
[null,null,"2021-05-01","120.92.05.01",205336838.34999999]
[null,null,"2021-05-01","145.02.01",610602716.87,null,null,null,610602716.87,2,"610602716.87"]
[null,null,"2021-05-01","146.01.03",2708112.46,null,null,null,2708112.46,2,"2708112.46"]
[null,null,"2021-05-01","200.01",99022982.969999999,null,null,null,73294109.170000002,64,"0.00"]
[null,null,"2021-05-01","200.03",83198446.799999997,null,null,null,83198446.799999997,65,"0.00"]
[null,null,"2021-05-01","200.05",70557806.549999997,null,null,null,70557806.549999997,46,"-354561.85"]
[null,null,"2021-05-01","200.05",70557806.549999997,null,null,null,70557806.549999997,63,"70912368.40"]
[null,null,"2021-05-01","200.08",66260360.920000002,null,null,null,53113144.560000002,66,"1"]
[null,null,"2021-05-01","200.09",59329176.549999997,null,null,null,30000,68,"1"]
[null,null,"2021-05-01","200.11",53830365.340000004,null,null,null,49366969.119999997,65,"0.00"]
[null,null,"2021-05-01","200.11",53830365.340000004,null,null,null,1,68,"1"]
[null,null,"2021-05-01","200.13",48697747.850000001,null,null,null,166685,67,"2"]
[null,null,"2021-05-01","200.15",39437987.600000001,null,null,null,26664414.949999999,62,"6"]
[null,null,"2021-05-01","200.15",39437987.600000001,null,null,null,2040996.79,67,"2"]
[null,null,"2021-05-01","200.17",36618820.090000004,null,null,null,50000,66,"13"]
[null,null,"2021-05-01","200.20",35097485.969999999,null,null,null,19811004.09,67,"2"]
[null,null,"2021-05-01","212",12103676499.92]
[null,null,"2021-05-01","510.03",584074.19999999995,2920370.99,11230003,60344.73]
[null,null,"2021-05-01","520.01",0,224219455.13999999,null,null,0,41,"033"]
[null,null,"2021-05-01","526.01",85740667.359999999,174008053.03,null,null,0,43,"99"]
[null,null,"2021-05-01","530.10",5791678.29,5791678.29,null,null,5791678.29,2,"5791678.29"]
[null,null,"2021-05-01","530.20",0,6141218378.6499996,13110190,2703417.8]
[null,null,"2021-05-01","540.07",40579370.799999997,655646075.79999995,null,null,0,2,"5767651.74"]
[null,null,"2021-05-01","540.07",40579370.799999997,655646075.79999995,null,null,0,41,"999"]
[null,null,"2021-05-01","550.04",1183283521.5,3013327248.8699999,null,null,69571994.75,4,"11"]
[null,null,"2021-05-01","550.05",762093.47,2177409.92,null,null,0,2,"0.00"]
[null,null,"2021-05-01","550.13",10232129451.66,13850582929.41,16120503,51219811.729999997]
[null,null,"2021-05-01","550.13",10232129451.66,13850582929.41,null,null,774497693.5,42,"168"]
[null,null,"2021-05-01","570.06",616545855.44000006,820948890.00999999,null,null,3336751.72,2,"3336751.72"]
[null,null,"2021-05-01","570.09",24615852.829999998,24615852.829999998,null,null,24615852.829999998,45,"999"]
[null,null,"2021-05-01","570.10",142463718.13999999,1028647764.24,null,null,33328387.969999999,41,"074"]
[null,null,"2021-05-01","590.10",144459037.00999999,307240810.57999998,25105100,4000000]
[null,null,"2021-05-01","590.10",144459037.00999999,307240810.57999998,21320006,140958.54]
[null,null,"2021-05-01","600.05",633692895.5,2195572523.4200001,null,null,0,45,"999"]
[null,null,"2021-05-01","600.05",633692895.5,2195572523.4200001,null,null,0,2,"0.00"]
[null,null,"2021-05-01","605.06",0,278796806.88999999,30980004,273838776.07999998]
[null,null,"2021-05-01","620.09",623823.18999999994,1247646.3700000001,null,null,623823.18999999994,41,"102"]
[null,null,"2021-05-01","630.01",736246346.44000006,534162361.64999998,null,null,209091456.78,45,"999"]
[null,null,"2021-05-01","630.02",0,1582142.15,null,null,0,2,"1582142.15"]
[null,null,"2021-05-01","800.02",481525.89]
[null,null,"2021-05-01","872",76494144.310000002]
[null,null,"2021-05-01","872.10.10",2401145.2000000002,null,null,null,2401145.2000000002,11,"0.00"]
[null,null,"2021-05-01","872.20.05",2146342580.4300001,null,null,null,2146342580.4300001,16,"0.00"]
[null,null,"2021-05-01","872.30.09",63944085.759999998,null,null,null,63944085.759999998,14,"21781863.46"]
[null,null,"2021-05-01","891",473964633.88999999,null,null,null,473964633.88999999,59,"1956653067.79"]
[null,null,"2021-05-01","891.20.10.01",269272814.36000001,null,null,null,79523.98,83,"BRL"]
[null,null,"2021-05-01","891.20.20.01",-280757362.97000003,null,null,null,319196.64,54,"08"]
[null,null,"2021-05-01","943",0,null,null,null,0,5,"0.00"]
[]
[]
[]
[]
[]
[]
[]
[]
[]
[]
[]
[]
[]
[]
[]
[]
[]
[]
[]
[]
[]
[]
[]
[]
[]
[]
[]
[]
[]
[]
[]
[]
[]
[]
[]
[]
[]
[]
[]
[]
[]
[]
[]
[]
[]
[]
[]
[]
[]
[]
[]
[]
[]
[]
[]
[]
[]
[]
[]
[]
[]
[]
[]
[]
[]
[]
[]
[]
[]
[]
[]
[]
[]
[]
[]
[]
[]
[]
[]
[]
[]
[]
[]
[]
[]
[]
[]
[]
[]
[]
[]
[]
[]
[]
[]
[]
[null,null,"2021-06-01","111.90.01",1031804253.89]
[null,null,"2021-06-01","111.92.06.01.01.01",468812.13,468812.13,30984701,190781.34]
[null,null,"2021-06-01","120.01.02",0]
[null,null,"2021-06-01","142.05.02",5570466.7599999998,null,null,null,5570466.7599999998,2,"5570466.76"]
[null,null,"2021-06-01","145.02.01",55796172.789999999,null,null,null,55796172.789999999,2,"55796172.79"]
[null,null,"2021-06-01","160",161304430.80000001]
[null,null,"2021-06-01","200.01",160198057.56,null,null,null,5000000,65,"0.00"]
[null,null,"2021-06-01","200.02",120157976.86,null,null,null,1200000,68,"1"]
[null,null,"2021-06-01","200.05",73794073.760000005,null,null,null,799152,62,"6"]
[null,null,"2021-06-01","200.06",71717333.269999996,null,null,null,23486953.420000002,64,"0.00"]
[null,null,"2021-06-01","200.08",70205425.290000007,null,null,null,70205425.290000007,65,"0.00"]
[null,null,"2021-06-01","200.10",64752048.079999998,null,null,null,10334234.51,46,"0.00"]
[null,null,"2021-06-01","200.11",59375314.719999999,null,null,null,33214815.969999999,63,"34242078.32"]
[null,null,"2021-06-01","200.12",56050350.789999999,null,null,null,83186.929999999993,62,"6"]
[null,null,"2021-06-01","200.12",56050350.789999999,null,null,null,2039027.57,63,"2039027.57"]
[null,null,"2021-06-01","200.13",55863935.789999999,null,null,null,200000,62,"6"]
[null,null,"2021-06-01","200.15",53835469.700000003,null,null,null,50000,67,"2"]
[null,null,"2021-06-01","200.17",37673488.020000003,null,null,null,33173488.02,67,"2"]
[null,null,"2021-06-01","200.19",36345707.130000003,null,null,null,36345707.130000003,66,"1"]
[null,null,"2021-06-01","200.20",35185808.600000001,null,null,null,35185808.600000001,68,"1"]
[null,null,"2021-06-01","520.02",564390.17000000004,1004713717.65,null,null,564390.17000000004,4,"21"]
[null,null,"2021-06-01","526.01",87081270.159999996,174162540.31999999,12210204,14247390.76]
[null,null,"2021-06-01","530.13",9537026.3800000008,89502453.890000001,null,null,660228,4,"11"]
[null,null,"2021-06-01","530.20",6931226.7800000003,5160610787.8299999,13625104,25889081.699999999]
[null,null,"2021-06-01","540.07",24772850.66,646037329.07000005,14140901,14003018.99]
[null,null,"2021-06-01","550.04",1288757559.96,3282709971.75,null,null,136054663.09999999,42,"99"]
[null,null,"2021-06-01","550.04",1288757559.96,3282709971.75,null,null,75892247.930000007,42,"99"]
[null,null,"2021-06-01","550.13",10405737113.09,14099745819.4,16305050,147512053.81]
[null,null,"2021-06-01","550.13",10405737113.09,14099745819.4,null,null,4064369.59,42,"366"]
[null,null,"2021-06-01","570.09",25111912.969999999,25111912.969999999,18803000,24911817.010000002]
[null,null,"2021-06-01","570.10",111654414.59999999,1009788736.0700001,18390001,8480785.2699999996]
[null,null,"2021-06-01","580",160809909.59,160809909.59,19899903,-375008.88]
[null,null,"2021-06-01","590.10",161304430.80000001,335173082.79000002,22530307,14333699.529999999]
[null,null,"2021-06-01","590.10",161304430.80000001,335173082.79000002,null,null,161304430.80000001,45,"999"]
[null,null,"2021-06-01","600.05",619405468.91999996,2194736978.5300002,null,null,137302117.38,41,"072"]
[null,null,"2021-06-01","605.06",0,308541024.58999997,null,null,0,43,"99"]
[null,null,"2021-06-01","630.01",734818473.72000003,494603764.16000003,null,null,33166590.460000001,43,"99"]
[null,null,"2021-06-01","630.01",734818473.72000003,494603764.16000003,null,null,0,43,"99"]
[null,null,"2021-06-01","840.01",0]
[null,null,"2021-06-01","860.09",0]
[null,null,"2021-06-01","872.20.05",2146342580.4300001,null,null,null,2146342580.4300001,12,"194614544.71"]
[null,null,"2021-06-01","872.20.10",1802756.72,null,null,null,1802756.72,20,"0.00"]
[null,null,"2021-06-01","872.30.08",-7366229.2699999996,null,null,null,-7366229.2699999996,14,"9268403.79"]
[null,null,"2021-06-01","891",498368783.88,null,null,null,498368783.88,56,"02"]
[null,null,"2021-06-01","891.20.10.01",279442981.43000001,null,null,null,-201128949.33000001,54,"02"]
[null,null,"2021-06-01","891.20.20.01",-290771459.87,null,null,null,-1049139.97,83,"BRL"]
[]
[]
[]
[]
[]
[]
[]
[]
[]
[]
[]
[]
[]
[]
[]
[]
[]
[]
[]
[]
[]
[]
[]
[]
[]
[]
[]
[]
[]
[]
[]
[]
[]
[]
[]
[]
[]
[]
[]
[]
[]
[]
[]
[]
[]
[]
[]
[]
[]
[]
[]
[]
[]
[]
[]
[]
[]
[]
[]
[]
[]
[]
[]
[]
[]
[]
[]
[]
[]
[]
[]
[]
[]
[]
[]
[]
[]
[]
[]
[]
[]
[]
[]
[]
[]
[]
[]
[]
[]
[]
[]
[]
[]
[]
[]
[]
[]
[]
[]
[]
[]
[]
[]
[]
[]
[]
[]
[]
[]
[]
[]
[]
[]
[]
[]
[]
[]
[]
[]
[]
[]
[]
[]
[]
[]
[]
[]
[]
[]
[]
[]
[]
[]
[]
[]
[]
[]
[]
[]
[]
[]
[]
[]
[]
[]
[]
[]
[]
[]
[]
[]
[]
[]
[]
[]
[]
[]
[]
[]
[]
[]
[]
[]
[]
[]
[]
[]
[]
[]
[]
[]
[]
[]
[]
[]
[]
[]
[]
[]
[]
[]
[]
[]
[]
[]
[]
[]
[]
[]
[]
[]
[]
[]
[]
[]
[]
[]
[]
[]
[]
[]
[]
[]
[]
[]
[]
[]
[]
[]
[]
[]
[]
[]
[]
[]
[]
[]
[]
[]
[]
[]
[]
[]
[]
[]
[]
[]
[]
[]
[]
[]
[]
[]
[]
[]
[]
[]
[]
[]
[]
[]
[]
[]
[]
[]
[]
[]
[]
[]
[]
[]
[]
[]
[]
[]
[]
[]
[]
[]
[]
[]
[]
[]
[]
[]
[]
[]
[]
[]
[]
[]
[]
[]
[]
[]
[]
[]
[]
[]
[]
[]
[]
[]
[]
[]
[]
[]
[]
[]
[]
[]
[]
[]
[]
[]
[]
[]
[]
[]
[]
[]
[]
[]
[]
[]
[]
[]
[]
[]
[]
[]
[]
[]
[]
[]
[]
[]
[]
[]
[]
[]
[]
[]
[]
[]
[]
[]
[]
[]
[]
[]
[]
[]
[]
[]
[]
[]
[]
[]
[]
[]
[]
[]
[]
[]
[]
[]
[]
[]
[]
[]
[]
[]
[]
[]
[]
[]
[]
[]
[]
[]
[]
[]
[]
[]
[]
[]
[]
[]
[]
[]
[]
[]
[]
[]
[]
[]
[]
[]
[]
[]
[]
[]
[]
[]
[]
[]
[]
[]
[]
[]
[]
[]
[]
[]
[]
[]
[]
[]
[]
[]
[]
[]
[]
[]
[]
[]
[]
[]
[]
[]
[]
[]
[]
[]
[]
[]
[]
[]
[]
[]
[]
[]
[]
[]
[]
[]
[]
[]
[]
[]
[]
[]
[]
[]
[]
[]
[]
[]
[]
[]
[]
[]
[]
[]
[]
[]
[]
[]
[]
[]
[]
[]
[]
[]
[]
[]
[]
[]
[]
[]
[]
[]
[]
[]
[]
[]
[]
[]
[]
[]
[]
[]
[]
[]
[]
[]
[]
[]
[]
[]
[]
[]
[]
[]
[]
[]
[]
[]
[]
[]
[]
[]
[]
[]
[]
[]
[]
[]
[]
[]
[]
[]
[]
[]
[]
[]
[]
[]
[]
[]
[]
[]
[]
[]
[]
[]
[]
[]
[]
[]
[]
[]
[]
[]
[]
[]
[]
[]
[]
[]
[]
[]
[]
[]
[]
[]
[]
[]
[]
[]
[]
[]
[]
[]
[]
[]
[]
[]
[]
[]
[]
[]
[]
[]
[]
[]
[]
[]
[]
[]
[]
[]
[]
[]
[]
[]
[]
[]
[]
[]
[]
[]
[]
[]
[]
[]
[]
[]
[]
[]
[]
[]
[]
[]
[]
[]
[]
[]
[]
[]
[]
[]
[]
[]
[]
[]
[]
[]
[]
[null,null,"2021-12-01","111.90",0]
[null,null,"2021-12-01","112.01",254032305.84]
[null,null,"2021-12-01","120.01.01",322652755.92000002,343433881.76999998,null,null,251343513.5,2,"251343513.50"]
[null,null,"2021-12-01","142.08",3082146539.5999999,null,null,null,3082146539.5999999,2,"3082146539.60"]
[null,null,"2021-12-01","146.01.03",2123993.9300000002,null,null,null,2123993.9300000002,43,"99"]
[null,null,"2021-12-01","177",100000000,null,null,null,100000000,46,"0.00"]
[null,null,"2021-12-01","200.02",127433799.31999999,null,null,null,88754638.459999993,67,"2"]
[null,null,"2021-12-01","200.04",116303872.78,null,null,null,71329277.780000001,65,"0.00"]
[null,null,"2021-12-01","200.06",98493479.450000003,null,null,null,27277048.030000001,64,"0.00"]
[null,null,"2021-12-01","200.07",98051452.780000001,null,null,null,118183,64,"0.00"]
[null,null,"2021-12-01","200.09",90434900.430000007,null,null,null,44292308.789999999,64,"0.00"]
[null,null,"2021-12-01","200.11",71153521.200000003,null,null,null,71100934.200000003,63,"71846187.99"]
[null,null,"2021-12-01","200.12",70566682.340000004,null,null,null,54027.57,46,"0.00"]
[null,null,"2021-12-01","200.13",61901244.409999996,null,null,null,61901244.409999996,63,"62212305.94"]
[null,null,"2021-12-01","200.15",55926332.689999998,null,null,null,26134435.850000001,62,"6"]
[null,null,"2021-12-01","200.16",51432327.789999999,null,null,null,666255,66,"14"]
[null,null,"2021-12-01","200.17",50929648.049999997,null,null,null,18317956.98,62,"6"]
[null,null,"2021-12-01","200.18",49477511.399999999,null,null,null,41972169.039999999,46,"-210892.21"]
[null,null,"2021-12-01","200.19",45068944.020000003,null,null,null,200000,63,"200000.00"]
[null,null,"2021-12-01","510",3624997.03]
[null,null,"2021-12-01","510.03",3624997.03,18124985.129999999,null,null,68581.64,4,"11"]
[null,null,"2021-12-01","526.01",45378718.740000002,101871491.13,12210204,18523422.75]
[null,null,"2021-12-01","530.10",5455593.1100000003,5455593.1100000003,13120104,5379526.6600000001]
[null,null,"2021-12-01","530.13",9589008.8499999996,89193553.790000007,null,null,8821638.9600000009,41,"102"]
[null,null,"2021-12-01","530.20",18166673.73,4546666239.8199997,null,null,18166673.73,43,"99"]
[null,null,"2021-12-01","545",0,25318850,null,null,0,41,"999"]
[null,null,"2021-12-01","550.04",1704673060.9100001,4358611187.1199999,null,null,120845739.64,4,"11"]
[null,null,"2021-12-01","550.13",11544270063.42,15517864858.370001,16210004,311655447.49000001]
[null,null,"2021-12-01","550.13",11544270063.42,15517864858.370001,null,null,1416832243.1700001,2,"1416832243.17"]
[null,null,"2021-12-01","570.06",719303638.63999999,956992250.25,18996003,-21085703.550000001]
[null,null,"2021-12-01","570.10",411530401.36000001,1469424610.99,18845202,14763042.1]
[null,null,"2021-12-01","570.10",411530401.36000001,1469424610.99,null,null,0,2,"1029542452.52"]
[null,null,"2021-12-01","590.10",149571089.34999999,305412902.48000002,21599105,-1226.53]
[null,null,"2021-12-01","590.10",149571089.34999999,305412902.48000002,22530101,35224320.100000001]
[null,null,"2021-12-01","600.05",834103284.58000004,3134540301.27,null,null,0,46,"0.00"]
[null,null,"2021-12-01","600.05",834103284.58000004,3134540301.27,null,null,0,43,"12"]
[null,null,"2021-12-01","630.01",878556461.37,648019641.22000003,18825507,648019641.22000003]
[null,null,"2021-12-01","630.02",0,192271.06,null,null,0,45,"999"]
[null,null,"2021-12-01","820.01",0]
[null,null,"2021-12-01","872.10.08",4361376.4400000004,null,null,null,4361376.4400000004,11,"4372786.41"]
[null,null,"2021-12-01","872.10.22",2131990575.1199999]
[null,null,"2021-12-01","872.20.10",1419656.53,null,null,null,1419656.53,11,"0.00"]
[null,null,"2021-12-01","872.30.08",-7863469.3300000001,null,null,null,-7863469.3300000001,16,"0.00"]
[null,null,"2021-12-01","891.10.10.01",679501397.88,null,null,null,-184157843.91999999,83,"BRL"]
[null,null,"2021-12-01","891.10.20.01",-1217137303.24,null,null,null,301810515.13999999,54,"04"]
[null,null,"2021-12-01","891.20.10.01",203419686.44,null,null,null,-10750.44,83,"USD"]
[null,null,"2021-12-01","932",808028864.98000002]
[]
[]
[]
[]
[]
[]
[]
[]
[]
[]
[]
[]
[]
[]
[]
[]
[]
[]
[]
[]
[]
[]
[]
[]
[]
[]
[]
[]
[]
[]
[]
[]
[]
[]
[]
[]
[]
[]
[]
[]
[]
[]
[]
[]
[]
[]
[]
[]
[]
[]
[]
[]
[]
[]
[]
[]
[]
[]
[]
[]
[]
[]
[]
[]
[]
[]
[]
[]
[]
[]
[]
[]
[]
[]
[]
[]
[]
[]
[]
[]
[]
[]
[]
[]
[]
[]
[]
[]
[]
[]
[]
[]
[]
[null,null,"2021-09-01","100",2640733181.23]
[null,null,"2021-09-01","111.91.01",166812874.68000001,166812874.68000001,61610202,-20407.830000000002]
[null,null,"2021-09-01","111.94.10",244938114.06999999]
[null,null,"2021-09-01","142.05.02",24288227.98,null,null,null,24288227.98,43,"99"]
[null,null,"2021-09-01","146.01.02",740682311.04999995,null,null,null,740682311.04999995,43,"99"]
[null,null,"2021-09-01","200.01",149210334.31,null,null,null,49210334.310000002,46,"0.00"]
[null,null,"2021-09-01","200.01",149210334.31,null,null,null,49210334.310000002,66,"1"]
[null,null,"2021-09-01","200.04",115281540.05,null,null,null,70389923.359999999,46,"0.00"]
[null,null,"2021-09-01","200.04",115281540.05,null,null,null,3995504,46,"0.00"]
[null,null,"2021-09-01","200.06",99195245.200000003,null,null,null,78875030.5,46,"0.00"]
[null,null,"2021-09-01","200.08",86694817.430000007,null,null,null,550001,68,"1"]
[null,null,"2021-09-01","200.10",80403832.140000001,null,null,null,1200000,62,"6"]
[null,null,"2021-09-01","200.10",80403832.140000001,null,null,null,38182595.600000001,68,"1"]
[null,null,"2021-09-01","200.13",61301215.770000003,null,null,null,57466422.299999997,67,"2"]
[null,null,"2021-09-01","200.14",55126656.060000002,null,null,null,14817469.18,67,"2"]
[null,null,"2021-09-01","200.15",52823889.079999998,null,null,null,33623319.869999997,64,"0.00"]
[null,null,"2021-09-01","200.16",52551694.469999999,null,null,null,50000,66,"14"]
[null,null,"2021-09-01","200.16",52551694.469999999,null,null,null,38287342.960000001,68,"1"]
[null,null,"2021-09-01","200.19",38754802.759999998,null,null,null,15122194.9,63,"15198185.85"]
[null,null,"2021-09-01","200.19",38754802.759999998,null,null,null,200000,65,"0.00"]
[null,null,"2021-09-01","214",13972211269.35]
[null,null,"2021-09-01","520.02",830415.63,1336694215.4000001,null,null,0,43,"99"]
[null,null,"2021-09-01","526.01",44940565.520000003,100034583.95999999,null,null,41556081.210000001,45,"020"]
[null,null,"2021-09-01","530.13",9591757.5700000003,90390435.680000007,13115250,52731.32]
[null,null,"2021-09-01","530.20",7887258.0599999996,3714249911.3099999,null,null,0,4,"11"]
[null,null,"2021-09-01","540.07",26651604.34,680903752.64999998,null,null,0,42,"99"]
[null,null,"2021-09-01","550.04",1530496672.1800001,3927393287.1500001,16410103,179410597.13]
[null,null,"2021-09-01","550.04",1530496672.1800001,3927393287.1500001,null,null,96377980.859999999,41,"068"]
[null,null,"2021-09-01","550.05",620160.85,1771888.15,null,null,620160.85,2,"1771888.15"]
[null,null,"2021-09-01","550.13",11389560634.790001,15295267071.629999,null,null,4610527.8099999996,41,"072"]
[null,null,"2021-09-01","550.13",11389560634.790001,15295267071.629999,null,null,380472397.66000003,41,"152"]
[null,null,"2021-09-01","570.09",25301397.850000001,25301397.850000001,null,null,25301397.850000001,45,"999"]
[null,null,"2021-09-01","580",167578660.34,167578660.34,19880307,129071184.17]
[null,null,"2021-09-01","590.10",206352313.47999999,372396495.24000001,22590000,169233.14]
[null,null,"2021-09-01","590.10",206352313.47999999,372396495.24000001,null,null,0,4,"37"]
[null,null,"2021-09-01","600.05",760149099.45000005,2726814987.1300001,null,null,93206313.739999995,42,"99"]
[null,null,"2021-09-01","605.05",281224211.23000002,457386522.76999998,null,null,105061899.68000001,43,"99"]
[null,null,"2021-09-01","630.01",742779075.22000003,510249227.50999999,18825507,510249227.50999999]
[null,null,"2021-09-01","630.01",742779075.22000003,510249227.50999999,null,null,151635364.66,2,"151635364.66"]
[null,null,"2021-09-01","810",0]
[null,null,"2021-09-01","860",0]
[null,null,"2021-09-01","872.10.09",43184440.840000004,null,null,null,43184440.840000004,14,"53.98"]
[null,null,"2021-09-01","872.20.08",3252460.78,null,null,null,3252460.78,12,"0.00"]
[null,null,"2021-09-01","872.30.09",61441443.280000001,null,null,null,61441443.280000001,16,"0.00"]
[null,null,"2021-09-01","891.10.10.01",682291416.74000001,null,null,null,624263.97,83,"BRL"]
[null,null,"2021-09-01","891.10.20.01",-1133821687.8800001,null,null,null,-32590756.870000001,83,"BRL"]
[null,null,"2021-09-01","891.20.20.01",-271114376.23000002,null,null,null,177979973.47999999,83,"BRL"]
[null,null,"2021-09-01","953",454052378.48000002]
[]
[]
[]
[]
[]
[]
[]
[]
[]
[]
[]
[]
[]
[]
[]
[]
[]
[]
[]
[]
[]
[]
[]
[]
[]
[]
[]
[]
[]
[]
[]
[]
[]
[]
[]
[]
[]
[]
[]
[]
[]
[]
[]
[null,null,"2022-12-01","100",3522435137.921]
[null,null,"2022-12-01","111.92.02",188462035.84,188462035.84,25115107,158093873.81]
[null,null,"2022-12-01","120.01.01",1352880292.1300001,1422090841.24,90981043,13672842.289999999]
[null,null,"2022-12-01","142.08",4381985192.7399998,null,null,null,4381985192.7399998,2,"4381985192.74"]
[null,null,"2022-12-01","145.03",7477076.9900000002]
[null,null,"2022-12-01","170",1563491188.8599999]
[null,null,"2022-12-01","200.02",343225555.13,null,null,null,745189,64,"0.00"]
[null,null,"2022-12-01","200.02",343225555.13,null,null,null,76810466.890000001,66,"8"]
[null,null,"2022-12-01","200.05",281005867.31999999,null,null,null,140000000,46,"0.00"]
[null,null,"2022-12-01","200.07",227802812.72999999,null,null,null,1252766.8,63,"1252766.80"]
[null,null,"2022-12-01","200.08",209620347.59,null,null,null,92360028.920000002,62,"6"]
[null,null,"2022-12-01","200.08",209620347.59,null,null,null,24462767.809999999,66,"21"]
[null,null,"2022-12-01","200.10",168319957.19999999,null,null,null,52552153.75,62,"6"]
[null,null,"2022-12-01","200.11",163564234.41,null,null,null,35481240.43,46,"0.00"]
[null,null,"2022-12-01","200.11",163564234.41,null,null,null,19781377.489999998,63,"19781377.49"]
[null,null,"2022-12-01","200.13",145962547.68000001,null,null,null,42197925.170000002,46,"0.00"]
[null,null,"2022-12-01","200.14",133437317.48999999,null,null,null,10000,68,"1"]
[null,null,"2022-12-01","200.15",133177705.27,null,null,null,100000,68,"1"]
[null,null,"2022-12-01","200.16",124987828.65000001,null,null,null,12701746.98,68,"1"]
[null,null,"2022-12-01","200.18",120219969.77,null,null,null,89791311.519999996,67,"2"]
[null,null,"2022-12-01","200.19",115970258.67,null,null,null,1406151.4,65,"0.00"]
[null,null,"2022-12-01","200.20",113723962.11,null,null,null,17015722.780000001,64,"0.00"]
[null,null,"2022-12-01","510.01",0,231447965.11000001,null,null,0,45,"999"]
[null,null,"2022-12-01","520.02",1495415.4,1718574947.4200001,null,null,0,2,"1718574947.42"]
[null,null,"2022-12-01","526.01",62583335.270000003,137628090.37,null,null,58429528.659999996,45,"020"]
[null,null,"2022-12-01","530.10",4775185.9400000004,4775185.9400000004,13120403,110296.36]
[null,null,"2022-12-01","530.20",0,4145324828.77,null,null,0,42,"99"]
[null,null,"2022-12-01","545",0,25000,null,null,0,41,"999"]
[null,null,"2022-12-01","550.04",2998781092.6199999,6595602581.3100004,null,null,378518241.41000003,42,"99"]
[null,null,"2022-12-01","550.05",13326573.140000001,27889400.620000001,null,null,3032407.33,41,"072"]
[null,null,"2022-12-01","550.13",15376187240.26,21994042721.939999,null,null,7460132.4400000004,2,"14920264.87"]
[null,null,"2022-12-01","550.13",15376187240.26,21994042721.939999,null,null,325610597.61000001,43,"99"]
[null,null,"2022-12-01","570.09",8796636.2599999998,8796636.2599999998,null,null,8796636.2599999998,41,"102"]
[null,null,"2022-12-01","570.10",1135436689.47,2689643245.75,18845202,12498794.300000001]
[null,null,"2022-12-01","580",238344726.56,238344726.56,19880307,143806259.97999999]
[null,null,"2022-12-01","590.10",559452557.15999997,747914593,22530204,124039429.73]
[null,null,"2022-12-01","590.10",559452557.15999997,747914593,22505208,1243559.1299999999]
[null,null,"2022-12-01","605",420113020.75]
[null,null,"2022-12-01","630.01",696732071.26250005,425873332.88,null,null,0,4,"38"]
[null,null,"2022-12-01","630.01",696732071.26250005,425873332.88,null,null,0,42,"99"]
[null,null,"2022-12-01","830",0]
[null,null,"2022-12-01","872.10.09",58724008.030000001,null,null,null,58724008.030000001,16,"0.00"]
[null,null,"2022-12-01","872.20.03",194253507.24000001,null,null,null,194253507.24000001,18,"4933944999.65"]
[null,null,"2022-12-01","872.20.11",10401199.449999999,null,null,null,10401199.449999999,16,"0.00"]
[null,null,"2022-12-01","872.30.11",15681254.24,null,null,null,15681254.24,12,"15681254.24"]
[null,null,"2022-12-01","891.10.20.01",-813136353.50999999,null,null,null,-1795468389.9100001,83,"BRL"]
[null,null,"2022-12-01","891.20.10.01",380182604.88999999,null,null,null,482384393.47000003,83,"BRL"]
[null,null,"2022-12-01","891.20.20.01",-387628364.29000002,null,null,null,-161529.95000000001,83,"BRL"]
[null,null,"2022-12-01","942",595462943.60182166]
[]
[]
[]
[]
[]
[]
[]
[]
[]
[]
[]
[]
[]
[]
[]
[]
[]
[]
[]
[]
[]
[]
[]
[]
[]
[]
[]
[]
[]
[]
[]
[]
[]
[]
[]
[]
[]
[]
[]
[]
[]
[]
[]
[]
[]
[]
[]
[]
[null,null,"2022-03-01","111.91.01",116090265.28,116090265.28,61690002,-2914480.68]
[null,null,"2022-03-01","120.01.01",404633601.25,426195708.67000002,null,null,66769385.68,3,"01"]
[null,null,"2022-03-01","142.06.01",21281042785.68,null,null,null,21281042785.68,2,"21281042785.68"]
[null,null,"2022-03-01","146.02.03",-1386445.77,null,null,null,-1386445.77,2,"2772891.54"]
[null,null,"2022-03-01","190",81614366452.800003]
[null,null,"2022-03-01","200.03",130918055.94,null,null,null,130918055.94,62,"6"]
[null,null,"2022-03-01","200.04",124238003.08,null,null,null,124238003.08,63,"125492932.41"]
[null,null,"2022-03-01","200.06",110049795.14,null,null,null,69049795.140000001,62,"6"]
[null,null,"2022-03-01","200.07",108902501.55,null,null,null,50000,63,"50000.00"]
[null,null,"2022-03-01","200.08",107853727,null,null,null,7400,62,"6"]
[null,null,"2022-03-01","200.11",100000000,null,null,null,100000000,46,"0.00"]
[null,null,"2022-03-01","200.14",71039888.379999995,null,null,null,2214446.1800000002,68,"1"]
[null,null,"2022-03-01","200.15",58386326.530000001,null,null,null,39790504.289999999,66,"8"]
[null,null,"2022-03-01","200.17",55827592.109999999,null,null,null,36622330.810000002,65,"0.00"]
[null,null,"2022-03-01","200.18",55674490.159999996,null,null,null,1948881.67,46,"-19685.69"]
[null,null,"2022-03-01","200.19",55123555.710000001,null,null,null,22076069.359999999,65,"0.00"]
[null,null,"2022-03-01","510.03",3969313.31,19846566.559999999,null,null,3953477.68,45,"999"]
[null,null,"2022-03-01","520.01",0,1879995036.6400001,12110074,1330000110.03]
[null,null,"2022-03-01","526.01",32840162,77092276.920000002,null,null,3803984.3,42,"99"]
[null,null,"2022-03-01","530.10",6157865.4199999999,9077296.0500000007,null,null,6157865.4199999999,2,"6157865.42"]
[null,null,"2022-03-01","540.07",25332018.530000001,695748861.63999999,14260001,3507527.48]
[null,null,"2022-03-01","540.07",25332018.530000001,695748861.63999999,14110900,579682.01]
[null,null,"2022-03-01","550.04",1930784259.02,4705296351.04,null,null,128509648.59999999,41,"102"]
[null,null,"2022-03-01","550.05",2813043.27,5049337.32,null,null,852214.75,45,"999"]
[null,null,"2022-03-01","550.13",12367863380.360001,16570697097.32,16345151,158682063.63]
[null,null,"2022-03-01","550.13",12367863380.360001,16570697097.32,null,null,9563178967.9099998,43,"99"]
[null,null,"2022-03-01","570.06",698315898.74000001,928496092.48000002,null,null,7775317.5199999996,42,"99"]
[null,null,"2022-03-01","570.10",612278446.00999999,1655525486.9200001,18840056,898458092.79999995]
[null,null,"2022-03-01","570.10",612278446.00999999,1655525486.9200001,null,null,0,4,"11"]
[null,null,"2022-03-01","590.10",713479144.51999998,865106545.76999998,22599506,-416418.97]
[null,null,"2022-03-01","600.05",1043995025.23,3590392078.6599998,null,null,528782874.58999997,4,"11"]
[null,null,"2022-03-01","600.05",1043995025.23,3590392078.6599998,null,null,0,46,"0.00"]
[null,null,"2022-03-01","600.05",1043995025.23,3590392078.6599998,null,null,238759943.90000001,45,"999"]
[null,null,"2022-03-01","620.09",1386445.77,2772891.54,null,null,1386445.77,41,"102"]
[null,null,"2022-03-01","630.02",0,33318736.969999999,null,null,0,41,"302"]
[null,null,"2022-03-01","830",0]
[null,null,"2022-03-01","872.10.09",51044174.630000003,null,null,null,51044174.630000003,16,"0.00"]
[null,null,"2022-03-01","872.20.02",500748148.47000003,null,null,null,500748148.47000003,20,"0.00"]
[null,null,"2022-03-01","872.20.09",63944085.759999998,null,null,null,63944085.759999998,16,"0.00"]
[null,null,"2022-03-01","872.30.08",12120910.779999999,null,null,null,12120910.779999999,14,"0.00"]
[null,null,"2022-03-01","891.10.20.01",224479280.93000001,null,null,null,-8339727.5499999998,83,"BRL"]
[null,null,"2022-03-01","891.20.10.01",328985633.02999997,null,null,null,-79861.649999999994,54,"13"]
[null,null,"2022-03-01","891.20.20.01",-345089409.62,null,null,null,-1170341.51,83,"BRL"]
[null,null,"2022-03-01","943.02",0]
[null,null,"2022-06-01","111.92.02",178493250.96000001,178493250.96000001,25199154,-138144768.94999999]
[null,null,"2022-06-01","111.94.10.99",289052947.64999998,289052947.64999998,30984103,289052947.64999998]
[null,null,"2022-06-01","142",34698774202.519997]
[null,null,"2022-06-01","145.01.01",3279988456.71,null,null,null,3279988456.71,2,"3279988456.71"]
[null,null,"2022-06-01","192.02",1889652132.1600001]
[null,null,"2022-06-01","200.01",300000000,null,null,null,300000000,63,"300000000.00"]
[null,null,"2022-06-01","200.02",212100424.50999999,null,null,null,90000,62,"6"]
[null,null,"2022-06-01","200.04",149432669.5,null,null,null,49432669.5,68,"1"]
[null,null,"2022-06-01","200.05",138806427.22999999,null,null,null,85563357.650000006,67,"2"]
[null,null,"2022-06-01","200.06",138345221.21000001,null,null,null,16207.98,63,"16207.98"]
[null,null,"2022-06-01","200.08",119399999.98999999,null,null,null,119399999.98999999,67,"2"]
[null,null,"2022-06-01","200.09",116817179.08,null,null,null,7200,66,"14"]
[null,null,"2022-06-01","200.11",111737452.75,null,null,null,73591530.840000004,64,"0.00"]
[null,null,"2022-06-01","200.12",106766553.06999999,null,null,null,429698,66,"13"]
[null,null,"2022-06-01","200.12",106766553.06999999,null,null,null,60209147.82,65,"0.00"]
[null,null,"2022-06-01","200.14",104045063.56,null,null,null,59045063.969999999,46,"0.00"]
[null,null,"2022-06-01","200.14",104045063.56,null,null,null,59045063.969999999,65,"0.00"]
[null,null,"2022-06-01","200.17",70189935.060000002,null,null,null,1000768,64,"0.00"]
[null,null,"2022-06-01","200.17",70189935.060000002,null,null,null,24682728.109999999,62,"6"]
[null,null,"2022-06-01","200.18",70075605.760000005,null,null,null,22905389.84,46,"0.00"]
[null,null,"2022-06-01","200.19",68573864.730000004,null,null,null,68223863.730000004,63,"68223863.73"]
[null,null,"2022-06-01","510.01",0,243050741.63,11110006,239441496.65000001]
[null,null,"2022-06-01","520.01",0,3279988456.71,null,null,0,41,"033"]
[null,null,"2022-06-01","520.02",1322427.8500000001,1896264271.49,null,null,0,4,"21"]
[null,null,"2022-06-01","530.13",10419035.470000001,107106919.63,null,null,16.88,43,"99"]
[null,null,"2022-06-01","540.07",27518067.989999998,889162929.09000003,14140901,23765377.620000001]
[null,null,"2022-06-01","545",0,6602690,null,null,0,2,"6602690.00"]
[null,null,"2022-06-01","550.04",2344599357.1500001,5276824355.54,null,null,321782850.18000001,43,"99"]
[null,null,"2022-06-01","550.05",4714894.37,8042337.9800000004,null,null,3562642.65,42,"99"]
[null,null,"2022-06-01","550.13",13464907440.59,18526147176.380001,16345254,2002635.47]
[null,null,"2022-06-01","550.13",13464907440.59,18526147176.380001,null,null,10419945.890000001,42,"366"]
[null,null,"2022-06-01","570.06",732921595.00999999,973603384.20000005,null,null,10876227.449999999,4,"11"]
[null,null,"2022-06-01","570.10",948291075.75,2035445336.7,18845305,3125337.85]
[null,null,"2022-06-01","570.10",948291075.75,2035445336.7,null,null,27099089.68,42,"99"]
[null,null,"2022-06-01","590.10",489080134.45999998,667573385.41999996,25199051,-1575621.51]
[null,null,"2022-06-01","590.10",489080134.45999998,667573385.41999996,null,null,0,43,"99"]
[null,null,"2022-06-01","600.05",1100972806.26,4199996671.8800001,null,null,0,41,"102"]
[null,null,"2022-06-01","605.05",304735013.68000001,537727533.78999996,null,null,71742493.560000002,43,"99"]
[null,null,"2022-06-01","630.01",644033172.95000005,492304373.92000002,null,null,82266818.280000001,41,"105"]
[null,null,"2022-06-01","630.01",644033172.95000005,492304373.92000002,null,null,206786129.37,4,"11"]
[null,null,"2022-06-01","840",0]
[null,null,"2022-06-01","872.10.02",306280554.74000001,null,null,null,306280554.74000001,17,"8750872992.63"]
[null,null,"2022-06-01","872.10.12",8838.44,null,null,null,8838.44,11,"0.00"]
[null,null,"2022-06-01","872.20.10",1198307.6000000001,null,null,null,1198307.6000000001,11,"0.00"]
[null,null,"2022-06-01","872.30.05",2509691230.1399999,null,null,null,2509691230.1399999,14,"1138084417.70"]
[null,null,"2022-06-01","891.10.10.01",59090622.890000001,null,null,null,0.01,54,"01"]
[null,null,"2022-06-01","891.20.10.01",319368783.13999999,null,null,null,11096939.279999999,83,"BRL"]
[null,null,"2022-06-01","910",1730595786.96]
[null,null,"2022-06-01","958",0]
[null,null,"2022-09-01","111.92.02",184992174.34,184992174.34,25199154,-120123459.97]
[null,null,"2022-09-01","111.94.08.03",135095760.13999999]
[null,null,"2022-09-01","120.01.01",1183373105.53,1224086109.0599999,90981012,1122303600.24]
[null,null,"2022-09-01","142.08",4267625959.02,null,null,null,4267625959.02,2,"4267625959.02"]
[null,null,"2022-09-01","160",544192391.13]
[null,null,"2022-09-01","200.02",301933044.51999998,null,null,null,301933044.51999998,67,"2"]
[null,null,"2022-09-01","200.04",280000000,null,null,null,280000000,66,"14"]
[null,null,"2022-09-01","200.05",274523971.80000001,null,null,null,186339306.86000001,67,"2"]
[null,null,"2022-09-01","200.08",203418433.69999999,null,null,null,20000,66,"14"]
[null,null,"2022-09-01","200.09",180265817.75999999,null,null,null,180265817.75999999,63,"180265817.76"]
[null,null,"2022-09-01","200.10",170723511.25999999,null,null,null,130214633.41,66,"8"]
[null,null,"2022-09-01","200.12",149101918.03999999,null,null,null,65644102.799999997,62,"6"]
[null,null,"2022-09-01","200.12",149101918.03999999,null,null,null,112802,63,"112802.00"]
[null,null,"2022-09-01","200.13",136577037.15000001,null,null,null,136205843.15000001,65,"0.00"]
[null,null,"2022-09-01","200.15",121880779.38,null,null,null,87484153.709999993,63,"87484153.71"]
[null,null,"2022-09-01","200.17",119753113.70999999,null,null,null,52939362.840000004,62,"6"]
[null,null,"2022-09-01","200.20",103439992.59999999,null,null,null,199420,46,"0.00"]
[null,null,"2022-09-01","510.01",0,211008975.83000001,11540009,3488748.92]
[null,null,"2022-09-01","520.02",2043198.09,2175271348.29,null,null,0,42,"99"]
[null,null,"2022-09-01","527.01",645804.09,3229020.43,null,null,645804.09,4,"11"]
[null,null,"2022-09-01","530.13",9803860.75,19295663.23,null,null,0,2,"9491810.66"]
[null,null,"2022-09-01","540",24704402.25]
[null,null,"2022-09-01","540.07",24704402.25,767586632.14999998,null,null,0,41,"004"]
[null,null,"2022-09-01","550.04",2627154531.3000002,5984280624.8999996,null,null,1462288506.6199999,42,"99"]
[null,null,"2022-09-01","550.05",8181992.9299999997,14735810.32,null,null,5670861.2199999997,4,"11"]
[null,null,"2022-09-01","550.13",14788946374.370001,21282268574.299999,16130108,9678356.6600000001]
[null,null,"2022-09-01","550.13",14788946374.370001,21282268574.299999,null,null,0,42,"121"]
[null,null,"2022-09-01","570.09",30210029.940000001,30210029.940000001,null,null,30210029.940000001,2,"30210029.94"]
[null,null,"2022-09-01","570.10",1571164882.3699999,2681388508.0700002,null,null,1543001324.4200001,2,"1543001324.42"]
[null,null,"2022-09-01","580",235038254.56999999,235038254.56999999,19880905,1224]
[null,null,"2022-09-01","590.10",544192391.13,729184565.47000003,25199154,-120123459.97]
[null,null,"2022-09-01","600.06",0,3965403192.5100002,null,null,0,45,"999"]
[null,null,"2022-09-01","605.06",0,514162804.58999997,30986204,76800]
[null,null,"2022-09-01","630.01",617049209.49000001,475132715.35000002,null,null,74303441.829999998,43,"99"]
[null,null,"2022-09-01","630.01",617049209.49000001,475132715.35000002,null,null,205006367.31,45,"999"]
[null,null,"2022-09-01","840.02",0]
[null,null,"2022-09-01","872.10.09",58724008.030000001,null,null,null,58724008.030000001,11,"0.00"]
[null,null,"2022-09-01","872.20.08",-7863469.3300000001,null,null,null,-7863469.3300000001,11,"1404934.46"]
[null,null,"2022-09-01","872.30.10",-4592399.3499999996,null,null,null,-4592399.3499999996,12,"1744163.04"]
[null,null,"2022-09-01","891.10.10.01",434999240.56,null,null,null,0,83,"BRL"]
[null,null,"2022-09-01","891.10.20.01",-841849015,null,null,null,2323175.9,83,"BRL"]
[null,null,"2022-09-01","891.20.20.01",-413540859.48000002,null,null,null,-1213254.8999999999,54,"05"]
[null,null,"2022-09-01","911",2089050923.3399999]
[]
[]
[]
[]
[]
[]
[]
[]
[]
[]
[]
[]
[]
[]
[]
[]
[]
[]
[]
[]
[]
[]
[]
[]
[]
[]
[]
[]
[]
[]
[]
[]
[]
[]
[]
[]
[]
[]
[]
[]
[]
[]
[]
[]
[]
[]
[]
[]
[]
[]
[]
[]
[]
[]
[]
[]
[]
[]
[]
[]
[]
[]
[]
[]
[]
[]
[]
[]
[]
[]
[]
[]
[]
[]
[]
[]
[]
[]
[]
[]
[]
[]
[]
[]
[]
[]
[]
[]
[]
[]
[]
[]
[]
[]
[]
[]
[]
[]
[null,null,"2023-06-01","111.94.10.01",179622831.69999999,179622831.69999999,30984309,2582541.21]
[null,null,"2023-06-01","120.01.01",1413690516.78,1577570989.1600001,null,null,32523885.940000001,3,"03"]
[null,null,"2023-06-01","142.02",442957251.62]
[null,null,"2023-06-01","160",411927888.91000003]
[null,null,"2023-06-01","200.02",399322673.75999999,null,null,null,750219.64,63,"750219.64"]
[null,null,"2023-06-01","200.02",399322673.75999999,null,null,null,174042814.25999999,68,"1"]
[null,null,"2023-06-01","200.03",314631016.54000002,null,null,null,124999294.26000001,67,"2"]
[null,null,"2023-06-01","200.04",301933044.51999998,null,null,null,301933044.51999998,64,"0.00"]
[null,null,"2023-06-01","200.06",281652738.56,null,null,null,50000000,67,"2"]
[null,null,"2023-06-01","200.08",230201370.03999999,null,null,null,117457.11,66,"14"]
[null,null,"2023-06-01","200.09",221335742.44,null,null,null,147124207.44,46,"-6.80"]
[null,null,"2023-06-01","200.10",209781425.25,null,null,null,9503.98,63,"9503.98"]
[null,null,"2023-06-01","200.10",209781425.25,null,null,null,9503.98,65,"0.00"]
[null,null,"2023-06-01","200.12",191611724.03999999,null,null,null,36339576.920000002,62,"6"]
[null,null,"2023-06-01","200.14",168229139.34,null,null,null,340550.41,62,"6"]
[null,null,"2023-06-01","200.14",168229139.34,null,null,null,50426321.18,65,"0.00"]
[null,null,"2023-06-01","200.15",150000110.18000001,null,null,null,100000110.18000001,62,"6"]
[null,null,"2023-06-01","200.16",144964869.11000001,null,null,null,58711.14,46,"0.00"]
[null,null,"2023-06-01","200.17",132664465.42,null,null,null,100000,66,"14"]
[null,null,"2023-06-01","200.18",131093973.09999999,null,null,null,130776773.02,46,"0.00"]
[null,null,"2023-06-01","200.19",125244287.41,null,null,null,76201999.469999999,68,"1"]
[null,null,"2023-06-01","510.01",0,191665359.00999999,null,null,0,2,"186940584.17"]
[null,null,"2023-06-01","520.02",1133950.5900000001,1389761876.1900001,null,null,1133950.5900000001,4,"21"]
[null,null,"2023-06-01","527.01",256894.41,1284472.07,null,null,256894.41,45,"020"]
[null,null,"2023-06-01","530.13",33796760.560000002,17637284.800000001,null,null,6201937.04,45,"999"]
[null,null,"2023-06-01","530.20",224550000,1560344229.55,null,null,0,42,"99"]
[null,null,"2023-06-01","540.07",23782344.34,1211838676.9400001,null,null,22834949.73,43,"99"]
[null,null,"2023-06-01","545",0,945000,null,null,0,41,"999"]
[null,null,"2023-06-01","550.04",3575558196.8400002,7731073158.8500004,null,null,775205585,45,"999"]
[null,null,"2023-06-01","550.05",15373082.48,31599244.25,null,null,4523831.42,43,"99"]
[null,null,"2023-06-01","550.13",16363834820.110001,23445901799.75,null,null,291272217.81,2,"342673197.42"]
[null,null,"2023-06-01","550.13",16363834820.110001,23445901799.75,null,null,4817556.32,2,"9635112.64"]
[null,null,"2023-06-01","570.06",970327189.5,1287669059.97,null,null,952025611.39999998,43,"99"]
[null,null,"2023-06-01","570.10",1028534683.88,2767694956.6199999,null,null,0,4,"11"]
[null,null,"2023-06-01","580",245717280.84999999,245717280.84999999,19898306,-15353901.77]
[null,null,"2023-06-01","590.10",411927888.91000003,580956122.39999998,22520001,4615843.04]
[null,null,"2023-06-01","600",0]
[null,null,"2023-06-01","605.06",0,1334610248.8699999,30986101,429137650.37]
[null,null,"2023-06-01","620.09",684111.86,1368223.72,null,null,684111.86,45,"999"]
[null,null,"2023-06-01","800.01",7365800.0300000003]
[null,null,"2023-06-01","840.02",0]
[null,null,"2023-06-01","872.10.10",1198307.6000000001,null,null,null,1198307.6000000001,12,"1198307.60"]
[null,null,"2023-06-01","872.20.11",11661110.26,null,null,null,11661110.26,16,"0.00"]
[null,null,"2023-06-01","872.30.11",16728657.98,null,null,null,16728657.98,12,"16728657.98"]
[null,null,"2023-06-01","891.10.10.01",457757357.24000001,null,null,null,-3112265.6,54,"09"]
[null,null,"2023-06-01","891.20.10.01",475977203.63,null,null,null,504872917.72000003,83,"BRL"]
[null,null,"2023-06-01","891.20.20.01",-477310907.38999999,null,null,null,-215914.7,83,"BRL"]
[null,null,"2023-06-01","959",0]
[null,null,"2023-03-01","104",1738745463.26]
[null,null,"2023-03-01","111.92.02",178530808.88,178530808.88,25199408,-88335370.379999995]
[null,null,"2023-03-01","142.01",215709598.03,null,null,null,215709598.03,43,"99"]
[null,null,"2023-03-01","145.03",8474086.7799999993]
[null,null,"2023-03-01","146.01.03",2073836.16,null,null,null,2073836.16,43,"99"]
[null,null,"2023-03-01","200.01",402738923.17000002,null,null,null,402738923.17000002,67,"2"]
[null,null,"2023-03-01","200.02",341389787.00999999,null,null,null,72622565.129999995,66,"8"]
[null,null,"2023-03-01","200.04",300506133.04000002,null,null,null,129251409.73999999,68,"1"]
[null,null,"2023-03-01","200.06",247336299.59,null,null,null,48934814.539999999,66,"21"]
[null,null,"2023-03-01","200.07",231355298.66999999,null,null,null,67834.89,65,"0.00"]
[null,null,"2023-03-01","200.08",209534362.52000001,null,null,null,85934774.159999996,65,"0.00"]
[null,null,"2023-03-01","200.08",209534362.52000001,null,null,null,22000,65,"0.00"]
[null,null,"2023-03-01","200.11",166544409.59,null,null,null,35000,64,"0.00"]
[null,null,"2023-03-01","200.11",166544409.59,null,null,null,60136750.140000001,66,"1"]
[null,null,"2023-03-01","200.13",161309813.16,null,null,null,15873102.26,46,"0.00"]
[null,null,"2023-03-01","200.13",161309813.16,null,null,null,26996461.5,63,"26996461.50"]
[null,null,"2023-03-01","200.15",140299075.38,null,null,null,27995584.73,63,"27995584.73"]
[null,null,"2023-03-01","200.16",135438498.86000001,null,null,null,5347578.42,68,"1"]
[null,null,"2023-03-01","200.16",135438498.86000001,null,null,null,35585041.990000002,62,"6"]
[null,null,"2023-03-01","200.17",132982618.26000001,null,null,null,50000,68,"1"]
[null,null,"2023-03-01","200.18",126095918.34999999,null,null,null,126085918.34999999,62,"6"]
[null,null,"2023-03-01","200.20",120240046.28,null,null,null,30448734.760000002,67,"2"]
[null,null,"2023-03-01","510.01",0,210934725.28,11110006,205263164.59999999]
[null,null,"2023-03-01","520.02",1694817.36,1994784230.3900001,null,null,0,45,"010"]
[null,null,"2023-03-01","526.01",63578730.520000003,139663018.09,null,null,59410211.5,4,"11"]
[null,null,"2023-03-01","540.07",24660682.789999999,749588716.52999997,14233100,412090355.08999997]
[null,null,"2023-03-01","540.07",24660682.789999999,749588716.52999997,null,null,22602140.98,43,"99"]
[null,null,"2023-03-01","550.04",3203416812.0300002,7080167750.1999998,16430107,5655931908.0600004]
[null,null,"2023-03-01","550.04",3203416812.0300002,7080167750.1999998,null,null,99421787.109999999,43,"99"]
[null,null,"2023-03-01","550.05",14967646.23,35446951.409999996,null,null,9041745.2100000009,41,"039"]
[null,null,"2023-03-01","550.13",15969623571.5,23050137705.48,null,null,1713575843.28,4,"11"]
[null,null,"2023-03-01","550.13",15969623571.5,23050137705.48,null,null,2745077947.3699999,43,"99"]
[null,null,"2023-03-01","550.13",15969623571.5,23050137705.48,null,null,9829152844.1599998,2,"13105537125.54"]
[null,null,"2023-03-01","570.09",9870314.1099999994,9870314.1099999994,null,null,9870314.1099999994,42,"99"]
[null,null,"2023-03-01","580",255390307.74000001,255390307.74000001,19880204,17289511.289999999]
[null,null,"2023-03-01","590.10",622311770.08000004,800842578.96000004,22560102,7216273.1699999999]
[null,null,"2023-03-01","590.10",622311770.08000004,800842578.96000004,22560205,23971901.010000002]
[null,null,"2023-03-01","605.06",0,1148248219.6800001,30980004,707491720.00999999]
[null,null,"2023-03-01","630",667970771.39999998]
[null,null,"2023-03-01","630.01",667970771.39999998,417903834.47000003,null,null,170875571.06,43,"99"]
[null,null,"2023-03-01","830.02",0]
[null,null,"2023-03-01","872.10.10",1198307.6000000001,null,null,null,1198307.6000000001,12,"1198307.60"]
[null,null,"2023-03-01","872.20.10",-1454659.94,null,null,null,-1454659.94,16,"0.00"]
[null,null,"2023-03-01","872.20.11",11661110.26,null,null,null,11661110.26,11,"0.00"]
[null,null,"2023-03-01","891.10.10.01",538021425.94000006,null,null,null,-867230292.45000005,54,"07"]
[null,null,"2023-03-01","891.20.10.01",401343652.29000002,null,null,null,479705347.32999998,54,"01"]
[null,null,"2023-03-01","891.20.20",45951.68]
[null,null,"2023-03-01","920.02",372314187.23000002]
[]
[]
[]
[]
[]
[]
[]
[]
[]
[]
[]
[]
[]
[]
[]
[]
[]
[]
[]
[]
[]
[]
[]
[]
[]
[]
[]
[]
[]
[]
[]
[]
[]
[]
[]
[]
[]
[]
[]
[]
[]
[]
[]
[]
[]
[]
[]
[]
[]
[]
[]
[]
[]
[null,null,"2023-09-01","111.03",89765561.230000004,-89765561.230000004,61610202,-109280.72]
[null,null,"2023-09-01","120.01.01",1436031790.1900001,1637759711.22,90981012,858818213.49000001]
[null,null,"2023-09-01","142.08",4837795466.2799997,null,null,null,4837795466.2799997,2,"4837795466.28"]
[null,null,"2023-09-01","145.03.02",4465120.22,null,null,null,4465120.22,43,"99"]
[null,null,"2023-09-01","177",0,null,null,null,0,61,"7"]
[null,null,"2023-09-01","200.03",390446069.37,null,null,null,750198.97,68,"1"]
[null,null,"2023-09-01","200.04",335640000,null,null,null,335640000,66,"1"]
[null,null,"2023-09-01","200.05",310732509.88999999,null,null,null,73159785.329999998,68,"1"]
[null,null,"2023-09-01","200.08",281437093.04000002,null,null,null,50000000,65,"0.00"]
[null,null,"2023-09-01","200.09",246349555.28,null,null,null,63389519.109999999,65,"0.00"]
[null,null,"2023-09-01","200.09",246349555.28,null,null,null,63389519.109999999,67,"2"]
[null,null,"2023-09-01","200.11",232425354.77000001,null,null,null,1337566.8,66,"18"]
[null,null,"2023-09-01","200.13",209132278.25999999,null,null,null,6420953.96,64,"0.00"]
[null,null,"2023-09-01","200.14",192801456.30000001,null,null,null,30876560.670000002,63,"30876560.67"]
[null,null,"2023-09-01","200.15",173808870.28,null,null,null,173808870.28,63,"173808870.28"]
[null,null,"2023-09-01","200.16",171389713.83000001,null,null,null,80456950.709999993,63,"80456950.71"]
[null,null,"2023-09-01","200.17",167754865.30000001,null,null,null,29270582.760000002,65,"0.00"]
[null,null,"2023-09-01","200.19",142341620.75,null,null,null,187203.1,68,"1"]
[null,null,"2023-09-01","200.19",142341620.75,null,null,null,62860576.890000001,62,"6"]
[null,null,"2023-09-01","510.03",715068.9,1787672.24,null,null,712868.51,41,"22070040"]
[null,null,"2023-09-01","520.02",893024.04,1109850239.1400001,null,null,0,4,"21"]
[null,null,"2023-09-01","526.01",207566294.31,558116130.21000004,null,null,191886136.53999999,4,"11"]
[null,null,"2023-09-01","530.20",344050170.52999997,6361930032.0699997,null,null,0,4,"11"]
[null,null,"2023-09-01","530.50",34448150.990000002,20629392.149999999,null,null,7029302.7199999997,2,"7029302.72"]
[null,null,"2023-09-01","540.07",27887094.739999998,1163626482.75,null,null,23512236.449999999,45,"999"]
[null,null,"2023-09-01","540.08",2392000,2392000,null,null,2392000,42,"99"]
[null,null,"2023-09-01","550.13",16495738742.99,23174281655.810001,16305201,55287626.719999999]
[null,null,"2023-09-01","550.13",16495738742.99,23174281655.810001,null,null,0,41,"44000100"]
[null,null,"2023-09-01","550.13",16495738742.99,23174281655.810001,null,null,253742.17,42,"168"]
[null,null,"2023-09-01","550.13",16495738742.99,23174281655.810001,null,null,664370922.79999995,4,"11"]
[null,null,"2023-09-01","550.20",2802053626.6799998,8275647726.9899998,16120606,111581256.67]
[null,null,"2023-09-01","550.20",2802053626.6799998,8275647726.9899998,null,null,693664659.36000001,42,"99"]
[null,null,"2023-09-01","550.20",2802053626.6799998,8275647726.9899998,null,null,242677288.28,45,"999"]
[null,null,"2023-09-01","550.21",669253247.61000001,734440638.33000004,16345151,8862278.7100000009]
[null,null,"2023-09-01","570",2230370303.8499999]
[null,null,"2023-09-01","570.06",985168942.63999999,1364204966.71,null,null,35470.089999999997,41,"93020100"]
[null,null,"2023-09-01","570.10",1245201361.22,3063460312.0700002,18892004,263029567.93000001]
[null,null,"2023-09-01","570.10",1245201361.22,3063460312.0700002,null,null,4999444.3099999996,41,"22040030"]
[null,null,"2023-09-01","590.10",564256843.71000004,836843535.80999994,25199051,-8133355.0300000003]
[null,null,"2023-09-01","590.10",564256843.71000004,836843535.80999994,null,null,564256843.71000004,42,"99"]
[null,null,"2023-09-01","605.05",627942625.75,1077402758.5,null,null,178387374.59,42,"99"]
[null,null,"2023-09-01","620.06",0,668931,null,null,0,45,"999"]
[null,null,"2023-09-01","630.01",781572205.90999997,505374559.77999997,null,null,0,2,"886342.43"]
[null,null,"2023-09-01","840",0]
[null,null,"2023-09-01","872",144876440.13999999]
[null,null,"2023-09-01","872.10.09",61441443.280000001,null,null,null,61441443.280000001,12,"81406142.88"]
[null,null,"2023-09-01","872.20.08",23439076.690000001,null,null,null,23439076.690000001,16,"0.00"]
[null,null,"2023-09-01","872.30.08",42113.42,null,null,null,42113.42,12,"0.00"]
[null,null,"2023-09-01","891.10.10.01",770919611.89999998,null,null,null,1665711795.0599999,83,"BRL"]
[null,null,"2023-09-01","891.10.20.01",-1166821919.9300001,null,null,null,51618.61,54,"08"]
[null,null,"2023-09-01","900",26850877388.23]
[null,null,"2023-09-01","954",157230060.08000001]
[]
[]
[]
[]
[]
[]
[]
[]
[]
[]
[]
[]
[]
[]
[]
[]
[]
[]
[]
[]
[]
[]
[]
[]
[]
[]
[]
[]
[]
[]
[]
[]
[]
[]
[]
[]
[]
[]
[]
[]
[]
[]
[]
[]
[]
[]
[]
[]
[]
[]
[]
[]
[]
[]
[]
[]
[]
[]
[]
[]
[]
[]
[]
[]
[]
[]
[]
[]
[]
[]
[]
[]
[]
[]
[]
[]
[]
[]
[]
[]
[]
[]
[]
[]
[]
[]
[]
[]
[]
[]
[]
[]
[]
[]
[]
[]
[]
[]
[]
[]
[]
[]
[]
[]
[]
[]
[]
[]
[]
[]
[]
[]
[]
[]
[]
[]
[]
[]
[]
[]
[]
[]
[]
[]
[]
[]
[]
[]
[]
[]
[]
[]
[]
[]
[]
[]
[]
[]
[]
[]
[]
[]
[]
[]
[]
[]
[]
[]
[]
[]
[]
[]
[]
[]
[]
[]
[]
[]
[]
[]
[]
[]
[]
[]
[]
[]
[]
[]
[]
[]
[]
[]
[]
[]
[]
[]
[]
[]
[]
[]
[]
[]
[]
[]
[]
[]
[]
[]
[]
[]
[]
[]
[]
[]
[]
[]
[]
[]
[]
[]
[]
[]
[]
[]
[]
[]
[]
[null,null,"2023-12-01","111.92.02",266795337.00999999,266795337.00999999,25199408,-23524122.469999999]
[null,null,"2023-12-01","111.94.10.01",146656434.47999999,146656434.47999999,30984299,43354060.100000001]
[null,null,"2023-12-01","142.02.01",1081334829.8900001,null,null,null,1081334829.8900001,43,"99"]
[null,null,"2023-12-01","146.02.03",0,null,null,null,0,43,"78"]
[null,null,"2023-12-01","160",636831459.42999995]
[null,null,"2023-12-01","200.02",394592614.76999998,null,null,null,394592614.76999998,65,"0.00"]
[null,null,"2023-12-01","200.03",375461562.37,null,null,null,74718302.540000007,65,"0.00"]
[null,null,"2023-12-01","200.05",301128043.56,null,null,null,71254723.299999997,64,"0.00"]
[null,null,"2023-12-01","200.06",299441733.56999999,null,null,null,55108487.460000001,62,"6"]
[null,null,"2023-12-01","200.09",280031932.19999999,null,null,null,87379861.049999997,64,"0.00"]
[null,null,"2023-12-01","200.10",225438512.63999999,null,null,null,1458035.95,63,"1458035.95"]
[null,null,"2023-12-01","200.12",213095340.88999999,null,null,null,2045303.18,67,"2"]
[null,null,"2023-12-01","200.13",211418076.74000001,null,null,null,108610661.18000001,63,"108610667.52"]
[null,null,"2023-12-01","200.14",204545160.41,null,null,null,137259217.36000001,62,"6"]
[null,null,"2023-12-01","200.16",193010791.87,null,null,null,48378711.840000004,64,"0.00"]
[null,null,"2023-12-01","200.17",183327035.12,null,null,null,103800028.95999999,67,"2"]
[null,null,"2023-12-01","200.19",171506529.59,null,null,null,94402587.049999997,63,"94402587.05"]
[null,null,"2023-12-01","200.19",171506529.59,null,null,null,70936,67,"2"]
[null,null,"2023-12-01","200.20",168988878.84,null,null,null,1925560.92,66,"18"]
[null,null,"2023-12-01","510.01",0,186594100.47,null,null,0,42,"99"]
[null,null,"2023-12-01","520.02",1696519.07,1953428740.5999999,null,null,0,41,"10000000"]
[null,null,"2023-12-01","526.01",348304211.81999999,1070566267.04,null,null,90086624.099999994,4,"11"]
[null,null,"2023-12-01","530.20",338754622.88,5950019605.8999996,null,null,0,45,"999"]
[null,null,"2023-12-01","530.50",11676296.9,9616414.4700000007,null,null,3867181.38,43,"99"]
[null,null,"2023-12-01","540.08",7016000,7016000,15250003,7016000]
[null,null,"2023-12-01","550.13",16629863073.16,23373353102.830002,16305108,31798553.25]
[null,null,"2023-12-01","550.13",16629863073.16,23373353102.830002,null,null,0,42,"121"]
[null,null,"2023-12-01","550.13",16629863073.16,23373353102.830002,null,null,1777747932.21,42,"168"]
[null,null,"2023-12-01","550.13",16629863073.16,23373353102.830002,null,null,3814626.5,4,"11"]
[null,null,"2023-12-01","550.13",16629863073.16,23373353102.830002,null,null,0,42,"122"]
[null,null,"2023-12-01","550.20",3068007462.3000002,8999637170.5400009,16920002,-1265815.04]
[null,null,"2023-12-01","550.20",3068007462.3000002,8999637170.5400009,null,null,824679115.27999997,41,"34000050"]
[null,null,"2023-12-01","550.20",3068007462.3000002,8999637170.5400009,null,null,60425306.25,2,"60425306.25"]
[null,null,"2023-12-01","550.21",666632057.25999999,724496839.65999997,null,null,173594347.19,2,"231459129.58"]
[null,null,"2023-12-01","570.06",1116698568.6500001,1523617486.77,null,null,1027253123.8,2,"1369670831.73"]
[null,null,"2023-12-01","570.06",1116698568.6500001,1523617486.77,null,null,1027253123.8,4,"11"]
[null,null,"2023-12-01","570.06",1116698568.6500001,1523617486.77,null,null,1027253123.8,41,"40000075"]
[null,null,"2023-12-01","570.06",1116698568.6500001,1523617486.77,null,null,1027253123.8,42,"99"]
[null,null,"2023-12-01","570.06",1116698568.6500001,1523617486.77,null,null,1027253123.8,43,"99"]
[null,null,"2023-12-01","570.06",1116698568.6500001,1523617486.77,null,null,1027253123.8,45,"999"]
[null,null,"2023-12-01","570.06",1116698568.6500001,1523617486.77,null,null,56267186.32,2,"125038191.83"]
[null,null,"2023-12-01","570.06",1116698568.6500001,1523617486.77,null,null,56267186.32,4,"11"]
[null,null,"2023-12-01","570.06",1116698568.6500001,1523617486.77,null,null,56267186.32,41,"40020045"]
[null,null,"2023-12-01","570.06",1116698568.6500001,1523617486.77,null,null,56267186.32,42,"99"]
[null,null,"2023-12-01","570.06",1116698568.6500001,1523617486.77,null,null,56267186.32,43,"99"]
[null,null,"2023-12-01","570.06",1116698568.6500001,1523617486.77,null,null,56267186.32,45,"999"]
[null,null,"2023-12-01","570.06",1116698568.6500001,1523617486.77,null,null,23203.59,2,"46407.17"]
[null,null,"2023-12-01","570.06",1116698568.6500001,1523617486.77,null,null,23203.59,4,"11"]
[null,null,"2023-12-01","570.06",1116698568.6500001,1523617486.77,null,null,23203.59,41,"93000050"]
[null,null,"2023-12-01","570.06",1116698568.6500001,1523617486.77,null,null,23203.59,42,"99"]
[null,null,"2023-12-01","570.06",1116698568.6500001,1523617486.77,null,null,23203.59,43,"99"]
[null,null,"2023-12-01","570.06",1116698568.6500001,1523617486.77,null,null,23203.59,45,"999"]
[null,null,"2023-12-01","570.06",1116698568.6500001,1523617486.77,null,null,20143765.289999999,2,"20143765.29"]
[null,null,"2023-12-01","570.06",1116698568.6500001,1523617486.77,null,null,20143765.289999999,4,"11"]
[null,null,"2023-12-01","570.06",1116698568.6500001,1523617486.77,null,null,20143765.289999999,41,"44000100"]
[null,null,"2023-12-01","570.06",1116698568.6500001,1523617486.77,null,null,20143765.289999999,42,"99"]
[null,null,"2023-12-01","570.06",1116698568.6500001,1523617486.77,null,null,20143765.289999999,43,"99"]
[null,null,"2023-12-01","570.06",1116698568.6500001,1523617486.77,null,null,20143765.289999999,45,"999"]
[null,null,"2023-12-01","570.10",1313296042.46,3221158616.96,18360000,20110856.789999999]
[null,null,"2023-12-01","570.10",1313296042.46,3221158616.96,19880204,36849633.82]
[null,null,"2023-12-01","570.10",1313296042.46,3221158616.96,19910002,85945361.180000007]
[null,null,"2023-12-01","570.10",1313296042.46,3221158616.96,18840056,1105992501.0899999]
[null,null,"2023-12-01","570.10",1313296042.46,3221158616.96,18840207,26588288.559999999]
[null,null,"2023-12-01","570.10",1313296042.46,3221158616.96,19870300,97014.82]
[null,null,"2023-12-01","570.10",1313296042.46,3221158616.96,18590007,12633.45]
[null,null,"2023-12-01","570.10",1313296042.46,3221158616.96,18430002,340208.02]
[null,null,"2023-12-01","570.10",1313296042.46,3221158616.96,18870002,29857658.039999999]
[null,null,"2023-12-01","570.10",1313296042.46,3221158616.96,18845109,102797244.59]
[null,null,"2023-12-01","570.10",1313296042.46,3221158616.96,18845305,1465209.32]
[null,null,"2023-12-01","570.10",1313296042.46,3221158616.96,19898203,-1036835.39]
[null,null,"2023-12-01","570.10",1313296042.46,3221158616.96,19840103,15873258.84]
[null,null,"2023-12-01","570.10",1313296042.46,3221158616.96,18380004,506848.43]
[null,null,"2023-12-01","570.10",1313296042.46,3221158616.96,18885004,33305616.260000002]
[null,null,"2023-12-01","570.10",1313296042.46,3221158616.96,18999206,-8081787.9699999997]
[null,null,"2023-12-01","570.10",1313296042.46,3221158616.96,18845903,7513177.5800000001]
[null,null,"2023-12-01","570.10",1313296042.46,3221158616.96,19880101,367413.8]
[null,null,"2023-12-01","570.10",1313296042.46,3221158616.96,18865990,50870932.439999998]
[null,null,"2023-12-01","570.10",1313296042.46,3221158616.96,19880307,140925051.22]
[null,null,"2023-12-01","570.10",1313296042.46,3221158616.96,18805008,8554398.8200000003]
[null,null,"2023-12-01","570.10",1313296042.46,3221158616.96,18840159,1969453.36]
[null,null,"2023-12-01","570.10",1313296042.46,3221158616.96,18892004,226902818]
[null,null,"2023-12-01","570.10",1313296042.46,3221158616.96,18390001,17955308.969999999]
[null,null,"2023-12-01","570.10",1313296042.46,3221158616.96,19898306,-15541698.73]
[null,null,"2023-12-01","570.10",1313296042.46,3221158616.96,19880905,1224]
[null,null,"2023-12-01","570.10",1313296042.46,3221158616.96,18878059,1255795608.0899999]
[null,null,"2023-12-01","570.10",1313296042.46,3221158616.96,18845202,22005684.32]
[null,null,"2023-12-01","570.10",1313296042.46,3221158616.96,18840908,38373576.380000003]
[null,null,"2023-12-01","570.10",1313296042.46,3221158616.96,19899006,-116876.88]
[null,null,"2023-12-01","570.10",1313296042.46,3221158616.96,18803000,6777148.2999999998]
[null,null,"2023-12-01","570.10",1313296042.46,3221158616.96,18370007,40245913.439999998]
[null,null,"2023-12-01","570.10",1313296042.46,3221158616.96,18878066,-32064226]
[null,null,"2023-12-01","570.10",1313296042.46,3221158616.96,null,null,20833573.539999999,2,"52083933.85"]
[null,null,"2023-12-01","570.10",1313296042.46,3221158616.96,null,null,20833573.539999999,4,"11"]
[null,null,"2023-12-01","570.10",1313296042.46,3221158616.96,null,null,20833573.539999999,41,"22070040"]
[null,null,"2023-12-01","570.10",1313296042.46,3221158616.96,null,null,20833573.539999999,42,"99"]
[null,null,"2023-12-01","570.10",1313296042.46,3221158616.96,null,null,20833573.539999999,43,"99"]
[null,null,"2023-12-01","570.10",1313296042.46,3221158616.96,null,null,20833573.539999999,45,"999"]
[null,null,"2023-12-01","570.10",1313296042.46,3221158616.96,null,null,660110449.53999996,2,"660110449.54"]
[null,null,"2023-12-01","570.10",1313296042.46,3221158616.96,null,null,660110449.53999996,4,"11"]
[null,null,"2023-12-01","570.10",1313296042.46,3221158616.96,null,null,660110449.53999996,41,"44000100"]
[null,null,"2023-12-01","570.10",1313296042.46,3221158616.96,null,null,660110449.53999996,42,"99"]
[null,null,"2023-12-01","570.10",1313296042.46,3221158616.96,null,null,660110449.53999996,43,"99"]
[null,null,"2023-12-01","570.10",1313296042.46,3221158616.96,null,null,660110449.53999996,45,"999"]
[null,null,"2023-12-01","570.10",1313296042.46,3221158616.96,null,null,627897804.03999996,2,"1255795608.09"]
[null,null,"2023-12-01","570.10",1313296042.46,3221158616.96,null,null,627897804.03999996,4,"11"]
[null,null,"2023-12-01","570.10",1313296042.46,3221158616.96,null,null,627897804.03999996,41,"44000100"]
[null,null,"2023-12-01","570.10",1313296042.46,3221158616.96,null,null,627897804.03999996,42,"304"]
[null,null,"2023-12-01","570.10",1313296042.46,3221158616.96,null,null,627897804.03999996,43,"99"]
[null,null,"2023-12-01","570.10",1313296042.46,3221158616.96,null,null,627897804.03999996,45,"999"]
[null,null,"2023-12-01","570.10",1313296042.46,3221158616.96,null,null,4454215.34,2,"14847384.45"]
[null,null,"2023-12-01","570.10",1313296042.46,3221158616.96,null,null,4454215.34,4,"11"]
[null,null,"2023-12-01","570.10",1313296042.46,3221158616.96,null,null,4454215.34,41,"22040030"]
[null,null,"2023-12-01","570.10",1313296042.46,3221158616.96,null,null,4454215.34,42,"99"]
[null,null,"2023-12-01","570.10",1313296042.46,3221158616.96,null,null,4454215.34,43,"99"]
[null,null,"2023-12-01","570.10",1313296042.46,3221158616.96,null,null,4454215.34,45,"999"]
[null,null,"2023-12-01","570.10",1313296042.46,3221158616.96,null,null,0,2,"1238321241.03"]
[null,null,"2023-12-01","570.10",1313296042.46,3221158616.96,null,null,0,4,"11"]
[null,null,"2023-12-01","570.10",1313296042.46,3221158616.96,null,null,0,41,"10000000"]
[null,null,"2023-12-01","570.10",1313296042.46,3221158616.96,null,null,0,42,"99"]
[null,null,"2023-12-01","570.10",1313296042.46,3221158616.96,null,null,0,43,"99"]
[null,null,"2023-12-01","570.10",1313296042.46,3221158616.96,null,null,0,45,"999"]
[null,null,"2023-12-01","590",636831459.42999995]
[null,null,"2023-12-01","590.10",636831459.42999995,903626796.44000006,25105100,82852372]
[null,null,"2023-12-01","590.10",636831459.42999995,903626796.44000006,22530204,128438252.45]
[null,null,"2023-12-01","590.10",636831459.42999995,903626796.44000006,22510200,7233703.1799999997]
[null,null,"2023-12-01","590.10",636831459.42999995,903626796.44000006,25199408,-23524122.469999999]
[null,null,"2023-12-01","590.10",636831459.42999995,903626796.44000006,25115200,89992131.780000001]
[null,null,"2023-12-01","590.10",636831459.42999995,903626796.44000006,25199051,-12169901.73]
[null,null,"2023-12-01","590.10",636831459.42999995,903626796.44000006,22599506,-3983560.16]
[null,null,"2023-12-01","590.10",636831459.42999995,903626796.44000006,25140000,27525357.030000001]
[null,null,"2023-12-01","590.10",636831459.42999995,903626796.44000006,21210219,319716267.00999999]
[null,null,"2023-12-01","590.10",636831459.42999995,903626796.44000006,25135008,173331041.24000001]
[null,null,"2023-12-01","590.10",636831459.42999995,903626796.44000006,21999004,-164064.97]
[null,null,"2023-12-01","590.10",636831459.42999995,903626796.44000006,22530905,13406251.529999999]
[null,null,"2023-12-01","590.10",636831459.42999995,903626796.44000006,22550002,66363932.630000003]
[null,null,"2023-12-01","590.10",636831459.42999995,903626796.44000006,22599403,-703889.8]
[null,null,"2023-12-01","590.10",636831459.42999995,903626796.44000006,21990003,5040247.9800000004]
[null,null,"2023-12-01","590.10",636831459.42999995,903626796.44000006,22510107,30201677.960000001]
[null,null,"2023-12-01","590.10",636831459.42999995,903626796.44000006,22560102,7216273.1699999999]
[null,null,"2023-12-01","590.10",636831459.42999995,903626796.44000006,25115107,49587044.509999998]
[null,null,"2023-12-01","590.10",636831459.42999995,903626796.44000006,22530307,16754864.91]
[null,null,"2023-12-01","590.10",636831459.42999995,903626796.44000006,22590000,227271.75]
[null,null,"2023-12-01","590.10",636831459.42999995,903626796.44000006,22520001,4615843.04]
[null,null,"2023-12-01","590.10",636831459.42999995,903626796.44000006,22505105,3281368.56]
[null,null,"2023-12-01","590.10",636831459.42999995,903626796.44000006,25199154,-45410081.560000002]
[null,null,"2023-12-01","590.10",636831459.42999995,903626796.44000006,25199350,-75388503.790000007]
[null,null,"2023-12-01","590.10",636831459.42999995,903626796.44000006,22540005,703890]
[null,null,"2023-12-01","590.10",636831459.42999995,903626796.44000006,22530101,34310510.539999999]
[null,null,"2023-12-01","590.10",636831459.42999995,903626796.44000006,22510901,122673811.58]
[null,null,"2023-12-01","590.10",636831459.42999995,903626796.44000006,22599609,-17781898.84]
[null,null,"2023-12-01","590.10",636831459.42999995,903626796.44000006,22599207,-4401686.5999999996]
[null,null,"2023-12-01","590.10",636831459.42999995,903626796.44000006,22560205,24613536.539999999]
[null,null,"2023-12-01","590.10",636831459.42999995,903626796.44000006,22599908,-65411.11]
[null,null,"2023-12-01","590.10",636831459.42999995,903626796.44000006,22599300,-127492112.31]
[null,null,"2023-12-01","590.10",636831459.42999995,903626796.44000006,22505208,6626380.3899999997]
[null,null,"2023-12-01","590.10",636831459.42999995,903626796.44000006,null,null,636831459.42999995,2,"636831459.43"]
[null,null,"2023-12-01","590.10",636831459.42999995,903626796.44000006,null,null,636831459.42999995,4,"11"]
[null,null,"2023-12-01","590.10",636831459.42999995,903626796.44000006,null,null,636831459.42999995,41,"44000100"]
[null,null,"2023-12-01","590.10",636831459.42999995,903626796.44000006,null,null,636831459.42999995,42,"99"]
[null,null,"2023-12-01","590.10",636831459.42999995,903626796.44000006,null,null,636831459.42999995,43,"99"]
[null,null,"2023-12-01","590.10",636831459.42999995,903626796.44000006,null,null,636831459.42999995,45,"999"]
[null,null,"2023-12-01","590.10",636831459.42999995,903626796.44000006,null,null,0,2,"266795337.01"]
[null,null,"2023-12-01","590.10",636831459.42999995,903626796.44000006,null,null,0,4,"37"]
[null,null,"2023-12-01","590.10",636831459.42999995,903626796.44000006,null,null,0,41,"44000100"]
[null,null,"2023-12-01","590.10",636831459.42999995,903626796.44000006,null,null,0,42,"99"]
[null,null,"2023-12-01","590.10",636831459.42999995,903626796.44000006,null,null,0,43,"99"]
[null,null,"2023-12-01","590.10",636831459.42999995,903626796.44000006,null,null,0,45,"999"]
[null,null,"2023-12-01","600",228136327.56]
[null,null,"2023-12-01","600.06",228136327.56,2976935966.48,30986204,2768080076.9499998]
[null,null,"2023-12-01","600.06",228136327.56,2976935966.48,30986101,208855889.53]
[null,null,"2023-12-01","600.06",228136327.56,2976935966.48,null,null,16001121.4,2,"160011214.03"]
[null,null,"2023-12-01","600.06",228136327.56,2976935966.48,null,null,16001121.4,4,"11"]
[null,null,"2023-12-01","600.06",228136327.56,2976935966.48,null,null,16001121.4,41,"45000100"]
[null,null,"2023-12-01","600.06",228136327.56,2976935966.48,null,null,16001121.4,42,"99"]
[null,null,"2023-12-01","600.06",228136327.56,2976935966.48,null,null,16001121.4,43,"05"]
[null,null,"2023-12-01","600.06",228136327.56,2976935966.48,null,null,16001121.4,45,"999"]
[null,null,"2023-12-01","600.06",228136327.56,2976935966.48,null,null,16001121.4,46,"0.00"]
[null,null,"2023-12-01","600.06",228136327.56,2976935966.48,null,null,3936682.14,2,"39366821.35"]
[null,null,"2023-12-01","600.06",228136327.56,2976935966.48,null,null,3936682.14,4,"11"]
[null,null,"2023-12-01","600.06",228136327.56,2976935966.48,null,null,3936682.14,41,"46000100"]
[null,null,"2023-12-01","600.06",228136327.56,2976935966.48,null,null,3936682.14,42,"99"]
[null,null,"2023-12-01","600.06",228136327.56,2976935966.48,null,null,3936682.14,43,"05"]
[null,null,"2023-12-01","600.06",228136327.56,2976935966.48,null,null,3936682.14,45,"999"]
[null,null,"2023-12-01","600.06",228136327.56,2976935966.48,null,null,3936682.14,46,"0.00"]
[null,null,"2023-12-01","600.06",228136327.56,2976935966.48,null,null,0,2,"1577211.60"]
[null,null,"2023-12-01","600.06",228136327.56,2976935966.48,null,null,0,4,"51"]
[null,null,"2023-12-01","600.06",228136327.56,2976935966.48,null,null,0,41,"45000100"]
[null,null,"2023-12-01","600.06",228136327.56,2976935966.48,null,null,0,42,"99"]
[null,null,"2023-12-01","600.06",228136327.56,2976935966.48,null,null,0,43,"05"]
[null,null,"2023-12-01","600.06",228136327.56,2976935966.48,null,null,0,45,"999"]
[null,null,"2023-12-01","600.06",228136327.56,2976935966.48,null,null,0,46,"0.00"]
[null,null,"2023-12-01","600.06",228136327.56,2976935966.48,null,null,208198524.02000001,2,"2775980320.26"]
[null,null,"2023-12-01","600.06",228136327.56,2976935966.48,null,null,208198524.02000001,4,"11"]
[null,null,"2023-12-01","600.06",228136327.56,2976935966.48,null,null,208198524.02000001,41,"40010075"]
[null,null,"2023-12-01","600.06",228136327.56,2976935966.48,null,null,208198524.02000001,42,"99"]
[null,null,"2023-12-01","600.06",228136327.56,2976935966.48,null,null,208198524.02000001,43,"05"]
[null,null,"2023-12-01","600.06",228136327.56,2976935966.48,null,null,208198524.02000001,45,"999"]
[null,null,"2023-12-01","600.06",228136327.56,2976935966.48,null,null,208198524.02000001,46,"0.00"]
[null,null,"2023-12-01","600.06",228136327.56,2976935966.48,null,null,0,2,"399.24"]
[null,null,"2023-12-01","600.06",228136327.56,2976935966.48,null,null,0,4,"51"]
[null,null,"2023-12-01","600.06",228136327.56,2976935966.48,null,null,0,41,"40000075"]
[null,null,"2023-12-01","600.06",228136327.56,2976935966.48,null,null,0,42,"99"]
[null,null,"2023-12-01","600.06",228136327.56,2976935966.48,null,null,0,43,"05"]
[null,null,"2023-12-01","600.06",228136327.56,2976935966.48,null,null,0,45,"999"]
[null,null,"2023-12-01","600.06",228136327.56,2976935966.48,null,null,0,46,"0.00"]
[null,null,"2023-12-01","605",744466456.64999998]
[null,null,"2023-12-01","605.05",744466456.64999998,1184118806.28,30986204,180329.73]
[null,null,"2023-12-01","605.05",744466456.64999998,1184118806.28,30980004,1183938476.55]
[null,null,"2023-12-01","605.05",744466456.64999998,1184118806.28,null,null,439607267.19999999,2,"879214534.40"]
[null,null,"2023-12-01","605.05",744466456.64999998,1184118806.28,null,null,439607267.19999999,4,"11"]
[null,null,"2023-12-01","605.05",744466456.64999998,1184118806.28,null,null,439607267.19999999,41,"34000050"]
[null,null,"2023-12-01","605.05",744466456.64999998,1184118806.28,null,null,439607267.19999999,42,"99"]
[null,null,"2023-12-01","605.05",744466456.64999998,1184118806.28,null,null,439607267.19999999,43,"99"]
[null,null,"2023-12-01","605.05",744466456.64999998,1184118806.28,null,null,439607267.19999999,45,"999"]
[null,null,"2023-12-01","605.05",744466456.64999998,1184118806.28,null,null,135247.29999999999,2,"180329.73"]
[null,null,"2023-12-01","605.05",744466456.64999998,1184118806.28,null,null,135247.29999999999,4,"11"]
[null,null,"2023-12-01","605.05",744466456.64999998,1184118806.28,null,null,135247.29999999999,41,"40000075"]
[null,null,"2023-12-01","605.05",744466456.64999998,1184118806.28,null,null,135247.29999999999,42,"99"]
[null,null,"2023-12-01","605.05",744466456.64999998,1184118806.28,null,null,135247.29999999999,43,"99"]
[null,null,"2023-12-01","605.05",744466456.64999998,1184118806.28,null,null,135247.29999999999,45,"999"]
[null,null,"2023-12-01","605.05",744466456.64999998,1184118806.28,null,null,304723942.14999998,2,"304723942.15"]
[null,null,"2023-12-01","605.05",744466456.64999998,1184118806.28,null,null,304723942.14999998,4,"11"]
[null,null,"2023-12-01","605.05",744466456.64999998,1184118806.28,null,null,304723942.14999998,41,"44000100"]
[null,null,"2023-12-01","605.05",744466456.64999998,1184118806.28,null,null,304723942.14999998,42,"99"]
[null,null,"2023-12-01","605.05",744466456.64999998,1184118806.28,null,null,304723942.14999998,43,"99"]
[null,null,"2023-12-01","605.05",744466456.64999998,1184118806.28,null,null,304723942.14999998,45,"999"]
[null,null,"2023-12-01","605.06",0,1388060378.76,30986204,76800]
[null,null,"2023-12-01","605.06",0,1388060378.76,30986101,447519681.76999998]
[null,null,"2023-12-01","605.06",0,1388060378.76,30980004,940463896.99000001]
[null,null,"2023-12-01","605.06",0,1388060378.76,null,null,0,2,"1388060378.76"]
[null,null,"2023-12-01","605.06",0,1388060378.76,null,null,0,4,"51"]
[null,null,"2023-12-01","605.06",0,1388060378.76,null,null,0,41,"99099999"]
[null,null,"2023-12-01","605.06",0,1388060378.76,null,null,0,42,"99"]
[null,null,"2023-12-01","605.06",0,1388060378.76,null,null,0,43,"99"]
[null,null,"2023-12-01","605.06",0,1388060378.76,null,null,0,45,"999"]
[null,null,"2023-12-01","620",0]
[null,null,"2023-12-01","620.06",0,437873.22,30185108,437873.22]
[null,null,"2023-12-01","620.06",0,437873.22,null,null,0,2,"437873.22"]
[null,null,"2023-12-01","620.06",0,437873.22,null,null,0,4,"41"]
[null,null,"2023-12-01","620.06",0,437873.22,null,null,0,41,"44000100"]
[null,null,"2023-12-01","620.06",0,437873.22,null,null,0,42,"99"]
[null,null,"2023-12-01","620.06",0,437873.22,null,null,0,43,"99"]
[null,null,"2023-12-01","620.06",0,437873.22,null,null,0,45,"999"]
[null,null,"2023-12-01","620.06",0,437873.22,null,null,0,46,"0.00"]
[null,null,"2023-12-01","630",729466814.85000002]
[null,null,"2023-12-01","630.01",729466814.85000002,510678865.32999998,18825507,510678865.32999998]
[null,null,"2023-12-01","630.01",729466814.85000002,510678865.32999998,null,null,323530296.60000002,2,"323530296.60"]
[null,null,"2023-12-01","630.01",729466814.85000002,510678865.32999998,null,null,323530296.60000002,4,"11"]
[null,null,"2023-12-01","630.01",729466814.85000002,510678865.32999998,null,null,323530296.60000002,41,"94010100"]
[null,null,"2023-12-01","630.01",729466814.85000002,510678865.32999998,null,null,323530296.60000002,42,"99"]
[null,null,"2023-12-01","630.01",729466814.85000002,510678865.32999998,null,null,323530296.60000002,43,"99"]
[null,null,"2023-12-01","630.01",729466814.85000002,510678865.32999998,null,null,323530296.60000002,45,"999"]
[null,null,"2023-12-01","630.01",729466814.85000002,510678865.32999998,null,null,40492134.25,2,"40492134.25"]
[null,null,"2023-12-01","630.01",729466814.85000002,510678865.32999998,null,null,40492134.25,4,"11"]
[null,null,"2023-12-01","630.01",729466814.85000002,510678865.32999998,null,null,40492134.25,41,"94000100"]
[null,null,"2023-12-01","630.01",729466814.85000002,510678865.32999998,null,null,40492134.25,42,"99"]
[null,null,"2023-12-01","630.01",729466814.85000002,510678865.32999998,null,null,40492134.25,43,"99"]
[null,null,"2023-12-01","630.01",729466814.85000002,510678865.32999998,null,null,40492134.25,45,"999"]
[null,null,"2023-12-01","630.01",729466814.85000002,510678865.32999998,null,null,365444384,2,"146177753.60"]
[null,null,"2023-12-01","630.01",729466814.85000002,510678865.32999998,null,null,365444384,4,"11"]
[null,null,"2023-12-01","630.01",729466814.85000002,510678865.32999998,null,null,365444384,41,"94020250"]
[null,null,"2023-12-01","630.01",729466814.85000002,510678865.32999998,null,null,365444384,42,"99"]
[null,null,"2023-12-01","630.01",729466814.85000002,510678865.32999998,null,null,365444384,43,"99"]
[null,null,"2023-12-01","630.01",729466814.85000002,510678865.32999998,null,null,365444384,45,"999"]
[null,null,"2023-12-01","630.01",729466814.85000002,510678865.32999998,null,null,0,2,"478680.88"]
[null,null,"2023-12-01","630.01",729466814.85000002,510678865.32999998,null,null,0,4,"38"]
[null,null,"2023-12-01","630.01",729466814.85000002,510678865.32999998,null,null,0,41,"94010100"]
[null,null,"2023-12-01","630.01",729466814.85000002,510678865.32999998,null,null,0,42,"99"]
[null,null,"2023-12-01","630.01",729466814.85000002,510678865.32999998,null,null,0,43,"99"]
[null,null,"2023-12-01","630.01",729466814.85000002,510678865.32999998,null,null,0,45,"999"]
[null,null,"2023-12-01","630.02",0,156616821.55000001,18825507,156616821.55000001]
[null,null,"2023-12-01","630.02",0,156616821.55000001,null,null,0,2,"156616821.55"]
[null,null,"2023-12-01","630.02",0,156616821.55000001,null,null,0,4,"37"]
[null,null,"2023-12-01","630.02",0,156616821.55000001,null,null,0,41,"94030300"]
[null,null,"2023-12-01","630.02",0,156616821.55000001,null,null,0,42,"99"]
[null,null,"2023-12-01","630.02",0,156616821.55000001,null,null,0,43,"99"]
[null,null,"2023-12-01","630.02",0,156616821.55000001,null,null,0,45,"999"]
[null,null,"2023-12-01","700",25872211296.740002]
[null,null,"2023-12-01","770",51839682.43]
[null,null,"2023-12-01","800",51839682.43]
[null,null,"2023-12-01","800.01",18835216.030000001]
[null,null,"2023-12-01","800.02",0]
[null,null,"2023-12-01","800.03",0]
[null,null,"2023-12-01","810",0]
[null,null,"2023-12-01","810.10",0]
[null,null,"2023-12-01","810.20",0]
[null,null,"2023-12-01","820",0]
[null,null,"2023-12-01","820.01",0]
[null,null,"2023-12-01","820.02",0]
[null,null,"2023-12-01","820.03",0]
[null,null,"2023-12-01","820.04",0]
[null,null,"2023-12-01","830",0]
[null,null,"2023-12-01","830.01",0]
[null,null,"2023-12-01","830.02",0]
[null,null,"2023-12-01","830.03",0]
[null,null,"2023-12-01","830.04",0]
[null,null,"2023-12-01","840",0]
[null,null,"2023-12-01","840.01",0]
[null,null,"2023-12-01","840.02",0]
[null,null,"2023-12-01","840.03",0]
[null,null,"2023-12-01","840.04",0]
[null,null,"2023-12-01","850",0]
[null,null,"2023-12-01","850.01",0]
[null,null,"2023-12-01","850.02",0]
[null,null,"2023-12-01","860",0]
[null,null,"2023-12-01","860.01",0]
[null,null,"2023-12-01","860.04",0]
[null,null,"2023-12-01","860.07",0]
[null,null,"2023-12-01","860.08",0]
[null,null,"2023-12-01","860.09",0]
[null,null,"2023-12-01","860.10",0]
[null,null,"2023-12-01","861",0]
[null,null,"2023-12-01","870",1810955501.75]
[null,null,"2023-12-01","872",144876440.13999999]
[null,null,"2023-12-01","872.10.02",588575997.38999999,null,null,null,588575997.38999999,17,"16816457068.05"]
[null,null,"2023-12-01","872.10.02",588575997.38999999,null,null,null,588575997.38999999,20,"0.00"]
[null,null,"2023-12-01","872.10.03",194253507.24000001,null,null,null,194253507.24000001,17,"616155207.51"]
[null,null,"2023-12-01","872.10.03",194253507.24000001,null,null,null,194253507.24000001,18,"4933944999.65"]
[null,null,"2023-12-01","872.10.03",194253507.24000001,null,null,null,194253507.24000001,19,"108447151.09"]
[null,null,"2023-12-01","872.10.03",194253507.24000001,null,null,null,194253507.24000001,20,"0.00"]
[null,null,"2023-12-01","872.10.05",2530939029.9200001,null,null,null,2530939029.9200001,11,"2908663261.27"]
[null,null,"2023-12-01","872.10.05",2530939029.9200001,null,null,null,2530939029.9200001,12,"239340220.87"]
[null,null,"2023-12-01","872.10.05",2530939029.9200001,null,null,null,2530939029.9200001,14,"617064452.22"]
[null,null,"2023-12-01","872.10.05",2530939029.9200001,null,null,null,2530939029.9200001,16,"0.00"]
[null,null,"2023-12-01","872.10.05",2530939029.9200001,null,null,null,2530939029.9200001,20,"0.00"]
[null,null,"2023-12-01","872.10.08",-7863469.3300000001,null,null,null,-7863469.3300000001,11,"1404934.46"]
[null,null,"2023-12-01","872.10.08",-7863469.3300000001,null,null,null,-7863469.3300000001,12,"0.00"]
[null,null,"2023-12-01","872.10.08",-7863469.3300000001,null,null,null,-7863469.3300000001,14,"9268403.79"]
[null,null,"2023-12-01","872.10.08",-7863469.3300000001,null,null,null,-7863469.3300000001,16,"0.00"]
[null,null,"2023-12-01","872.10.08",-7863469.3300000001,null,null,null,-7863469.3300000001,20,"0.00"]
[null,null,"2023-12-01","872.10.09",61441443.280000001,null,null,null,61441443.280000001,11,"0.00"]
[null,null,"2023-12-01","872.10.09",61441443.280000001,null,null,null,61441443.280000001,12,"81406142.88"]
[null,null,"2023-12-01","872.10.09",61441443.280000001,null,null,null,61441443.280000001,14,"19964699.60"]
[null,null,"2023-12-01","872.10.09",61441443.280000001,null,null,null,61441443.280000001,16,"0.00"]
[null,null,"2023-12-01","872.10.09",61441443.280000001,null,null,null,61441443.280000001,20,"0.00"]
[null,null,"2023-12-01","872.10.10",1221248.1499999999,null,null,null,1221248.1499999999,11,"0.00"]
[null,null,"2023-12-01","872.10.10",1221248.1499999999,null,null,null,1221248.1499999999,12,"1221248.15"]
[null,null,"2023-12-01","872.10.10",1221248.1499999999,null,null,null,1221248.1499999999,14,"0.00"]
[null,null,"2023-12-01","872.10.10",1221248.1499999999,null,null,null,1221248.1499999999,16,"0.00"]
[null,null,"2023-12-01","872.10.10",1221248.1499999999,null,null,null,1221248.1499999999,20,"0.00"]
[null,null,"2023-12-01","872.10.11",10401199.449999999,null,null,null,10401199.449999999,11,"0.00"]
[null,null,"2023-12-01","872.10.11",10401199.449999999,null,null,null,10401199.449999999,12,"10401199.45"]
[null,null,"2023-12-01","872.10.11",10401199.449999999,null,null,null,10401199.449999999,14,"0.00"]
[null,null,"2023-12-01","872.10.11",10401199.449999999,null,null,null,10401199.449999999,16,"0.00"]
[null,null,"2023-12-01","872.10.11",10401199.449999999,null,null,null,10401199.449999999,20,"0.00"]
[null,null,"2023-12-01","872.10.21",719738303.11000001]
[null,null,"2023-12-01","872.10.22",2491295374.9299998]
[null,null,"2023-12-01","872.20.02",757531392.13,null,null,null,757531392.13,17,"21643754060.76"]
[null,null,"2023-12-01","872.20.02",757531392.13,null,null,null,757531392.13,20,"0.00"]
[null,null,"2023-12-01","872.20.03",255867570.33000001,null,null,null,255867570.33000001,17,"1961261412.45"]
[null,null,"2023-12-01","872.20.03",255867570.33000001,null,null,null,255867570.33000001,18,"5349240597.23"]
[null,null,"2023-12-01","872.20.03",255867570.33000001,null,null,null,255867570.33000001,19,"195349054.34"]
[null,null,"2023-12-01","872.20.03",255867570.33000001,null,null,null,255867570.33000001,20,"0.00"]
[null,null,"2023-12-01","872.20.05",2424612488.8400002,null,null,null,2424612488.8400002,11,"4431415457.83"]
[null,null,"2023-12-01","872.20.05",2424612488.8400002,null,null,null,2424612488.8400002,12,"297415874.68"]
[null,null,"2023-12-01","872.20.05",2424612488.8400002,null,null,null,2424612488.8400002,14,"2304218843.67"]
[null,null,"2023-12-01","872.20.05",2424612488.8400002,null,null,null,2424612488.8400002,16,"0.00"]
[null,null,"2023-12-01","872.20.05",2424612488.8400002,null,null,null,2424612488.8400002,20,"0.00"]
[null,null,"2023-12-01","872.20.08",23439076.690000001,null,null,null,23439076.690000001,11,"23439076.69"]
[null,null,"2023-12-01","872.20.08",23439076.690000001,null,null,null,23439076.690000001,12,"0.00"]
[null,null,"2023-12-01","872.20.08",23439076.690000001,null,null,null,23439076.690000001,14,"0.00"]
[null,null,"2023-12-01","872.20.08",23439076.690000001,null,null,null,23439076.690000001,16,"0.00"]
[null,null,"2023-12-01","872.20.08",23439076.690000001,null,null,null,23439076.690000001,20,"0.00"]
[null,null,"2023-12-01","872.20.09",64131727.380000003,null,null,null,64131727.380000003,11,"0.00"]
[null,null,"2023-12-01","872.20.09",64131727.380000003,null,null,null,64131727.380000003,12,"91195693.89"]
[null,null,"2023-12-01","872.20.09",64131727.380000003,null,null,null,64131727.380000003,14,"27063966.51"]
[null,null,"2023-12-01","872.20.09",64131727.380000003,null,null,null,64131727.380000003,16,"0.00"]
[null,null,"2023-12-01","872.20.09",64131727.380000003,null,null,null,64131727.380000003,20,"0.00"]
[null,null,"2023-12-01","872.20.10",-4592399.3499999996,null,null,null,-4592399.3499999996,11,"0.00"]
[null,null,"2023-12-01","872.20.10",-4592399.3499999996,null,null,null,-4592399.3499999996,12,"1744163.04"]
[null,null,"2023-12-01","872.20.10",-4592399.3499999996,null,null,null,-4592399.3499999996,14,"6336562.39"]
[null,null,"2023-12-01","872.20.10",-4592399.3499999996,null,null,null,-4592399.3499999996,16,"0.00"]
[null,null,"2023-12-01","872.20.10",-4592399.3499999996,null,null,null,-4592399.3499999996,20,"0.00"]
[null,null,"2023-12-01","872.20.11",15681254.24,null,null,null,15681254.24,11,"0.00"]
[null,null,"2023-12-01","872.20.11",15681254.24,null,null,null,15681254.24,12,"15681254.24"]
[null,null,"2023-12-01","872.20.11",15681254.24,null,null,null,15681254.24,14,"0.00"]
[null,null,"2023-12-01","872.20.11",15681254.24,null,null,null,15681254.24,16,"0.00"]
[null,null,"2023-12-01","872.20.11",15681254.24,null,null,null,15681254.24,20,"0.00"]
[null,null,"2023-12-01","872.20.21",1251197844.47]
[null,null,"2023-12-01","872.20.22",3620826479.8200002]
[null,null,"2023-12-01","872.30.02",973300207.62,null,null,null,973300207.62,17,"27808577360.45"]
[null,null,"2023-12-01","872.30.02",973300207.62,null,null,null,973300207.62,20,"0.00"]
[null,null,"2023-12-01","872.30.03",294155383.67000002,null,null,null,294155383.67000002,17,"4014618652.37"]
[null,null,"2023-12-01","872.30.03",294155383.67000002,null,null,null,294155383.67000002,18,"4389820881.36"]
[null,null,"2023-12-01","872.30.03",294155383.67000002,null,null,null,294155383.67000002,19,"35833017.26"]
[null,null,"2023-12-01","872.30.03",294155383.67000002,null,null,null,294155383.67000002,20,"0.00"]
[null,null,"2023-12-01","872.30.05",2827710818.8800001,null,null,null,2827710818.8800001,11,"6204413318.43"]
[null,null,"2023-12-01","872.30.05",2827710818.8800001,null,null,null,2827710818.8800001,12,"364100410.82"]
[null,null,"2023-12-01","872.30.05",2827710818.8800001,null,null,null,2827710818.8800001,14,"3740802910.37"]
[null,null,"2023-12-01","872.30.05",2827710818.8800001,null,null,null,2827710818.8800001,16,"0.00"]
[null,null,"2023-12-01","872.30.05",2827710818.8800001,null,null,null,2827710818.8800001,20,"0.00"]
[null,null,"2023-12-01","872.30.08",42113.42,null,null,null,42113.42,11,"42113.42"]
[null,null,"2023-12-01","872.30.08",42113.42,null,null,null,42113.42,12,"0.00"]
[null,null,"2023-12-01","872.30.08",42113.42,null,null,null,42113.42,14,"0.00"]
[null,null,"2023-12-01","872.30.08",42113.42,null,null,null,42113.42,16,"0.00"]
[null,null,"2023-12-01","872.30.08",42113.42,null,null,null,42113.42,20,"0.00"]
[null,null,"2023-12-01","872.30.09",80560436.599999994,null,null,null,80560436.599999994,11,"0.00"]
[null,null,"2023-12-01","872.30.09",80560436.599999994,null,null,null,80560436.599999994,12,"106263268.60"]
[null,null,"2023-12-01","872.30.09",80560436.599999994,null,null,null,80560436.599999994,14,"25702832.00"]
[null,null,"2023-12-01","872.30.09",80560436.599999994,null,null,null,80560436.599999994,16,"0.00"]
[null,null,"2023-12-01","872.30.09",80560436.599999994,null,null,null,80560436.599999994,20,"0.00"]
[null,null,"2023-12-01","872.30.10",1554134.82,null,null,null,1554134.82,11,"0.00"]
[null,null,"2023-12-01","872.30.10",1554134.82,null,null,null,1554134.82,12,"1897534.39"]
[null,null,"2023-12-01","872.30.10",1554134.82,null,null,null,1554134.82,14,"343399.57"]
[null,null,"2023-12-01","872.30.10",1554134.82,null,null,null,1554134.82,16,"0.00"]
[null,null,"2023-12-01","872.30.10",1554134.82,null,null,null,1554134.82,20,"0.00"]
[null,null,"2023-12-01","872.30.11",15719654.640000001,null,null,null,15719654.640000001,11,"0.00"]
[null,null,"2023-12-01","872.30.11",15719654.640000001,null,null,null,15719654.640000001,12,"15719654.64"]
[null,null,"2023-12-01","872.30.11",15719654.640000001,null,null,null,15719654.640000001,14,"0.00"]
[null,null,"2023-12-01","872.30.11",15719654.640000001,null,null,null,15719654.640000001,16,"0.00"]
[null,null,"2023-12-01","872.30.11",15719654.640000001,null,null,null,15719654.640000001,20,"0.00"]
[null,null,"2023-12-01","872.30.21",966529569.38999999]
[null,null,"2023-12-01","872.30.22",3767562044.9200001]
[null,null,"2023-12-01","890",289576757.62]
[null,null,"2023-12-01","891",289576757.62,null,null,null,289576757.62,55,"02"]
[null,null,"2023-12-01","891",289576757.62,null,null,null,289576757.62,56,"02"]
[null,null,"2023-12-01","891",289576757.62,null,null,null,289576757.62,59,"-3356423197.03"]
[null,null,"2023-12-01","891.10",707130755.30999994]
[null,null,"2023-12-01","891.10.10",707130755.30999994]
[null,null,"2023-12-01","891.10.10.01",707130755.30999994,null,null,null,3072462.06,54,"05"]
[null,null,"2023-12-01","891.10.10.01",707130755.30999994,null,null,null,3072462.06,83,"BRL"]
[null,null,"2023-12-01","891.10.10.01",707130755.30999994,null,null,null,-119252398.93000001,54,"04"]
[null,null,"2023-12-01","891.10.10.01",707130755.30999994,null,null,null,-119252398.93000001,83,"BRL"]
[null,null,"2023-12-01","891.10.10.01",707130755.30999994,null,null,null,-557118.89,54,"06"]
[null,null,"2023-12-01","891.10.10.01",707130755.30999994,null,null,null,-557118.89,83,"BRL"]
[null,null,"2023-12-01","891.10.10.01",707130755.30999994,null,null,null,1604686994.9400001,54,"12"]
[null,null,"2023-12-01","891.10.10.01",707130755.30999994,null,null,null,1604686994.9400001,83,"BRL"]
[null,null,"2023-12-01","891.10.10.01",707130755.30999994,null,null,null,-27139.119999999999,54,"08"]
[null,null,"2023-12-01","891.10.10.01",707130755.30999994,null,null,null,-27139.119999999999,83,"BRL"]
[null,null,"2023-12-01","891.10.10.01",707130755.30999994,null,null,null,-3453500.12,54,"09"]
[null,null,"2023-12-01","891.10.10.01",707130755.30999994,null,null,null,-3453500.12,83,"BRL"]
[null,null,"2023-12-01","891.10.10.01",707130755.30999994,null,null,null,-777341717.63,54,"07"]
[null,null,"2023-12-01","891.10.10.01",707130755.30999994,null,null,null,-777341717.63,83,"BRL"]
[null,null,"2023-12-01","891.10.10.01",707130755.30999994,null,null,null,3173,54,"13"]
[null,null,"2023-12-01","891.10.10.01",707130755.30999994,null,null,null,3173,83,"USD"]
[null,null,"2023-12-01","891.10.20",0]
[null,null,"2023-12-01","891.10.20.01",-1116791134.6199999,null,null,null,-5065377.67,54,"05"]
[null,null,"2023-12-01","891.10.20.01",-1116791134.6199999,null,null,null,-5065377.67,83,"BRL"]
[null,null,"2023-12-01","891.10.20.01",-1116791134.6199999,null,null,null,194197738.91999999,54,"04"]
[null,null,"2023-12-01","891.10.20.01",-1116791134.6199999,null,null,null,194197738.91999999,83,"BRL"]
[null,null,"2023-12-01","891.10.20.01",-1116791134.6199999,null,null,null,584601.46,54,"06"]
[null,null,"2023-12-01","891.10.20.01",-1116791134.6199999,null,null,null,584601.46,83,"BRL"]
[null,null,"2023-12-01","891.10.20.01",-1116791134.6199999,null,null,null,-1997357483.01,54,"12"]
[null,null,"2023-12-01","891.10.20.01",-1116791134.6199999,null,null,null,-1997357483.01,83,"BRL"]
[null,null,"2023-12-01","891.10.20.01",-1116791134.6199999,null,null,null,30469.25,54,"08"]
[null,null,"2023-12-01","891.10.20.01",-1116791134.6199999,null,null,null,30469.25,83,"BRL"]
[null,null,"2023-12-01","891.10.20.01",-1116791134.6199999,null,null,null,3945448.47,54,"09"]
[null,null,"2023-12-01","891.10.20.01",-1116791134.6199999,null,null,null,3945448.47,83,"BRL"]
[null,null,"2023-12-01","891.10.20.01",-1116791134.6199999,null,null,null,686876705.96000004,54,"07"]
[null,null,"2023-12-01","891.10.20.01",-1116791134.6199999,null,null,null,686876705.96000004,83,"BRL"]
[null,null,"2023-12-01","891.10.20.01",-1116791134.6199999,null,null,null,-3238,54,"13"]
[null,null,"2023-12-01","891.10.20.01",-1116791134.6199999,null,null,null,-3238,83,"USD"]
[null,null,"2023-12-01","891.20",482627929.37]
[null,null,"2023-12-01","891.20.10",482627929.37]
[null,null,"2023-12-01","891.20.10.01",482389519.12,null,null,null,629184976.75,54,"01"]
[null,null,"2023-12-01","891.20.10.01",482389519.12,null,null,null,629184976.75,83,"BRL"]
[null,null,"2023-12-01","891.20.10.01",482389519.12,null,null,null,-342417224.17000002,54,"02"]
[null,null,"2023-12-01","891.20.10.01",482389519.12,null,null,null,-342417224.17000002,83,"BRL"]
[null,null,"2023-12-01","891.20.10.01",482389519.12,null,null,null,449247.44,54,"05"]
[null,null,"2023-12-01","891.20.10.01",482389519.12,null,null,null,449247.44,83,"BRL"]
[null,null,"2023-12-01","891.20.10.01",482389519.12,null,null,null,13255680.810000001,54,"04"]
[null,null,"2023-12-01","891.20.10.01",482389519.12,null,null,null,13255680.810000001,83,"BRL"]
[null,null,"2023-12-01","891.20.10.01",482389519.12,null,null,null,919896.88,54,"06"]
[null,null,"2023-12-01","891.20.10.01",482389519.12,null,null,null,919896.88,83,"BRL"]
[null,null,"2023-12-01","891.20.10.01",482389519.12,null,null,null,-67663966.030000001,54,"12"]
[null,null,"2023-12-01","891.20.10.01",482389519.12,null,null,null,-67663966.030000001,83,"BRL"]
[null,null,"2023-12-01","891.20.10.01",482389519.12,null,null,null,16242.94,54,"08"]
[null,null,"2023-12-01","891.20.10.01",482389519.12,null,null,null,16242.94,83,"BRL"]
[null,null,"2023-12-01","891.20.10.01",482389519.12,null,null,null,215629.32,54,"09"]
[null,null,"2023-12-01","891.20.10.01",482389519.12,null,null,null,215629.32,83,"BRL"]
[null,null,"2023-12-01","891.20.10.01",482389519.12,null,null,null,248667445.43000001,54,"07"]
[null,null,"2023-12-01","891.20.10.01",482389519.12,null,null,null,248667445.43000001,83,"BRL"]
[null,null,"2023-12-01","891.20.10.01",482389519.12,null,null,null,-238410.25,54,"13"]
[null,null,"2023-12-01","891.20.10.01",482389519.12,null,null,null,-238410.25,83,"USD"]
[null,null,"2023-12-01","891.20.20",233688.55]
[null,null,"2023-12-01","891.20.20.01",-489789708.06,null,null,null,-629008231.47000003,54,"01"]
[null,null,"2023-12-01","891.20.20.01",-489789708.06,null,null,null,-629008231.47000003,83,"BRL"]
[null,null,"2023-12-01","891.20.20.01",-489789708.06,null,null,null,329277037.47000003,54,"02"]
[null,null,"2023-12-01","891.20.20.01",-489789708.06,null,null,null,329277037.47000003,83,"BRL"]
[null,null,"2023-12-01","891.20.20.01",-489789708.06,null,null,null,-1470216.34,54,"05"]
[null,null,"2023-12-01","891.20.20.01",-489789708.06,null,null,null,-1470216.34,83,"BRL"]
[null,null,"2023-12-01","891.20.20.01",-489789708.06,null,null,null,-13293538.24,54,"04"]
[null,null,"2023-12-01","891.20.20.01",-489789708.06,null,null,null,-13293538.24,83,"BRL"]
[null,null,"2023-12-01","891.20.20.01",-489789708.06,null,null,null,-919896.88,54,"06"]
[null,null,"2023-12-01","891.20.20.01",-489789708.06,null,null,null,-919896.88,83,"BRL"]
[null,null,"2023-12-01","891.20.20.01",-489789708.06,null,null,null,74290252.010000005,54,"12"]
[null,null,"2023-12-01","891.20.20.01",-489789708.06,null,null,null,74290252.010000005,83,"BRL"]
[null,null,"2023-12-01","891.20.20.01",-489789708.06,null,null,null,-16242.94,54,"08"]
[null,null,"2023-12-01","891.20.20.01",-489789708.06,null,null,null,-16242.94,83,"BRL"]
[null,null,"2023-12-01","891.20.20.01",-489789708.06,null,null,null,-215629.33,54,"09"]
[null,null,"2023-12-01","891.20.20.01",-489789708.06,null,null,null,-215629.33,83,"BRL"]
[null,null,"2023-12-01","891.20.20.01",-489789708.06,null,null,null,-248666930.88999999,54,"07"]
[null,null,"2023-12-01","891.20.20.01",-489789708.06,null,null,null,-248666930.88999999,83,"BRL"]
[null,null,"2023-12-01","891.20.20.01",-489789708.06,null,null,null,233688.55,54,"13"]
[null,null,"2023-12-01","891.20.20.01",-489789708.06,null,null,null,233688.55,83,"USD"]
[null,null,"2023-12-01","900",27735006480.919998]
[null,null,"2023-12-01","910",2218800518.4699998]
[null,null,"2023-12-01","910.01",1248075291.6400001]
[null,null,"2023-12-01","910.02",970725226.83000004]
[null,null,"2023-12-01","911",2508377276.0900002]
[null,null,"2023-12-01","920",1664100388.8499999]
[null,null,"2023-12-01","920.01",1248075291.6400001]
[null,null,"2023-12-01","920.02",416025097.20999998]
[null,null,"2023-12-01","930",1248075291.6400001]
[null,null,"2023-12-01","931",1421419082.1500001]
[null,null,"2023-12-01","932",1248075291.6400001]
[null,null,"2023-12-01","950",1852195095.51]
[null,null,"2023-12-01","950.01",935949621.59000003]
[null,null,"2023-12-01","950.02",443699544.33999997]
[null,null,"2023-12-01","950.03",472545929.57999998]
[null,null,"2023-12-01","951",963624068.72000003]
[null,null,"2023-12-01","951.01",935949621.59000003]
[null,null,"2023-12-01","951.02",27674447.129999999]
[null,null,"2023-12-01","952",935949621.59000003]
[null,null,"2023-12-01","953",869243175.86000001]
[null,null,"2023-12-01","960",1398666347.5599999]
[null,null,"2023-12-01","940",693375162.01999998]
[null,null,"2023-12-01","942",693375162.01999998]
[null,null,"2023-12-01","943",0,null,null,null,0,5,"0.00"]
[null,null,"2023-12-01","943",0,null,null,null,0,6,"25872211296.74"]
[null,null,"2023-12-01","943",0,null,null,null,0,7,"1"]
[null,null,"2023-12-01","943",0,null,null,null,0,8,"0.00"]
[null,null,"2023-12-01","943",0,null,null,null,0,81,"BR"]
[null,null,"2023-12-01","943.01",0]
[null,null,"2023-12-01","943.02",0]
[null,null,"2023-12-01","954",242574459.56999999]
[null,null,"2023-12-01","955",0]
[null,null,"2023-12-01","956",1562618337.8900001]
[null,null,"2023-12-01","957",0]
[null,null,"2023-12-01","958",0]
[null,null,"2023-12-01","959",0]
[null,null,"2023-12-01","970",882578946.34000003]
[null,null,"2023-12-01","980",117338775539.67999]
[null,null,"2023-12-01","981",20354978069.900002]

{"sheet":"Mapas","index":4,"n_rows":230,"n_cols":10,"rows_kept":230,"cut":false,"hidden":true,"merged":[[196,0,196,3],[0,5,0,9],[0,0,0,3],[180,0,180,3],[122,0,122,3],[46,5,46,9]]}
["Tabela KM1",null,null,null,null,"Tabela CCA"]
["CAMPO","TIPO","TAMANHO","Inf",null,"CAMPO","DESCRIÇÃO","TIPO","TAMANHO","Inf"]
["COD_REFERENCIA","Texto",6,"Chave única",null,"COD_REFERENCIA","Descrição","Texto",6]
["COD_TABELA","Texto",8,null,null,"COD_TABELA",null,"Texto",8]
["DT_REFERENCIA_ARQ","Data","dd/mm/aaaa",null,null,"DT_REFERENCIA_ARQ",null,"Data","dd/mm/aaaa"]
["DT_REFERENCIA_A","Data","dd/mm/aaaa",null,null,"CAMPO_1","Emissor","Texto",4000]
["DT_REFERENCIA_B","Data","dd/mm/aaaa",null,null,"CAMPO_2","Identificador único","Texto",4000,"Chave única"]
["DT_REFERENCIA_C","Data","dd/mm/aaaa",null,null,"CAMPO_3","Lei aplicável ao instrumento","Texto",4000]
["DT_REFERENCIA_D","Data","dd/mm/aaaa",null,null,"CAMPO_4","Classificação do instrumento como componente do PR durante o tratamento temporário de que trata o art. 28 da Resolução nº 4.192, de 2013.","Texto",4000]
["DT_REFERENCIA_E","Data","dd/mm/aaaa",null,null,"CAMPO_5","Classificação do instrumento como componente do PR após o tratamento temporário de que trata a linha anterior","Texto",4000]
["VL_CAPITAL_PRINCIPAL_A","Número","12 int 4 dec",null,null,"CAMPO_6","Escopo da elegibilidade do instrumento","Texto",4000]
["VL_CAPITAL_PRINCIPAL_B","Número","12 int 4 dec",null,null,"CAMPO_7","Tipo de instrumento","Texto",4000]
["VL_CAPITAL_PRINCIPAL_C","Número","12 int 4 dec",null,null,"CAMPO_8","Valor reconhecido no PR","Número","12 int 4 dec"]
["VL_CAPITAL_PRINCIPAL_D","Número","12 int 4 dec",null,null,"CAMPO_9","Valor de face do instrumento","Número","12 int 4 dec"]
["VL_CAPITAL_PRINCIPAL_E","Número","12 int 4 dec",null,null,"CAMPO_10","Classificação contábil","Texto",4000]
["VL_NIVEL1_A","Número","12 int 4 dec",null,null,"CAMPO_11","Data original de emissão","Data","dd/mm/aaaa"]
["VL_NIVEL1_B","Número","12 int 4 dec",null,null,"CAMPO_12","Perpétuo ou com vencimento","Texto",4000]
["VL_NIVEL1_C","Número","12 int 4 dec",null,null,"CAMPO_13","Data original de vencimento","Data","dd/mm/aaaa"]
["VL_NIVEL1_D","Número","12 int 4 dec",null,null,"CAMPO_14","Opção de resgate ou recompra","Texto",4000]
["VL_NIVEL1_E","Número","12 int 4 dec",null,null,"CAMPO_15_1","Data de resgate ou de recompra","Texto",4000]
["VL_PATRIMONIO_REFERENCIA_A","Número","12 int 4 dec",null,null,"CAMPO_15_2","Datas de resgate ou de recompra condicionadas","Texto",4000]
["VL_PATRIMONIO_REFERENCIA_B","Número","12 int 4 dec",null,null,"CAMPO_15_3","Valor de resgate ou de recompra","Texto",4000]
["VL_PATRIMONIO_REFERENCIA_C","Número","12 int 4 dec",null,null,"CAMPO_16","Datas de resgate ou de recompra subsequentes, se aplicável","Texto",4000]
["VL_PATRIMONIO_REFERENCIA_D","Número","12 int 4 dec",null,null,"CAMPO_17","Remuneração ou dividendos fixos ou variáveis","Texto",4000]
["VL_PATRIMONIO_REFERENCIA_E","Número","12 int 4 dec",null,null,"CAMPO_18","Taxa de remuneração e índice referenciado","Texto",4000]
["VL_EXCESSO_REC_APL_AP_A","Número","12 int 4 dec",null,null,"CAMPO_19","Possibilidade de suspensão de pagamento de dividendos","Texto",4000]
["VL_EXCESSO_REC_APL_AP_B","Número","12 int 4 dec",null,null,"CAMPO_20","Completa discricionariedade, discricionariedade parcial ou mandatória","Texto",4000]
["VL_EXCESSO_REC_APL_AP_C","Número","12 int 4 dec",null,null,"CAMPO_21","Existência de cláusulas que alterem prazos ou condições de remuneração pactuados ou outro incentivo para resgate","Texto",4000]
["VL_EXCESSO_REC_APL_AP_D","Número","12 int 4 dec",null,null,"CAMPO_22","Cumulativo ou não cumulativo","Texto",4000]
["VL_EXCESSO_REC_APL_AP_E","Número","12 int 4 dec",null,null,"CAMPO_23","Conversível ou não conversível","Texto",4000]
["DESTAQUE_PR_A","Número","12 int 4 dec",null,null,"CAMPO_24","Se conversível, em quais situações","Texto",4000]
["DESTAQUE_PR_B","Número","12 int 4 dec",null,null,"CAMPO_25","Se conversível, totalmente ou parcialmente","Texto",4000]
["DESTAQUE_PR_C","Número","12 int 4 dec",null,null,"CAMPO_26","Se conversível, taxa de conversão","Texto",4000]
["DESTAQUE_PR_D","Número","12 int 4 dec",null,null,"CAMPO_27","Se conversível, conversão obrigatória ou opcional","Texto",4000]
["DESTAQUE_PR_E","Número","12 int 4 dec",null,null,"CAMPO_28","Se conversível, especificar para qual tipo de instrumento","Texto",4000]
["VL_RWA_TOTAL_A","Número","12 int 4 dec",null,null,"CAMPO_29","Se conversível, especificar o emissor do instrumento para o qual pode ser convertido","Texto",4000]
["VL_RWA_TOTAL_B","Número","12 int 4 dec",null,null,"CAMPO_30","Características para a extinção do instrumento","Texto",4000]
["VL_RWA_TOTAL_C","Número","12 int 4 dec",null,null,"CAMPO_31","Se extinguível, em quais situações","Texto",4000]
["VL_RWA_TOTAL_D","Número","12 int 4 dec",null,null,"CAMPO_32","Se extinguível, totalmente ou parcialmente","Texto",4000]
["VL_RWA_TOTAL_E","Número","12 int 4 dec",null,null,"CAMPO_33","Se extinguível, permanentemente ou temporariamente","Texto",4000]
["VL_ICP_A","Número","12 int 4 dec",null,null,"CAMPO_34a","Tipo de subordinação","Texto",4000]
["VL_ICP_B","Número","12 int 4 dec",null,null,"CAMPO_35","Posição na hierarquia de subordinação em caso de liquidação","Texto",4000]
["VL_ICP_C","Número","12 int 4 dec",null,null,"CAMPO_36","Possui características que não serão aceitas após o tratamento temporário de que trata o art. 28 da Resolução nº 4.192, de 2013","Texto",4000]
["VL_ICP_D","Número","12 int 4 dec",null,null,"CAMPO_37","Se sim, especificar as características de que trata a linha anterior","Texto",4000]
["VL_ICP_E","Número","12 int 4 dec",null,null,"CAMPO_37","Se sim, especificar as características de que trata a linha anterior","Texto",4000]
["VL_INDICE_NIVEL1_A","Número","12 int 4 dec"]
["VL_INDICE_NIVEL1_B","Número","12 int 4 dec",null,null,"Tabela CC1"]
["VL_INDICE_NIVEL1_C","Número","12 int 4 dec",null,null,"CAMPO","DESCRIÇÃO","TIPO","TAMANHO","Inf"]
["VL_INDICE_NIVEL1_D","Número","12 int 4 dec",null,null,"COD_REFERENCIA",null,"Texto",6]
["VL_INDICE_NIVEL1_E","Número","12 int 4 dec",null,null,"COD_TABELA",null,"Texto",8]
["VL_INDICE_BASILEIA_A","Número","12 int 4 dec",null,null,"DT_REFERENCIA_ARQ",null,"Data","dd/mm/aaaa"]
["VL_INDICE_BASILEIA_B","Número","12 int 4 dec",null,null,"Vl_1",null,"Número","12 int 4 dec"]
["VL_INDICE_BASILEIA_C","Número","12 int 4 dec",null,null,"Vl_2",null,"Número","12 int 4 dec"]
["VL_INDICE_BASILEIA_D","Número","12 int 4 dec",null,null,"Vl_3",null,"Número","12 int 4 dec"]
["VL_INDICE_BASILEIA_E","Número","12 int 4 dec",null,null,"Vl_5",null,"Número","12 int 4 dec"]
["VL_ACP_CONSEVACAO_A","Número","12 int 4 dec",null,null,"Vl_6",null,"Número","12 int 4 dec"]
["VL_ACP_CONSEVACAO_B","Número","12 int 4 dec",null,null,"Vl_7",null,"Número","12 int 4 dec"]
["VL_ACP_CONSEVACAO_C","Número","12 int 4 dec",null,null,"Vl_8",null,"Número","12 int 4 dec"]
["VL_ACP_CONSEVACAO_D","Número","12 int 4 dec",null,null,"Vl_9",null,"Número","12 int 4 dec"]
["VL_ACP_CONSEVACAO_E","Número","12 int 4 dec",null,null,"Vl_10",null,"Número","12 int 4 dec"]
["VL_ACP_CONTRACICLICO_A","Número","12 int 4 dec",null,null,"Vl_11",null,"Número","12 int 4 dec"]
["VL_ACP_CONTRACICLICO_B","Número","12 int 4 dec",null,null,"Vl_15",null,"Número","12 int 4 dec"]
["VL_ACP_CONTRACICLICO_C","Número","12 int 4 dec",null,null,"Vl_16",null,"Número","12 int 4 dec"]
["VL_ACP_CONTRACICLICO_D","Número","12 int 4 dec",null,null,"Vl_17",null,"Número","12 int 4 dec"]
["VL_ACP_CONTRACICLICO_E","Número","12 int 4 dec",null,null,"Vl_18",null,"Número","12 int 4 dec"]
["VL_ACP_SISTEMICO_A","Número","12 int 4 dec",null,null,"Vl_19",null,"Número","12 int 4 dec"]
["VL_ACP_SISTEMICO_B","Número","12 int 4 dec",null,null,"Vl_21",null,"Número","12 int 4 dec"]
["VL_ACP_SISTEMICO_C","Número","12 int 4 dec",null,null,"Vl_22",null,"Número","12 int 4 dec"]
["VL_ACP_SISTEMICO_D","Número","12 int 4 dec",null,null,"Vl_23",null,"Número","12 int 4 dec"]
["VL_ACP_SISTEMICO_E","Número","12 int 4 dec",null,null,"Vl_25",null,"Número","12 int 4 dec"]
["VL_ACP_TOTAL_A","Número","12 int 4 dec",null,null,"Vl_26",null,"Número","12 int 4 dec"]
["VL_ACP_TOTAL_B","Número","12 int 4 dec",null,null,"Vl_26a",null,"Número","12 int 4 dec"]
["VL_ACP_TOTAL_C","Número","12 int 4 dec",null,null,"Vl_26b",null,"Número","12 int 4 dec"]
["VL_ACP_TOTAL_D","Número","12 int 4 dec",null,null,"Vl_26d",null,"Número","12 int 4 dec"]
["VL_ACP_TOTAL_E","Número","12 int 4 dec",null,null,"Vl_26e",null,"Número","12 int 4 dec"]
["VL_MARGEM_EXCEDENTE_CP_A","Número","12 int 4 dec",null,null,"Vl_26f",null,"Número","12 int 4 dec"]
["VL_MARGEM_EXCEDENTE_CP_B","Número","12 int 4 dec",null,null,"Vl_26g",null,"Número","12 int 4 dec"]
["VL_MARGEM_EXCEDENTE_CP_C","Número","12 int 4 dec",null,null,"Vl_26h",null,"Número","12 int 4 dec"]
["VL_MARGEM_EXCEDENTE_CP_D","Número","12 int 4 dec",null,null,"Vl_26i",null,"Número","12 int 4 dec"]
["VL_MARGEM_EXCEDENTE_CP_E","Número","12 int 4 dec",null,null,"Vl_26j",null,"Número","12 int 4 dec"]
["VL_EXPOSICAO_TOTAL_A","Número","12 int 4 dec",null,null,"Vl_27",null,"Número","12 int 4 dec"]
["VL_EXPOSICAO_TOTAL_B","Número","12 int 4 dec",null,null,"Vl_28",null,"Número","12 int 4 dec"]
["VL_EXPOSICAO_TOTAL_C","Número","12 int 4 dec",null,null,"Vl_29",null,"Número","12 int 4 dec"]
["VL_EXPOSICAO_TOTAL_D","Número","12 int 4 dec",null,null,"Vl_30",null,"Número","12 int 4 dec"]
["VL_EXPOSICAO_TOTAL_E","Número","12 int 4 dec",null,null,"Vl_31",null,"Número","12 int 4 dec"]
["VL_RA_A","Número","12 int 4 dec",null,null,"Vl_32",null,"Número","12 int 4 dec"]
["VL_RA_B","Número","12 int 4 dec",null,null,"Vl_33",null,"Número","12 int 4 dec"]
["VL_RA_C","Número","12 int 4 dec",null,null,"Vl_34",null,"Número","12 int 4 dec"]
["VL_RA_D","Número","12 int 4 dec",null,null,"Vl_35",null,"Número","12 int 4 dec"]
["VL_RA_E","Número","12 int 4 dec",null,null,"Vl_36",null,"Número","12 int 4 dec"]
["VL_HQLA_A","Número","12 int 4 dec",null,null,"Vl_37",null,"Número","12 int 4 dec"]
["VL_HQLA_B","Número","12 int 4 dec",null,null,"Vl_38",null,"Número","12 int 4 dec"]
["VL_HQLA_C","Número","12 int 4 dec",null,null,"Vl_39",null,"Número","12 int 4 dec"]
["VL_HQLA_D","Número","12 int 4 dec",null,null,"Vl_40",null,"Número","12 int 4 dec"]
["VL_HQLA_E","Número","12 int 4 dec",null,null,"Vl_41",null,"Número","12 int 4 dec"]
["VL_TOTAL_SAIDAS_LIQ_CAIXA_A","Número","12 int 4 dec",null,null,"Vl_41b",null,"Número","12 int 4 dec"]
["VL_TOTAL_SAIDAS_LIQ_CAIXA_B","Número","12 int 4 dec",null,null,"Vl_41c",null,"Número","12 int 4 dec"]
["VL_TOTAL_SAIDAS_LIQ_CAIXA_C","Número","12 int 4 dec",null,null,"Vl_42",null,"Número","12 int 4 dec"]
["VL_TOTAL_SAIDAS_LIQ_CAIXA_D","Número","12 int 4 dec",null,null,"Vl_43",null,"Número","12 int 4 dec"]
["VL_TOTAL_SAIDAS_LIQ_CAIXA_E","Número","12 int 4 dec",null,null,"Vl_44",null,"Número","12 int 4 dec"]
["VL_LCR_A","Número","12 int 4 dec",null,null,"Vl_45",null,"Número","12 int 4 dec"]
["VL_LCR_B","Número","12 int 4 dec",null,null,"Vl_46",null,"Número","12 int 4 dec"]
["VL_LCR_C","Número","12 int 4 dec",null,null,"Vl_47",null,"Número","12 int 4 dec"]
["VL_LCR_D","Número","12 int 4 dec",null,null,"Vl_48",null,"Número","12 int 4 dec"]
["VL_LCR_E","Número","12 int 4 dec",null,null,"Vl_49",null,"Número","12 int 4 dec"]
["VL_ASF_A","Número","12 int 4 dec",null,null,"Vl_51",null,"Número","12 int 4 dec"]
["VL_ASF_B","Número","12 int 4 dec",null,null,"Vl_52",null,"Número","12 int 4 dec"]
["VL_ASF_C","Número","12 int 4 dec",null,null,"Vl_53",null,"Número","12 int 4 dec"]
["VL_ASF_D","Número","12 int 4 dec",null,null,"Vl_54",null,"Número","12 int 4 dec"]
["VL_ASF_E","Número","12 int 4 dec",null,null,"Vl_55",null,"Número","12 int 4 dec"]
["VL_RSF_A","Número","12 int 4 dec",null,null,"Vl_56",null,"Número","12 int 4 dec"]
["VL_RSF_B","Número","12 int 4 dec",null,null,"Vl_56b",null,"Número","12 int 4 dec"]
["VL_RSF_C","Número","12 int 4 dec",null,null,"Vl_56c",null,"Número","12 int 4 dec"]
["VL_RSF_D","Número","12 int 4 dec",null,null,"Vl_57",null,"Número","12 int 4 dec"]
["VL_RSF_E","Número","12 int 4 dec",null,null,"Vl_58",null,"Número","12 int 4 dec"]
["VL_NSFR_A","Número","12 int 4 dec",null,null,"Vl_59",null,"Número","12 int 4 dec"]
["VL_NSFR_B","Número","12 int 4 dec",null,null,"Vl_60",null,"Número","12 int 4 dec"]
["VL_NSFR_C","Número","12 int 4 dec",null,null,"Vl_61",null,"Número","12 int 4 dec"]
["VL_NSFR_D","Número","12 int 4 dec",null,null,"Vl_62",null,"Número","12 int 4 dec"]
["VL_NSFR_E","Número","12 int 4 dec",null,null,"Vl_63",null,"Número","12 int 4 dec"]
["DS_COMENTÁRIO","texto",4000,null,null,"Vl_64",null,"Número","12 int 4 dec"]
[null,null,null,null,null,"Vl_65",null,"Número","12 int 4 dec"]
["Tabela OV1",null,null,null,null,"Vl_66",null,"Número","12 int 4 dec"]
["CAMPO","TIPO","TAMANHO","Inf",null,"Vl_67",null,"Número","12 int 4 dec"]
["COD_REFERENCIA","Texto",6,"Chave única",null,"Vl_68",null,"Número","12 int 4 dec"]
["COD_TABELA","Texto",8,null,null,"Vl_72",null,"Número","12 int 4 dec"]
["DT_REFERENCIA_ARQ","Data","dd/mm/aaaa",null,null,"Vl_73",null,"Número","12 int 4 dec"]
["VL_RISCO_CRED_RWA","Número","12 int 4 dec",null,null,"Vl_75",null,"Número","12 int 4 dec"]
["VL_RISCO_CRED_RWA_ANTERIOR","Número","12 int 4 dec",null,null,"Vl_82",null,"Número","12 int 4 dec"]
["VL_RISCO_CRED_PR","Número","12 int 4 dec",null,null,"Vl_83",null,"Número","12 int 4 dec"]
["VL_RISCO_CRED_ESTRITO_RWA","Número","12 int 4 dec",null,null,"Vl_84",null,"Número","12 int 4 dec"]
["VL_RISCO_CRED_ESTRITO_RWA_ANT","Número","12 int 4 dec",null,null,"Vl_85",null,"Número","12 int 4 dec"]
["VL_RISCO_CRED_ESTRITO_PR","Número","12 int 4 dec",null,null,"Ref_Balanco_1",null,"Texto",4000]
["VL_CCR_RWA","Número","12 int 4 dec",null,null,"Ref_Balanco_2",null,"Texto",4000]
["VL_CCR_RWA_ANT","Número","12 int 4 dec",null,null,"Ref_Balanco_3",null,"Texto",4000]
["VL_CCR_PR","Número","12 int 4 dec",null,null,"Ref_Balanco_5",null,"Texto",4000]
["VL_SA_CCR_RWA","Número","12 int 4 dec",null,null,"Ref_Balanco_6",null,"Texto",4000]
["VL_SA_CCR_RWA_ANT","Número","12 int 4 dec",null,null,"Ref_Balanco_7",null,"Texto",4000]
["VL_SA_CCR_PR","Número","12 int 4 dec",null,null,"Ref_Balanco_8",null,"Texto",4000]
["VL_CEM_RWA","Número","12 int 4 dec",null,null,"Ref_Balanco_9",null,"Texto",4000]
["VL_CEM_RWA_ANT","Número","12 int 4 dec",null,null,"Ref_Balanco_10",null,"Texto",4000]
["VL_CEM_PR","Número","12 int 4 dec",null,null,"Ref_Balanco_11",null,"Texto",4000]
["VL_OUTROS_RWA","Número","12 int 4 dec",null,null,"Ref_Balanco_15",null,"Texto",4000]
["VL_OUTROS_RWA_ANT","Número","12 int 4 dec",null,null,"Ref_Balanco_16",null,"Texto",4000]
["VL_OUTROS_PR","Número","12 int 4 dec",null,null,"Ref_Balanco_17",null,"Texto",4000]
["VL_CVA_RWA","Número","12 int 4 dec",null,null,"Ref_Balanco_18",null,"Texto",4000]
["VL_CVA_RWA_ANT","Número","12 int 4 dec",null,null,"Ref_Balanco_19",null,"Texto",4000]
["VL_CVA_PR","Número","12 int 4 dec",null,null,"Ref_Balanco_21",null,"Texto",4000]
["VL_CFNCASID_RWA","Número","12 int 4 dec",null,null,"Ref_Balanco_22",null,"Texto",4000]
["VL_CFNCASID_RWA_ANT","Número","12 int 4 dec",null,null,"Ref_Balanco_23",null,"Texto",4000]
["VL_CFNCASID_PR","Número","12 int 4 dec",null,null,"Ref_Balanco_25",null,"Texto",4000]
["VL_CFNCASIN_RWA","Número","12 int 4 dec",null,null,"Ref_Balanco_26",null,"Texto",4000]
["VL_CFNCASIN_RWA_ANT","Número","12 int 4 dec",null,null,"Ref_Balanco_26a",null,"Texto",4000]
["VL_CFNCASIN_PR","Número","12 int 4 dec",null,null,"Ref_Balanco_26b",null,"Texto",4000]
["VL_CFNCASNID_RWA","Número","12 int 4 dec",null,null,"Ref_Balanco_26d",null,"Texto",4000]
["VL_CFNCASNID_RWA_ANT","Número","12 int 4 dec",null,null,"Ref_Balanco_26e",null,"Texto",4000]
["VL_CFNCASNID_PR","Número","12 int 4 dec",null,null,"Ref_Balanco_26f",null,"Texto",4000]
["VL_EXP_SEC_AP_RWA","Número","12 int 4 dec",null,null,"Ref_Balanco_26g",null,"Texto",4000]
["VL_EXP_SEC_AP_RWA_ANT","Número","12 int 4 dec",null,null,"Ref_Balanco_26h",null,"Texto",4000]
["VL_EXP_SEC_AP_PR","Número","12 int 4 dec",null,null,"Ref_Balanco_26i",null,"Texto",4000]
["VL_EXP_NDED_PR_RWA","Número","12 int 4 dec",null,null,"Ref_Balanco_26j",null,"Texto",4000]
["VL_EXP_NDED_PR_RWA_ANT","Número","12 int 4 dec",null,null,"Ref_Balanco_27",null,"Texto",4000]
["VL_EXP_NDED_PR_PR","Número","12 int 4 dec",null,null,"Ref_Balanco_28",null,"Texto",4000]
["VL_RISCO_MERCADO_RWA","Número","12 int 4 dec",null,null,"Ref_Balanco_29",null,"Texto",4000]
["VL_RISCO_MERCADO_RWA_ANT","Número","12 int 4 dec",null,null,"Ref_Balanco_30",null,"Texto",4000]
["VL_RISCO_MERCADO_PR","Número","12 int 4 dec",null,null,"Ref_Balanco_31",null,"Texto",4000]
["VL_RWAMPAD_RWA","Número","12 int 4 dec",null,null,"Ref_Balanco_32",null,"Texto",4000]
["VL_RWAMPAD_RWA_ANT","Número","12 int 4 dec",null,null,"Ref_Balanco_33",null,"Texto",4000]
["VL_RWAMPAD_PR","Número","12 int 4 dec",null,null,"Ref_Balanco_34",null,"Texto",4000]
["VL_RWAMINT_RWA","Número","12 int 4 dec",null,null,"Ref_Balanco_35",null,"Texto",4000]
["VL_RWAMINT_RWA_ANT","Número","12 int 4 dec",null,null,"Ref_Balanco_36",null,"Texto",4000]
["VL_RWAMINT_PR","Número","12 int 4 dec",null,null,"Ref_Balanco_37",null,"Texto",4000]
["VL_RISCO_OPERACIONAL_RWA","Número","12 int 4 dec",null,null,"Ref_Balanco_38",null,"Texto",4000]
["VL_RISCO_OPERACIONAL_RWA_ANT","Número","12 int 4 dec",null,null,"Ref_Balanco_39",null,"Texto",4000]
["VL_RISCO_OPERACIONAL_PR","Número","12 int 4 dec",null,null,"Ref_Balanco_40",null,"Texto",4000]
["VL_TOTAL_RWA","Número","12 int 4 dec",null,null,"Ref_Balanco_41",null,"Texto",4000]
["VL_TOTAL_RWA_ANT","Número","12 int 4 dec",null,null,"Ref_Balanco_41b",null,"Texto",4000]
["VL_TOTAL_PR","Número","12 int 4 dec",null,null,"Ref_Balanco_41c",null,"Texto",4000]
["DS_COMENTARIO_TABELA","Texto",4000,null,null,"Ref_Balanco_42",null,"Texto",4000]
[null,null,null,null,null,"Ref_Balanco_43",null,"Texto",4000]
["Tabela OVA",null,null,null,null,"Ref_Balanco_44",null,"Texto",4000]
["CAMPO","TIPO","TAMANHO","Inf",null,"Ref_Balanco_45",null,"Texto",4000]
["COD_REFERENCIA","Texto",6,"Chave única",null,"Ref_Balanco_46",null,"Texto",4000]
["COD_TABELA","Texto",8,null,null,"Ref_Balanco_47",null,"Texto",4000]
["DT_REFERENCIA_ARQ","Data","dd/mm/aaaa",null,null,"Ref_Balanco_48",null,"Texto",4000]
["CAMPO_A","Texto",4000,null,null,"Ref_Balanco_49",null,"Texto",4000]
["CAMPO_B","Texto",4000,null,null,"Ref_Balanco_51",null,"Texto",4000]
["CAMPO_C","Texto",4000,null,null,"Ref_Balanco_52",null,"Texto",4000]
["CAMPO_D","Texto",4000,null,null,"Ref_Balanco_53",null,"Texto",4000]
["CAMPO_E","Texto",4000,null,null,"Ref_Balanco_54",null,"Texto",4000]
["CAMPO_F","Texto",4000,null,null,"Ref_Balanco_55",null,"Texto",4000]
["CAMPO_G","Texto",4000,null,null,"Ref_Balanco_56",null,"Texto",4000]
["CAMPO_H","Texto",4000,null,null,"Ref_Balanco_56b",null,"Texto",4000]
["DS_COMENTÁRIO","Texto",4000,null,null,"Ref_Balanco_56c",null,"Texto",4000]
[null,null,null,null,null,"Ref_Balanco_57",null,"Texto",4000]
[null,null,null,null,null,"Ref_Balanco_58",null,"Texto",4000]
["Tabela MR1",null,null,null,null,"Ref_Balanco_59",null,"Texto",4000]
["CAMPO","TIPO","TAMANHO","Inf",null,"Ref_Balanco_60",null,"Texto",4000]
["COD_REFERENCIA","Texto",6,"Chave única",null,"Ref_Balanco_61",null,"Texto",4000]
["COD_TABELA","Texto",8,null,null,"Ref_Balanco_62",null,"Texto",4000]
["DT_REFERENCIA_ARQ","Data","dd/mm/aaaa",null,null,"Ref_Balanco_63",null,"Texto",4000]
["VL_TX_JUROS","Número","12 int 4 dec",null,null,"Ref_Balanco_64",null,"Texto",4000]
["VL_TX_JUROS_PREFIXADA","Número","12 int 4 dec",null,null,"Ref_Balanco_65",null,"Texto",4000]
["VL_TX_CUPON_MOEDA","Número","12 int 4 dec",null,null,"Ref_Balanco_66",null,"Texto",4000]
["VL_TX_INDICE_PRECO","Número","12 int 4 dec",null,null,"Ref_Balanco_67",null,"Texto",4000]
["VL_TX_CUPON_JURO","Número","12 int 4 dec",null,null,"Ref_Balanco_68",null,"Texto",4000]
["VL_ACOES","Número","12 int 4 dec",null,null,"Ref_Balanco_72",null,"Texto",4000]
["VL_TX_CAMBIO","Número","12 int 4 dec",null,null,"Ref_Balanco_73",null,"Texto",4000]
["VL_MERCADORIA","Número","12 int 4 dec",null,null,"Ref_Balanco_75",null,"Texto",4000]
["VL_TOTAL","Número","12 int 4 dec",null,null,"Ref_Balanco_82",null,"Texto",4000]
["DS_COMENTARIO_TABELA","Texto",4000,null,null,"Ref_Balanco_83",null,"Texto",4000]
[null,null,null,null,null,"Ref_Balanco_84",null,"Texto",4000]
[null,null,null,null,null,"Ref_Balanco_85",null,"Texto",4000]
[]
[]
["CAMPO","TIPO","TAMANHO","Inf"]
["COD_REFERENCIA","Texto",6,"Chave única"]
["COD_TABELA","Texto",8]
["DT_REFERENCIA_ARQ","Data","dd/mm/aaaa"]
["Vlr_Bruto_ate_6_meses","valor","12-4 (int - decimal)"]
["Vlr_Bruto_de_6_meses_a_1_ano","valor","12-4 (int - decimal)"]
["Vlr_Bruto_de_1_a_5_anos","valor","12-4 (int - decimal)"]
["Vlr_Bruto_acima_de_5_anos","valor","12-4 (int - decimal)"]
["Vlr_Bruto_Total","valor","12-4 (int - decimal)"]
["Vlr_liquid_ate_6_meses","valor","12-4 (int - decimal)"]
["Vlr_liquid_de_6_meses_a_1_ano","valor","12-4 (int - decimal)"]
["Vlr_liquid_de_1_a_5_anos","valor","12-4 (int - decimal)"]
["Vlr_liquid_acima_de_5_anos","valor","12-4 (int - decimal)"]
["Vlr_liquid_Total","valor","12-4 (int - decimal)"]
["Comentário","texto",4000,"texto aqui"]

{"sheet":"KM1","index":5,"n_rows":171,"n_cols":9,"rows_kept":171,"cut":false,"hidden":false,"merged":[[0,0,1,0],[4,2,4,8],[6,2,6,3]]}
[]
[]
[]
[]
[null,null,"Informações Quantitativas sobre os Requerimentos Prudenciais - (KM1)"]
[null,null,null,null,"a","b","c","d","e"]
[null,null,"Em R$ milhões",null,{"$f":"Arquivos!A14","v":"2023-12-01"},{"$f":"EDATE(E7,-3)","v":"2023-09-01"},{"$f":"EDATE(F7,-3)","v":"2023-06-01"},{"$f":"EDATE(G7,-3)","v":"2023-03-01"},{"$f":"EDATE(H7,-3)","v":"2022-12-01"}]
[null,null,null,"Capital Regulamentar – valores"]
[null,null,1,"Capital Principal",{"$f":"(SUMIFS(Tb_DLO[valorConta],Tb_DLO[dataBase],E$7,Tb_DLO[codigoConta],111)/10^6)","v":2184.02491323},{"$f":"(SUMIFS(Tb_DLO[valorConta],Tb_DLO[dataBase],F$7,Tb_DLO[codigoConta],111)/10^6)","v":2036.79147726},{"$f":"(SUMIFS(Tb_DLO[valorConta],Tb_DLO[dataBase],G$7,Tb_DLO[codigoConta],111)/10^6)","v":2061.13859215},{"$f":"(SUMIFS(Tb_DLO[valorConta],Tb_DLO[dataBase],H$7,Tb_DLO[codigoConta],111)/10^6)","v":1738.74546326},{"$f":"(SUMIFS(Tb_DLO[valorConta],Tb_DLO[dataBase],I$7,Tb_DLO[codigoConta],111)/10^6)","v":1859.4909942490003}]
[null,null,2,"Nível I",{"$f":"(SUMIFS(Tb_DLO[valorConta],Tb_DLO[dataBase],E$7,Tb_DLO[codigoConta],110)/10^6)","v":2627.7244575700001},{"$f":"(SUMIFS(Tb_DLO[valorConta],Tb_DLO[dataBase],F$7,Tb_DLO[codigoConta],110)/10^6)","v":2464.8627399299999},{"$f":"(SUMIFS(Tb_DLO[valorConta],Tb_DLO[dataBase],G$7,Tb_DLO[codigoConta],110)/10^6)","v":2474.2003706999999},{"$f":"(SUMIFS(Tb_DLO[valorConta],Tb_DLO[dataBase],H$7,Tb_DLO[codigoConta],110)/10^6)","v":2134.97637807},{"$f":"(SUMIFS(Tb_DLO[valorConta],Tb_DLO[dataBase],I$7,Tb_DLO[codigoConta],110)/10^6)","v":2169.5548457990003}]
[null,null,3,"Patrimônio de Referência (PR)",{"$f":"(SUMIFS(Tb_DLO[valorConta],Tb_DLO[dataBase],E$7,Tb_DLO[codigoConta],100)/10^6)","v":4070.9956139800001},{"$f":"(SUMIFS(Tb_DLO[valorConta],Tb_DLO[dataBase],F$7,Tb_DLO[codigoConta],100)/10^6)","v":3900.8945301199997},{"$f":"(SUMIFS(Tb_DLO[valorConta],Tb_DLO[dataBase],G$7,Tb_DLO[codigoConta],100)/10^6)","v":3887.8908874799999},{"$f":"(SUMIFS(Tb_DLO[valorConta],Tb_DLO[dataBase],H$7,Tb_DLO[codigoConta],100)/10^6)","v":3571.0195952399999},{"$f":"(SUMIFS(Tb_DLO[valorConta],Tb_DLO[dataBase],I$7,Tb_DLO[codigoConta],100)/10^6)","v":3522.4351379210002}]
[null,null,"3b","Excesso dos recursos aplicados no ativo permanente",0,0,0,0,0]
[null,null,"3c","Destaque do PR",0,0,0,0,0]
[null,null,null,"Ativos ponderados pelo risco (RWA) – valores"]
[null,null,4,"RWA total",{"$f":"(SUMIFS(Tb_DLO[valorConta],Tb_DLO[dataBase],E$7,Tb_DLO[codigoConta],900)/10^6)","v":27735.006480919998},{"$f":"ROUND(SUMIFS(Tb_DLO[valorConta],Tb_DLO[dataBase],F$7,Tb_DLO[codigoConta],900)/10^6,4)","v":26850.877400000001},{"$f":"ROUND(SUMIFS(Tb_DLO[valorConta],Tb_DLO[dataBase],G$7,Tb_DLO[codigoConta],900)/10^6,4)","v":26003.936099999999},{"$f":"ROUND(SUMIFS(Tb_DLO[valorConta],Tb_DLO[dataBase],H$7,Tb_DLO[codigoConta],900)/10^6,4)","v":24820.945800000001},{"$f":"ROUND(SUMIFS(Tb_DLO[valorConta],Tb_DLO[dataBase],I$7,Tb_DLO[codigoConta],900)/10^6,4)","v":23818.5177}]
[null,null,null,"Capital regulamentar como proporção do RWA"]
[null,null,5,"Índice de Capital Principal (ICP)",{"$f":"E9/E15","v":7.8746147571030017E-2},{"$f":"F9/F15","v":7.5855676777996081E-2},{"$f":"G9/G15","v":7.9262561799250078E-2},{"$f":"H9/H15","v":7.005153942441629E-2},{"$f":"I9/I15","v":7.8069131659230004E-2}]
[null,null,6,"Índice de Nível I (%)",{"$f":"E10/E15","v":9.4743964072181316E-2},{"$f":"F10/F15","v":9.179821959672721E-2},{"$f":"G10/G15","v":9.5147148538793705E-2},{"$f":"H10/H15","v":8.6015109789651933E-2},{"$f":"I10/I15","v":9.1086896049748733E-2}]
[null,null,7,"Índice de Basileia",{"$f":"E11/E15","v":0.14678185190908818},{"$f":"F11/F15","v":0.14527996504576046},{"$f":"G11/G15","v":0.14951163056734323},{"$f":"H11/H15","v":0.14387121361185196},{"$f":"I11/I15","v":0.14788641267634384}]
[null,null,null,"Adicional de Capital Principal (ACP) como proporção do RWA"]
[null,null,8,"Adicional de Conservação de Capital Principal - ACPConservação (%)",{"$f":"SUMIFS(ACP_Conserv,ACP_DT_REF,E$7)","v":2.5000000000000008E-2},{"$f":"SUMIFS(ACP_Conserv,ACP_DT_REF,F$7)","v":2.5000000000000008E-2},{"$f":"SUMIFS(ACP_Conserv,ACP_DT_REF,G$7)","v":2.5000000000000008E-2},{"$f":"SUMIFS(ACP_Conserv,ACP_DT_REF,H$7)","v":2.5000000000000008E-2},{"$f":"SUMIFS(ACP_Conserv,ACP_DT_REF,I$7)","v":2.5000000000000008E-2}]
[null,null,9,"Adicional Contracíclico de Capital Principal - ACPContracíclico (%)",{"$f":"SUMIFS(ACP_CONTRAC,ACP_DT_REF,E$7)","v":0},{"$f":"SUMIFS(ACP_CONTRAC,ACP_DT_REF,F$7)","v":0},{"$f":"SUMIFS(ACP_CONTRAC,ACP_DT_REF,G$7)","v":0},{"$f":"SUMIFS(ACP_CONTRAC,ACP_DT_REF,H$7)","v":0},{"$f":"SUMIFS(ACP_CONTRAC,ACP_DT_REF,I$7)","v":0}]
[null,null,10,"Adicional de Importância Sistêmica de Capital Principal - ACPSistêmico (%)",{"$f":"SUMIFS(ACP_SISTEM,ACP_DT_REF,E$7)","v":0},{"$f":"SUMIFS(ACP_SISTEM,ACP_DT_REF,F$7)","v":0},{"$f":"SUMIFS(ACP_SISTEM,ACP_DT_REF,G$7)","v":0},{"$f":"SUMIFS(ACP_SISTEM,ACP_DT_REF,H$7)","v":0},{"$f":"SUMIFS(ACP_SISTEM,ACP_DT_REF,I$7)","v":0}]
[null,null,11,"ACP total (%)",{"$f":"SUM(E21:E23)","v":2.5000000000000008E-2},{"$f":"SUM(F21:F23)","v":2.5000000000000008E-2},{"$f":"SUM(G21:G23)","v":2.5000000000000008E-2},{"$f":"SUM(H21:H23)","v":2.5000000000000008E-2},{"$f":"SUM(I21:I23)","v":2.5000000000000008E-2}]
[null,null,12,"Margem excedente de Capital Principal (%)",{"$f":"E17-E24-SUMIFS(ICP_min,ACP_DT_REF,E$7)","v":8.7461475710300107E-3},{"$f":"F17-F24-SUMIFS(ICP_min,ACP_DT_REF,F$7)","v":5.8556767779960744E-3},{"$f":"G17-G24-SUMIFS(ICP_min,ACP_DT_REF,G$7)","v":9.2625617992500714E-3},{"$f":"H17-H24-SUMIFS(ICP_min,ACP_DT_REF,H$7)","v":5.1539424416283119E-5},{"$f":"I17-I24-SUMIFS(ICP_min,ACP_DT_REF,I$7)","v":8.0691316592299972E-3}]
[null,null,null,"Razão de Alavancagem (RA)"]
[null,null,13,"Exposição total",{"$f":"(SUMIFS(Tb_DLO[valorConta],Tb_DLO[dataBase],E$7,Tb_DLO[codigoConta],141)/10^6)","v":52047.07356977},{"$f":"(SUMIFS(Tb_DLO[valorConta],Tb_DLO[dataBase],F$7,Tb_DLO[codigoConta],141)/10^6)","v":50256.614713750001},{"$f":"(SUMIFS(Tb_DLO[valorConta],Tb_DLO[dataBase],G$7,Tb_DLO[codigoConta],141)/10^6)","v":48136.641999519998},{"$f":"(SUMIFS(Tb_DLO[valorConta],Tb_DLO[dataBase],H$7,Tb_DLO[codigoConta],141)/10^6)","v":44253.52246457},{"$f":"(SUMIFS(Tb_DLO[valorConta],Tb_DLO[dataBase],I$7,Tb_DLO[codigoConta],141)/10^6)","v":42964.914633398999}]
[null,null,14,"RA (%)",{"$f":"(SUMIFS(Tb_DLO[valorConta],Tb_DLO[dataBase],E$7,Tb_DLO[codigoConta],108)/10^6)/E27","v":5.0487458320735173E-2},{"$f":"(SUMIFS(Tb_DLO[valorConta],Tb_DLO[dataBase],F$7,Tb_DLO[codigoConta],108)/10^6)/F27","v":4.9045538661314239E-2},{"$f":"(SUMIFS(Tb_DLO[valorConta],Tb_DLO[dataBase],G$7,Tb_DLO[codigoConta],108)/10^6)/G27","v":5.1399521610266702E-2},{"$f":"(SUMIFS(Tb_DLO[valorConta],Tb_DLO[dataBase],H$7,Tb_DLO[codigoConta],108)/10^6)/H27","v":4.824421332288955E-2},{"$f":"(SUMIFS(Tb_DLO[valorConta],Tb_DLO[dataBase],I$7,Tb_DLO[codigoConta],108)/10^6)/I27","v":5.0495965471149463E-2}]
[null,null,null,"Indicador Liquidez de Curto Prazo (LCR)"]
[null,null,15,"Total de Ativos de Alta Liquidez (HQLA)","NA","NA","NA","NA","NA"]
[null,null,16,"Total de saídas líquidas de caixa","NA","NA","NA","NA","NA"]
[null,null,17,"LCR (%)","NA","NA","NA","NA","NA"]
[null,null,null,"Indicador de Liquidez de Longo Prazo (NSFR)"]
[null,null,18,"Recursos estáveis disponíveis (ASF)","NA","NA","NA","NA","NA"]
[null,null,19,"Recursos estáveis requeridos (RSF)","NA","NA","NA","NA","NA"]
[null,null,20,"NSFR (%)","NA","NA","NA","NA","NA"]
[null,null,"NA: não aplicável para instituições não sujeitas a esse cálculo ou requerimento. "]
[null,null,null,"sem comentários"]
[]
[]
[]
[]
[]
[]
[]
[]
[]
[]
[]
[]
[]
[]
[]
[null,null,null,"Ref"]
[null,null,null,"Tabela"]
[null,null,null,"Dt_Ref_a"]
[null,null,null,"Dt_Ref_b"]
[null,null,null,"Dt_Ref_c"]
[null,null,null,"Dt_Ref_d"]
[null,null,null,"Dt_Ref_e"]
[null,null,null,"Capital_Principal_a"]
[null,null,null,"Capital_Principal_b"]
[null,null,null,"Capital_Principal_c"]
[null,null,null,"Capital_Principal_d"]
[null,null,null,"Capital_Principal_e"]
[null,null,null,"Nível_I_a"]
[null,null,null,"Nível_I_b"]
[null,null,null,"Nível_I_c"]
[null,null,null,"Nível_I_d"]
[null,null,null,"Nível_I_e"]
[null,null,null,"Patrimônio de Referência (PR)_a"]
[null,null,null,"Patrimônio de Referência (PR)_b"]
[null,null,null,"Patrimônio de Referência (PR)_c"]
[null,null,null,"Patrimônio de Referência (PR)_d"]
[null,null,null,"Patrimônio de Referência (PR)_e"]
[null,null,null,"Excesso dos recursos aplicados no ativo permanente_a"]
[null,null,null,"Excesso dos recursos aplicados no ativo permanente_b"]
[null,null,null,"Excesso dos recursos aplicados no ativo permanente_c"]
[null,null,null,"Excesso dos recursos aplicados no ativo permanente_d"]
[null,null,null,"Excesso dos recursos aplicados no ativo permanente_e"]
[null,null,null,"Destaque do PR_a"]
[null,null,null,"Destaque do PR_b"]
[null,null,null,"Destaque do PR_c"]
[null,null,null,"Destaque do PR_d"]
[null,null,null,"Destaque do PR_e"]
[null,null,null,"RWA total_a"]
[null,null,null,"RWA total_b"]
[null,null,null,"RWA total_c"]
[null,null,null,"RWA total_d"]
[null,null,null,"RWA total_e"]
[null,null,null,"Índice de Capital Principal (ICP)_a"]
[null,null,null,"Índice de Capital Principal (ICP)_b"]
[null,null,null,"Índice de Capital Principal (ICP)_c"]
[null,null,null,"Índice de Capital Principal (ICP)_d"]
[null,null,null,"Índice de Capital Principal (ICP)_e"]
[null,null,null,"Índice de Nível 1 (%)_a"]
[null,null,null,"Índice de Nível 1 (%)_b"]
[null,null,null,"Índice de Nível 1 (%)_c"]
[null,null,null,"Índice de Nível 1 (%)_d"]
[null,null,null,"Índice de Nível 1 (%)_e"]
[null,null,null,"Índice de Basileia_a"]
[null,null,null,"Índice de Basileia_b"]
[null,null,null,"Índice de Basileia_c"]
[null,null,null,"Índice de Basileia_d"]
[null,null,null,"Índice de Basileia_e"]
[null,null,null,"Adicional de Conservação de Capital Principal - ACPConservação (%)_a"]
[null,null,null,"Adicional de Conservação de Capital Principal - ACPConservação (%)_b"]
[null,null,null,"Adicional de Conservação de Capital Principal - ACPConservação (%)_c"]
[null,null,null,"Adicional de Conservação de Capital Principal - ACPConservação (%)_d"]
[null,null,null,"Adicional de Conservação de Capital Principal - ACPConservação (%)_e"]
[null,null,null,"Adicional Contracíclico de Capital Principal - ACPContracíclico (%)_a"]
[null,null,null,"Adicional Contracíclico de Capital Principal - ACPContracíclico (%)_b"]
[null,null,null,"Adicional Contracíclico de Capital Principal - ACPContracíclico (%)_c"]
[null,null,null,"Adicional Contracíclico de Capital Principal - ACPContracíclico (%)_d"]
[null,null,null,"Adicional Contracíclico de Capital Principal - ACPContracíclico (%)_e"]
[null,null,null,"Adicional de Importância Sistêmica de Capital Principal - ACPSistêmico (%)_a"]
[null,null,null,"Adicional de Importância Sistêmica de Capital Principal - ACPSistêmico (%)_b"]
[null,null,null,"Adicional de Importância Sistêmica de Capital Principal - ACPSistêmico (%)_c"]
[null,null,null,"Adicional de Importância Sistêmica de Capital Principal - ACPSistêmico (%)_d"]
[null,null,null,"Adicional de Importância Sistêmica de Capital Principal - ACPSistêmico (%)_e"]
[null,null,null,"ACP total (%)_a"]
[null,null,null,"ACP total (%)_b"]
[null,null,null,"ACP total (%)_c"]
[null,null,null,"ACP total (%)_d"]
[null,null,null,"ACP total (%)_e"]
[null,null,null,"Margem excedente de Capital Principal (%)_a"]
[null,null,null,"Margem excedente de Capital Principal (%)_b"]
[null,null,null,"Margem excedente de Capital Principal (%)_c"]
[null,null,null,"Margem excedente de Capital Principal (%)_d"]
[null,null,null,"Margem excedente de Capital Principal (%)_e"]
[null,null,null,"Exposição total_a"]
[null,null,null,"Exposição total_b"]
[null,null,null,"Exposição total_c"]
[null,null,null,"Exposição total_d"]
[null,null,null,"Exposição total_e"]
[null,null,null,"RA (%)_a"]
[null,null,null,"RA (%)_b"]
[null,null,null,"RA (%)_c"]
[null,null,null,"RA (%)_d"]
[null,null,null,"RA (%)_a"]
[null,null,null,"Total de Ativos de Alta Liquidez (HQLA)_a"]
[null,null,null,"Total de Ativos de Alta Liquidez (HQLA)_b"]
[null,null,null,"Total de Ativos de Alta Liquidez (HQLA)_c"]
[null,null,null,"Total de Ativos de Alta Liquidez (HQLA)_d"]
[null,null,null,"Total de Ativos de Alta Liquidez (HQLA)_e"]
[null,null,null,"Total de saídas líquidas de caixa_a"]
[null,null,null,"Total de saídas líquidas de caixa_b"]
[null,null,null,"Total de saídas líquidas de caixa_c"]
[null,null,null,"Total de saídas líquidas de caixa_d"]
[null,null,null,"Total de saídas líquidas de caixa_e"]
[null,null,null,"LCR (%)_a"]
[null,null,null,"LCR (%)_b"]
[null,null,null,"LCR (%)_c"]
[null,null,null,"LCR (%)_d"]
[null,null,null,"LCR (%)_e"]
[null,null,null,"Recursos estáveis disponíveis (ASF)_a"]
[null,null,null,"Recursos estáveis disponíveis (ASF)_b"]
[null,null,null,"Recursos estáveis disponíveis (ASF)_c"]
[null,null,null,"Recursos estáveis disponíveis (ASF)_d"]
[null,null,null,"Recursos estáveis disponíveis (ASF)_e"]
[null,null,null,"Recursos estáveis requeridos (RSF)_a"]
[null,null,null,"Recursos estáveis requeridos (RSF)_b"]
[null,null,null,"Recursos estáveis requeridos (RSF)_c"]
[null,null,null,"Recursos estáveis requeridos (RSF)_d"]
[null,null,null,"Recursos estáveis requeridos (RSF)_e"]
[null,null,null,"NSFR (%)_a"]
[null,null,null,"NSFR (%)_b"]
[null,null,null,"NSFR (%)_c"]
[null,null,null,"NSFR (%)_d"]
[null,null,null,"NSFR (%)_e"]
[null,null,null,"Comentários"]

{"sheet":"csv_KM1","index":6,"n_rows":4,"n_cols":119,"rows_kept":4,"cut":false,"hidden":false,"merged":[]}
["COD_TABELA","COD_REFERENCIA","DT_REFERENCIA_ARQ","DT_REFERENCIA_A","DT_REFERENCIA_B","DT_REFERENCIA_C","DT_REFERENCIA_D","DT_REFERENCIA_E","VL_CAPITAL_PRINCIPAL_A","VL_CAPITAL_PRINCIPAL_B","VL_CAPITAL_PRINCIPAL_C","VL_CAPITAL_PRINCIPAL_D","VL_CAPITAL_PRINCIPAL_E","VL_NIVEL1_A","VL_NIVEL1_B","VL_NIVEL1_C","VL_NIVEL1_D","VL_NIVEL1_E","VL_PATRIMONIO_REFERENCIA_A","VL_PATRIMONIO_REFERENCIA_B","VL_PATRIMONIO_REFERENCIA_C","VL_PATRIMONIO_REFERENCIA_D","VL_PATRIMONIO_REFERENCIA_E","VL_EXCESSO_REC_APL_AP_A","VL_EXCESSO_REC_APL_AP_B","VL_EXCESSO_REC_APL_AP_C","VL_EXCESSO_REC_APL_AP_D","VL_EXCESSO_REC_APL_AP_E","DESTAQUE_PR_A","DESTAQUE_PR_B","DESTAQUE_PR_C","DESTAQUE_PR_D","DESTAQUE_PR_E","VL_RWA_TOTAL_A","VL_RWA_TOTAL_B","VL_RWA_TOTAL_C","VL_RWA_TOTAL_D","VL_RWA_TOTAL_E","VL_ICP_A","VL_ICP_B","VL_ICP_C","VL_ICP_D","VL_ICP_E","VL_INDICE_NIVEL1_A","VL_INDICE_NIVEL1_B","VL_INDICE_NIVEL1_C","VL_INDICE_NIVEL1_D","VL_INDICE_NIVEL1_E","VL_INDICE_BASILEIA_A","VL_INDICE_BASILEIA_B","VL_INDICE_BASILEIA_C","VL_INDICE_BASILEIA_D","VL_INDICE_BASILEIA_E","VL_ACP_CONSEVACAO_A","VL_ACP_CONSEVACAO_B","VL_ACP_CONSEVACAO_C","VL_ACP_CONSEVACAO_D","VL_ACP_CONSEVACAO_E","VL_ACP_CONTRACICLICO_A","VL_ACP_CONTRACICLICO_B","VL_ACP_CONTRACICLICO_C","VL_ACP_CONTRACICLICO_D","VL_ACP_CONTRACICLICO_E","VL_ACP_SISTEMICO_A","VL_ACP_SISTEMICO_B","VL_ACP_SISTEMICO_C","VL_ACP_SISTEMICO_D","VL_ACP_SISTEMICO_E","VL_ACP_TOTAL_A","VL_ACP_TOTAL_B","VL_ACP_TOTAL_C","VL_ACP_TOTAL_D","VL_ACP_TOTAL_E","VL_MARGEM_EXCEDENTE_CP_A","VL_MARGEM_EXCEDENTE_CP_B","VL_MARGEM_EXCEDENTE_CP_C","VL_MARGEM_EXCEDENTE_CP_D","VL_MARGEM_EXCEDENTE_CP_E","VL_EXPOSICAO_TOTAL_A","VL_EXPOSICAO_TOTAL_B","VL_EXPOSICAO_TOTAL_C","VL_EXPOSICAO_TOTAL_D","VL_EXPOSICAO_TOTAL_E","VL_RA_A","VL_RA_B","VL_RA_C","VL_RA_D","VL_RA_E","VL_HQLA_A","VL_HQLA_B","VL_HQLA_C","VL_HQLA_D","VL_HQLA_E","VL_TOTAL_SAIDAS_LIQ_CAIXA_A","VL_TOTAL_SAIDAS_LIQ_CAIXA_B","VL_TOTAL_SAIDAS_LIQ_CAIXA_C","VL_TOTAL_SAIDAS_LIQ_CAIXA_D","VL_TOTAL_SAIDAS_LIQ_CAIXA_E","VL_LCR_A","VL_LCR_B","VL_LCR_C","VL_LCR_D","VL_LCR_E","VL_ASF_A","VL_ASF_B","VL_ASF_C","VL_ASF_D","VL_ASF_E","VL_RSF_A","VL_RSF_B","VL_RSF_C","VL_RSF_D","VL_RSF_E","VL_NSFR_A","VL_NSFR_B","VL_NSFR_C","VL_NSFR_D","VL_NSFR_E","DS_COMENTÁRIO_TABELA"]
["KM1",{"$f":"YEAR(C2)&IF(MONTH(C2)>9,4,IF(MONTH(C2)>6,3,IF(MONTH(C2)>3,2,1)))&\"T\"","v":"20234T"},{"$f":"EOMONTH('KM1'!E7,0)","v":"2023-12-31"},{"$f":"EOMONTH('KM1'!E7,0)","v":"2023-12-31"},{"$f":"EOMONTH('KM1'!F7,0)","v":"2023-09-30"},{"$f":"EOMONTH('KM1'!G7,0)","v":"2023-06-30"},{"$f":"EOMONTH('KM1'!H7,0)","v":"2023-03-31"},{"$f":"EOMONTH('KM1'!I7,0)","v":"2022-12-31"},{"$f":"'KM1'!E9*10^6","v":2184024913.23},{"$f":"'KM1'!F9*10^6","v":2036791477.26},{"$f":"'KM1'!G9*10^6","v":2061138592.1500001},{"$f":"'KM1'!H9*10^6","v":1738745463.26},{"$f":"'KM1'!I9*10^6","v":1859490994.2490003},{"$f":"'KM1'!E10*10^6","v":2627724457.5700002},{"$f":"'KM1'!F10*10^6","v":2464862739.9299998},{"$f":"'KM1'!G10*10^6","v":2474200370.6999998},{"$f":"'KM1'!H10*10^6","v":2134976378.0699999},{"$f":"'KM1'!I10*10^6","v":2169554845.7990003},{"$f":"'KM1'!E11*10^6","v":4070995613.98},{"$f":"'KM1'!F11*10^6","v":3900894530.1199999},{"$f":"'KM1'!G11*10^6","v":3887890887.48},{"$f":"'KM1'!H11*10^6","v":3571019595.2399998},{"$f":"'KM1'!I11*10^6","v":3522435137.921},{"$f":"'KM1'!E12*10^6","v":0},{"$f":"'KM1'!F12*10^6","v":0},{"$f":"'KM1'!G12*10^6","v":0},{"$f":"'KM1'!H12*10^6","v":0},{"$f":"'KM1'!I12*10^6","v":0},{"$f":"'KM1'!E13*10^6","v":0},{"$f":"'KM1'!F13*10^6","v":0},{"$f":"'KM1'!G13*10^6","v":0},{"$f":"'KM1'!H13*10^6","v":0},{"$f":"'KM1'!I13*10^6","v":0},{"$f":"'KM1'!E15*10^6","v":27735006480.919998},{"$f":"'KM1'!F15*10^6","v":26850877400},{"$f":"'KM1'!G15*10^6","v":26003936100},{"$f":"'KM1'!H15*10^6","v":24820945800},{"$f":"'KM1'!I15*10^6","v":23818517700},{"$f":"'KM1'!E17","v":7.8746147571030017E-2},{"$f":"'KM1'!F17","v":7.5855676777996081E-2},{"$f":"'KM1'!G17","v":7.9262561799250078E-2},{"$f":"'KM1'!H17","v":7.005153942441629E-2},{"$f":"'KM1'!I17","v":7.8069131659230004E-2},{"$f":"'KM1'!E18","v":9.4743964072181316E-2},{"$f":"'KM1'!F18","v":9.179821959672721E-2},{"$f":"'KM1'!G18","v":9.5147148538793705E-2},{"$f":"'KM1'!H18","v":8.6015109789651933E-2},{"$f":"'KM1'!I18","v":9.1086896049748733E-2},{"$f":"'KM1'!E19","v":0.14678185190908818},{"$f":"'KM1'!F19","v":0.14527996504576046},{"$f":"'KM1'!G19","v":0.14951163056734323},{"$f":"'KM1'!H19","v":0.14387121361185196},{"$f":"'KM1'!I19","v":0.14788641267634384},{"$f":"'KM1'!E21","v":2.5000000000000008E-2},{"$f":"'KM1'!F21","v":2.5000000000000008E-2},{"$f":"'KM1'!G21","v":2.5000000000000008E-2},{"$f":"'KM1'!H21","v":2.5000000000000008E-2},{"$f":"'KM1'!I21","v":2.5000000000000008E-2},{"$f":"'KM1'!E22","v":0},{"$f":"'KM1'!F22","v":0},{"$f":"'KM1'!G22","v":0},{"$f":"'KM1'!H22","v":0},{"$f":"'KM1'!I22","v":0},{"$f":"'KM1'!E23","v":0},{"$f":"'KM1'!F23","v":0},{"$f":"'KM1'!G23","v":0},{"$f":"'KM1'!H23","v":0},{"$f":"'KM1'!I23","v":0},{"$f":"'KM1'!E24","v":2.5000000000000008E-2},{"$f":"'KM1'!F24","v":2.5000000000000008E-2},{"$f":"'KM1'!G24","v":2.5000000000000008E-2},{"$f":"'KM1'!H24","v":2.5000000000000008E-2},{"$f":"'KM1'!I24","v":2.5000000000000008E-2},{"$f":"'KM1'!E25","v":8.7461475710300107E-3},{"$f":"'KM1'!F25","v":5.8556767779960744E-3},{"$f":"'KM1'!G25","v":9.2625617992500714E-3},{"$f":"'KM1'!H25","v":5.1539424416283119E-5},{"$f":"'KM1'!I25","v":8.0691316592299972E-3},{"$f":"'KM1'!E27*10^6","v":52047073569.769997},{"$f":"'KM1'!F27*10^6","v":50256614713.75},{"$f":"'KM1'!G27*10^6","v":48136641999.519997},{"$f":"'KM1'!H27*10^6","v":44253522464.57},{"$f":"'KM1'!I27*10^6","v":42964914633.399002},{"$f":"'KM1'!E28","v":5.0487458320735173E-2},{"$f":"'KM1'!F28","v":4.9045538661314239E-2},{"$f":"'KM1'!G28","v":5.1399521610266702E-2},{"$f":"'KM1'!H28","v":4.824421332288955E-2},{"$f":"'KM1'!I28","v":5.0495965471149463E-2},{"$f":"'KM1'!E30","v":"NA"},{"$f":"'KM1'!F30","v":"NA"},{"$f":"'KM1'!G30","v":"NA"},{"$f":"'KM1'!H30","v":"NA"},{"$f":"'KM1'!I30","v":"NA"},{"$f":"'KM1'!E31","v":"NA"},{"$f":"'KM1'!F31","v":"NA"},{"$f":"'KM1'!G31","v":"NA"},{"$f":"'KM1'!H31","v":"NA"},{"$f":"'KM1'!I31","v":"NA"},{"$f":"'KM1'!E32","v":"NA"},{"$f":"'KM1'!F32","v":"NA"},{"$f":"'KM1'!G32","v":"NA"},{"$f":"'KM1'!H32","v":"NA"},{"$f":"'KM1'!I32","v":"NA"},{"$f":"'KM1'!E34","v":"NA"},{"$f":"'KM1'!F34","v":"NA"},{"$f":"'KM1'!G34","v":"NA"},{"$f":"'KM1'!H34","v":"NA"},{"$f":"'KM1'!I34","v":"NA"},{"$f":"'KM1'!E35","v":"NA"},{"$f":"'KM1'!F35","v":"NA"},{"$f":"'KM1'!G35","v":"NA"},{"$f":"'KM1'!H35","v":"NA"},{"$f":"'KM1'!I35","v":"NA"},{"$f":"'KM1'!E36","v":"NA"},{"$f":"'KM1'!F36","v":"NA"},{"$f":"'KM1'!G36","v":"NA"},{"$f":"'KM1'!H36","v":"NA"},{"$f":"'KM1'!I36","v":"NA"},{"$f":"'KM1'!D38","v":"sem comentários"}]
[]
["DIV","DIV","DIV","DIV","DIV","DIV","DIV","DIV","NUM","NUM","NUM","NUM","NUM","NUM","NUM","NUM","NUM","NUM","NUM","NUM","NUM","NUM","NUM","NUM","NUM","NUM","NUM","NUM","NUM","NUM","NUM","NUM","NUM","NUM","NUM","NUM","NUM","NUM","NUM","NUM","NUM","NUM","NUM","NUM","NUM","NUM","NUM","NUM","NUM","NUM","NUM","NUM","NUM","NUM","NUM","NUM","NUM","NUM","NUM","NUM","NUM","NUM","NUM","NUM","NUM","NUM","NUM","NUM","NUM","NUM","NUM","NUM","NUM","NUM","NUM","NUM","NUM","NUM","NUM","NUM","NUM","NUM","NUM","NUM","NUM","NUM","NUM","NUM","NUM","NUM","NUM","NUM","NUM","NUM","NUM","NUM","NUM","NUM","NUM","NUM","NUM","NUM","NUM","NUM","NUM","NUM","NUM","NUM","NUM","NUM","NUM","NUM","NUM","NUM","NUM","NUM","NUM","NUM","TXT"]

{"sheet":"OV1","index":7,"n_rows":30,"n_cols":7,"rows_kept":30,"cut":false,"hidden":false,"merged":[[4,2,4,3],[5,4,6,5],[8,2,8,3]]}
[]
[]
[]
[]
[null,null,"Visão geral dos ativos ponderados pelo risco RWA - (OV1)"]
[null,null,null,null,"RWA",null,"Requerimento"]
[null,null,null,null,null,null,"mínimo de PR"]
[null,null,null,null,"a","b","c"]
[null,null,"Em R$ milhões",null,{"$f":"Arquivos!A14","v":"2023-12-01"},{"$f":"EDATE(E9,-3)","v":"2023-09-01"},{"$f":"E9","v":"2023-12-01"}]
[null,null,0,"Risco de Crédito - tratamento mediante abordagem padronizada",{"$f":"SUMIFS(Tb_DLO[valorConta],Tb_DLO[dataBase],E$9,Tb_DLO[codigoConta],700)/10^6","v":25872.211296740003},{"$f":"SUMIFS(Tb_DLO[valorConta],Tb_DLO[dataBase],F$9,Tb_DLO[codigoConta],700)/10^6","v":25013.999866490001},{"$f":"IFERROR(E10*SUMIFS(Fator_F,ACP_DT_REF,G$9),0)","v":2069.7769037392004}]
[null,null,2,"Risco de crédito em sentido estrito",{"$f":"E10-SUM(E12,E16,E17,E18,E19,E20,E21)","v":25501.203212290002},{"$f":"F10-SUM(F12,F16,F17,F18,F19,F20,F21)","v":24523.881346600003},2040.0962569832002]
[null,null,6,"Risco de crédito de contraparte (CCR)",{"$f":"SUM(E13:E15)","v":1.6965190700000001},{"$f":"SUM(F13:F15)","v":0.89302404000000002},0.1357215256]
[null,null,7,"Do qual: mediante abordagem padronizada para risco de crédito de contraparte (SA-CCR)",0,0,0]
[null,null,"7a","Do qual: mediante uso da abordagem CEM",0,0,0]
[null,null,9,"Do qual: mediante demais abordagens",{"$f":"(SUMIFS(Tb_DLO[valorDetalhe],Tb_DLO[dataBase],E$9,Tb_DLO[codigoConta],\"520.03\",Tb_DLO[codigoElemento],2)/10^6)+\n(SUMIFS(Tb_DLO[valorDetalhe],Tb_DLO[dataBase],E$9,Tb_DLO[codigoConta],\"520.02\",Tb_DLO[codigoElemento],2)/10^6)","v":1.6965190700000001},{"$f":"(SUMIFS(Tb_DLO[valorDetalhe],Tb_DLO[dataBase],F$9,Tb_DLO[codigoConta],\"520.03\",Tb_DLO[codigoElemento],2)/10^6)+\n(SUMIFS(Tb_DLO[valorDetalhe],Tb_DLO[dataBase],F$9,Tb_DLO[codigoConta],\"520.02\",Tb_DLO[codigoElemento],2)/10^6)","v":0.89302404000000002},0.1357215256]
[null,null,10,"Acréscimo relativo ao ajuste associado à variação do valor dos derivativos em decorrência de variação da qualidade creditícia da contraparte (CVA)",{"$f":"SUMIFS(Tb_DLO[valorConta],Tb_DLO[dataBase],E$9,Tb_DLO[codigoConta],695)/10^6","v":0},{"$f":"SUMIFS(Tb_DLO[valorConta],Tb_DLO[dataBase],F$9,Tb_DLO[codigoConta],695)/10^6","v":0},0]
[null,null,12,"Cotas de fundos não consolidados - ativos subjacentes identificados",{"$f":"(SUMIFS(Tb_DLO[valorDetalhe],Tb_DLO[codigoElemento],41,Tb_DLO[valorElemento],102,Tb_DLO[dataBase],E$9,Tb_DLO[codigoConta],\"530.13\")/10^6)","v":0},{"$f":"(SUMIFS(Tb_DLO[valorDetalhe],Tb_DLO[codigoElemento],41,Tb_DLO[valorElemento],102,Tb_DLO[dataBase],F$9,Tb_DLO[codigoConta],\"530.13\")/10^6)","v":0},0]
[null,null,13,"Cotas de fundos não consolidados - ativos subjacentes inferidos conforme regulamento do fundo",0,0,0]
[null,null,14,"Cotas de fundos não consolidados - ativos subjacentes não identificados",{"$f":"(SUMIFS(Tb_DLO[valorDetalhe],Tb_DLO[codigoElemento],41,Tb_DLO[valorElemento],73001250,Tb_DLO[dataBase],E$9,Tb_DLO[codigoConta],\"530.50\")/10^6)","v":3.8671813799999999},{"$f":"(SUMIFS(Tb_DLO[valorDetalhe],Tb_DLO[codigoElemento],41,Tb_DLO[valorElemento],73001250,Tb_DLO[dataBase],F$9,Tb_DLO[codigoConta],\"530.50\")/10^6)","v":27.41884825},0.30937451040000002]
[null,null,16,"Exposições de securitização - requerimento calculado mediante abordagem padronizada ",0,0,0]
[null,null,25,"Valores referentes às exposições não deduzidas no cálculo do PR",{"$f":"(SUMIFS(Tb_DLO[valorConta],Tb_DLO[dataBase],E$9,Tb_DLO[codigoConta],\"111.94.08.03\")/10^6)*2.5","v":365.44438399999996},{"$f":"(SUMIFS(Tb_DLO[valorConta],Tb_DLO[dataBase],F$9,Tb_DLO[codigoConta],\"111.94.08.03\")/10^6)*2.5","v":461.80664760000002},29.235550719999996]
[null,null,20,"Risco de Mercado",{"$f":"SUM(E23:E24)","v":51.839682429999996},{"$f":"SUM(F23:F24)","v":25.922019989999999},4.1471745944]
[null,null,21,"Do qual: requerimento calculado mediante abordagem padronizada (RWAMPAD)",{"$f":"(SUMIFS(Tb_DLO[valorConta],Tb_DLO[dataBase],E$9,Tb_DLO[codigoConta],770)/10^6)","v":51.839682429999996},{"$f":"(SUMIFS(Tb_DLO[valorConta],Tb_DLO[dataBase],F$9,Tb_DLO[codigoConta],770)/10^6)","v":25.922019989999999},4.1471745944]
[null,null,22,"Do qual: requerimento calculado mediante modelo interno (RWAMINT)",{"$f":"(SUMIFS(Tb_DLO[valorConta],Tb_DLO[dataBase],E$9,Tb_DLO[codigoConta],865)/10^6)","v":0},{"$f":"(SUMIFS(Tb_DLO[valorConta],Tb_DLO[dataBase],F$9,Tb_DLO[codigoConta],865)/10^6)","v":0},0]
[null,null,24,"Risco Operacional",{"$f":"(SUMIFS(Tb_DLO[valorConta],Tb_DLO[dataBase],E$9,Tb_DLO[codigoConta],870)/10^6)","v":1810.9555017499999},{"$f":"(SUMIFS(Tb_DLO[valorConta],Tb_DLO[dataBase],F$9,Tb_DLO[codigoConta],870)/10^6)","v":1810.9555017499999},144.87644014]
[null,null,27,"Total (2+6+10+12+13+14+16+25+20+24)",{"$f":"SUM(E25,E22,E10)","v":27735.006480920001},{"$f":"SUM(F25,F22,F10)","v":26850.877388230001},2218.8005184736003]
[]
[null,null,null,"Validação",{"$f":"SUMIFS(Tb_DLO[valorConta],Tb_DLO[dataBase],E$9,Tb_DLO[codigoConta],900)/10^6","v":27735.006480919998},{"$f":"(SUMIFS(Tb_DLO[valorConta],Tb_DLO[dataBase],F$9,Tb_DLO[codigoConta],900)/10^6)","v":26850.877388230001},{"$f":"IFERROR(E28*SUMIFS(Fator_F,ACP_DT_REF,G$9),0)","v":2218.8005184735998}]
[null,null,null,null,{"$f":"E26-E28","v":0},{"$f":"F26-F28","v":0},{"$f":"G26-G28","v":0}]
[null,null,null,"sem comentários"]

{"sheet":"csv_OV1","index":8,"n_rows":4,"n_cols":58,"rows_kept":4,"cut":false,"hidden":false,"merged":[]}
["COD_TABELA","COD_REFERENCIA","DT_REFERENCIA_ARQ","Dt_Ref_a","Dt_Ref_b","Dt_Ref_c","VL_RISCO_CRED_RWA_a","VL_RISCO_CRED_RWA_b","VL_RISCO_CRED_PR_c","VL_RISCO_CRED_ESTRITO_RWA_a","VL_RISCO_CRED_ESTRITO_RWA_b","VL_RISCO_CRED_ESTRITO_PR_c","VL_CCR_RWA_a","VL_CCR_RWA_b","VL_CCR_PR_c","VL_SA_CCR_RWA_a","VL_SA_CCR_RWA_b","VL_SA_CCR_PR_c","VL_CEM_RWA_a","VL_CEM_RWA_b","VL_CEM_PR_c","VL_OUTROS_RWA_a","VL_OUTROS_RWA_b","VL_OUTROS_PR_c","VL_CVA_RWA_a","VL_CVA_RWA_b","VL_CVA_PR_c","VL_CFNCASID_RWA_a","VL_CFNCASID_RWA_b","VL_CFNCASID_PR_c","VL_CFNCASIN_RWA_a","VL_CFNCASIN_RWA_b","VL_CFNCASIN_PR_c","VL_CFNCASNID_RWA_a","VL_CFNCASNID_RWA_b","VL_CFNCASNID_PR_c","VL_EXP_SEC_AP_RWA_a","VL_EXP_SEC_AP_RWA_b","VL_EXP_SEC_AP_PR_c","VL_EXP_NDED_PR_RWA_a","VL_EXP_NDED_PR_RWA_b","VL_EXP_NDED_PR_c","VL_RISCO_MERCADO_RWA_a","VL_RISCO_MERCADO_RWA_b","VL_RISCO_MERCADO_PR_c","VL_RWAMPAD_RWA_a","VL_RWAMPAD_RWA_b","VL_RWAMPAD_PR_c","VL_RWAMINT_RWA_a","VL_RWAMINT_RWA_b","VL_RWAMINT_PR_c","VL_RISCO_OPERACIONAL_RWA_a","VL_RISCO_OPERACIONAL_RWA_b","VL_RISCO_OPERACIONAL_PR_c","VL_TOTAL_RWA_a","VL_TOTAL_RWA_b","VL_TOTAL_PR_c","DS_COMENTÁRIO_TABELA"]
["OV1",{"$f":"YEAR(C2)&IF(MONTH(C2)>9,4,IF(MONTH(C2)>6,3,IF(MONTH(C2)>3,2,1)))&\"T\"","v":"20234T"},{"$f":"EOMONTH('OV1'!E9,0)","v":"2023-12-31"},{"$f":"EOMONTH('OV1'!E9,0)","v":"2023-12-31"},{"$f":"EOMONTH('OV1'!F9,0)","v":"2023-09-30"},{"$f":"EOMONTH('OV1'!G9,0)","v":"2023-12-31"},{"$f":"'OV1'!E10*10^6","v":25872211296.740002},{"$f":"'OV1'!F10*10^6","v":25013999866.490002},{"$f":"'OV1'!G10*10^6","v":2069776903.7392004},{"$f":"'OV1'!E11*10^6","v":25501203212.290001},{"$f":"'OV1'!F11*10^6","v":24523881346.600002},{"$f":"'OV1'!G11*10^6","v":2040096256.9832001},{"$f":"'OV1'!E12*10^6","v":1696519.07},{"$f":"'OV1'!F12*10^6","v":893024.04},{"$f":"'OV1'!G12*10^6","v":135721.52559999999},{"$f":"'OV1'!E13*10^6","v":0},{"$f":"'OV1'!F13*10^6","v":0},{"$f":"'OV1'!G13*10^6","v":0},{"$f":"'OV1'!E14*10^6","v":0},{"$f":"'OV1'!F14*10^6","v":0},{"$f":"'OV1'!G14*10^6","v":0},{"$f":"'OV1'!E15*10^6","v":1696519.07},{"$f":"'OV1'!F15*10^6","v":893024.04},{"$f":"'OV1'!G15*10^6","v":135721.52559999999},{"$f":"'OV1'!E16*10^6","v":0},{"$f":"'OV1'!F16*10^6","v":0},{"$f":"'OV1'!G16*10^6","v":0},{"$f":"'OV1'!E17*10^6","v":0},{"$f":"'OV1'!F17*10^6","v":0},{"$f":"'OV1'!G17*10^6","v":0},{"$f":"'OV1'!E18*10^6","v":0},{"$f":"'OV1'!F18*10^6","v":0},{"$f":"'OV1'!G18*10^6","v":0},{"$f":"'OV1'!E19*10^6","v":3867181.38},{"$f":"'OV1'!F19*10^6","v":27418848.25},{"$f":"'OV1'!G19*10^6","v":309374.51040000003},{"$f":"'OV1'!E20*10^6","v":0},{"$f":"'OV1'!F20*10^6","v":0},{"$f":"'OV1'!G20*10^6","v":0},{"$f":"'OV1'!E21*10^6","v":365444383.99999994},{"$f":"'OV1'!F21*10^6","v":461806647.60000002},{"$f":"'OV1'!G21*10^6","v":29235550.719999995},{"$f":"'OV1'!E22*10^6","v":51839682.43},{"$f":"'OV1'!F22*10^6","v":25922019.989999998},{"$f":"'OV1'!G22*10^6","v":4147174.5943999998},{"$f":"'OV1'!E23*10^6","v":51839682.43},{"$f":"'OV1'!F23*10^6","v":25922019.989999998},{"$f":"'OV1'!G23*10^6","v":4147174.5943999998},{"$f":"'OV1'!E24*10^6","v":0},{"$f":"'OV1'!F24*10^6","v":0},{"$f":"'OV1'!G24*10^6","v":0},{"$f":"'OV1'!E25*10^6","v":1810955501.75},{"$f":"'OV1'!F25*10^6","v":1810955501.75},{"$f":"'OV1'!G25*10^6","v":144876440.13999999},{"$f":"'OV1'!E26*10^6","v":27735006480.920002},{"$f":"'OV1'!F26*10^6","v":26850877388.23},{"$f":"'OV1'!G26*10^6","v":2218800518.4736004},{"$f":"'OV1'!D30","v":"sem comentários"}]
[]
["TXT","TXT","TXT","TXT","TXT","TXT","NUM","NUM","NUM","NUM","NUM","NUM","NUM","NUM","NUM","NUM","NUM","NUM","NUM","NUM","NUM","NUM","NUM","NUM","NUM","NUM","NUM","NUM","NUM","NUM","NUM","NUM","NUM","NUM","NUM","NUM","NUM","NUM","NUM","NUM","NUM","NUM","NUM","NUM","NUM","NUM","NUM","NUM","NUM","NUM","NUM","NUM","NUM","NUM","NUM","NUM","NUM","TXT"]

{"sheet":"MR1","index":9,"n_rows":18,"n_cols":5,"rows_kept":18,"cut":false,"hidden":false,"merged":[[0,0,1,0],[5,2,5,4],[7,2,7,3],[18,2,18,4]]}
[]
[]
[]
[]
[]
[null,null,"Abordagem padronizada - fatores de risco associados ao risco de mercado - (MR1)"]
[null,null,null,null,"a"]
[null,null,"em milhões",null,{"$f":"Arquivos!A14","v":"2023-12-01"}]
[null,null,null,"Fatores de Risco","RWAMPAD"]
[null,null,1,"Taxas de juros",0]
[null,null,"1a","Taxas de juros prefixada denominadas em Real (RWAJUR1)",0]
[null,null,"1b","Taxas dos cupons de moeda estrangeira (RWAJUR2)",0]
[null,null,"1c","Taxas dos cupons de índices de preço (RWAJUR3)",0]
[null,null,"1d","Taxas dos cupons de taxas de juros (RWAJUR4)",0]
[null,null,2,"Preços de ações (RWAACS)",{"$f":"SUMIFS(Tb_DLO[valorConta],Tb_DLO[dataBase],E$8,Tb_DLO[codigoConta],860)/10^6","v":0}]
[null,null,3,"Taxas de câmbio (RWACAM)",{"$f":"SUMIFS(Tb_DLO[valorConta],Tb_DLO[dataBase],E$8,Tb_DLO[codigoConta],800)/10^6","v":51.839682429999996}]
[null,null,4,"Preços de mercadorias (commodities) (RWACOM)",{"$f":"SUMIFS(Tb_DLO[valorConta],Tb_DLO[dataBase],E$8,Tb_DLO[codigoConta],850)/10^6","v":0}]
[null,null,9,"Total",{"$f":"SUM(E10,E15,E16,E17)","v":51.839682429999996}]

{"sheet":"csv_MR1","index":10,"n_rows":4,"n_cols":16,"rows_kept":4,"cut":false,"hidden":false,"merged":[]}
["COD_TABELA","COD_REFERENCIA","DT_REFERENCIA_ARQ","Dt_Ref_campo_a","VL_TX_JUROS","PC_TX_JUROS_PREFIXADA","VL_TX_CUPON_MOEDA","VL_TX_INDICE_PRECO","VL_TX_CUPON_JURO","VL_ACOES","VL_TX_CAMBIO","VL_MERCADORIA","VL_TOTAL","DS_COMENTÁRIO_TABELA"]
["MR1",{"$f":"YEAR(C2)&IF(MONTH(C2)>9,4,IF(MONTH(C2)>6,3,IF(MONTH(C2)>3,2,1)))&\"T\"","v":"20234T"},{"$f":"EOMONTH('MR1'!E8,0)","v":"2023-12-31"},{"$f":"EOMONTH('MR1'!E8,0)","v":"2023-12-31"},{"$f":"'MR1'!$E10*10^6","v":0},{"$f":"'MR1'!$E11*10^6","v":0},{"$f":"'MR1'!$E12*10^6","v":0},{"$f":"'MR1'!$E13*10^6","v":0},{"$f":"'MR1'!$E14*10^6","v":0},{"$f":"'MR1'!$E15*10^6","v":0},{"$f":"'MR1'!$E16*10^6","v":51839682.43},{"$f":"'MR1'!$E17*10^6","v":0},{"$f":"'MR1'!$E18*10^6","v":51839682.43},{"$f":"'MR1'!C19:E19","v":0},0,0]
[]
["TXT","TXT","TXT","TXT","NUM","NUM","NUM","NUM","NUM","NUM","NUM","NUM","NUM","TXT"]

{"sheet":"CCA","index":11,"n_rows":118,"n_cols":96,"rows_kept":118,"cut":false,"hidden":false,"merged":[]}
[]
[]
[]
[null,null,{"$f":"Arquivos!A14","v":"2023-12-01"}]
[null,null,"ANEXO - I "]
[null,null,"Principais características dos instrumentos que Compõem o Patrimônio de Referência - (CCA)"]
[null,null,"Em R$ milhões"]
[null,null,1,2,3,4,5,6,7,8,9,10,11,12,13,14,"15 (1)","15 (2)","15 (3)",16,17,18,19,20,21,22,23,24,25,26,27,28,29,30,31,32,33,"34a",35,36,37]
[null,null,"Emissor","Identificador único","Lei aplicável ao instrumento","Classificação do instrumento como componente do PR durante o tratamento temporário de que trata o art. 28 da Resolução nº 4.192, de 2013.","Classificação do instrumento como componente do PR após o tratamento temporário de que trata a linha anterior","Escopo da elegibilidade do instrumento","Tipo de instrumento","Valor reconhecido no PR","Valor de face do instrumento","Classificação contábil","Data original de emissão","Perpétuo ou com vencimento","Data original de vencimento","Opção de resgate ou recompra","Data de resgate ou de recompra","Datas de resgate ou de recompra condicionadas","Valor de resgate ou de recompra","Datas de resgate ou de recompra subsequentes, se aplicável","Remuneração ou dividendos fixos ou variáveis","Taxa de remuneração e índice referenciado","Possibilidade de suspensão de pagamento de dividendos","Completa discricionariedade, discricionariedade parcial ou mandatória","Existência de cláusulas que alterem prazos ou condições de remuneração pactuados ou outro incentivo para resgate","Cumulativo ou não cumulativo","Conversível ou não conversível","Se conversível, em quais situações","Se conversível, totalmente ou parcialmente","Se conversível, taxa de conversão","Se conversível, conversão obrigatória ou opcional","Se conversível, especificar para qual tipo de instrumento","Se conversível, especificar o emissor do instrumento para o qual pode ser convertido","Características para a extinção do instrumento","Se extinguível, em quais situações","Se extinguível, totalmente ou parcialmente","Se extinguível, permanentemente ou temporariamente","Tipo de subordinação","Posição na hierarquia de subordinação em caso de liquidação","Possui características que não serão aceitas após o tratamento temporário de que trata o art. 28 da Resolução nº 4.192, de 2013","Se sim, especificar as características de que trata a linha anterior"]
[null,1,"BRB - BANCO DE BRASILIA S/A","LFSN2200A16","Lei 12.249/2010 - Resolução 4.955/2021 do CMN","Nível II","Nível II","Conglomerado","Letra financeira",25374129.539999999,20100000,"passivo - custo amortizado","2022-08-10","Com vencimento","2029-08-10","Não","(1) Não há uma data específica, apenas quando for solicitado ao Bacen","(2) Não há vinculação regulatória ou fiscal para resgate ou recompra","(3) O valor pode ser parcial ou total, conforme autorização do Bacen","Não se aplica","Fixo","135% CDI","Não","Mandatório","Não","Cumulativo","Não conversível","Não se aplica","Não se aplica","Não se aplica","Não se aplica","Não se aplica","Não se aplica","Sim","Os títulos serão extintos, permanente e em valor no mínimo correspondente ao saldo computado no Nível II do Patrimônio de Referência do BRB – Banco de Brasília S.A nas seguintes condições:         1. seja verificada a divulgação pelo BRB – Banco de Brasília S.A. de que seu Capital Principal está em patamar inferior a 4,5% (quatro inteiros e cinco décimos por cento) do montante RWA, estabelecida pela regulamentação vigente; ou\n2. seja verificada, em lei específica, a assinatura de compromisso de aporte para o BRB – Banco de Brasília S.A.;\n3. seja decretado pelo BACEN o regime de administração especial temporária ou intervenção do BRB – Banco de Brasília S.A.; ou\n4. seja determinado pelo BACEN, segundo critérios estabelecidos em regulamento específico editado pelo Conselho Monetário Nacional,a extinção do instrumento.","Totalmente","Permanente","Contratual","Não","Não","Não se aplica"]
[null,2,"BRB - BANCO DE BRASILIA S/A","LFSN2200DFD","Lei 12.249/2010 - Resolução 4.955/2021 do CMN","Nível II","Nível II","Conglomerado","Letra financeira",11221012.24,9300000,"passivo - custo amortizado","2022-11-16","Com vencimento","2029-11-16","Não","(1) Não há uma data específica, apenas quando for solicitado ao Bacen","(2) Não há vinculação regulatória ou fiscal para resgate ou recompra","(3) O valor pode ser parcial ou total, conforme autorização do Bacen","Não se aplica","Fixo","135% CDI","Não","Mandatório","Não","Cumulativo","Não conversível","Não se aplica","Não se aplica","Não se aplica","Não se aplica","Não se aplica","Não se aplica","Sim","Os títulos serão extintos, permanente e em valor no mínimo correspondente ao saldo computado no Nível II do Patrimônio de Referência do BRB – Banco de Brasília S.A nas seguintes condições:         1. seja verificada a divulgação pelo BRB – Banco de Brasília S.A. de que seu Capital Principal está em patamar inferior a 4,5% (quatro inteiros e cinco décimos por cento) do montante RWA, estabelecida pela regulamentação vigente; ou\n2. seja verificada, em lei específica, a assinatura de compromisso de aporte para o BRB – Banco de Brasília S.A.;\n3. seja decretado pelo BACEN o regime de administração especial temporária ou intervenção do BRB – Banco de Brasília S.A.; ou\n4. seja determinado pelo BACEN, segundo critérios estabelecidos em regulamento específico editado pelo Conselho Monetário Nacional,a extinção do instrumento.","Totalmente","Permanente","Contratual","Não","Não","Não se aplica"]
[null,3,"BRB - BANCO DE BRASILIA S/A","LFSN2200DFU","Lei 12.249/2010 - Resolução 4.955/2021 do CMN","Nível II","Nível II","Conglomerado","Letra financeira",12651530.08,10500000,"passivo - custo amortizado","2022-11-18","Com vencimento","2029-11-19","Não","(1) Não há uma data específica, apenas quando for solicitado ao Bacen","(2) Não há vinculação regulatória ou fiscal para resgate ou recompra","(3) O valor pode ser parcial ou total, conforme autorização do Bacen","Não se aplica","Fixo","135% CDI","Não","Mandatório","Não","Cumulativo","Não conversível","Não se aplica","Não se aplica","Não se aplica","Não se aplica","Não se aplica","Não se aplica","Sim","Os títulos serão extintos, permanente e em valor no mínimo correspondente ao saldo computado no Nível II do Patrimônio de Referência do BRB – Banco de Brasília S.A nas seguintes condições:         1. seja verificada a divulgação pelo BRB – Banco de Brasília S.A. de que seu Capital Principal está em patamar inferior a 4,5% (quatro inteiros e cinco décimos por cento) do montante RWA, estabelecida pela regulamentação vigente; ou\n2. seja verificada, em lei específica, a assinatura de compromisso de aporte para o BRB – Banco de Brasília S.A.;\n3. seja decretado pelo BACEN o regime de administração especial temporária ou intervenção do BRB – Banco de Brasília S.A.; ou\n4. seja determinado pelo BACEN, segundo critérios estabelecidos em regulamento específico editado pelo Conselho Monetário Nacional,a extinção do instrumento.","Totalmente","Permanente","Contratual","Não","Não","Não se aplica"]
[null,4,"BRB - BANCO DE BRASILIA S/A","LFSN2200BF5","Lei 12.249/2010 - Resolução 4.955/2021 do CMN","Nível II","Nível II","Conglomerado","Letra financeira",2428982.2400000002,2000000,"passivo - custo amortizado","2022-10-21","Com vencimento","2029-10-22","Não","(1) Não há uma data específica, apenas quando for solicitado ao Bacen","(2) Não há vinculação regulatória ou fiscal para resgate ou recompra","(3) O valor pode ser parcial ou total, conforme autorização do Bacen","Não se aplica","Fixo","132% CDI","Não","Mandatório","Não","Cumulativo","Não conversível","Não se aplica","Não se aplica","Não se aplica","Não se aplica","Não se aplica","Não se aplica","Sim","Os títulos serão extintos, permanente e em valor no mínimo correspondente ao saldo computado no Nível II do Patrimônio de Referência do BRB – Banco de Brasília S.A nas seguintes condições:         1. seja verificada a divulgação pelo BRB – Banco de Brasília S.A. de que seu Capital Principal está em patamar inferior a 4,5% (quatro inteiros e cinco décimos por cento) do montante RWA, estabelecida pela regulamentação vigente; ou\n2. seja verificada, em lei específica, a assinatura de compromisso de aporte para o BRB – Banco de Brasília S.A.;\n3. seja decretado pelo BACEN o regime de administração especial temporária ou intervenção do BRB – Banco de Brasília S.A.; ou\n4. seja determinado pelo BACEN, segundo critérios estabelecidos em regulamento específico editado pelo Conselho Monetário Nacional,a extinção do instrumento.","Totalmente","Permanente","Contratual","Não","Não","Não se aplica"]
[null,5,"BRB - BANCO DE BRASILIA S/A","LFSN23006SJ","Lei 12.249/2010 - Resolução 4.955/2021 do CMN","Nível II","Nível II","Conglomerado","Letra financeira",688759.08,600000,"passivo - custo amortizado","2023-02-08","Com vencimento","2029-02-08","Não","(1) Não há uma data específica, apenas quando for solicitado ao Bacen","(2) Não há vinculação regulatória ou fiscal para resgate ou recompra","(3) O valor pode ser parcial ou total, conforme autorização do Bacen","Não se aplica","Fixo","127% CDI","Não","Mandatório","Não","Cumulativo","Não conversível","Não se aplica","Não se aplica","Não se aplica","Não se aplica","Não se aplica","Não se aplica","Sim","Os títulos serão extintos, permanente e em valor no mínimo correspondente ao saldo computado no Nível II do Patrimônio de Referência do BRB – Banco de Brasília S.A nas seguintes condições:         1. seja verificada a divulgação pelo BRB – Banco de Brasília S.A. de que seu Capital Principal está em patamar inferior a 4,5% (quatro inteiros e cinco décimos por cento) do montante RWA, estabelecida pela regulamentação vigente; ou\n2. seja verificada, em lei específica, a assinatura de compromisso de aporte para o BRB – Banco de Brasília S.A.;\n3. seja decretado pelo BACEN o regime de administração especial temporária ou intervenção do BRB – Banco de Brasília S.A.; ou\n4. seja determinado pelo BACEN, segundo critérios estabelecidos em regulamento específico editado pelo Conselho Monetário Nacional,a extinção do instrumento.","Totalmente","Permanente","Contratual","Não","Não","Não se aplica"]
[null,6,"BRB - BANCO DE BRASILIA S/A","LFSN2200D4A","Lei 12.249/2010 - Resolução 4.955/2021 do CMN","Nível II","Nível II","Conglomerado","Letra financeira",22472809.27,18600000,"passivo - custo amortizado","2022-11-11","Com vencimento","2029-11-12","Não","(1) Não há uma data específica, apenas quando for solicitado ao Bacen","(2) Não há vinculação regulatória ou fiscal para resgate ou recompra","(3) O valor pode ser parcial ou total, conforme autorização do Bacen","Não se aplica","Fixo","135% CDI","Não","Mandatório","Não","Cumulativo","Não conversível","Não se aplica","Não se aplica","Não se aplica","Não se aplica","Não se aplica","Não se aplica","Sim","Os títulos serão extintos, permanente e em valor no mínimo correspondente ao saldo computado no Nível II do Patrimônio de Referência do BRB – Banco de Brasília S.A nas seguintes condições:         1. seja verificada a divulgação pelo BRB – Banco de Brasília S.A. de que seu Capital Principal está em patamar inferior a 4,5% (quatro inteiros e cinco décimos por cento) do montante RWA, estabelecida pela regulamentação vigente; ou\n2. seja verificada, em lei específica, a assinatura de compromisso de aporte para o BRB – Banco de Brasília S.A.;\n3. seja decretado pelo BACEN o regime de administração especial temporária ou intervenção do BRB – Banco de Brasília S.A.; ou\n4. seja determinado pelo BACEN, segundo critérios estabelecidos em regulamento específico editado pelo Conselho Monetário Nacional,a extinção do instrumento.","Totalmente","Permanente","Contratual","Não","Não","Não se aplica"]
[null,7,"BRB - BANCO DE BRASILIA S/A","LFSN2200ENT","Lei 12.249/2010 - Resolução 4.955/2021 do CMN","Nível II","Nível II","Conglomerado","Letra financeira",6462057.9400000004,5400000,"passivo - custo amortizado","2022-12-02","Com vencimento","2029-12-03","Não","(1) Não há uma data específica, apenas quando for solicitado ao Bacen","(2) Não há vinculação regulatória ou fiscal para resgate ou recompra","(3) O valor pode ser parcial ou total, conforme autorização do Bacen","Não se aplica","Fixo","135% CDI","Não","Mandatório","Não","Cumulativo","Não conversível","Não se aplica","Não se aplica","Não se aplica","Não se aplica","Não se aplica","Não se aplica","Sim","Os títulos serão extintos, permanente e em valor no mínimo correspondente ao saldo computado no Nível II do Patrimônio de Referência do BRB – Banco de Brasília S.A nas seguintes condições:         1. seja verificada a divulgação pelo BRB – Banco de Brasília S.A. de que seu Capital Principal está em patamar inferior a 4,5% (quatro inteiros e cinco décimos por cento) do montante RWA, estabelecida pela regulamentação vigente; ou\n2. seja verificada, em lei específica, a assinatura de compromisso de aporte para o BRB – Banco de Brasília S.A.;\n3. seja decretado pelo BACEN o regime de administração especial temporária ou intervenção do BRB – Banco de Brasília S.A.; ou\n4. seja determinado pelo BACEN, segundo critérios estabelecidos em regulamento específico editado pelo Conselho Monetário Nacional,a extinção do instrumento.","Totalmente","Permanente","Contratual","Não","Não","Não se aplica"]
[null,8,"BRB - BANCO DE BRASILIA S/A","LFSN2200DW7","Lei 12.249/2010 - Resolução 4.955/2021 do CMN","Nível II","Nível II","Conglomerado","Letra financeira",16570839.380000001,13800000,"passivo - custo amortizado","2022-11-25","Com vencimento","2029-11-26","Não","(1) Não há uma data específica, apenas quando for solicitado ao Bacen","(2) Não há vinculação regulatória ou fiscal para resgate ou recompra","(3) O valor pode ser parcial ou total, conforme autorização do Bacen","Não se aplica","Fixo","135% CDI","Não","Mandatório","Não","Cumulativo","Não conversível","Não se aplica","Não se aplica","Não se aplica","Não se aplica","Não se aplica","Não se aplica","Sim","Os títulos serão extintos, permanente e em valor no mínimo correspondente ao saldo computado no Nível II do Patrimônio de Referência do BRB – Banco de Brasília S.A nas seguintes condições:         1. seja verificada a divulgação pelo BRB – Banco de Brasília S.A. de que seu Capital Principal está em patamar inferior a 4,5% (quatro inteiros e cinco décimos por cento) do montante RWA, estabelecida pela regulamentação vigente; ou\n2. seja verificada, em lei específica, a assinatura de compromisso de aporte para o BRB – Banco de Brasília S.A.;\n3. seja decretado pelo BACEN o regime de administração especial temporária ou intervenção do BRB – Banco de Brasília S.A.; ou\n4. seja determinado pelo BACEN, segundo critérios estabelecidos em regulamento específico editado pelo Conselho Monetário Nacional,a extinção do instrumento.","Totalmente","Permanente","Contratual","Não","Não","Não se aplica"]
[null,9,"BRB - BANCO DE BRASILIA S/A","LFSN23006BT","Lei 12.249/2010 - Resolução 4.955/2021 do CMN","Nível II","Nível II","Conglomerado","Letra financeira",10028406.51,8700000,"passivo - custo amortizado","2023-02-03","Com vencimento","2030-02-04","Não","(1) Não há uma data específica, apenas quando for solicitado ao Bacen","(2) Não há vinculação regulatória ou fiscal para resgate ou recompra","(3) O valor pode ser parcial ou total, conforme autorização do Bacen","Não se aplica","Fixo","129% CDI","Não","Mandatório","Não","Cumulativo","Não conversível","Não se aplica","Não se aplica","Não se aplica","Não se aplica","Não se aplica","Não se aplica","Sim","Os títulos serão extintos, permanente e em valor no mínimo correspondente ao saldo computado no Nível II do Patrimônio de Referência do BRB – Banco de Brasília S.A nas seguintes condições:         1. seja verificada a divulgação pelo BRB – Banco de Brasília S.A. de que seu Capital Principal está em patamar inferior a 4,5% (quatro inteiros e cinco décimos por cento) do montante RWA, estabelecida pela regulamentação vigente; ou\n2. seja verificada, em lei específica, a assinatura de compromisso de aporte para o BRB – Banco de Brasília S.A.;\n3. seja decretado pelo BACEN o regime de administração especial temporária ou intervenção do BRB – Banco de Brasília S.A.; ou\n4. seja determinado pelo BACEN, segundo critérios estabelecidos em regulamento específico editado pelo Conselho Monetário Nacional,a extinção do instrumento.","Totalmente","Permanente","Contratual","Não","Não","Não se aplica"]
[null,10,"BRB - BANCO DE BRASILIA S/A","LFSN23006HE","Lei 12.249/2010 - Resolução 4.955/2021 do CMN","Nível II","Nível II","Conglomerado","Letra financeira",345807.11,300000,"passivo - custo amortizado","2023-02-03","Com vencimento","2030-02-04","Não","(1) Não há uma data específica, apenas quando for solicitado ao Bacen","(2) Não há vinculação regulatória ou fiscal para resgate ou recompra","(3) O valor pode ser parcial ou total, conforme autorização do Bacen","Não se aplica","Fixo","129% CDI","Não","Mandatório","Não","Cumulativo","Não conversível","Não se aplica","Não se aplica","Não se aplica","Não se aplica","Não se aplica","Não se aplica","Sim","Os títulos serão extintos, permanente e em valor no mínimo correspondente ao saldo computado no Nível II do Patrimônio de Referência do BRB – Banco de Brasília S.A nas seguintes condições:         1. seja verificada a divulgação pelo BRB – Banco de Brasília S.A. de que seu Capital Principal está em patamar inferior a 4,5% (quatro inteiros e cinco décimos por cento) do montante RWA, estabelecida pela regulamentação vigente; ou\n2. seja verificada, em lei específica, a assinatura de compromisso de aporte para o BRB – Banco de Brasília S.A.;\n3. seja decretado pelo BACEN o regime de administração especial temporária ou intervenção do BRB – Banco de Brasília S.A.; ou\n4. seja determinado pelo BACEN, segundo critérios estabelecidos em regulamento específico editado pelo Conselho Monetário Nacional,a extinção do instrumento.","Totalmente","Permanente","Contratual","Não","Não","Não se aplica"]
[null,11,"BRB - BANCO DE BRASILIA S/A","LFSN2200A15","Lei 12.249/2010 - Resolução 4.955/2021 do CMN","Nível II","Nível II","Conglomerado","Letra financeira",4004961.24,4000000,"passivo - custo amortizado","2022-08-10","Com vencimento","2028-08-10","Não","(1) Não há uma data específica, apenas quando for solicitado ao Bacen","(2) Não há vinculação regulatória ou fiscal para resgate ou recompra","(3) O valor pode ser parcial ou total, conforme autorização do Bacen","Não se aplica","Fixo","130% CDI","Não","Mandatório","Não","Cumulativo","Não conversível","Não se aplica","Não se aplica","Não se aplica","Não se aplica","Não se aplica","Não se aplica","Sim","Os títulos serão extintos, permanente e em valor no mínimo correspondente ao saldo computado no Nível II do Patrimônio de Referência do BRB – Banco de Brasília S.A nas seguintes condições:         1. seja verificada a divulgação pelo BRB – Banco de Brasília S.A. de que seu Capital Principal está em patamar inferior a 4,5% (quatro inteiros e cinco décimos por cento) do montante RWA, estabelecida pela regulamentação vigente; ou\n2. seja verificada, em lei específica, a assinatura de compromisso de aporte para o BRB – Banco de Brasília S.A.;\n3. seja decretado pelo BACEN o regime de administração especial temporária ou intervenção do BRB – Banco de Brasília S.A.; ou\n4. seja determinado pelo BACEN, segundo critérios estabelecidos em regulamento específico editado pelo Conselho Monetário Nacional,a extinção do instrumento.","Totalmente","Permanente","Contratual","Não","Não","Não se aplica"]
[null,12,"BRB - BANCO DE BRASILIA S/A","LFSN22009KR","Lei 12.249/2010 - Resolução 4.955/2021 do CMN","Nível II","Nível II","Conglomerado","Letra financeira",5758739.4160000002,5700000,"passivo - custo amortizado","2022-07-21","Com vencimento","2028-07-21","Não","(1) Não há uma data específica, apenas quando for solicitado ao Bacen","(2) Não há vinculação regulatória ou fiscal para resgate ou recompra","(3) O valor pode ser parcial ou total, conforme autorização do Bacen","Não se aplica","Fixo","130% CDI","Não","Mandatório","Não","Cumulativo","Não conversível","Não se aplica","Não se aplica","Não se aplica","Não se aplica","Não se aplica","Não se aplica","Sim","Os títulos serão extintos, permanente e em valor no mínimo correspondente ao saldo computado no Nível II do Patrimônio de Referência do BRB – Banco de Brasília S.A nas seguintes condições:         1. seja verificada a divulgação pelo BRB – Banco de Brasília S.A. de que seu Capital Principal está em patamar inferior a 4,5% (quatro inteiros e cinco décimos por cento) do montante RWA, estabelecida pela regulamentação vigente; ou\n2. seja verificada, em lei específica, a assinatura de compromisso de aporte para o BRB – Banco de Brasília S.A.;\n3. seja decretado pelo BACEN o regime de administração especial temporária ou intervenção do BRB – Banco de Brasília S.A.; ou\n4. seja determinado pelo BACEN, segundo critérios estabelecidos em regulamento específico editado pelo Conselho Monetário Nacional,a extinção do instrumento.","Totalmente","Permanente","Contratual","Não","Não","Não se aplica"]
[null,13,"BRB - BANCO DE BRASILIA S/A","LFSN22009KI","Lei 12.249/2010 - Resolução 4.955/2021 do CMN","Nível II","Nível II","Conglomerado","Letra financeira",909854.28800000018,900000,"passivo - custo amortizado","2022-07-20","Com vencimento","2028-07-20","Não","(1) Não há uma data específica, apenas quando for solicitado ao Bacen","(2) Não há vinculação regulatória ou fiscal para resgate ou recompra","(3) O valor pode ser parcial ou total, conforme autorização do Bacen","Não se aplica","Fixo","130% CDI","Não","Mandatório","Não","Cumulativo","Não conversível","Não se aplica","Não se aplica","Não se aplica","Não se aplica","Não se aplica","Não se aplica","Sim","Os títulos serão extintos, permanente e em valor no mínimo correspondente ao saldo computado no Nível II do Patrimônio de Referência do BRB – Banco de Brasília S.A nas seguintes condições:         1. seja verificada a divulgação pelo BRB – Banco de Brasília S.A. de que seu Capital Principal está em patamar inferior a 4,5% (quatro inteiros e cinco décimos por cento) do montante RWA, estabelecida pela regulamentação vigente; ou\n2. seja verificada, em lei específica, a assinatura de compromisso de aporte para o BRB – Banco de Brasília S.A.;\n3. seja decretado pelo BACEN o regime de administração especial temporária ou intervenção do BRB – Banco de Brasília S.A.; ou\n4. seja determinado pelo BACEN, segundo critérios estabelecidos em regulamento específico editado pelo Conselho Monetário Nacional,a extinção do instrumento.","Totalmente","Permanente","Contratual","Não","Não","Não se aplica"]
[null,14,"BRB - BANCO DE BRASILIA S/A","LFSN22008YN","Lei 12.249/2010 - Resolução 4.955/2021 do CMN","Nível II","Nível II","Conglomerado","Letra financeira",306002.73599999998,300000,"passivo - custo amortizado","2022-06-30","Com vencimento","2028-06-30","Não","(1) Não há uma data específica, apenas quando for solicitado ao Bacen","(2) Não há vinculação regulatória ou fiscal para resgate ou recompra","(3) O valor pode ser parcial ou total, conforme autorização do Bacen","Não se aplica","Fixo","130% CDI","Não","Mandatório","Não","Cumulativo","Não conversível","Não se aplica","Não se aplica","Não se aplica","Não se aplica","Não se aplica","Não se aplica","Sim","Os títulos serão extintos, permanente e em valor no mínimo correspondente ao saldo computado no Nível II do Patrimônio de Referência do BRB – Banco de Brasília S.A nas seguintes condições:         1. seja verificada a divulgação pelo BRB – Banco de Brasília S.A. de que seu Capital Principal está em patamar inferior a 4,5% (quatro inteiros e cinco décimos por cento) do montante RWA, estabelecida pela regulamentação vigente; ou\n2. seja verificada, em lei específica, a assinatura de compromisso de aporte para o BRB – Banco de Brasília S.A.;\n3. seja decretado pelo BACEN o regime de administração especial temporária ou intervenção do BRB – Banco de Brasília S.A.; ou\n4. seja determinado pelo BACEN, segundo critérios estabelecidos em regulamento específico editado pelo Conselho Monetário Nacional,a extinção do instrumento.","Totalmente","Permanente","Contratual","Não","Não","Não se aplica"]
[null,15,"BRB - BANCO DE BRASILIA S/A","LFSN22008YJ","Lei 12.249/2010 - Resolução 4.955/2021 do CMN","Nível II","Nível II","Conglomerado","Letra financeira",33069364,32400000,"passivo - custo amortizado","2022-06-29","Com vencimento","2028-06-29","Não","(1) Não há uma data específica, apenas quando for solicitado ao Bacen","(2) Não há vinculação regulatória ou fiscal para resgate ou recompra","(3) O valor pode ser parcial ou total, conforme autorização do Bacen","Não se aplica","Fixo","130% CDI","Não","Mandatório","Não","Cumulativo","Não conversível","Não se aplica","Não se aplica","Não se aplica","Não se aplica","Não se aplica","Não se aplica","Sim","Os títulos serão extintos, permanente e em valor no mínimo correspondente ao saldo computado no Nível II do Patrimônio de Referência do BRB – Banco de Brasília S.A nas seguintes condições:         1. seja verificada a divulgação pelo BRB – Banco de Brasília S.A. de que seu Capital Principal está em patamar inferior a 4,5% (quatro inteiros e cinco décimos por cento) do montante RWA, estabelecida pela regulamentação vigente; ou\n2. seja verificada, em lei específica, a assinatura de compromisso de aporte para o BRB – Banco de Brasília S.A.;\n3. seja decretado pelo BACEN o regime de administração especial temporária ou intervenção do BRB – Banco de Brasília S.A.; ou\n4. seja determinado pelo BACEN, segundo critérios estabelecidos em regulamento específico editado pelo Conselho Monetário Nacional,a extinção do instrumento.","Totalmente","Permanente","Contratual","Não","Não","Não se aplica"]
[null,16,"BRB - BANCO DE BRASILIA S/A","LFSN1900FDL","Lei 12.249/2010 - Resolução 4.955/2021 do CMN","Nível II","Nível II","Conglomerado","Letra financeira",2763586.588,4687827.93,"passivo - custo amortizado","2019-09-23","Com vencimento","2026-09-23","Não","(1) Não há uma data específica, apenas quando for solicitado ao Bacen","(2) Não há vinculação regulatória ou fiscal para resgate ou recompra","(3) O valor pode ser parcial ou total, conforme autorização do Bacen","Não se aplica","Fixo","120% CDI","Não","Mandatório","Não","Cumulativo","Não conversível","Não se aplica","Não se aplica","Não se aplica","Não se aplica","Não se aplica","Não se aplica","Sim","Os títulos serão extintos, permanente e em valor no mínimo correspondente ao saldo computado no Nível II do Patrimônio de Referência do BRB – Banco de Brasília S.A nas seguintes condições:         1. seja verificada a divulgação pelo BRB – Banco de Brasília S.A. de que seu Capital Principal está em patamar inferior a 4,5% (quatro inteiros e cinco décimos por cento) do montante RWA, estabelecida pela regulamentação vigente; ou\n2. seja verificada, em lei específica, a assinatura de compromisso de aporte para o BRB – Banco de Brasília S.A.;\n3. seja decretado pelo BACEN o regime de administração especial temporária ou intervenção do BRB – Banco de Brasília S.A.; ou\n4. seja determinado pelo BACEN, segundo critérios estabelecidos em regulamento específico editado pelo Conselho Monetário Nacional,a extinção do instrumento.","Totalmente","Permanente","Contratual","Não","Não","Não se aplica"]
[null,17,"BRB - BANCO DE BRASILIA S/A","LFSN1800I5C","Lei 12.249/2010 - Resolução 4.955/2021 do CMN","Nível II","Nível II","Conglomerado","Letra financeira",3187771.8200000003,10000000,"passivo - custo amortizado","2018-11-29","Com vencimento","2025-11-28","Não","(1) Não há uma data específica, apenas quando for solicitado ao Bacen","(2) Não há vinculação regulatória ou fiscal para resgate ou recompra","(3) O valor pode ser parcial ou total, conforme autorização do Bacen","Não se aplica","Fixo","125% CDI","Não","Mandatório","Não","Cumulativo","Não conversível","Não se aplica","Não se aplica","Não se aplica","Não se aplica","Não se aplica","Não se aplica","Sim","Os títulos serão extintos, permanente e em valor no mínimo correspondente ao saldo computado no Nível II do Patrimônio de Referência do BRB – Banco de Brasília S.A nas seguintes condições:         1. seja verificada a divulgação pelo BRB – Banco de Brasília S.A. de que seu Capital Principal está em patamar inferior a 4,5% (quatro inteiros e cinco décimos por cento) do montante RWA, estabelecida pela regulamentação vigente; ou\n2. seja verificada, em lei específica, a assinatura de compromisso de aporte para o BRB – Banco de Brasília S.A.;\n3. seja decretado pelo BACEN o regime de administração especial temporária ou intervenção do BRB – Banco de Brasília S.A.; ou\n4. seja determinado pelo BACEN, segundo critérios estabelecidos em regulamento específico editado pelo Conselho Monetário Nacional,a extinção do instrumento.","Totalmente","Permanente","Contratual","Não","Não","Não se aplica"]
[null,18,"BRB - BANCO DE BRASILIA S/A","LFSN1900BZ7","Lei 12.249/2010 - Resolução 4.955/2021 do CMN","Nível II","Nível II","Conglomerado","Letra financeira",596714.04400000011,1000000,"passivo - custo amortizado","2019-07-23","Com vencimento","2026-08-17","Não","(1) Não há uma data específica, apenas quando for solicitado ao Bacen","(2) Não há vinculação regulatória ou fiscal para resgate ou recompra","(3) O valor pode ser parcial ou total, conforme autorização do Bacen","Não se aplica","Fixo","120% CDI","Não","Mandatório","Não","Cumulativo","Não conversível","Não se aplica","Não se aplica","Não se aplica","Não se aplica","Não se aplica","Não se aplica","Sim","Os títulos serão extintos, permanente e em valor no mínimo correspondente ao saldo computado no Nível II do Patrimônio de Referência do BRB – Banco de Brasília S.A nas seguintes condições:         1. seja verificada a divulgação pelo BRB – Banco de Brasília S.A. de que seu Capital Principal está em patamar inferior a 4,5% (quatro inteiros e cinco décimos por cento) do montante RWA, estabelecida pela regulamentação vigente; ou\n2. seja verificada, em lei específica, a assinatura de compromisso de aporte para o BRB – Banco de Brasília S.A.;\n3. seja decretado pelo BACEN o regime de administração especial temporária ou intervenção do BRB – Banco de Brasília S.A.; ou\n4. seja determinado pelo BACEN, segundo critérios estabelecidos em regulamento específico editado pelo Conselho Monetário Nacional,a extinção do instrumento.","Totalmente","Permanente","Contratual","Não","Não","Não se aplica"]
[null,19,"BRB - BANCO DE BRASILIA S/A","LFSN1900BZ5","Lei 12.249/2010 - Resolução 4.955/2021 do CMN","Nível II","Nível II","Conglomerado","Letra financeira",596714.04400000011,1000000,"passivo - custo amortizado","2019-07-23","Com vencimento","2026-08-17","Não","(1) Não há uma data específica, apenas quando for solicitado ao Bacen","(2) Não há vinculação regulatória ou fiscal para resgate ou recompra","(3) O valor pode ser parcial ou total, conforme autorização do Bacen","Não se aplica","Fixo","120% CDI","Não","Mandatório","Não","Cumulativo","Não conversível","Não se aplica","Não se aplica","Não se aplica","Não se aplica","Não se aplica","Não se aplica","Sim","Os títulos serão extintos, permanente e em valor no mínimo correspondente ao saldo computado no Nível II do Patrimônio de Referência do BRB – Banco de Brasília S.A nas seguintes condições:         1. seja verificada a divulgação pelo BRB – Banco de Brasília S.A. de que seu Capital Principal está em patamar inferior a 4,5% (quatro inteiros e cinco décimos por cento) do montante RWA, estabelecida pela regulamentação vigente; ou\n2. seja verificada, em lei específica, a assinatura de compromisso de aporte para o BRB – Banco de Brasília S.A.;\n3. seja decretado pelo BACEN o regime de administração especial temporária ou intervenção do BRB – Banco de Brasília S.A.; ou\n4. seja determinado pelo BACEN, segundo critérios estabelecidos em regulamento específico editado pelo Conselho Monetário Nacional,a extinção do instrumento.","Totalmente","Permanente","Contratual","Não","Não","Não se aplica"]
[null,20,"BRB - BANCO DE BRASILIA S/A","LFSN23007K9","Lei 12.249/2010 - Resolução 4.955/2021 do CMN","Nível II","Nível II","Conglomerado","Letra financeira",6204177.7300000004,5400000,"passivo - custo amortizado","2023-02-10","Com vencimento","2030-02-11","Não","(1) Não há uma data específica, apenas quando for solicitado ao Bacen","(2) Não há vinculação regulatória ou fiscal para resgate ou recompra","(3) O valor pode ser parcial ou total, conforme autorização do Bacen","Não se aplica","Fixo","129% CDI","Não","Mandatório","Não","Cumulativo","Não conversível","Não se aplica","Não se aplica","Não se aplica","Não se aplica","Não se aplica","Não se aplica","Sim","Os títulos serão extintos, permanente e em valor no mínimo correspondente ao saldo computado no Nível II do Patrimônio de Referência do BRB – Banco de Brasília S.A nas seguintes condições:         1. seja verificada a divulgação pelo BRB – Banco de Brasília S.A. de que seu Capital Principal está em patamar inferior a 4,5% (quatro inteiros e cinco décimos por cento) do montante RWA, estabelecida pela regulamentação vigente; ou\n2. seja verificada, em lei específica, a assinatura de compromisso de aporte para o BRB – Banco de Brasília S.A.;\n3. seja decretado pelo BACEN o regime de administração especial temporária ou intervenção do BRB – Banco de Brasília S.A.; ou\n4. seja determinado pelo BACEN, segundo critérios estabelecidos em regulamento específico editado pelo Conselho Monetário Nacional,a extinção do instrumento.","Totalmente","Permanente","Contratual","Não","Não","Não se aplica"]
[null,21,"BRB - BANCO DE BRASILIA S/A","LFSN23007KA","Lei 12.249/2010 - Resolução 4.955/2021 do CMN","Nível II","Nível II","Conglomerado","Letra financeira",687871.43,600000,"passivo - custo amortizado","2023-02-10","Com vencimento","2029-02-14","Não","(1) Não há uma data específica, apenas quando for solicitado ao Bacen","(2) Não há vinculação regulatória ou fiscal para resgate ou recompra","(3) O valor pode ser parcial ou total, conforme autorização do Bacen","Não se aplica","Fixo","127% CDI","Não","Mandatório","Não","Cumulativo","Não conversível","Não se aplica","Não se aplica","Não se aplica","Não se aplica","Não se aplica","Não se aplica","Sim","Os títulos serão extintos, permanente e em valor no mínimo correspondente ao saldo computado no Nível II do Patrimônio de Referência do BRB – Banco de Brasília S.A nas seguintes condições:         1. seja verificada a divulgação pelo BRB – Banco de Brasília S.A. de que seu Capital Principal está em patamar inferior a 4,5% (quatro inteiros e cinco décimos por cento) do montante RWA, estabelecida pela regulamentação vigente; ou\n2. seja verificada, em lei específica, a assinatura de compromisso de aporte para o BRB – Banco de Brasília S.A.;\n3. seja decretado pelo BACEN o regime de administração especial temporária ou intervenção do BRB – Banco de Brasília S.A.; ou\n4. seja determinado pelo BACEN, segundo critérios estabelecidos em regulamento específico editado pelo Conselho Monetário Nacional,a extinção do instrumento.","Totalmente","Permanente","Contratual","Não","Não","Não se aplica"]
[null,22,"BRB - BANCO DE BRASILIA S/A","LFSN2200ECS","Lei 12.249/2010 - Resolução 4.955/2021 do CMN","Nível II","Nível II","Conglomerado","Letra financeira",7549409.2699999996,6300000,"passivo - custo amortizado","2022-11-30","Com vencimento","2029-11-30","Não","(1) Não há uma data específica, apenas quando for solicitado ao Bacen","(2) Não há vinculação regulatória ou fiscal para resgate ou recompra","(3) O valor pode ser parcial ou total, conforme autorização do Bacen","Não se aplica","Fixo","135% CDI","Não","Mandatório","Não","Cumulativo","Não conversível","Não se aplica","Não se aplica","Não se aplica","Não se aplica","Não se aplica","Não se aplica","Sim","Os títulos serão extintos, permanente e em valor no mínimo correspondente ao saldo computado no Nível II do Patrimônio de Referência do BRB – Banco de Brasília S.A nas seguintes condições:         1. seja verificada a divulgação pelo BRB – Banco de Brasília S.A. de que seu Capital Principal está em patamar inferior a 4,5% (quatro inteiros e cinco décimos por cento) do montante RWA, estabelecida pela regulamentação vigente; ou\n2. seja verificada, em lei específica, a assinatura de compromisso de aporte para o BRB – Banco de Brasília S.A.;\n3. seja decretado pelo BACEN o regime de administração especial temporária ou intervenção do BRB – Banco de Brasília S.A.; ou\n4. seja determinado pelo BACEN, segundo critérios estabelecidos em regulamento específico editado pelo Conselho Monetário Nacional,a extinção do instrumento.","Totalmente","Permanente","Contratual","Não","Não","Não se aplica"]
[null,23,"BRB - BANCO DE BRASILIA S/A","LFSN2200AO8","Lei 12.249/2010 - Resolução 4.955/2021 do CMN","Nível II","Nível II","Conglomerado","Letra financeira",124002511.09999999,100200000,"passivo - custo amortizado","2022-09-21","Com vencimento","2029-09-21","Não","(1) Não há uma data específica, apenas quando for solicitado ao Bacen","(2) Não há vinculação regulatória ou fiscal para resgate ou recompra","(3) O valor pode ser parcial ou total, conforme autorização do Bacen","Não se aplica","Fixo","135% CDI","Não","Mandatório","Não","Cumulativo","Não conversível","Não se aplica","Não se aplica","Não se aplica","Não se aplica","Não se aplica","Não se aplica","Sim","Os títulos serão extintos, permanente e em valor no mínimo correspondente ao saldo computado no Nível II do Patrimônio de Referência do BRB – Banco de Brasília S.A nas seguintes condições:         1. seja verificada a divulgação pelo BRB – Banco de Brasília S.A. de que seu Capital Principal está em patamar inferior a 4,5% (quatro inteiros e cinco décimos por cento) do montante RWA, estabelecida pela regulamentação vigente; ou\n2. seja verificada, em lei específica, a assinatura de compromisso de aporte para o BRB – Banco de Brasília S.A.;\n3. seja decretado pelo BACEN o regime de administração especial temporária ou intervenção do BRB – Banco de Brasília S.A.; ou\n4. seja determinado pelo BACEN, segundo critérios estabelecidos em regulamento específico editado pelo Conselho Monetário Nacional,a extinção do instrumento.","Totalmente","Permanente","Contratual","Não","Não","Não se aplica"]
[null,24,"BRB - BANCO DE BRASILIA S/A","LFSN220093X","Lei 12.249/2010 - Resolução 4.955/2021 do CMN","Nível II","Nível II","Conglomerado","Letra financeira",10059552.544,9900000,"passivo - custo amortizado","2022-07-08","Com vencimento","2028-07-10","Não","(1) Não há uma data específica, apenas quando for solicitado ao Bacen","(2) Não há vinculação regulatória ou fiscal para resgate ou recompra","(3) O valor pode ser parcial ou total, conforme autorização do Bacen","Não se aplica","Fixo","130% CDI","Não","Mandatório","Não","Cumulativo","Não conversível","Não se aplica","Não se aplica","Não se aplica","Não se aplica","Não se aplica","Não se aplica","Sim","Os títulos serão extintos, permanente e em valor no mínimo correspondente ao saldo computado no Nível II do Patrimônio de Referência do BRB – Banco de Brasília S.A nas seguintes condições:         1. seja verificada a divulgação pelo BRB – Banco de Brasília S.A. de que seu Capital Principal está em patamar inferior a 4,5% (quatro inteiros e cinco décimos por cento) do montante RWA, estabelecida pela regulamentação vigente; ou\n2. seja verificada, em lei específica, a assinatura de compromisso de aporte para o BRB – Banco de Brasília S.A.;\n3. seja decretado pelo BACEN o regime de administração especial temporária ou intervenção do BRB – Banco de Brasília S.A.; ou\n4. seja determinado pelo BACEN, segundo critérios estabelecidos em regulamento específico editado pelo Conselho Monetário Nacional,a extinção do instrumento.","Totalmente","Permanente","Contratual","Não","Não","Não se aplica"]
[null,25,"BRB - BANCO DE BRASILIA S/A","LFSN2200B4D","Lei 12.249/2010 - Resolução 4.955/2021 do CMN","Nível II","Nível II","Conglomerado","Letra financeira",19856853.800000001,16200000,"passivo - custo amortizado","2022-10-11","Com vencimento","2029-10-11","Não","(1) Não há uma data específica, apenas quando for solicitado ao Bacen","(2) Não há vinculação regulatória ou fiscal para resgate ou recompra","(3) O valor pode ser parcial ou total, conforme autorização do Bacen","Não se aplica","Fixo","135% CDI","Não","Mandatório","Não","Cumulativo","Não conversível","Não se aplica","Não se aplica","Não se aplica","Não se aplica","Não se aplica","Não se aplica","Sim","Os títulos serão extintos, permanente e em valor no mínimo correspondente ao saldo computado no Nível II do Patrimônio de Referência do BRB – Banco de Brasília S.A nas seguintes condições:         1. seja verificada a divulgação pelo BRB – Banco de Brasília S.A. de que seu Capital Principal está em patamar inferior a 4,5% (quatro inteiros e cinco décimos por cento) do montante RWA, estabelecida pela regulamentação vigente; ou\n2. seja verificada, em lei específica, a assinatura de compromisso de aporte para o BRB – Banco de Brasília S.A.;\n3. seja decretado pelo BACEN o regime de administração especial temporária ou intervenção do BRB – Banco de Brasília S.A.; ou\n4. seja determinado pelo BACEN, segundo critérios estabelecidos em regulamento específico editado pelo Conselho Monetário Nacional,a extinção do instrumento.","Totalmente","Permanente","Contratual","Não","Não","Não se aplica"]
[null,26,"BRB - BANCO DE BRASILIA S/A","LFSN2200A1C","Lei 12.249/2010 - Resolução 4.955/2021 do CMN","Nível II","Nível II","Conglomerado","Letra financeira",37845886.5,30000000,"passivo - custo amortizado","2022-08-11","Com vencimento","2029-08-13","Não","(1) Não há uma data específica, apenas quando for solicitado ao Bacen","(2) Não há vinculação regulatória ou fiscal para resgate ou recompra","(3) O valor pode ser parcial ou total, conforme autorização do Bacen","Não se aplica","Fixo","135% CDI","Não","Mandatório","Não","Cumulativo","Não conversível","Não se aplica","Não se aplica","Não se aplica","Não se aplica","Não se aplica","Não se aplica","Sim","Os títulos serão extintos, permanente e em valor no mínimo correspondente ao saldo computado no Nível II do Patrimônio de Referência do BRB – Banco de Brasília S.A nas seguintes condições:         1. seja verificada a divulgação pelo BRB – Banco de Brasília S.A. de que seu Capital Principal está em patamar inferior a 4,5% (quatro inteiros e cinco décimos por cento) do montante RWA, estabelecida pela regulamentação vigente; ou\n2. seja verificada, em lei específica, a assinatura de compromisso de aporte para o BRB – Banco de Brasília S.A.;\n3. seja decretado pelo BACEN o regime de administração especial temporária ou intervenção do BRB – Banco de Brasília S.A.; ou\n4. seja determinado pelo BACEN, segundo critérios estabelecidos em regulamento específico editado pelo Conselho Monetário Nacional,a extinção do instrumento.","Totalmente","Permanente","Contratual","Não","Não","Não se aplica"]
[null,27,"BRB - BANCO DE BRASILIA S/A","LFSN2200A1D","Lei 12.249/2010 - Resolução 4.955/2021 do CMN","Nível II","Nível II","Conglomerado","Letra financeira",63159326.009999998,50100000,"passivo - custo amortizado","2022-08-12","Com vencimento","2029-08-13","Não","(1) Não há uma data específica, apenas quando for solicitado ao Bacen","(2) Não há vinculação regulatória ou fiscal para resgate ou recompra","(3) O valor pode ser parcial ou total, conforme autorização do Bacen","Não se aplica","Fixo","135% CDI","Não","Mandatório","Não","Cumulativo","Não conversível","Não se aplica","Não se aplica","Não se aplica","Não se aplica","Não se aplica","Não se aplica","Sim","Os títulos serão extintos, permanente e em valor no mínimo correspondente ao saldo computado no Nível II do Patrimônio de Referência do BRB – Banco de Brasília S.A nas seguintes condições:         1. seja verificada a divulgação pelo BRB – Banco de Brasília S.A. de que seu Capital Principal está em patamar inferior a 4,5% (quatro inteiros e cinco décimos por cento) do montante RWA, estabelecida pela regulamentação vigente; ou\n2. seja verificada, em lei específica, a assinatura de compromisso de aporte para o BRB – Banco de Brasília S.A.;\n3. seja decretado pelo BACEN o regime de administração especial temporária ou intervenção do BRB – Banco de Brasília S.A.; ou\n4. seja determinado pelo BACEN, segundo critérios estabelecidos em regulamento específico editado pelo Conselho Monetário Nacional,a extinção do instrumento.","Totalmente","Permanente","Contratual","Não","Não","Não se aplica"]
[null,28,"BRB - BANCO DE BRASILIA S/A","LFSN2200A1E","Lei 12.249/2010 - Resolução 4.955/2021 do CMN","Nível II","Nível II","Conglomerado","Letra financeira",126318652.04000001,100200000,"passivo - custo amortizado","2022-08-12","Com vencimento","2029-08-13","Não","(1) Não há uma data específica, apenas quando for solicitado ao Bacen","(2) Não há vinculação regulatória ou fiscal para resgate ou recompra","(3) O valor pode ser parcial ou total, conforme autorização do Bacen","Não se aplica","Fixo","135% CDI","Não","Mandatório","Não","Cumulativo","Não conversível","Não se aplica","Não se aplica","Não se aplica","Não se aplica","Não se aplica","Não se aplica","Sim","Os títulos serão extintos, permanente e em valor no mínimo correspondente ao saldo computado no Nível II do Patrimônio de Referência do BRB – Banco de Brasília S.A nas seguintes condições:         1. seja verificada a divulgação pelo BRB – Banco de Brasília S.A. de que seu Capital Principal está em patamar inferior a 4,5% (quatro inteiros e cinco décimos por cento) do montante RWA, estabelecida pela regulamentação vigente; ou\n2. seja verificada, em lei específica, a assinatura de compromisso de aporte para o BRB – Banco de Brasília S.A.;\n3. seja decretado pelo BACEN o regime de administração especial temporária ou intervenção do BRB – Banco de Brasília S.A.; ou\n4. seja determinado pelo BACEN, segundo critérios estabelecidos em regulamento específico editado pelo Conselho Monetário Nacional,a extinção do instrumento.","Totalmente","Permanente","Contratual","Não","Não","Não se aplica"]
[null,29,"BRB - BANCO DE BRASILIA S/A","LFSN2200EZ3","Lei 12.249/2010 - Resolução 4.955/2021 do CMN","Nível II","Nível II","Conglomerado","Letra financeira",1879676.088,2000000,"passivo - custo amortizado","2022-12-08","Com vencimento","2028-11-06","Não","(1) Não há uma data específica, apenas quando for solicitado ao Bacen","(2) Não há vinculação regulatória ou fiscal para resgate ou recompra","(3) O valor pode ser parcial ou total, conforme autorização do Bacen","Não se aplica","Fixo","123% CDI","Não","Mandatório","Não","Cumulativo","Não conversível","Não se aplica","Não se aplica","Não se aplica","Não se aplica","Não se aplica","Não se aplica","Sim","Os títulos serão extintos, permanente e em valor no mínimo correspondente ao saldo computado no Nível II do Patrimônio de Referência do BRB – Banco de Brasília S.A nas seguintes condições:         1. seja verificada a divulgação pelo BRB – Banco de Brasília S.A. de que seu Capital Principal está em patamar inferior a 4,5% (quatro inteiros e cinco décimos por cento) do montante RWA, estabelecida pela regulamentação vigente; ou\n2. seja verificada, em lei específica, a assinatura de compromisso de aporte para o BRB – Banco de Brasília S.A.;\n3. seja decretado pelo BACEN o regime de administração especial temporária ou intervenção do BRB – Banco de Brasília S.A.; ou\n4. seja determinado pelo BACEN, segundo critérios estabelecidos em regulamento específico editado pelo Conselho Monetário Nacional,a extinção do instrumento.","Totalmente","Permanente","Contratual","Não","Não","Não se aplica"]
[null,30,"BRB - BANCO DE BRASILIA S/A","LFSN2200A6R","Lei 12.249/2010 - Resolução 4.955/2021 do CMN","Nível II","Nível II","Conglomerado","Letra financeira",63072806.07,50100000,"passivo - custo amortizado","2022-08-16","Com vencimento","2029-08-16","Não","(1) Não há uma data específica, apenas quando for solicitado ao Bacen","(2) Não há vinculação regulatória ou fiscal para resgate ou recompra","(3) O valor pode ser parcial ou total, conforme autorização do Bacen","Não se aplica","Fixo","135% CDI","Não","Mandatório","Não","Cumulativo","Não conversível","Não se aplica","Não se aplica","Não se aplica","Não se aplica","Não se aplica","Não se aplica","Sim","Os títulos serão extintos, permanente e em valor no mínimo correspondente ao saldo computado no Nível II do Patrimônio de Referência do BRB – Banco de Brasília S.A nas seguintes condições:         1. seja verificada a divulgação pelo BRB – Banco de Brasília S.A. de que seu Capital Principal está em patamar inferior a 4,5% (quatro inteiros e cinco décimos por cento) do montante RWA, estabelecida pela regulamentação vigente; ou\n2. seja verificada, em lei específica, a assinatura de compromisso de aporte para o BRB – Banco de Brasília S.A.;\n3. seja decretado pelo BACEN o regime de administração especial temporária ou intervenção do BRB – Banco de Brasília S.A.; ou\n4. seja determinado pelo BACEN, segundo critérios estabelecidos em regulamento específico editado pelo Conselho Monetário Nacional,a extinção do instrumento.","Totalmente","Permanente","Contratual","Não","Não","Não se aplica"]
[null,31,"BRB - BANCO DE BRASILIA S/A","LFSN22009F0","Lei 12.249/2010 - Resolução 4.955/2021 do CMN","Nível II","Nível II","Conglomerado","Letra financeira",12442602.200000001,12300000,"passivo - custo amortizado","2022-07-19","Com vencimento","2028-07-19","Não","(1) Não há uma data específica, apenas quando for solicitado ao Bacen","(2) Não há vinculação regulatória ou fiscal para resgate ou recompra","(3) O valor pode ser parcial ou total, conforme autorização do Bacen","Não se aplica","Fixo","130% CDI","Não","Mandatório","Não","Cumulativo","Não conversível","Não se aplica","Não se aplica","Não se aplica","Não se aplica","Não se aplica","Não se aplica","Sim","Os títulos serão extintos, permanente e em valor no mínimo correspondente ao saldo computado no Nível II do Patrimônio de Referência do BRB – Banco de Brasília S.A nas seguintes condições:         1. seja verificada a divulgação pelo BRB – Banco de Brasília S.A. de que seu Capital Principal está em patamar inferior a 4,5% (quatro inteiros e cinco décimos por cento) do montante RWA, estabelecida pela regulamentação vigente; ou\n2. seja verificada, em lei específica, a assinatura de compromisso de aporte para o BRB – Banco de Brasília S.A.;\n3. seja decretado pelo BACEN o regime de administração especial temporária ou intervenção do BRB – Banco de Brasília S.A.; ou\n4. seja determinado pelo BACEN, segundo critérios estabelecidos em regulamento específico editado pelo Conselho Monetário Nacional,a extinção do instrumento.","Totalmente","Permanente","Contratual","Não","Não","Não se aplica"]
[null,32,"BRB - BANCO DE BRASILIA S/A","LFSN2200ATC","Lei 12.249/2010 - Resolução 4.955/2021 do CMN","Nível II","Nível II","Conglomerado","Letra financeira",3066903.88,2500000,"passivo - custo amortizado","2022-09-29","Com vencimento","2029-09-28","Não","(1) Não há uma data específica, apenas quando for solicitado ao Bacen","(2) Não há vinculação regulatória ou fiscal para resgate ou recompra","(3) O valor pode ser parcial ou total, conforme autorização do Bacen","Não se aplica","Fixo","132% CDI","Não","Mandatório","Não","Cumulativo","Não conversível","Não se aplica","Não se aplica","Não se aplica","Não se aplica","Não se aplica","Não se aplica","Sim","Os títulos serão extintos, permanente e em valor no mínimo correspondente ao saldo computado no Nível II do Patrimônio de Referência do BRB – Banco de Brasília S.A nas seguintes condições:         1. seja verificada a divulgação pelo BRB – Banco de Brasília S.A. de que seu Capital Principal está em patamar inferior a 4,5% (quatro inteiros e cinco décimos por cento) do montante RWA, estabelecida pela regulamentação vigente; ou\n2. seja verificada, em lei específica, a assinatura de compromisso de aporte para o BRB – Banco de Brasília S.A.;\n3. seja decretado pelo BACEN o regime de administração especial temporária ou intervenção do BRB – Banco de Brasília S.A.; ou\n4. seja determinado pelo BACEN, segundo critérios estabelecidos em regulamento específico editado pelo Conselho Monetário Nacional,a extinção do instrumento.","Totalmente","Permanente","Contratual","Não","Não","Não se aplica"]
[null,33,"BRB - BANCO DE BRASILIA S/A","LFSN2200ATD","Lei 12.249/2010 - Resolução 4.955/2021 do CMN","Nível II","Nível II","Conglomerado","Letra financeira",3066903.88,2500000,"passivo - custo amortizado","2022-09-29","Com vencimento","2029-09-28","Não","(1) Não há uma data específica, apenas quando for solicitado ao Bacen","(2) Não há vinculação regulatória ou fiscal para resgate ou recompra","(3) O valor pode ser parcial ou total, conforme autorização do Bacen","Não se aplica","Fixo","132% CDI","Não","Mandatório","Não","Cumulativo","Não conversível","Não se aplica","Não se aplica","Não se aplica","Não se aplica","Não se aplica","Não se aplica","Sim","Os títulos serão extintos, permanente e em valor no mínimo correspondente ao saldo computado no Nível II do Patrimônio de Referência do BRB – Banco de Brasília S.A nas seguintes condições:         1. seja verificada a divulgação pelo BRB – Banco de Brasília S.A. de que seu Capital Principal está em patamar inferior a 4,5% (quatro inteiros e cinco décimos por cento) do montante RWA, estabelecida pela regulamentação vigente; ou\n2. seja verificada, em lei específica, a assinatura de compromisso de aporte para o BRB – Banco de Brasília S.A.;\n3. seja decretado pelo BACEN o regime de administração especial temporária ou intervenção do BRB – Banco de Brasília S.A.; ou\n4. seja determinado pelo BACEN, segundo critérios estabelecidos em regulamento específico editado pelo Conselho Monetário Nacional,a extinção do instrumento.","Totalmente","Permanente","Contratual","Não","Não","Não se aplica"]
[null,34,"BRB - BANCO DE BRASILIA S/A","LFSN2200DQM","Lei 12.249/2010 - Resolução 4.955/2021 do CMN","Nível II","Nível II","Conglomerado","Letra financeira",12264812.890000001,10200000,"passivo - custo amortizado","2022-11-23","Com vencimento","2029-11-23","Não","(1) Não há uma data específica, apenas quando for solicitado ao Bacen","(2) Não há vinculação regulatória ou fiscal para resgate ou recompra","(3) O valor pode ser parcial ou total, conforme autorização do Bacen","Não se aplica","Fixo","135% CDI","Não","Mandatório","Não","Cumulativo","Não conversível","Não se aplica","Não se aplica","Não se aplica","Não se aplica","Não se aplica","Não se aplica","Sim","Os títulos serão extintos, permanente e em valor no mínimo correspondente ao saldo computado no Nível II do Patrimônio de Referência do BRB – Banco de Brasília S.A nas seguintes condições:         1. seja verificada a divulgação pelo BRB – Banco de Brasília S.A. de que seu Capital Principal está em patamar inferior a 4,5% (quatro inteiros e cinco décimos por cento) do montante RWA, estabelecida pela regulamentação vigente; ou\n2. seja verificada, em lei específica, a assinatura de compromisso de aporte para o BRB – Banco de Brasília S.A.;\n3. seja decretado pelo BACEN o regime de administração especial temporária ou intervenção do BRB – Banco de Brasília S.A.; ou\n4. seja determinado pelo BACEN, segundo critérios estabelecidos em regulamento específico editado pelo Conselho Monetário Nacional,a extinção do instrumento.","Totalmente","Permanente","Contratual","Não","Não","Não se aplica"]
[null,35,"BRB - BANCO DE BRASILIA S/A","LFSN22008Z2","Lei 12.249/2010 - Resolução 4.955/2021 do CMN","Nível II","Nível II","Conglomerado","Letra financeira",3052237.0160000003,3000000,"passivo - custo amortizado","2022-07-06","Com vencimento","2028-07-06","Não","(1) Não há uma data específica, apenas quando for solicitado ao Bacen","(2) Não há vinculação regulatória ou fiscal para resgate ou recompra","(3) O valor pode ser parcial ou total, conforme autorização do Bacen","Não se aplica","Fixo","130% CDI","Não","Mandatório","Não","Cumulativo","Não conversível","Não se aplica","Não se aplica","Não se aplica","Não se aplica","Não se aplica","Não se aplica","Sim","Os títulos serão extintos, permanente e em valor no mínimo correspondente ao saldo computado no Nível II do Patrimônio de Referência do BRB – Banco de Brasília S.A nas seguintes condições:         1. seja verificada a divulgação pelo BRB – Banco de Brasília S.A. de que seu Capital Principal está em patamar inferior a 4,5% (quatro inteiros e cinco décimos por cento) do montante RWA, estabelecida pela regulamentação vigente; ou\n2. seja verificada, em lei específica, a assinatura de compromisso de aporte para o BRB – Banco de Brasília S.A.;\n3. seja decretado pelo BACEN o regime de administração especial temporária ou intervenção do BRB – Banco de Brasília S.A.; ou\n4. seja determinado pelo BACEN, segundo critérios estabelecidos em regulamento específico editado pelo Conselho Monetário Nacional,a extinção do instrumento.","Totalmente","Permanente","Contratual","Não","Não","Não se aplica"]
[null,36,"BRB - BANCO DE BRASILIA S/A","LFSN22009RR","Lei 12.249/2010 - Resolução 4.955/2021 do CMN","Nível II","Nível II","Conglomerado","Letra financeira",7246436.1840000004,7200000,"passivo - custo amortizado","2022-07-29","Com vencimento","2028-07-31","Não","(1) Não há uma data específica, apenas quando for solicitado ao Bacen","(2) Não há vinculação regulatória ou fiscal para resgate ou recompra","(3) O valor pode ser parcial ou total, conforme autorização do Bacen","Não se aplica","Fixo","130% CDI","Não","Mandatório","Não","Cumulativo","Não conversível","Não se aplica","Não se aplica","Não se aplica","Não se aplica","Não se aplica","Não se aplica","Sim","Os títulos serão extintos, permanente e em valor no mínimo correspondente ao saldo computado no Nível II do Patrimônio de Referência do BRB – Banco de Brasília S.A nas seguintes condições:         1. seja verificada a divulgação pelo BRB – Banco de Brasília S.A. de que seu Capital Principal está em patamar inferior a 4,5% (quatro inteiros e cinco décimos por cento) do montante RWA, estabelecida pela regulamentação vigente; ou\n2. seja verificada, em lei específica, a assinatura de compromisso de aporte para o BRB – Banco de Brasília S.A.;\n3. seja decretado pelo BACEN o regime de administração especial temporária ou intervenção do BRB – Banco de Brasília S.A.; ou\n4. seja determinado pelo BACEN, segundo critérios estabelecidos em regulamento específico editado pelo Conselho Monetário Nacional,a extinção do instrumento.","Totalmente","Permanente","Contratual","Não","Não","Não se aplica"]
[null,37,"BRB - BANCO DE BRASILIA S/A","LFSN2200B9R","Lei 12.249/2010 - Resolução 4.955/2021 do CMN","Nível II","Nível II","Conglomerado","Letra financeira",3648360.19,3000000,"passivo - custo amortizado","2022-10-19","Com vencimento","2029-10-19","Não","(1) Não há uma data específica, apenas quando for solicitado ao Bacen","(2) Não há vinculação regulatória ou fiscal para resgate ou recompra","(3) O valor pode ser parcial ou total, conforme autorização do Bacen","Não se aplica","Fixo","132% CDI","Não","Mandatório","Não","Cumulativo","Não conversível","Não se aplica","Não se aplica","Não se aplica","Não se aplica","Não se aplica","Não se aplica","Sim","Os títulos serão extintos, permanente e em valor no mínimo correspondente ao saldo computado no Nível II do Patrimônio de Referência do BRB – Banco de Brasília S.A nas seguintes condições:         1. seja verificada a divulgação pelo BRB – Banco de Brasília S.A. de que seu Capital Principal está em patamar inferior a 4,5% (quatro inteiros e cinco décimos por cento) do montante RWA, estabelecida pela regulamentação vigente; ou\n2. seja verificada, em lei específica, a assinatura de compromisso de aporte para o BRB – Banco de Brasília S.A.;\n3. seja decretado pelo BACEN o regime de administração especial temporária ou intervenção do BRB – Banco de Brasília S.A.; ou\n4. seja determinado pelo BACEN, segundo critérios estabelecidos em regulamento específico editado pelo Conselho Monetário Nacional,a extinção do instrumento.","Totalmente","Permanente","Contratual","Não","Não","Não se aplica"]
[null,38,"BRB - BANCO DE BRASILIA S/A","LFSN2200B9U","Lei 12.249/2010 - Resolução 4.955/2021 do CMN","Nível II","Nível II","Conglomerado","Letra financeira",33128118.872000005,33900000,"passivo - custo amortizado","2022-10-19","Com vencimento","2028-10-19","Não","(1) Não há uma data específica, apenas quando for solicitado ao Bacen","(2) Não há vinculação regulatória ou fiscal para resgate ou recompra","(3) O valor pode ser parcial ou total, conforme autorização do Bacen","Não se aplica","Fixo","135% CDI","Não","Mandatório","Não","Cumulativo","Não conversível","Não se aplica","Não se aplica","Não se aplica","Não se aplica","Não se aplica","Não se aplica","Sim","Os títulos serão extintos, permanente e em valor no mínimo correspondente ao saldo computado no Nível II do Patrimônio de Referência do BRB – Banco de Brasília S.A nas seguintes condições:         1. seja verificada a divulgação pelo BRB – Banco de Brasília S.A. de que seu Capital Principal está em patamar inferior a 4,5% (quatro inteiros e cinco décimos por cento) do montante RWA, estabelecida pela regulamentação vigente; ou\n2. seja verificada, em lei específica, a assinatura de compromisso de aporte para o BRB – Banco de Brasília S.A.;\n3. seja decretado pelo BACEN o regime de administração especial temporária ou intervenção do BRB – Banco de Brasília S.A.; ou\n4. seja determinado pelo BACEN, segundo critérios estabelecidos em regulamento específico editado pelo Conselho Monetário Nacional,a extinção do instrumento.","Totalmente","Permanente","Contratual","Não","Não","Não se aplica"]
[null,39,"BRB - BANCO DE BRASILIA S/A","LFSN22002N6","Lei 12.249/2010 - Resolução 4.955/2021 do CMN","Nível II","Nível II","Conglomerado","Letra financeira",32725955.059999999,24000000,"passivo - custo amortizado","2022-03-11","Com vencimento","2029-03-12","Não","(1) Não há uma data específica, apenas quando for solicitado ao Bacen","(2) Não há vinculação regulatória ou fiscal para resgate ou recompra","(3) O valor pode ser parcial ou total, conforme autorização do Bacen","Não se aplica","Fixo","140% CDI","Não","Mandatório","Não","Cumulativo","Não conversível","Não se aplica","Não se aplica","Não se aplica","Não se aplica","Não se aplica","Não se aplica","Sim","Os títulos serão extintos, permanente e em valor no mínimo correspondente ao saldo computado no Nível II do Patrimônio de Referência do BRB – Banco de Brasília S.A nas seguintes condições:         1. seja verificada a divulgação pelo BRB – Banco de Brasília S.A. de que seu Capital Principal está em patamar inferior a 4,5% (quatro inteiros e cinco décimos por cento) do montante RWA, estabelecida pela regulamentação vigente; ou\n2. seja verificada, em lei específica, a assinatura de compromisso de aporte para o BRB – Banco de Brasília S.A.;\n3. seja decretado pelo BACEN o regime de administração especial temporária ou intervenção do BRB – Banco de Brasília S.A.; ou\n4. seja determinado pelo BACEN, segundo critérios estabelecidos em regulamento específico editado pelo Conselho Monetário Nacional,a extinção do instrumento.","Totalmente","Permanente","Contratual","Não","Não","Não se aplica"]
[null,40,"BRB - BANCO DE BRASILIA S/A","LFSN22002N7","Lei 12.249/2010 - Resolução 4.955/2021 do CMN","Nível II","Nível II","Conglomerado","Letra financeira",25892493.144000001,24000000,"passivo - custo amortizado","2022-03-11","Com vencimento","2028-03-13","Não","(1) Não há uma data específica, apenas quando for solicitado ao Bacen","(2) Não há vinculação regulatória ou fiscal para resgate ou recompra","(3) O valor pode ser parcial ou total, conforme autorização do Bacen","Não se aplica","Fixo","135% CDI","Não","Mandatório","Não","Cumulativo","Não conversível","Não se aplica","Não se aplica","Não se aplica","Não se aplica","Não se aplica","Não se aplica","Sim","Os títulos serão extintos, permanente e em valor no mínimo correspondente ao saldo computado no Nível II do Patrimônio de Referência do BRB – Banco de Brasília S.A nas seguintes condições:         1. seja verificada a divulgação pelo BRB – Banco de Brasília S.A. de que seu Capital Principal está em patamar inferior a 4,5% (quatro inteiros e cinco décimos por cento) do montante RWA, estabelecida pela regulamentação vigente; ou\n2. seja verificada, em lei específica, a assinatura de compromisso de aporte para o BRB – Banco de Brasília S.A.;\n3. seja decretado pelo BACEN o regime de administração especial temporária ou intervenção do BRB – Banco de Brasília S.A.; ou\n4. seja determinado pelo BACEN, segundo critérios estabelecidos em regulamento específico editado pelo Conselho Monetário Nacional,a extinção do instrumento.","Totalmente","Permanente","Contratual","Não","Não","Não se aplica"]
[null,41,"BRB - BANCO DE BRASILIA S/A","LFSN23005EH","Lei 12.249/2010 - Resolução 4.955/2021 do CMN","Nível II","Nível II","Conglomerado","Letra financeira",3111430.13,2700000,"passivo - custo amortizado","2023-01-31","Com vencimento","2029-01-31","Não","(1) Não há uma data específica, apenas quando for solicitado ao Bacen","(2) Não há vinculação regulatória ou fiscal para resgate ou recompra","(3) O valor pode ser parcial ou total, conforme autorização do Bacen","Não se aplica","Fixo","127% CDI","Não","Mandatório","Não","Cumulativo","Não conversível","Não se aplica","Não se aplica","Não se aplica","Não se aplica","Não se aplica","Não se aplica","Sim","Os títulos serão extintos, permanente e em valor no mínimo correspondente ao saldo computado no Nível II do Patrimônio de Referência do BRB – Banco de Brasília S.A nas seguintes condições:         1. seja verificada a divulgação pelo BRB – Banco de Brasília S.A. de que seu Capital Principal está em patamar inferior a 4,5% (quatro inteiros e cinco décimos por cento) do montante RWA, estabelecida pela regulamentação vigente; ou\n2. seja verificada, em lei específica, a assinatura de compromisso de aporte para o BRB – Banco de Brasília S.A.;\n3. seja decretado pelo BACEN o regime de administração especial temporária ou intervenção do BRB – Banco de Brasília S.A.; ou\n4. seja determinado pelo BACEN, segundo critérios estabelecidos em regulamento específico editado pelo Conselho Monetário Nacional,a extinção do instrumento.","Totalmente","Permanente","Contratual","Não","Não","Não se aplica"]
[null,42,"BRB - BANCO DE BRASILIA S/A","LFSN23005K1","Lei 12.249/2010 - Resolução 4.955/2021 do CMN","Nível II","Nível II","Conglomerado","Letra financeira",11780566.43,10200000,"passivo - custo amortizado","2023-01-31","Com vencimento","2030-01-31","Não","(1) Não há uma data específica, apenas quando for solicitado ao Bacen","(2) Não há vinculação regulatória ou fiscal para resgate ou recompra","(3) O valor pode ser parcial ou total, conforme autorização do Bacen","Não se aplica","Fixo","129% CDI","Não","Mandatório","Não","Cumulativo","Não conversível","Não se aplica","Não se aplica","Não se aplica","Não se aplica","Não se aplica","Não se aplica","Sim","Os títulos serão extintos, permanente e em valor no mínimo correspondente ao saldo computado no Nível II do Patrimônio de Referência do BRB – Banco de Brasília S.A nas seguintes condições:         1. seja verificada a divulgação pelo BRB – Banco de Brasília S.A. de que seu Capital Principal está em patamar inferior a 4,5% (quatro inteiros e cinco décimos por cento) do montante RWA, estabelecida pela regulamentação vigente; ou\n2. seja verificada, em lei específica, a assinatura de compromisso de aporte para o BRB – Banco de Brasília S.A.;\n3. seja decretado pelo BACEN o regime de administração especial temporária ou intervenção do BRB – Banco de Brasília S.A.; ou\n4. seja determinado pelo BACEN, segundo critérios estabelecidos em regulamento específico editado pelo Conselho Monetário Nacional,a extinção do instrumento.","Totalmente","Permanente","Contratual","Não","Não","Não se aplica"]
[null,43,"BRB - BANCO DE BRASILIA S/A","LFSN2200ASZ","Lei 12.249/2010 - Resolução 4.955/2021 do CMN","Nível II","Nível II","Conglomerado","Letra financeira",51094297.520000003,41400000,"passivo - custo amortizado","2022-09-27","Com vencimento","2029-09-27","Não","(1) Não há uma data específica, apenas quando for solicitado ao Bacen","(2) Não há vinculação regulatória ou fiscal para resgate ou recompra","(3) O valor pode ser parcial ou total, conforme autorização do Bacen","Não se aplica","Fixo","135% CDI","Não","Mandatório","Não","Cumulativo","Não conversível","Não se aplica","Não se aplica","Não se aplica","Não se aplica","Não se aplica","Não se aplica","Sim","Os títulos serão extintos, permanente e em valor no mínimo correspondente ao saldo computado no Nível II do Patrimônio de Referência do BRB – Banco de Brasília S.A nas seguintes condições:         1. seja verificada a divulgação pelo BRB – Banco de Brasília S.A. de que seu Capital Principal está em patamar inferior a 4,5% (quatro inteiros e cinco décimos por cento) do montante RWA, estabelecida pela regulamentação vigente; ou\n2. seja verificada, em lei específica, a assinatura de compromisso de aporte para o BRB – Banco de Brasília S.A.;\n3. seja decretado pelo BACEN o regime de administração especial temporária ou intervenção do BRB – Banco de Brasília S.A.; ou\n4. seja determinado pelo BACEN, segundo critérios estabelecidos em regulamento específico editado pelo Conselho Monetário Nacional,a extinção do instrumento.","Totalmente","Permanente","Contratual","Não","Não","Não se aplica"]
[null,44,"BRB - BANCO DE BRASILIA S/A","LFSN2200AT0","Lei 12.249/2010 - Resolução 4.955/2021 do CMN","Nível II","Nível II","Conglomerado","Letra financeira",10687140.439999999,8700000,"passivo - custo amortizado","2022-09-27","Com vencimento","2029-09-27","Não","(1) Não há uma data específica, apenas quando for solicitado ao Bacen","(2) Não há vinculação regulatória ou fiscal para resgate ou recompra","(3) O valor pode ser parcial ou total, conforme autorização do Bacen","Não se aplica","Fixo","132% CDI","Não","Mandatório","Não","Cumulativo","Não conversível","Não se aplica","Não se aplica","Não se aplica","Não se aplica","Não se aplica","Não se aplica","Sim","Os títulos serão extintos, permanente e em valor no mínimo correspondente ao saldo computado no Nível II do Patrimônio de Referência do BRB – Banco de Brasília S.A nas seguintes condições:         1. seja verificada a divulgação pelo BRB – Banco de Brasília S.A. de que seu Capital Principal está em patamar inferior a 4,5% (quatro inteiros e cinco décimos por cento) do montante RWA, estabelecida pela regulamentação vigente; ou\n2. seja verificada, em lei específica, a assinatura de compromisso de aporte para o BRB – Banco de Brasília S.A.;\n3. seja decretado pelo BACEN o regime de administração especial temporária ou intervenção do BRB – Banco de Brasília S.A.; ou\n4. seja determinado pelo BACEN, segundo critérios estabelecidos em regulamento específico editado pelo Conselho Monetário Nacional,a extinção do instrumento.","Totalmente","Permanente","Contratual","Não","Não","Não se aplica"]
[null,45,"BRB - BANCO DE BRASILIA S/A","LFSN22006SV","Lei 12.249/2010 - Resolução 4.955/2021 do CMN","Nível II","Nível II","Conglomerado","Letra financeira",5078092.28,5000000,"passivo - custo amortizado","2022-05-25","Com vencimento","2028-05-25","Não","(1) Não há uma data específica, apenas quando for solicitado ao Bacen","(2) Não há vinculação regulatória ou fiscal para resgate ou recompra","(3) O valor pode ser parcial ou total, conforme autorização do Bacen","Não se aplica","Fixo","120% CDI","Não","Mandatório","Não","Cumulativo","Não conversível","Não se aplica","Não se aplica","Não se aplica","Não se aplica","Não se aplica","Não se aplica","Sim","Os títulos serão extintos, permanente e em valor no mínimo correspondente ao saldo computado no Nível II do Patrimônio de Referência do BRB – Banco de Brasília S.A nas seguintes condições:         1. seja verificada a divulgação pelo BRB – Banco de Brasília S.A. de que seu Capital Principal está em patamar inferior a 4,5% (quatro inteiros e cinco décimos por cento) do montante RWA, estabelecida pela regulamentação vigente; ou\n2. seja verificada, em lei específica, a assinatura de compromisso de aporte para o BRB – Banco de Brasília S.A.;\n3. seja decretado pelo BACEN o regime de administração especial temporária ou intervenção do BRB – Banco de Brasília S.A.; ou\n4. seja determinado pelo BACEN, segundo critérios estabelecidos em regulamento específico editado pelo Conselho Monetário Nacional,a extinção do instrumento.","Totalmente","Permanente","Contratual","Não","Não","Não se aplica"]
[null,46,"BRB - BANCO DE BRASILIA S/A","LFSN2200C6Z","Lei 12.249/2010 - Resolução 4.955/2021 do CMN","Nível II","Nível II","Conglomerado","Letra financeira",13441767.736000001,14000000,"passivo - custo amortizado","2022-11-01","Com vencimento","2028-11-01","Não","(1) Não há uma data específica, apenas quando for solicitado ao Bacen","(2) Não há vinculação regulatória ou fiscal para resgate ou recompra","(3) O valor pode ser parcial ou total, conforme autorização do Bacen","Não se aplica","Fixo","127% CDI","Não","Mandatório","Não","Cumulativo","Não conversível","Não se aplica","Não se aplica","Não se aplica","Não se aplica","Não se aplica","Não se aplica","Sim","Os títulos serão extintos, permanente e em valor no mínimo correspondente ao saldo computado no Nível II do Patrimônio de Referência do BRB – Banco de Brasília S.A nas seguintes condições:         1. seja verificada a divulgação pelo BRB – Banco de Brasília S.A. de que seu Capital Principal está em patamar inferior a 4,5% (quatro inteiros e cinco décimos por cento) do montante RWA, estabelecida pela regulamentação vigente; ou\n2. seja verificada, em lei específica, a assinatura de compromisso de aporte para o BRB – Banco de Brasília S.A.;\n3. seja decretado pelo BACEN o regime de administração especial temporária ou intervenção do BRB – Banco de Brasília S.A.; ou\n4. seja determinado pelo BACEN, segundo critérios estabelecidos em regulamento específico editado pelo Conselho Monetário Nacional,a extinção do instrumento.","Totalmente","Permanente","Contratual","Não","Não","Não se aplica"]
[null,47,"BRB - BANCO DE BRASILIA S/A","LFSN20009F8","Lei 12.249/2010 - Resolução 4.955/2021 do CMN","Nível II","Nível II","Conglomerado","Letra financeira",8472036.6300000008,9495766.6199999992,"passivo - custo amortizado","2020-12-14","Com vencimento","2027-12-14","Não","(1) Não há uma data específica, apenas quando for solicitado ao Bacen","(2) Não há vinculação regulatória ou fiscal para resgate ou recompra","(3) O valor pode ser parcial ou total, conforme autorização do Bacen","Não se aplica","Fixo","140% CDI","Não","Mandatório","Não","Cumulativo","Não conversível","Não se aplica","Não se aplica","Não se aplica","Não se aplica","Não se aplica","Não se aplica","Sim","Os títulos serão extintos, permanente e em valor no mínimo correspondente ao saldo computado no Nível II do Patrimônio de Referência do BRB – Banco de Brasília S.A nas seguintes condições:         1. seja verificada a divulgação pelo BRB – Banco de Brasília S.A. de que seu Capital Principal está em patamar inferior a 4,5% (quatro inteiros e cinco décimos por cento) do montante RWA, estabelecida pela regulamentação vigente; ou\n2. seja verificada, em lei específica, a assinatura de compromisso de aporte para o BRB – Banco de Brasília S.A.;\n3. seja decretado pelo BACEN o regime de administração especial temporária ou intervenção do BRB – Banco de Brasília S.A.; ou\n4. seja determinado pelo BACEN, segundo critérios estabelecidos em regulamento específico editado pelo Conselho Monetário Nacional,a extinção do instrumento.","Totalmente","Permanente","Contratual","Não","Não","Não se aplica"]
[null,48,"BRB - BANCO DE BRASILIA S/A","LFSN20009F9","Lei 12.249/2010 - Resolução 4.955/2021 do CMN","Nível II","Nível II","Conglomerado","Letra financeira",79121353.571999997,88682089.159999996,"passivo - custo amortizado","2020-12-14","Com vencimento","2027-12-14","Não","(1) Não há uma data específica, apenas quando for solicitado ao Bacen","(2) Não há vinculação regulatória ou fiscal para resgate ou recompra","(3) O valor pode ser parcial ou total, conforme autorização do Bacen","Não se aplica","Fixo","140% CDI","Não","Mandatório","Não","Cumulativo","Não conversível","Não se aplica","Não se aplica","Não se aplica","Não se aplica","Não se aplica","Não se aplica","Sim","Os títulos serão extintos, permanente e em valor no mínimo correspondente ao saldo computado no Nível II do Patrimônio de Referência do BRB – Banco de Brasília S.A nas seguintes condições:         1. seja verificada a divulgação pelo BRB – Banco de Brasília S.A. de que seu Capital Principal está em patamar inferior a 4,5% (quatro inteiros e cinco décimos por cento) do montante RWA, estabelecida pela regulamentação vigente; ou\n2. seja verificada, em lei específica, a assinatura de compromisso de aporte para o BRB – Banco de Brasília S.A.;\n3. seja decretado pelo BACEN o regime de administração especial temporária ou intervenção do BRB – Banco de Brasília S.A.; ou\n4. seja determinado pelo BACEN, segundo critérios estabelecidos em regulamento específico editado pelo Conselho Monetário Nacional,a extinção do instrumento.","Totalmente","Permanente","Contratual","Não","Não","Não se aplica"]
[null,49,"BRB - BANCO DE BRASILIA S/A","LFSN23006SI","Lei 12.249/2010 - Resolução 4.955/2021 do CMN","Nível II","Nível II","Conglomerado","Letra financeira",10008721.49,8700000,"passivo - custo amortizado","2023-02-08","Com vencimento","2030-02-08","Não","(1) Não há uma data específica, apenas quando for solicitado ao Bacen","(2) Não há vinculação regulatória ou fiscal para resgate ou recompra","(3) O valor pode ser parcial ou total, conforme autorização do Bacen","Não se aplica","Fixo","129% CDI","Não","Mandatório","Não","Cumulativo","Não conversível","Não se aplica","Não se aplica","Não se aplica","Não se aplica","Não se aplica","Não se aplica","Sim","Os títulos serão extintos, permanente e em valor no mínimo correspondente ao saldo computado no Nível II do Patrimônio de Referência do BRB – Banco de Brasília S.A nas seguintes condições:         1. seja verificada a divulgação pelo BRB – Banco de Brasília S.A. de que seu Capital Principal está em patamar inferior a 4,5% (quatro inteiros e cinco décimos por cento) do montante RWA, estabelecida pela regulamentação vigente; ou\n2. seja verificada, em lei específica, a assinatura de compromisso de aporte para o BRB – Banco de Brasília S.A.;\n3. seja decretado pelo BACEN o regime de administração especial temporária ou intervenção do BRB – Banco de Brasília S.A.; ou\n4. seja determinado pelo BACEN, segundo critérios estabelecidos em regulamento específico editado pelo Conselho Monetário Nacional,a extinção do instrumento.","Totalmente","Permanente","Contratual","Não","Não","Não se aplica"]
[null,50,"BRB - BANCO DE BRASILIA S/A","LFSN2200B9Q","Lei 12.249/2010 - Resolução 4.955/2021 do CMN","Nível II","Nível II","Conglomerado","Letra financeira",2432240.12,2000000,"passivo - custo amortizado","2022-10-19","Com vencimento","2029-10-19","Não","(1) Não há uma data específica, apenas quando for solicitado ao Bacen","(2) Não há vinculação regulatória ou fiscal para resgate ou recompra","(3) O valor pode ser parcial ou total, conforme autorização do Bacen","Não se aplica","Fixo","132% CDI","Não","Mandatório","Não","Cumulativo","Não conversível","Não se aplica","Não se aplica","Não se aplica","Não se aplica","Não se aplica","Não se aplica","Sim","Os títulos serão extintos, permanente e em valor no mínimo correspondente ao saldo computado no Nível II do Patrimônio de Referência do BRB – Banco de Brasília S.A nas seguintes condições:         1. seja verificada a divulgação pelo BRB – Banco de Brasília S.A. de que seu Capital Principal está em patamar inferior a 4,5% (quatro inteiros e cinco décimos por cento) do montante RWA, estabelecida pela regulamentação vigente; ou\n2. seja verificada, em lei específica, a assinatura de compromisso de aporte para o BRB – Banco de Brasília S.A.;\n3. seja decretado pelo BACEN o regime de administração especial temporária ou intervenção do BRB – Banco de Brasília S.A.; ou\n4. seja determinado pelo BACEN, segundo critérios estabelecidos em regulamento específico editado pelo Conselho Monetário Nacional,a extinção do instrumento.","Totalmente","Permanente","Contratual","Não","Não","Não se aplica"]
[null,51,"BRB - BANCO DE BRASILIA S/A","LFSN210024S","Lei 12.249/2010 - Resolução 4.955/2021 do CMN","Nível II","Nível II","Conglomerado","Letra financeira",27814794.744000003,50000000,"passivo - custo amortizado","2021-06-28","Com vencimento","2026-06-29","Não","(1) Não há uma data específica, apenas quando for solicitado ao Bacen","(2) Não há vinculação regulatória ou fiscal para resgate ou recompra","(3) O valor pode ser parcial ou total, conforme autorização do Bacen","Não se aplica","Fixo","IPCA + 7%","Não","Mandatório","Não","Cumulativo","Não conversível","Não se aplica","Não se aplica","Não se aplica","Não se aplica","Não se aplica","Não se aplica","Sim","Os títulos serão extintos, permanente e em valor no mínimo correspondente ao saldo computado no Nível II do Patrimônio de Referência do BRB – Banco de Brasília S.A nas seguintes condições:         1. seja verificada a divulgação pelo BRB – Banco de Brasília S.A. de que seu Capital Principal está em patamar inferior a 4,5% (quatro inteiros e cinco décimos por cento) do montante RWA, estabelecida pela regulamentação vigente; ou\n2. seja verificada, em lei específica, a assinatura de compromisso de aporte para o BRB – Banco de Brasília S.A.;\n3. seja decretado pelo BACEN o regime de administração especial temporária ou intervenção do BRB – Banco de Brasília S.A.; ou\n4. seja determinado pelo BACEN, segundo critérios estabelecidos em regulamento específico editado pelo Conselho Monetário Nacional,a extinção do instrumento.","Totalmente","Permanente","Contratual","Não","Não","Não se aplica"]
[null,52,"BRB - BANCO DE BRASILIA S/A","LFSN22009LL","Lei 12.249/2010 - Resolução 4.955/2021 do CMN","Nível II","Nível II","Conglomerado","Letra financeira",8396220.5840000007,9000000,"passivo - custo amortizado","2022-07-22","Com vencimento","2028-07-24","Não","(1) Não há uma data específica, apenas quando for solicitado ao Bacen","(2) Não há vinculação regulatória ou fiscal para resgate ou recompra","(3) O valor pode ser parcial ou total, conforme autorização do Bacen","Não se aplica","Fixo","IPCA + 8%","Não","Mandatório","Não","Cumulativo","Não conversível","Não se aplica","Não se aplica","Não se aplica","Não se aplica","Não se aplica","Não se aplica","Sim","Os títulos serão extintos, permanente e em valor no mínimo correspondente ao saldo computado no Nível II do Patrimônio de Referência do BRB – Banco de Brasília S.A nas seguintes condições:         1. seja verificada a divulgação pelo BRB – Banco de Brasília S.A. de que seu Capital Principal está em patamar inferior a 4,5% (quatro inteiros e cinco décimos por cento) do montante RWA, estabelecida pela regulamentação vigente; ou\n2. seja verificada, em lei específica, a assinatura de compromisso de aporte para o BRB – Banco de Brasília S.A.;\n3. seja decretado pelo BACEN o regime de administração especial temporária ou intervenção do BRB – Banco de Brasília S.A.; ou\n4. seja determinado pelo BACEN, segundo critérios estabelecidos em regulamento específico editado pelo Conselho Monetário Nacional,a extinção do instrumento.","Totalmente","Permanente","Contratual","Não","Não","Não se aplica"]
[null,53,"BRB - BANCO DE BRASILIA S/A","LFSN21003UM","Lei 12.249/2010 - Resolução 4.955/2021 do CMN","Nível II","Nível II","Conglomerado","Letra financeira",159762.28400000001,300000,"passivo - custo amortizado","2021-09-23","Com vencimento","2026-09-24","Não","(1) Não há uma data específica, apenas quando for solicitado ao Bacen","(2) Não há vinculação regulatória ou fiscal para resgate ou recompra","(3) O valor pode ser parcial ou total, conforme autorização do Bacen","Não se aplica","Fixo","IPCA + 6,8%","Não","Mandatório","Não","Cumulativo","Não conversível","Não se aplica","Não se aplica","Não se aplica","Não se aplica","Não se aplica","Não se aplica","Sim","Os títulos serão extintos, permanente e em valor no mínimo correspondente ao saldo computado no Nível II do Patrimônio de Referência do BRB – Banco de Brasília S.A nas seguintes condições:         1. seja verificada a divulgação pelo BRB – Banco de Brasília S.A. de que seu Capital Principal está em patamar inferior a 4,5% (quatro inteiros e cinco décimos por cento) do montante RWA, estabelecida pela regulamentação vigente; ou\n2. seja verificada, em lei específica, a assinatura de compromisso de aporte para o BRB – Banco de Brasília S.A.;\n3. seja decretado pelo BACEN o regime de administração especial temporária ou intervenção do BRB – Banco de Brasília S.A.; ou\n4. seja determinado pelo BACEN, segundo critérios estabelecidos em regulamento específico editado pelo Conselho Monetário Nacional,a extinção do instrumento.","Totalmente","Permanente","Contratual","Não","Não","Não se aplica"]
[null,54,"BRB - BANCO DE BRASILIA S/A","LFSN21003UL","Lei 12.249/2010 - Resolução 4.955/2021 do CMN","Nível II","Nível II","Conglomerado","Letra financeira",159829.788,300000,"passivo - custo amortizado","2021-09-23","Com vencimento","2026-09-24","Não","(1) Não há uma data específica, apenas quando for solicitado ao Bacen","(2) Não há vinculação regulatória ou fiscal para resgate ou recompra","(3) O valor pode ser parcial ou total, conforme autorização do Bacen","Não se aplica","Fixo","IPCA + 6,82%","Não","Mandatório","Não","Cumulativo","Não conversível","Não se aplica","Não se aplica","Não se aplica","Não se aplica","Não se aplica","Não se aplica","Sim","Os títulos serão extintos, permanente e em valor no mínimo correspondente ao saldo computado no Nível II do Patrimônio de Referência do BRB – Banco de Brasília S.A nas seguintes condições:         1. seja verificada a divulgação pelo BRB – Banco de Brasília S.A. de que seu Capital Principal está em patamar inferior a 4,5% (quatro inteiros e cinco décimos por cento) do montante RWA, estabelecida pela regulamentação vigente; ou\n2. seja verificada, em lei específica, a assinatura de compromisso de aporte para o BRB – Banco de Brasília S.A.;\n3. seja decretado pelo BACEN o regime de administração especial temporária ou intervenção do BRB – Banco de Brasília S.A.; ou\n4. seja determinado pelo BACEN, segundo critérios estabelecidos em regulamento específico editado pelo Conselho Monetário Nacional,a extinção do instrumento.","Totalmente","Permanente","Contratual","Não","Não","Não se aplica"]
[null,55,"BRB - BANCO DE BRASILIA S/A","LFSN22008YO","Lei 12.249/2010 - Resolução 4.955/2021 do CMN","Nível II","Nível II","Conglomerado","Letra financeira",1862522.5440000002,2000000,"passivo - custo amortizado","2022-06-30","Com vencimento","2028-06-30","Não","(1) Não há uma data específica, apenas quando for solicitado ao Bacen","(2) Não há vinculação regulatória ou fiscal para resgate ou recompra","(3) O valor pode ser parcial ou total, conforme autorização do Bacen","Não se aplica","Fixo","IPCA + 7,1%","Não","Mandatório","Não","Cumulativo","Não conversível","Não se aplica","Não se aplica","Não se aplica","Não se aplica","Não se aplica","Não se aplica","Sim","Os títulos serão extintos, permanente e em valor no mínimo correspondente ao saldo computado no Nível II do Patrimônio de Referência do BRB – Banco de Brasília S.A nas seguintes condições:         1. seja verificada a divulgação pelo BRB – Banco de Brasília S.A. de que seu Capital Principal está em patamar inferior a 4,5% (quatro inteiros e cinco décimos por cento) do montante RWA, estabelecida pela regulamentação vigente; ou\n2. seja verificada, em lei específica, a assinatura de compromisso de aporte para o BRB – Banco de Brasília S.A.;\n3. seja decretado pelo BACEN o regime de administração especial temporária ou intervenção do BRB – Banco de Brasília S.A.; ou\n4. seja determinado pelo BACEN, segundo critérios estabelecidos em regulamento específico editado pelo Conselho Monetário Nacional,a extinção do instrumento.","Totalmente","Permanente","Contratual","Não","Não","Não se aplica"]
[null,56,"BRB - BANCO DE BRASILIA S/A","LFSN22006BY","Lei 12.249/2010 - Resolução 4.955/2021 do CMN","Nível II","Nível II","Conglomerado","Letra financeira",9340171.8900000006,7800000,"passivo - custo amortizado","2022-05-17","Com vencimento","2029-05-17","Não","(1) Não há uma data específica, apenas quando for solicitado ao Bacen","(2) Não há vinculação regulatória ou fiscal para resgate ou recompra","(3) O valor pode ser parcial ou total, conforme autorização do Bacen","Não se aplica","Fixo","IPCA + 7,99%","Não","Mandatório","Não","Cumulativo","Não conversível","Não se aplica","Não se aplica","Não se aplica","Não se aplica","Não se aplica","Não se aplica","Sim","Os títulos serão extintos, permanente e em valor no mínimo correspondente ao saldo computado no Nível II do Patrimônio de Referência do BRB – Banco de Brasília S.A nas seguintes condições:         1. seja verificada a divulgação pelo BRB – Banco de Brasília S.A. de que seu Capital Principal está em patamar inferior a 4,5% (quatro inteiros e cinco décimos por cento) do montante RWA, estabelecida pela regulamentação vigente; ou\n2. seja verificada, em lei específica, a assinatura de compromisso de aporte para o BRB – Banco de Brasília S.A.;\n3. seja decretado pelo BACEN o regime de administração especial temporária ou intervenção do BRB – Banco de Brasília S.A.; ou\n4. seja determinado pelo BACEN, segundo critérios estabelecidos em regulamento específico editado pelo Conselho Monetário Nacional,a extinção do instrumento.","Totalmente","Permanente","Contratual","Não","Não","Não se aplica"]
[null,57,"BRB - BANCO DE BRASILIA S/A","LFSN22003UX","Lei 12.249/2010 - Resolução 4.955/2021 do CMN","Nível II","Nível II","Conglomerado","Letra financeira",9902636.5120000001,10000000,"passivo - custo amortizado","2022-03-30","Com vencimento","2028-03-30","Não","(1) Não há uma data específica, apenas quando for solicitado ao Bacen","(2) Não há vinculação regulatória ou fiscal para resgate ou recompra","(3) O valor pode ser parcial ou total, conforme autorização do Bacen","Não se aplica","Fixo","IPCA + 7,9%","Não","Mandatório","Não","Cumulativo","Não conversível","Não se aplica","Não se aplica","Não se aplica","Não se aplica","Não se aplica","Não se aplica","Sim","Os títulos serão extintos, permanente e em valor no mínimo correspondente ao saldo computado no Nível II do Patrimônio de Referência do BRB – Banco de Brasília S.A nas seguintes condições:         1. seja verificada a divulgação pelo BRB – Banco de Brasília S.A. de que seu Capital Principal está em patamar inferior a 4,5% (quatro inteiros e cinco décimos por cento) do montante RWA, estabelecida pela regulamentação vigente; ou\n2. seja verificada, em lei específica, a assinatura de compromisso de aporte para o BRB – Banco de Brasília S.A.;\n3. seja decretado pelo BACEN o regime de administração especial temporária ou intervenção do BRB – Banco de Brasília S.A.; ou\n4. seja determinado pelo BACEN, segundo critérios estabelecidos em regulamento específico editado pelo Conselho Monetário Nacional,a extinção do instrumento.","Totalmente","Permanente","Contratual","Não","Não","Não se aplica"]
[null,58,"BRB - BANCO DE BRASILIA S/A","LFSN1900BZ6","Lei 12.249/2010 - Resolução 4.955/2021 do CMN","Nível II","Nível II","Conglomerado","Letra financeira",628447.00800000003,1000000,"passivo - custo amortizado","2019-07-23","Com vencimento","2026-08-17","Não","(1) Não há uma data específica, apenas quando for solicitado ao Bacen","(2) Não há vinculação regulatória ou fiscal para resgate ou recompra","(3) O valor pode ser parcial ou total, conforme autorização do Bacen","Não se aplica","Fixo","IPCA + 4,48%","Não","Mandatório","Não","Cumulativo","Não conversível","Não se aplica","Não se aplica","Não se aplica","Não se aplica","Não se aplica","Não se aplica","Sim","Os títulos serão extintos, permanente e em valor no mínimo correspondente ao saldo computado no Nível II do Patrimônio de Referência do BRB – Banco de Brasília S.A nas seguintes condições:         1. seja verificada a divulgação pelo BRB – Banco de Brasília S.A. de que seu Capital Principal está em patamar inferior a 4,5% (quatro inteiros e cinco décimos por cento) do montante RWA, estabelecida pela regulamentação vigente; ou\n2. seja verificada, em lei específica, a assinatura de compromisso de aporte para o BRB – Banco de Brasília S.A.;\n3. seja decretado pelo BACEN o regime de administração especial temporária ou intervenção do BRB – Banco de Brasília S.A.; ou\n4. seja determinado pelo BACEN, segundo critérios estabelecidos em regulamento específico editado pelo Conselho Monetário Nacional,a extinção do instrumento.","Totalmente","Permanente","Contratual","Não","Não","Não se aplica"]
[null,59,"BRB - BANCO DE BRASILIA S/A","LFSN19000BA","Lei 12.249/2010 - Resolução 4.955/2021 do CMN","Nível II","Nível II","Conglomerado","Letra financeira",2754547.1680000001,4000000,"passivo - custo amortizado","2019-02-08","Com vencimento","2026-08-17","Não","(1) Não há uma data específica, apenas quando for solicitado ao Bacen","(2) Não há vinculação regulatória ou fiscal para resgate ou recompra","(3) O valor pode ser parcial ou total, conforme autorização do Bacen","Não se aplica","Fixo","IPCA + 5,6%","Não","Mandatório","Não","Cumulativo","Não conversível","Não se aplica","Não se aplica","Não se aplica","Não se aplica","Não se aplica","Não se aplica","Sim","Os títulos serão extintos, permanente e em valor no mínimo correspondente ao saldo computado no Nível II do Patrimônio de Referência do BRB – Banco de Brasília S.A nas seguintes condições:         1. seja verificada a divulgação pelo BRB – Banco de Brasília S.A. de que seu Capital Principal está em patamar inferior a 4,5% (quatro inteiros e cinco décimos por cento) do montante RWA, estabelecida pela regulamentação vigente; ou\n2. seja verificada, em lei específica, a assinatura de compromisso de aporte para o BRB – Banco de Brasília S.A.;\n3. seja decretado pelo BACEN o regime de administração especial temporária ou intervenção do BRB – Banco de Brasília S.A.; ou\n4. seja determinado pelo BACEN, segundo critérios estabelecidos em regulamento específico editado pelo Conselho Monetário Nacional,a extinção do instrumento.","Totalmente","Permanente","Contratual","Não","Não","Não se aplica"]
[null,60,"BRB - BANCO DE BRASILIA S/A","LFSN20008SR","Lei 12.249/2010 - Resolução 4.955/2021 do CMN","Nível II","Nível II","Conglomerado","Letra financeira",23946236.030000001,15000000,"passivo - custo amortizado","2020-10-15","Com vencimento","2030-10-15","Não","(1) Não há uma data específica, apenas quando for solicitado ao Bacen","(2) Não há vinculação regulatória ou fiscal para resgate ou recompra","(3) O valor pode ser parcial ou total, conforme autorização do Bacen","Não se aplica","Fixo","IPCA + 7,9%","Não","Mandatório","Não","Cumulativo","Não conversível","Não se aplica","Não se aplica","Não se aplica","Não se aplica","Não se aplica","Não se aplica","Sim","Os títulos serão extintos, permanente e em valor no mínimo correspondente ao saldo computado no Nível II do Patrimônio de Referência do BRB – Banco de Brasília S.A nas seguintes condições:         1. seja verificada a divulgação pelo BRB – Banco de Brasília S.A. de que seu Capital Principal está em patamar inferior a 4,5% (quatro inteiros e cinco décimos por cento) do montante RWA, estabelecida pela regulamentação vigente; ou\n2. seja verificada, em lei específica, a assinatura de compromisso de aporte para o BRB – Banco de Brasília S.A.;\n3. seja decretado pelo BACEN o regime de administração especial temporária ou intervenção do BRB – Banco de Brasília S.A.; ou\n4. seja determinado pelo BACEN, segundo critérios estabelecidos em regulamento específico editado pelo Conselho Monetário Nacional,a extinção do instrumento.","Totalmente","Permanente","Contratual","Não","Não","Não se aplica"]
[null,61,"BRB - BANCO DE BRASILIA S/A","LFSN20008SS","Lei 12.249/2010 - Resolução 4.955/2021 do CMN","Nível II","Nível II","Conglomerado","Letra financeira",95784944.150000006,60000000,"passivo - custo amortizado","2020-10-15","Com vencimento","2030-10-15","Não","(1) Não há uma data específica, apenas quando for solicitado ao Bacen","(2) Não há vinculação regulatória ou fiscal para resgate ou recompra","(3) O valor pode ser parcial ou total, conforme autorização do Bacen","Não se aplica","Fixo","IPCA + 7,9%","Não","Mandatório","Não","Cumulativo","Não conversível","Não se aplica","Não se aplica","Não se aplica","Não se aplica","Não se aplica","Não se aplica","Sim","Os títulos serão extintos, permanente e em valor no mínimo correspondente ao saldo computado no Nível II do Patrimônio de Referência do BRB – Banco de Brasília S.A nas seguintes condições:         1. seja verificada a divulgação pelo BRB – Banco de Brasília S.A. de que seu Capital Principal está em patamar inferior a 4,5% (quatro inteiros e cinco décimos por cento) do montante RWA, estabelecida pela regulamentação vigente; ou\n2. seja verificada, em lei específica, a assinatura de compromisso de aporte para o BRB – Banco de Brasília S.A.;\n3. seja decretado pelo BACEN o regime de administração especial temporária ou intervenção do BRB – Banco de Brasília S.A.; ou\n4. seja determinado pelo BACEN, segundo critérios estabelecidos em regulamento específico editado pelo Conselho Monetário Nacional,a extinção do instrumento.","Totalmente","Permanente","Contratual","Não","Não","Não se aplica"]
[null,62,"BRB - BANCO DE BRASILIA S/A","LFSN21002KE","Lei 12.249/2010 - Resolução 4.955/2021 do CMN","Nível II","Nível II","Conglomerado","Letra financeira",55572293.328000002,50000000,"passivo - custo amortizado","2021-08-11","Com vencimento","2028-08-11","Não","(1) Não há uma data específica, apenas quando for solicitado ao Bacen","(2) Não há vinculação regulatória ou fiscal para resgate ou recompra","(3) O valor pode ser parcial ou total, conforme autorização do Bacen","Não se aplica","Fixo","IPCA + 7,65%","Não","Mandatório","Não","Cumulativo","Não conversível","Não se aplica","Não se aplica","Não se aplica","Não se aplica","Não se aplica","Não se aplica","Sim","Os títulos serão extintos, permanente e em valor no mínimo correspondente ao saldo computado no Nível II do Patrimônio de Referência do BRB – Banco de Brasília S.A nas seguintes condições:         1. seja verificada a divulgação pelo BRB – Banco de Brasília S.A. de que seu Capital Principal está em patamar inferior a 4,5% (quatro inteiros e cinco décimos por cento) do montante RWA, estabelecida pela regulamentação vigente; ou\n2. seja verificada, em lei específica, a assinatura de compromisso de aporte para o BRB – Banco de Brasília S.A.;\n3. seja decretado pelo BACEN o regime de administração especial temporária ou intervenção do BRB – Banco de Brasília S.A.; ou\n4. seja determinado pelo BACEN, segundo critérios estabelecidos em regulamento específico editado pelo Conselho Monetário Nacional,a extinção do instrumento.","Totalmente","Permanente","Contratual","Não","Não","Não se aplica"]
[null,{"$f":"B71+1","v":63},"BRB - BANCO DE BRASILIA S/A","LFSN21003V1","Lei 12.249/2010 - Resolução 4.955/2021 do CMN","Nível II","Nível II","Conglomerado","Letra financeira",5313924.2640000004,9953469.0999999996,"passivo - custo amortizado","2021-09-28","Com vencimento","2026-09-28","Não","(1) Não há uma data específica, apenas quando for solicitado ao Bacen","(2) Não há vinculação regulatória ou fiscal para resgate ou recompra","(3) O valor pode ser parcial ou total, conforme autorização do Bacen","Não se aplica","Fixo","IPCA + 7%","Não","Mandatório","Não","Cumulativo","Não conversível","Não se aplica","Não se aplica","Não se aplica","Não se aplica","Não se aplica","Não se aplica","Sim","Os títulos serão extintos, permanente e em valor no mínimo correspondente ao saldo computado no Nível II do Patrimônio de Referência do BRB – Banco de Brasília S.A nas seguintes condições:         1. seja verificada a divulgação pelo BRB – Banco de Brasília S.A. de que seu Capital Principal está em patamar inferior a 4,5% (quatro inteiros e cinco décimos por cento) do montante RWA, estabelecida pela regulamentação vigente; ou\n2. seja verificada, em lei específica, a assinatura de compromisso de aporte para o BRB – Banco de Brasília S.A.;\n3. seja decretado pelo BACEN o regime de administração especial temporária ou intervenção do BRB – Banco de Brasília S.A.; ou\n4. seja determinado pelo BACEN, segundo critérios estabelecidos em regulamento específico editado pelo Conselho Monetário Nacional,a extinção do instrumento.","Totalmente","Permanente","Contratual","Não","Não","Não se aplica"]
[null,{"$f":"B72+1","v":64},"BRB - BANCO DE BRASILIA S/A","LFSN220086L","Lei 12.249/2010 - Resolução 4.955/2021 do CMN","Nível II","Nível II","Conglomerado","Letra financeira",26430796.656000003,26235000,"passivo - custo amortizado","2022-04-13","Com vencimento","2028-04-13","Não","(1) Não há uma data específica, apenas quando for solicitado ao Bacen","(2) Não há vinculação regulatória ou fiscal para resgate ou recompra","(3) O valor pode ser parcial ou total, conforme autorização do Bacen","Não se aplica","Fixo","14,41%","Não","Mandatório","Não","Cumulativo","Não conversível","Não se aplica","Não se aplica","Não se aplica","Não se aplica","Não se aplica","Não se aplica","Sim","Os títulos serão extintos, permanente e em valor no mínimo correspondente ao saldo computado no Nível II do Patrimônio de Referência do BRB – Banco de Brasília S.A nas seguintes condições:         1. seja verificada a divulgação pelo BRB – Banco de Brasília S.A. de que seu Capital Principal está em patamar inferior a 4,5% (quatro inteiros e cinco décimos por cento) do montante RWA, estabelecida pela regulamentação vigente; ou\n2. seja verificada, em lei específica, a assinatura de compromisso de aporte para o BRB – Banco de Brasília S.A.;\n3. seja decretado pelo BACEN o regime de administração especial temporária ou intervenção do BRB – Banco de Brasília S.A.; ou\n4. seja determinado pelo BACEN, segundo critérios estabelecidos em regulamento específico editado pelo Conselho Monetário Nacional,a extinção do instrumento.","Totalmente","Permanente","Contratual","Não","Não","Não se aplica"]
[null,65,"BRB - BANCO DE BRASILIA S/A","LFSN220040V","Lei 12.249/2010 - Resolução 4.955/2021 do CMN","Nível II","Nível II","Conglomerado","Letra financeira",10892759.672,10749000,"passivo - custo amortizado","2022-03-31","Com vencimento","2028-03-31","Não","(1) Não há uma data específica, apenas quando for solicitado ao Bacen","(2) Não há vinculação regulatória ou fiscal para resgate ou recompra","(3) O valor pode ser parcial ou total, conforme autorização do Bacen","Não se aplica","Fixo","14,48%","Não","Mandatório","Não","Cumulativo","Não conversível","Não se aplica","Não se aplica","Não se aplica","Não se aplica","Não se aplica","Não se aplica","Sim","Os títulos serão extintos, permanente e em valor no mínimo correspondente ao saldo computado no Nível II do Patrimônio de Referência do BRB – Banco de Brasília S.A nas seguintes condições:         1. seja verificada a divulgação pelo BRB – Banco de Brasília S.A. de que seu Capital Principal está em patamar inferior a 4,5% (quatro inteiros e cinco décimos por cento) do montante RWA, estabelecida pela regulamentação vigente; ou\n2. seja verificada, em lei específica, a assinatura de compromisso de aporte para o BRB – Banco de Brasília S.A.;\n3. seja decretado pelo BACEN o regime de administração especial temporária ou intervenção do BRB – Banco de Brasília S.A.; ou\n4. seja determinado pelo BACEN, segundo critérios estabelecidos em regulamento específico editado pelo Conselho Monetário Nacional,a extinção do instrumento.","Totalmente","Permanente","Contratual","Não","Não","Não se aplica"]
[null,66,"BRB - BANCO DE BRASILIA S/A","LFSN2200795","Lei 12.249/2010 - Resolução 4.955/2021 do CMN","Nível II","Nível II","Conglomerado","Letra financeira",170446162.04800001,170432403.91,"passivo - custo amortizado","2022-05-30","Com vencimento","2028-05-30","Não","(1) Não há uma data específica, apenas quando for solicitado ao Bacen","(2) Não há vinculação regulatória ou fiscal para resgate ou recompra","(3) O valor pode ser parcial ou total, conforme autorização do Bacen","Não se aplica","Fixo","15,14%","Não","Mandatório","Não","Cumulativo","Não conversível","Não se aplica","Não se aplica","Não se aplica","Não se aplica","Não se aplica","Não se aplica","Sim","Os títulos serão extintos, permanente e em valor no mínimo correspondente ao saldo computado no Nível II do Patrimônio de Referência do BRB – Banco de Brasília S.A nas seguintes condições:         1. seja verificada a divulgação pelo BRB – Banco de Brasília S.A. de que seu Capital Principal está em patamar inferior a 4,5% (quatro inteiros e cinco décimos por cento) do montante RWA, estabelecida pela regulamentação vigente; ou\n2. seja verificada, em lei específica, a assinatura de compromisso de aporte para o BRB – Banco de Brasília S.A.;\n3. seja decretado pelo BACEN o regime de administração especial temporária ou intervenção do BRB – Banco de Brasília S.A.; ou\n4. seja determinado pelo BACEN, segundo critérios estabelecidos em regulamento específico editado pelo Conselho Monetário Nacional,a extinção do instrumento.","Totalmente","Permanente","Contratual","Não","Não","Não se aplica"]
[null,67,"BRB - BANCO DE BRASILIA S/A","LFSN220086J","Lei 12.249/2010 - Resolução 4.955/2021 do CMN","Nível II","Nível II","Conglomerado","Letra financeira",18987282.256000001,18912000,"passivo - custo amortizado","2022-04-20","Com vencimento","2028-04-20","Não","(1) Não há uma data específica, apenas quando for solicitado ao Bacen","(2) Não há vinculação regulatória ou fiscal para resgate ou recompra","(3) O valor pode ser parcial ou total, conforme autorização do Bacen","Não se aplica","Fixo","14,35%","Não","Mandatório","Não","Cumulativo","Não conversível","Não se aplica","Não se aplica","Não se aplica","Não se aplica","Não se aplica","Não se aplica","Sim","Os títulos serão extintos, permanente e em valor no mínimo correspondente ao saldo computado no Nível II do Patrimônio de Referência do BRB – Banco de Brasília S.A nas seguintes condições:         1. seja verificada a divulgação pelo BRB – Banco de Brasília S.A. de que seu Capital Principal está em patamar inferior a 4,5% (quatro inteiros e cinco décimos por cento) do montante RWA, estabelecida pela regulamentação vigente; ou\n2. seja verificada, em lei específica, a assinatura de compromisso de aporte para o BRB – Banco de Brasília S.A.;\n3. seja decretado pelo BACEN o regime de administração especial temporária ou intervenção do BRB – Banco de Brasília S.A.; ou\n4. seja determinado pelo BACEN, segundo critérios estabelecidos em regulamento específico editado pelo Conselho Monetário Nacional,a extinção do instrumento.","Totalmente","Permanente","Contratual","Não","Não","Não se aplica"]
[null,68,"BRB - BANCO DE BRASILIA S/A","LFSN220086K","Lei 12.249/2010 - Resolução 4.955/2021 do CMN","Nível II","Nível II","Conglomerado","Letra financeira",23040591.672000002,22912000,"passivo - custo amortizado","2022-04-18","Com vencimento","2028-04-18","Não","(1) Não há uma data específica, apenas quando for solicitado ao Bacen","(2) Não há vinculação regulatória ou fiscal para resgate ou recompra","(3) O valor pode ser parcial ou total, conforme autorização do Bacen","Não se aplica","Fixo","14,41%","Não","Mandatório","Não","Cumulativo","Não conversível","Não se aplica","Não se aplica","Não se aplica","Não se aplica","Não se aplica","Não se aplica","Sim","Os títulos serão extintos, permanente e em valor no mínimo correspondente ao saldo computado no Nível II do Patrimônio de Referência do BRB – Banco de Brasília S.A nas seguintes condições:         1. seja verificada a divulgação pelo BRB – Banco de Brasília S.A. de que seu Capital Principal está em patamar inferior a 4,5% (quatro inteiros e cinco décimos por cento) do montante RWA, estabelecida pela regulamentação vigente; ou\n2. seja verificada, em lei específica, a assinatura de compromisso de aporte para o BRB – Banco de Brasília S.A.;\n3. seja decretado pelo BACEN o regime de administração especial temporária ou intervenção do BRB – Banco de Brasília S.A.; ou\n4. seja determinado pelo BACEN, segundo critérios estabelecidos em regulamento específico editado pelo Conselho Monetário Nacional,a extinção do instrumento.","Totalmente","Permanente","Contratual","Não","Não","Não se aplica"]
[null,69,"BRB - BANCO DE BRASILIA S/A","LFSC21001V3","Lei 12.249/2010 - Resolução 4.955/2021 do CMN","Capital Complementar","Capital Complementar","Conglomerado","Letra financeira",47437131.310000002,30803000,"passivo - custo amortizado","2021-09-02","Perpétuo","2050-01-05","Sim","Anual, a partir de 03/09/2026","(1) Não há vinculação regulatória ou fiscal para resgate ou recompra","(2) Em parcela única na data da recompra","Não se aplica","Fixo","165% CDI","Não","Mandatório","Não","Cumulativo","Não conversível","Não se aplica","Não se aplica","Não se aplica","Não se aplica","Não se aplica","Não se aplica","Sim","Os títulos serão extintos, permanente e em valor no mínimo correspondente ao saldo computado no Nível I do Patrimônio de Referência do BRB – Banco de Brasília S.A nas seguintes condições:         1. seja verificada a divulgação pelo BRB – Banco de Brasília S.A. de que seu Capital Principal está em patamar inferior a 5,125% (cinco inteiros e cento e vinte e cinco milésimos por cento) do montante RWA, estabelecida pela Resolução 4.193, de 2013; ou\n2. assinatura de compromisso de aporte para a instituição emitente, caso se configure a exceção prevista no caput do art. 28 da Lei Complementar no 101, de 4 de maio de 2000; ou\n3. seja decretado pelo BACEN o regime de administração especial temporária ou intervenção do BRB – Banco de Brasília S.A.; ou\n4. seja determinado pelo BACEN, segundo critérios estabelecidos em regulamento específico editado pelo Conselho Monetário Nacional,a extinção do instrumento.","Totalmente","Permanente","Contratual","Não","Não","Não se aplica"]
[null,70,"BRB - BANCO DE BRASILIA S/A","LFSC21001V4","Lei 12.249/2010 - Resolução 4.955/2021 do CMN","Capital Complementar","Capital Complementar","Conglomerado","Letra financeira",47437131.310000002,30803000,"passivo - custo amortizado","2021-09-02","Perpétuo","2050-01-05","Sim","Anual, a partir de 03/09/2026","(1) Não há vinculação regulatória ou fiscal para resgate ou recompra","(2) Em parcela única na data da recompra","Não se aplica","Fixo","165% CDI","Não","Mandatório","Não","Cumulativo","Não conversível","Não se aplica","Não se aplica","Não se aplica","Não se aplica","Não se aplica","Não se aplica","Sim","Os títulos serão extintos, permanente e em valor no mínimo correspondente ao saldo computado no Nível I do Patrimônio de Referência do BRB – Banco de Brasília S.A nas seguintes condições:         1. seja verificada a divulgação pelo BRB – Banco de Brasília S.A. de que seu Capital Principal está em patamar inferior a 5,125% (cinco inteiros e cento e vinte e cinco milésimos por cento) do montante RWA, estabelecida pela Resolução 4.193, de 2013; ou\n2. assinatura de compromisso de aporte para a instituição emitente, caso se configure a exceção prevista no caput do art. 28 da Lei Complementar no 101, de 4 de maio de 2000; ou\n3. seja decretado pelo BACEN o regime de administração especial temporária ou intervenção do BRB – Banco de Brasília S.A.; ou\n4. seja determinado pelo BACEN, segundo critérios estabelecidos em regulamento específico editado pelo Conselho Monetário Nacional,a extinção do instrumento.","Totalmente","Permanente","Contratual","Não","Não","Não se aplica"]
[null,71,"BRB - BANCO DE BRASILIA S/A","LFSC21001V5","Lei 12.249/2010 - Resolução 4.955/2021 do CMN","Capital Complementar","Capital Complementar","Conglomerado","Letra financeira",47437131.310000002,30803000,"passivo - custo amortizado","2021-09-02","Perpétuo","2050-01-05","Sim","Anual, a partir de 03/09/2026","(1) Não há vinculação regulatória ou fiscal para resgate ou recompra","(2) Em parcela única na data da recompra","Não se aplica","Fixo","165% CDI","Não","Mandatório","Não","Cumulativo","Não conversível","Não se aplica","Não se aplica","Não se aplica","Não se aplica","Não se aplica","Não se aplica","Sim","Os títulos serão extintos, permanente e em valor no mínimo correspondente ao saldo computado no Nível I do Patrimônio de Referência do BRB – Banco de Brasília S.A nas seguintes condições:         1. seja verificada a divulgação pelo BRB – Banco de Brasília S.A. de que seu Capital Principal está em patamar inferior a 5,125% (cinco inteiros e cento e vinte e cinco milésimos por cento) do montante RWA, estabelecida pela Resolução 4.193, de 2013; ou\n2. assinatura de compromisso de aporte para a instituição emitente, caso se configure a exceção prevista no caput do art. 28 da Lei Complementar no 101, de 4 de maio de 2000; ou\n3. seja decretado pelo BACEN o regime de administração especial temporária ou intervenção do BRB – Banco de Brasília S.A.; ou\n4. seja determinado pelo BACEN, segundo critérios estabelecidos em regulamento específico editado pelo Conselho Monetário Nacional,a extinção do instrumento.","Totalmente","Permanente","Contratual","Não","Não","Não se aplica"]
[null,72,"BRB - BANCO DE BRASILIA S/A","LFSC21001V6","Lei 12.249/2010 - Resolução 4.955/2021 do CMN","Capital Complementar","Capital Complementar","Conglomerado","Letra financeira",47437131.310000002,30803000,"passivo - custo amortizado","2021-09-02","Perpétuo","2050-01-05","Sim","Anual, a partir de 03/09/2026","(1) Não há vinculação regulatória ou fiscal para resgate ou recompra","(2) Em parcela única na data da recompra","Não se aplica","Fixo","165% CDI","Não","Mandatório","Não","Cumulativo","Não conversível","Não se aplica","Não se aplica","Não se aplica","Não se aplica","Não se aplica","Não se aplica","Sim","Os títulos serão extintos, permanente e em valor no mínimo correspondente ao saldo computado no Nível I do Patrimônio de Referência do BRB – Banco de Brasília S.A nas seguintes condições:         1. seja verificada a divulgação pelo BRB – Banco de Brasília S.A. de que seu Capital Principal está em patamar inferior a 5,125% (cinco inteiros e cento e vinte e cinco milésimos por cento) do montante RWA, estabelecida pela Resolução 4.193, de 2013; ou\n2. assinatura de compromisso de aporte para a instituição emitente, caso se configure a exceção prevista no caput do art. 28 da Lei Complementar no 101, de 4 de maio de 2000; ou\n3. seja decretado pelo BACEN o regime de administração especial temporária ou intervenção do BRB – Banco de Brasília S.A.; ou\n4. seja determinado pelo BACEN, segundo critérios estabelecidos em regulamento específico editado pelo Conselho Monetário Nacional,a extinção do instrumento.","Totalmente","Permanente","Contratual","Não","Não","Não se aplica"]
[null,73,"BRB - BANCO DE BRASILIA S/A","LFSC21001V7","Lei 12.249/2010 - Resolução 4.955/2021 do CMN","Capital Complementar","Capital Complementar","Conglomerado","Letra financeira",8417730.7200000007,5466000,"passivo - custo amortizado","2021-09-02","Perpétuo","2050-01-05","Sim","Anual, a partir de 03/09/2026","(1) Não há vinculação regulatória ou fiscal para resgate ou recompra","(2) Em parcela única na data da recompra","Não se aplica","Fixo","165% CDI","Não","Mandatório","Não","Cumulativo","Não conversível","Não se aplica","Não se aplica","Não se aplica","Não se aplica","Não se aplica","Não se aplica","Sim","Os títulos serão extintos, permanente e em valor no mínimo correspondente ao saldo computado no Nível I do Patrimônio de Referência do BRB – Banco de Brasília S.A nas seguintes condições:         1. seja verificada a divulgação pelo BRB – Banco de Brasília S.A. de que seu Capital Principal está em patamar inferior a 5,125% (cinco inteiros e cento e vinte e cinco milésimos por cento) do montante RWA, estabelecida pela Resolução 4.193, de 2013; ou\n2. assinatura de compromisso de aporte para a instituição emitente, caso se configure a exceção prevista no caput do art. 28 da Lei Complementar no 101, de 4 de maio de 2000; ou\n3. seja decretado pelo BACEN o regime de administração especial temporária ou intervenção do BRB – Banco de Brasília S.A.; ou\n4. seja determinado pelo BACEN, segundo critérios estabelecidos em regulamento específico editado pelo Conselho Monetário Nacional,a extinção do instrumento.","Totalmente","Permanente","Contratual","Não","Não","Não se aplica"]
[null,74,"BRB - BANCO DE BRASILIA S/A","LFSC21001V8","Lei 12.249/2010 - Resolução 4.955/2021 do CMN","Capital Complementar","Capital Complementar","Conglomerado","Letra financeira",5709927.4800000004,3707705.16,"passivo - custo amortizado","2021-09-02","Perpétuo","2050-01-05","Sim","Anual, a partir de 03/09/2026","(1) Não há vinculação regulatória ou fiscal para resgate ou recompra","(2) Em parcela única na data da recompra","Não se aplica","Fixo","165% CDI","Não","Mandatório","Não","Cumulativo","Não conversível","Não se aplica","Não se aplica","Não se aplica","Não se aplica","Não se aplica","Não se aplica","Sim","Os títulos serão extintos, permanente e em valor no mínimo correspondente ao saldo computado no Nível I do Patrimônio de Referência do BRB – Banco de Brasília S.A nas seguintes condições:         1. seja verificada a divulgação pelo BRB – Banco de Brasília S.A. de que seu Capital Principal está em patamar inferior a 5,125% (cinco inteiros e cento e vinte e cinco milésimos por cento) do montante RWA, estabelecida pela Resolução 4.193, de 2013; ou\n2. assinatura de compromisso de aporte para a instituição emitente, caso se configure a exceção prevista no caput do art. 28 da Lei Complementar no 101, de 4 de maio de 2000; ou\n3. seja decretado pelo BACEN o regime de administração especial temporária ou intervenção do BRB – Banco de Brasília S.A.; ou\n4. seja determinado pelo BACEN, segundo critérios estabelecidos em regulamento específico editado pelo Conselho Monetário Nacional,a extinção do instrumento.","Totalmente","Permanente","Contratual","Não","Não","Não se aplica"]
[null,75,"BRB - BANCO DE BRASILIA S/A","LFSC2200463","Lei 12.249/2010 - Resolução 4.955/2021 do CMN","Capital Complementar","Capital Complementar","Conglomerado","Letra financeira",933242.17,766000,"passivo - custo amortizado","2022-12-19","Perpétuo","2050-05-05","Sim","Anual, a partir de 20/12/2027","(1) Não há vinculação regulatória ou fiscal para resgate ou recompra","(2) Em parcela única na data da recompra","Não se aplica","Fixo","155% CDI","Não","Mandatório","Não","Cumulativo","Não conversível","Não se aplica","Não se aplica","Não se aplica","Não se aplica","Não se aplica","Não se aplica","Sim","Os títulos serão extintos, permanente e em valor no mínimo correspondente ao saldo computado no Nível I do Patrimônio de Referência do BRB – Banco de Brasília S.A nas seguintes condições:         1. seja verificada a divulgação pelo BRB – Banco de Brasília S.A. de que seu Capital Principal está em patamar inferior a 5,125% (cinco inteiros e cento e vinte e cinco milésimos por cento) do montante RWA, estabelecida pela Resolução 4.193, de 2013; ou\n2. assinatura de compromisso de aporte para a instituição emitente, caso se configure a exceção prevista no caput do art. 28 da Lei Complementar no 101, de 4 de maio de 2000; ou\n3. seja decretado pelo BACEN o regime de administração especial temporária ou intervenção do BRB – Banco de Brasília S.A.; ou\n4. seja determinado pelo BACEN, segundo critérios estabelecidos em regulamento específico editado pelo Conselho Monetário Nacional,a extinção do instrumento.","Totalmente","Permanente","Contratual","Não","Não","Não se aplica"]
[null,76,"BRB - BANCO DE BRASILIA S/A","LFSC2200462","Lei 12.249/2010 - Resolução 4.955/2021 do CMN","Capital Complementar","Capital Complementar","Conglomerado","Letra financeira",5568994.8099999996,4571000,"passivo - custo amortizado","2022-12-19","Perpétuo","2050-05-05","Sim","Anual, a partir de 20/12/2027","(1) Não há vinculação regulatória ou fiscal para resgate ou recompra","(2) Em parcela única na data da recompra","Não se aplica","Fixo","155% CDI","Não","Mandatório","Não","Cumulativo","Não conversível","Não se aplica","Não se aplica","Não se aplica","Não se aplica","Não se aplica","Não se aplica","Sim","Os títulos serão extintos, permanente e em valor no mínimo correspondente ao saldo computado no Nível I do Patrimônio de Referência do BRB – Banco de Brasília S.A nas seguintes condições:         1. seja verificada a divulgação pelo BRB – Banco de Brasília S.A. de que seu Capital Principal está em patamar inferior a 5,125% (cinco inteiros e cento e vinte e cinco milésimos por cento) do montante RWA, estabelecida pela Resolução 4.193, de 2013; ou\n2. assinatura de compromisso de aporte para a instituição emitente, caso se configure a exceção prevista no caput do art. 28 da Lei Complementar no 101, de 4 de maio de 2000; ou\n3. seja decretado pelo BACEN o regime de administração especial temporária ou intervenção do BRB – Banco de Brasília S.A.; ou\n4. seja determinado pelo BACEN, segundo critérios estabelecidos em regulamento específico editado pelo Conselho Monetário Nacional,a extinção do instrumento.","Totalmente","Permanente","Contratual","Não","Não","Não se aplica"]
[null,77,"BRB - BANCO DE BRASILIA S/A","LFSC2200461","Lei 12.249/2010 - Resolução 4.955/2021 do CMN","Capital Complementar","Capital Complementar","Conglomerado","Letra financeira",2972729.67,2440000,"passivo - custo amortizado","2022-12-19","Perpétuo","2050-05-05","Sim","Anual, a partir de 20/12/2027","(1) Não há vinculação regulatória ou fiscal para resgate ou recompra","(2) Em parcela única na data da recompra","Não se aplica","Fixo","155% CDI","Não","Mandatório","Não","Cumulativo","Não conversível","Não se aplica","Não se aplica","Não se aplica","Não se aplica","Não se aplica","Não se aplica","Sim","Os títulos serão extintos, permanente e em valor no mínimo correspondente ao saldo computado no Nível I do Patrimônio de Referência do BRB – Banco de Brasília S.A nas seguintes condições:         1. seja verificada a divulgação pelo BRB – Banco de Brasília S.A. de que seu Capital Principal está em patamar inferior a 5,125% (cinco inteiros e cento e vinte e cinco milésimos por cento) do montante RWA, estabelecida pela Resolução 4.193, de 2013; ou\n2. assinatura de compromisso de aporte para a instituição emitente, caso se configure a exceção prevista no caput do art. 28 da Lei Complementar no 101, de 4 de maio de 2000; ou\n3. seja decretado pelo BACEN o regime de administração especial temporária ou intervenção do BRB – Banco de Brasília S.A.; ou\n4. seja determinado pelo BACEN, segundo critérios estabelecidos em regulamento específico editado pelo Conselho Monetário Nacional,a extinção do instrumento.","Totalmente","Permanente","Contratual","Não","Não","Não se aplica"]
[null,78,"BRB - BANCO DE BRASILIA S/A","LFSC22004BM","Lei 12.249/2010 - Resolução 4.955/2021 do CMN","Capital Complementar","Capital Complementar","Conglomerado","Letra financeira",3609735.78,3000000,"passivo - custo amortizado","2022-12-29","Perpétuo","2050-05-16","Sim","Anual, a partir de 30/12/2027","(1) Não há vinculação regulatória ou fiscal para resgate ou recompra","(2) Em parcela única na data da recompra","Não se aplica","Fixo","150% CDI","Não","Mandatório","Não","Cumulativo","Não conversível","Não se aplica","Não se aplica","Não se aplica","Não se aplica","Não se aplica","Não se aplica","Sim","Os títulos serão extintos, permanente e em valor no mínimo correspondente ao saldo computado no Nível I do Patrimônio de Referência do BRB – Banco de Brasília S.A nas seguintes condições:         1. seja verificada a divulgação pelo BRB – Banco de Brasília S.A. de que seu Capital Principal está em patamar inferior a 5,125% (cinco inteiros e cento e vinte e cinco milésimos por cento) do montante RWA, estabelecida pela Resolução 4.193, de 2013; ou\n2. assinatura de compromisso de aporte para a instituição emitente, caso se configure a exceção prevista no caput do art. 28 da Lei Complementar no 101, de 4 de maio de 2000; ou\n3. seja decretado pelo BACEN o regime de administração especial temporária ou intervenção do BRB – Banco de Brasília S.A.; ou\n4. seja determinado pelo BACEN, segundo critérios estabelecidos em regulamento específico editado pelo Conselho Monetário Nacional,a extinção do instrumento.","Totalmente","Permanente","Contratual","Não","Não","Não se aplica"]
[null,79,"BRB - BANCO DE BRASILIA S/A","LFSC20002MO","Lei 12.249/2010 - Resolução 4.955/2021 do CMN","Capital Complementar","Capital Complementar","Conglomerado","Letra financeira",5665804.1500000004,3750300,"passivo - custo amortizado","2020-12-18","Perpétuo","2050-12-19","Sim","Anual, a partir de 19/12/2025","(1) Não há vinculação regulatória ou fiscal para resgate ou recompra","(2) Em parcela única na data da recompra","Não se aplica","Fixo","IPCA + 7,05%","Não","Mandatório","Não","Cumulativo","Não conversível","Não se aplica","Não se aplica","Não se aplica","Não se aplica","Não se aplica","Não se aplica","Sim","Os títulos serão extintos, permanente e em valor no mínimo correspondente ao saldo computado no Nível I do Patrimônio de Referência do BRB – Banco de Brasília S.A nas seguintes condições:         1. seja verificada a divulgação pelo BRB – Banco de Brasília S.A. de que seu Capital Principal está em patamar inferior a 5,125% (cinco inteiros e cento e vinte e cinco milésimos por cento) do montante RWA, estabelecida pela Resolução 4.193, de 2013; ou\n2. assinatura de compromisso de aporte para a instituição emitente, caso se configure a exceção prevista no caput do art. 28 da Lei Complementar no 101, de 4 de maio de 2000; ou\n3. seja decretado pelo BACEN o regime de administração especial temporária ou intervenção do BRB – Banco de Brasília S.A.; ou\n4. seja determinado pelo BACEN, segundo critérios estabelecidos em regulamento específico editado pelo Conselho Monetário Nacional,a extinção do instrumento.","Totalmente","Permanente","Contratual","Não","Não","Não se aplica"]
[null,80,"BRB - BANCO DE BRASILIA S/A","LFSC23000GP","Lei 12.249/2010 - Resolução 4.955/2021 do CMN","Capital Complementar","Capital Complementar","Conglomerado","Letra financeira",59429925.450000003,52999999.359999999,"passivo - custo amortizado","2023-02-06","Perpétuo","2050-06-23","Sim","Anual, a partir de 07/02/2028","(1) Não há vinculação regulatória ou fiscal para resgate ou recompra","(2) Em parcela única na data da recompra","Não se aplica","Fixo","IPCA + 9,01%","Não","Mandatório","Não","Cumulativo","Não conversível","Não se aplica","Não se aplica","Não se aplica","Não se aplica","Não se aplica","Não se aplica","Sim","Os títulos serão extintos, permanente e em valor no mínimo correspondente ao saldo computado no Nível I do Patrimônio de Referência do BRB – Banco de Brasília S.A nas seguintes condições:         1. seja verificada a divulgação pelo BRB – Banco de Brasília S.A. de que seu Capital Principal está em patamar inferior a 5,125% (cinco inteiros e cento e vinte e cinco milésimos por cento) do montante RWA, estabelecida pela Resolução 4.193, de 2013; ou\n2. assinatura de compromisso de aporte para a instituição emitente, caso se configure a exceção prevista no caput do art. 28 da Lei Complementar no 101, de 4 de maio de 2000; ou\n3. seja decretado pelo BACEN o regime de administração especial temporária ou intervenção do BRB – Banco de Brasília S.A.; ou\n4. seja determinado pelo BACEN, segundo critérios estabelecidos em regulamento específico editado pelo Conselho Monetário Nacional,a extinção do instrumento.","Totalmente","Permanente","Contratual","Não","Não","Não se aplica"]
[null,81,"BRB - BANCO DE BRASILIA S/A","LFSC23000GQ","Lei 12.249/2010 - Resolução 4.955/2021 do CMN","Capital Complementar","Capital Complementar","Conglomerado","Letra financeira",18389637.300000001,16399999.800000001,"passivo - custo amortizado","2023-02-06","Perpétuo","2050-06-23","Sim","Anual, a partir de 07/02/2028","(1) Não há vinculação regulatória ou fiscal para resgate ou recompra","(2) Em parcela única na data da recompra","Não se aplica","Fixo","IPCA + 9,01%","Não","Mandatório","Não","Cumulativo","Não conversível","Não se aplica","Não se aplica","Não se aplica","Não se aplica","Não se aplica","Não se aplica","Sim","Os títulos serão extintos, permanente e em valor no mínimo correspondente ao saldo computado no Nível I do Patrimônio de Referência do BRB – Banco de Brasília S.A nas seguintes condições:         1. seja verificada a divulgação pelo BRB – Banco de Brasília S.A. de que seu Capital Principal está em patamar inferior a 5,125% (cinco inteiros e cento e vinte e cinco milésimos por cento) do montante RWA, estabelecida pela Resolução 4.193, de 2013; ou\n2. assinatura de compromisso de aporte para a instituição emitente, caso se configure a exceção prevista no caput do art. 28 da Lei Complementar no 101, de 4 de maio de 2000; ou\n3. seja decretado pelo BACEN o regime de administração especial temporária ou intervenção do BRB – Banco de Brasília S.A.; ou\n4. seja determinado pelo BACEN, segundo critérios estabelecidos em regulamento específico editado pelo Conselho Monetário Nacional,a extinção do instrumento.","Totalmente","Permanente","Contratual","Não","Não","Não se aplica"]
[null,82,"BRB - BANCO DE BRASILIA S/A","LFSC23000M9","Lei 12.249/2010 - Resolução 4.955/2021 do CMN","Capital Complementar","Capital Complementar","Conglomerado","Letra financeira",672791.61,600000,"passivo - custo amortizado","2023-02-06","Perpétuo","2050-06-23","Sim","Anual, a partir de 07/02/2028","(1) Não há vinculação regulatória ou fiscal para resgate ou recompra","(2) Em parcela única na data da recompra","Não se aplica","Fixo","IPCA + 9,01%","Não","Mandatório","Não","Cumulativo","Não conversível","Não se aplica","Não se aplica","Não se aplica","Não se aplica","Não se aplica","Não se aplica","Sim","Os títulos serão extintos, permanente e em valor no mínimo correspondente ao saldo computado no Nível I do Patrimônio de Referência do BRB – Banco de Brasília S.A nas seguintes condições:         1. seja verificada a divulgação pelo BRB – Banco de Brasília S.A. de que seu Capital Principal está em patamar inferior a 5,125% (cinco inteiros e cento e vinte e cinco milésimos por cento) do montante RWA, estabelecida pela Resolução 4.193, de 2013; ou\n2. assinatura de compromisso de aporte para a instituição emitente, caso se configure a exceção prevista no caput do art. 28 da Lei Complementar no 101, de 4 de maio de 2000; ou\n3. seja decretado pelo BACEN o regime de administração especial temporária ou intervenção do BRB – Banco de Brasília S.A.; ou\n4. seja determinado pelo BACEN, segundo critérios estabelecidos em regulamento específico editado pelo Conselho Monetário Nacional,a extinção do instrumento.","Totalmente","Permanente","Contratual","Não","Não","Não se aplica"]
[null,83,"BRB - BANCO DE BRASILIA S/A","LFSC200020A","Lei 12.249/2010 - Resolução 4.955/2021 do CMN","Capital Complementar","Capital Complementar","Conglomerado","Letra financeira",3256563.56,2086000,"passivo - custo amortizado","2020-10-14","Perpétuo","2050-10-10","Sim","Anual, a partir de 15/10/2025","(1) Não há vinculação regulatória ou fiscal para resgate ou recompra","(2) Em parcela única na data da recompra","Não se aplica","Fixo","IPCA + 7,05%","Não","Mandatório","Não","Cumulativo","Não conversível","Não se aplica","Não se aplica","Não se aplica","Não se aplica","Não se aplica","Não se aplica","Sim","Os títulos serão extintos, permanente e em valor no mínimo correspondente ao saldo computado no Nível I do Patrimônio de Referência do BRB – Banco de Brasília S.A nas seguintes condições:         1. seja verificada a divulgação pelo BRB – Banco de Brasília S.A. de que seu Capital Principal está em patamar inferior a 5,125% (cinco inteiros e cento e vinte e cinco milésimos por cento) do montante RWA, estabelecida pela Resolução 4.193, de 2013; ou\n2. assinatura de compromisso de aporte para a instituição emitente, caso se configure a exceção prevista no caput do art. 28 da Lei Complementar no 101, de 4 de maio de 2000; ou\n3. seja decretado pelo BACEN o regime de administração especial temporária ou intervenção do BRB – Banco de Brasília S.A.; ou\n4. seja determinado pelo BACEN, segundo critérios estabelecidos em regulamento específico editado pelo Conselho Monetário Nacional,a extinção do instrumento.","Totalmente","Permanente","Contratual","Não","Não","Não se aplica"]
[null,84,"BRB - BANCO DE BRASILIA S/A","LFSC20001P5","Lei 12.249/2010 - Resolução 4.955/2021 do CMN","Capital Complementar","Capital Complementar","Conglomerado","Letra financeira",3039085.27,1930000,"passivo - custo amortizado","2020-09-16","Perpétuo","2050-09-16","Sim","Anual, a partir de 17/09/2025","(1) Não há vinculação regulatória ou fiscal para resgate ou recompra","(2) Em parcela única na data da recompra","Não se aplica","Fixo","IPCA + 7,05%","Não","Mandatório","Não","Cumulativo","Não conversível","Não se aplica","Não se aplica","Não se aplica","Não se aplica","Não se aplica","Não se aplica","Sim","Os títulos serão extintos, permanente e em valor no mínimo correspondente ao saldo computado no Nível I do Patrimônio de Referência do BRB – Banco de Brasília S.A nas seguintes condições:         1. seja verificada a divulgação pelo BRB – Banco de Brasília S.A. de que seu Capital Principal está em patamar inferior a 5,125% (cinco inteiros e cento e vinte e cinco milésimos por cento) do montante RWA, estabelecida pela Resolução 4.193, de 2013; ou\n2. assinatura de compromisso de aporte para a instituição emitente, caso se configure a exceção prevista no caput do art. 28 da Lei Complementar no 101, de 4 de maio de 2000; ou\n3. seja decretado pelo BACEN o regime de administração especial temporária ou intervenção do BRB – Banco de Brasília S.A.; ou\n4. seja determinado pelo BACEN, segundo critérios estabelecidos em regulamento específico editado pelo Conselho Monetário Nacional,a extinção do instrumento.","Totalmente","Permanente","Contratual","Não","Não","Não se aplica"]
[null,85,"BRB - BANCO DE BRASILIA S/A","LFSC21000MH","Lei 12.249/2010 - Resolução 4.955/2021 do CMN","Capital Complementar","Capital Complementar","Conglomerado","Letra financeira",44187795.829999998,30000000,"passivo - custo amortizado","2021-02-11","Perpétuo","2051-02-15","Sim","Anual, a partir de 12/02/2026","(1) Não há vinculação regulatória ou fiscal para resgate ou recompra","(2) Em parcela única na data da recompra","Não se aplica","Fixo","IPCA + 7,05%","Não","Mandatório","Não","Cumulativo","Não conversível","Não se aplica","Não se aplica","Não se aplica","Não se aplica","Não se aplica","Não se aplica","Sim","Os títulos serão extintos, permanente e em valor no mínimo correspondente ao saldo computado no Nível I do Patrimônio de Referência do BRB – Banco de Brasília S.A nas seguintes condições:         1. seja verificada a divulgação pelo BRB – Banco de Brasília S.A. de que seu Capital Principal está em patamar inferior a 5,125% (cinco inteiros e cento e vinte e cinco milésimos por cento) do montante RWA, estabelecida pela Resolução 4.193, de 2013; ou\n2. assinatura de compromisso de aporte para a instituição emitente, caso se configure a exceção prevista no caput do art. 28 da Lei Complementar no 101, de 4 de maio de 2000; ou\n3. seja decretado pelo BACEN o regime de administração especial temporária ou intervenção do BRB – Banco de Brasília S.A.; ou\n4. seja determinado pelo BACEN, segundo critérios estabelecidos em regulamento específico editado pelo Conselho Monetário Nacional,a extinção do instrumento.","Totalmente","Permanente","Contratual","Não","Não","Não se aplica"]
[null,86,"BRB - BANCO DE BRASILIA S/A","LFSC21000MI","Lei 12.249/2010 - Resolução 4.955/2021 do CMN","Capital Complementar","Capital Complementar","Conglomerado","Letra financeira",2661937.65,1810000,"passivo - custo amortizado","2021-02-18","Perpétuo","2050-02-18","Sim","Anual, a partir de 19/02/2026","(1) Não há vinculação regulatória ou fiscal para resgate ou recompra","(2) Em parcela única na data da recompra","Não se aplica","Fixo","IPCA + 7,05%","Não","Mandatório","Não","Cumulativo","Não conversível","Não se aplica","Não se aplica","Não se aplica","Não se aplica","Não se aplica","Não se aplica","Sim","Os títulos serão extintos, permanente e em valor no mínimo correspondente ao saldo computado no Nível I do Patrimônio de Referência do BRB – Banco de Brasília S.A nas seguintes condições:         1. seja verificada a divulgação pelo BRB – Banco de Brasília S.A. de que seu Capital Principal está em patamar inferior a 5,125% (cinco inteiros e cento e vinte e cinco milésimos por cento) do montante RWA, estabelecida pela Resolução 4.193, de 2013; ou\n2. assinatura de compromisso de aporte para a instituição emitente, caso se configure a exceção prevista no caput do art. 28 da Lei Complementar no 101, de 4 de maio de 2000; ou\n3. seja decretado pelo BACEN o regime de administração especial temporária ou intervenção do BRB – Banco de Brasília S.A.; ou\n4. seja determinado pelo BACEN, segundo critérios estabelecidos em regulamento específico editado pelo Conselho Monetário Nacional,a extinção do instrumento.","Totalmente","Permanente","Contratual","Não","Não","Não se aplica"]
[null,87,"BRB - BANCO DE BRASILIA S/A","LFSC2100001","Lei 12.249/2010 - Resolução 4.955/2021 do CMN","Capital Complementar","Capital Complementar","Conglomerado","Letra financeira",1504232.37,1000000,"passivo - custo amortizado","2021-01-04","Perpétuo","2031-01-06","Sim","Anual, a partir de 05/01/2026","(1) Não há vinculação regulatória ou fiscal para resgate ou recompra","(2) Em parcela única na data da recompra","Não se aplica","Fixo","IPCA + 7,05%","Não","Mandatório","Não","Cumulativo","Não conversível","Não se aplica","Não se aplica","Não se aplica","Não se aplica","Não se aplica","Não se aplica","Sim","Os títulos serão extintos, permanente e em valor no mínimo correspondente ao saldo computado no Nível I do Patrimônio de Referência do BRB – Banco de Brasília S.A nas seguintes condições:         1. seja verificada a divulgação pelo BRB – Banco de Brasília S.A. de que seu Capital Principal está em patamar inferior a 5,125% (cinco inteiros e cento e vinte e cinco milésimos por cento) do montante RWA, estabelecida pela Resolução 4.193, de 2013; ou\n2. assinatura de compromisso de aporte para a instituição emitente, caso se configure a exceção prevista no caput do art. 28 da Lei Complementar no 101, de 4 de maio de 2000; ou\n3. seja decretado pelo BACEN o regime de administração especial temporária ou intervenção do BRB – Banco de Brasília S.A.; ou\n4. seja determinado pelo BACEN, segundo critérios estabelecidos em regulamento específico editado pelo Conselho Monetário Nacional,a extinção do instrumento.","Totalmente","Permanente","Contratual","Não","Não","Não se aplica"]
[null,88,"BRB - BANCO DE BRASILIA S/A","LFSC21000RT","Lei 12.249/2010 - Resolução 4.955/2021 do CMN","Capital Complementar","Capital Complementar","Conglomerado","Letra financeira",1459737.8,1000000,"passivo - custo amortizado","2021-03-12","Perpétuo","2051-03-13","Sim","Anual, a partir de 13/03/2026","(1) Não há vinculação regulatória ou fiscal para resgate ou recompra","(2) Em parcela única na data da recompra","Não se aplica","Fixo","IPCA + 7,05%","Não","Mandatório","Não","Cumulativo","Não conversível","Não se aplica","Não se aplica","Não se aplica","Não se aplica","Não se aplica","Não se aplica","Sim","Os títulos serão extintos, permanente e em valor no mínimo correspondente ao saldo computado no Nível I do Patrimônio de Referência do BRB – Banco de Brasília S.A nas seguintes condições:         1. seja verificada a divulgação pelo BRB – Banco de Brasília S.A. de que seu Capital Principal está em patamar inferior a 5,125% (cinco inteiros e cento e vinte e cinco milésimos por cento) do montante RWA, estabelecida pela Resolução 4.193, de 2013; ou\n2. assinatura de compromisso de aporte para a instituição emitente, caso se configure a exceção prevista no caput do art. 28 da Lei Complementar no 101, de 4 de maio de 2000; ou\n3. seja decretado pelo BACEN o regime de administração especial temporária ou intervenção do BRB – Banco de Brasília S.A.; ou\n4. seja determinado pelo BACEN, segundo critérios estabelecidos em regulamento específico editado pelo Conselho Monetário Nacional,a extinção do instrumento.","Totalmente","Permanente","Contratual","Não","Não","Não se aplica"]
[null,89,"BRB - BANCO DE BRASILIA S/A","LFSC21000B5","Lei 12.249/2010 - Resolução 4.955/2021 do CMN","Capital Complementar","Capital Complementar","Conglomerado","Letra financeira",2212891.9300000002,1500000,"passivo - custo amortizado","2021-02-02","Perpétuo","2050-02-02","Sim","Anual, a partir de 03/02/2026","(1) Não há vinculação regulatória ou fiscal para resgate ou recompra","(2) Em parcela única na data da recompra","Não se aplica","Fixo","IPCA + 7,05%","Não","Mandatório","Não","Cumulativo","Não conversível","Não se aplica","Não se aplica","Não se aplica","Não se aplica","Não se aplica","Não se aplica","Sim","Os títulos serão extintos, permanente e em valor no mínimo correspondente ao saldo computado no Nível I do Patrimônio de Referência do BRB – Banco de Brasília S.A nas seguintes condições:         1. seja verificada a divulgação pelo BRB – Banco de Brasília S.A. de que seu Capital Principal está em patamar inferior a 5,125% (cinco inteiros e cento e vinte e cinco milésimos por cento) do montante RWA, estabelecida pela Resolução 4.193, de 2013; ou\n2. assinatura de compromisso de aporte para a instituição emitente, caso se configure a exceção prevista no caput do art. 28 da Lei Complementar no 101, de 4 de maio de 2000; ou\n3. seja decretado pelo BACEN o regime de administração especial temporária ou intervenção do BRB – Banco de Brasília S.A.; ou\n4. seja determinado pelo BACEN, segundo critérios estabelecidos em regulamento específico editado pelo Conselho Monetário Nacional,a extinção do instrumento.","Totalmente","Permanente","Contratual","Não","Não","Não se aplica"]
[null,90,"BRB - BANCO DE BRASILIA S/A","LFSC21001KV","Lei 12.249/2010 - Resolução 4.955/2021 do CMN","Capital Complementar","Capital Complementar","Conglomerado","Letra financeira",2850682.21,2050000,"passivo - custo amortizado","2021-07-28","Perpétuo","2051-07-28","Sim","Anual, a partir de 29/07/2026","(1) Não há vinculação regulatória ou fiscal para resgate ou recompra","(2) Em parcela única na data da recompra","Não se aplica","Fixo","IPCA + 7,5%","Não","Mandatório","Não","Cumulativo","Não conversível","Não se aplica","Não se aplica","Não se aplica","Não se aplica","Não se aplica","Não se aplica","Sim","Os títulos serão extintos, permanente e em valor no mínimo correspondente ao saldo computado no Nível I do Patrimônio de Referência do BRB – Banco de Brasília S.A nas seguintes condições:         1. seja verificada a divulgação pelo BRB – Banco de Brasília S.A. de que seu Capital Principal está em patamar inferior a 5,125% (cinco inteiros e cento e vinte e cinco milésimos por cento) do montante RWA, estabelecida pela Resolução 4.193, de 2013; ou\n2. assinatura de compromisso de aporte para a instituição emitente, caso se configure a exceção prevista no caput do art. 28 da Lei Complementar no 101, de 4 de maio de 2000; ou\n3. seja decretado pelo BACEN o regime de administração especial temporária ou intervenção do BRB – Banco de Brasília S.A.; ou\n4. seja determinado pelo BACEN, segundo critérios estabelecidos em regulamento específico editado pelo Conselho Monetário Nacional,a extinção do instrumento.","Totalmente","Permanente","Contratual","Não","Não","Não se aplica"]
[null,91,"BRB - BANCO DE BRASILIA S/A","LFSC20001UP","Lei 12.249/2010 - Resolução 4.955/2021 do CMN","Capital Complementar","Capital Complementar","Conglomerado","Letra financeira",4029105.14,2563000,"passivo - custo amortizado","2020-09-21","Perpétuo","2050-09-21","Sim","Anual, a partir de 22/09/2025","(1) Não há vinculação regulatória ou fiscal para resgate ou recompra","(2) Em parcela única na data da recompra","Não se aplica","Fixo","IPCA + 7,05%","Não","Mandatório","Não","Cumulativo","Não conversível","Não se aplica","Não se aplica","Não se aplica","Não se aplica","Não se aplica","Não se aplica","Sim","Os títulos serão extintos, permanente e em valor no mínimo correspondente ao saldo computado no Nível I do Patrimônio de Referência do BRB – Banco de Brasília S.A nas seguintes condições:         1. seja verificada a divulgação pelo BRB – Banco de Brasília S.A. de que seu Capital Principal está em patamar inferior a 5,125% (cinco inteiros e cento e vinte e cinco milésimos por cento) do montante RWA, estabelecida pela Resolução 4.193, de 2013; ou\n2. assinatura de compromisso de aporte para a instituição emitente, caso se configure a exceção prevista no caput do art. 28 da Lei Complementar no 101, de 4 de maio de 2000; ou\n3. seja decretado pelo BACEN o regime de administração especial temporária ou intervenção do BRB – Banco de Brasília S.A.; ou\n4. seja determinado pelo BACEN, segundo critérios estabelecidos em regulamento específico editado pelo Conselho Monetário Nacional,a extinção do instrumento.","Totalmente","Permanente","Contratual","Não","Não","Não se aplica"]
[null,92,"BRB - BANCO DE BRASILIA S/A","LFSC200020B","Lei 12.249/2010 - Resolução 4.955/2021 do CMN","Capital Complementar","Capital Complementar","Conglomerado","Letra financeira",2138009.58,1372000,"passivo - custo amortizado","2020-10-19","Perpétuo","2050-10-10","Sim","Anual, a partir de 20/10/2025","(1) Não há vinculação regulatória ou fiscal para resgate ou recompra","(2) Em parcela única na data da recompra","Não se aplica","Fixo","IPCA + 7,05%","Não","Mandatório","Não","Cumulativo","Não conversível","Não se aplica","Não se aplica","Não se aplica","Não se aplica","Não se aplica","Não se aplica","Sim","Os títulos serão extintos, permanente e em valor no mínimo correspondente ao saldo computado no Nível I do Patrimônio de Referência do BRB – Banco de Brasília S.A nas seguintes condições:         1. seja verificada a divulgação pelo BRB – Banco de Brasília S.A. de que seu Capital Principal está em patamar inferior a 5,125% (cinco inteiros e cento e vinte e cinco milésimos por cento) do montante RWA, estabelecida pela Resolução 4.193, de 2013; ou\n2. assinatura de compromisso de aporte para a instituição emitente, caso se configure a exceção prevista no caput do art. 28 da Lei Complementar no 101, de 4 de maio de 2000; ou\n3. seja decretado pelo BACEN o regime de administração especial temporária ou intervenção do BRB – Banco de Brasília S.A.; ou\n4. seja determinado pelo BACEN, segundo critérios estabelecidos em regulamento específico editado pelo Conselho Monetário Nacional,a extinção do instrumento.","Totalmente","Permanente","Contratual","Não","Não","Não se aplica"]
[null,93,"BRB - BANCO DE BRASILIA S/A","LFSC20002H2","Lei 12.249/2010 - Resolução 4.955/2021 do CMN","Capital Complementar","Capital Complementar","Conglomerado","Letra financeira",5606946.79,3680000,"passivo - custo amortizado","2020-12-07","Perpétuo","2050-12-07","Sim","Anual, a partir de 08/12/2025","(1) Não há vinculação regulatória ou fiscal para resgate ou recompra","(2) Em parcela única na data da recompra","Não se aplica","Fixo","IPCA + 7,05%","Não","Mandatório","Não","Cumulativo","Não conversível","Não se aplica","Não se aplica","Não se aplica","Não se aplica","Não se aplica","Não se aplica","Sim","Os títulos serão extintos, permanente e em valor no mínimo correspondente ao saldo computado no Nível I do Patrimônio de Referência do BRB – Banco de Brasília S.A nas seguintes condições:         1. seja verificada a divulgação pelo BRB – Banco de Brasília S.A. de que seu Capital Principal está em patamar inferior a 5,125% (cinco inteiros e cento e vinte e cinco milésimos por cento) do montante RWA, estabelecida pela Resolução 4.193, de 2013; ou\n2. assinatura de compromisso de aporte para a instituição emitente, caso se configure a exceção prevista no caput do art. 28 da Lei Complementar no 101, de 4 de maio de 2000; ou\n3. seja decretado pelo BACEN o regime de administração especial temporária ou intervenção do BRB – Banco de Brasília S.A.; ou\n4. seja determinado pelo BACEN, segundo critérios estabelecidos em regulamento específico editado pelo Conselho Monetário Nacional,a extinção do instrumento.","Totalmente","Permanente","Contratual","Não","Não","Não se aplica"]
[null,94,"BRB - BANCO DE BRASILIA S/A","LFSC20002MQ","Lei 12.249/2010 - Resolução 4.955/2021 do CMN","Capital Complementar","Capital Complementar","Conglomerado","Letra financeira",11371259.08,7535000,"passivo - custo amortizado","2020-12-21","Perpétuo","2050-12-21","Sim","Anual, a partir de 22/12/2025","(1) Não há vinculação regulatória ou fiscal para resgate ou recompra","(2) Em parcela única na data da recompra","Não se aplica","Fixo","IPCA + 7,05%","Não","Mandatório","Não","Cumulativo","Não conversível","Não se aplica","Não se aplica","Não se aplica","Não se aplica","Não se aplica","Não se aplica","Sim","Os títulos serão extintos, permanente e em valor no mínimo correspondente ao saldo computado no Nível I do Patrimônio de Referência do BRB – Banco de Brasília S.A nas seguintes condições:         1. seja verificada a divulgação pelo BRB – Banco de Brasília S.A. de que seu Capital Principal está em patamar inferior a 5,125% (cinco inteiros e cento e vinte e cinco milésimos por cento) do montante RWA, estabelecida pela Resolução 4.193, de 2013; ou\n2. assinatura de compromisso de aporte para a instituição emitente, caso se configure a exceção prevista no caput do art. 28 da Lei Complementar no 101, de 4 de maio de 2000; ou\n3. seja decretado pelo BACEN o regime de administração especial temporária ou intervenção do BRB – Banco de Brasília S.A.; ou\n4. seja determinado pelo BACEN, segundo critérios estabelecidos em regulamento específico editado pelo Conselho Monetário Nacional,a extinção do instrumento.","Totalmente","Permanente","Contratual","Não","Não","Não se aplica"]
[null,95,"BRB - BANCO DE BRASILIA S/A","LFSC2000209","Lei 12.249/2010 - Resolução 4.955/2021 do CMN","Capital Complementar","Capital Complementar","Conglomerado","Letra financeira",3822230.17,2445000,"passivo - custo amortizado","2020-10-08","Perpétuo","2050-10-10","Sim","Anual, a partir de 09/10/2025","(1) Não há vinculação regulatória ou fiscal para resgate ou recompra","(2) Em parcela única na data da recompra","Não se aplica","Fixo","IPCA + 7,05%","Não","Mandatório","Não","Cumulativo","Não conversível","Não se aplica","Não se aplica","Não se aplica","Não se aplica","Não se aplica","Não se aplica","Sim","Os títulos serão extintos, permanente e em valor no mínimo correspondente ao saldo computado no Nível I do Patrimônio de Referência do BRB – Banco de Brasília S.A nas seguintes condições:         1. seja verificada a divulgação pelo BRB – Banco de Brasília S.A. de que seu Capital Principal está em patamar inferior a 5,125% (cinco inteiros e cento e vinte e cinco milésimos por cento) do montante RWA, estabelecida pela Resolução 4.193, de 2013; ou\n2. assinatura de compromisso de aporte para a instituição emitente, caso se configure a exceção prevista no caput do art. 28 da Lei Complementar no 101, de 4 de maio de 2000; ou\n3. seja decretado pelo BACEN o regime de administração especial temporária ou intervenção do BRB – Banco de Brasília S.A.; ou\n4. seja determinado pelo BACEN, segundo critérios estabelecidos em regulamento específico editado pelo Conselho Monetário Nacional,a extinção do instrumento.","Totalmente","Permanente","Contratual","Não","Não","Não se aplica"]
[null,96,"BRB - BANCO DE BRASILIA S/A","LFSC20002MN","Lei 12.249/2010 - Resolução 4.955/2021 do CMN","Capital Complementar","Capital Complementar","Conglomerado","Letra financeira",4034701.13,2650000,"passivo - custo amortizado","2020-12-09","Perpétuo","2050-12-09","Sim","Anual, a partir de 10/12/2025","(1) Não há vinculação regulatória ou fiscal para resgate ou recompra","(2) Em parcela única na data da recompra","Não se aplica","Fixo","IPCA + 7,05%","Não","Mandatório","Não","Cumulativo","Não conversível","Não se aplica","Não se aplica","Não se aplica","Não se aplica","Não se aplica","Não se aplica","Sim","Os títulos serão extintos, permanente e em valor no mínimo correspondente ao saldo computado no Nível I do Patrimônio de Referência do BRB – Banco de Brasília S.A nas seguintes condições:         1. seja verificada a divulgação pelo BRB – Banco de Brasília S.A. de que seu Capital Principal está em patamar inferior a 5,125% (cinco inteiros e cento e vinte e cinco milésimos por cento) do montante RWA, estabelecida pela Resolução 4.193, de 2013; ou\n2. assinatura de compromisso de aporte para a instituição emitente, caso se configure a exceção prevista no caput do art. 28 da Lei Complementar no 101, de 4 de maio de 2000; ou\n3. seja decretado pelo BACEN o regime de administração especial temporária ou intervenção do BRB – Banco de Brasília S.A.; ou\n4. seja determinado pelo BACEN, segundo critérios estabelecidos em regulamento específico editado pelo Conselho Monetário Nacional,a extinção do instrumento.","Totalmente","Permanente","Contratual","Não","Não","Não se aplica"]
[null,97,"BRB - BANCO DE BRASILIA S/A","LFSC20002MM","Lei 12.249/2010 - Resolução 4.955/2021 do CMN","Capital Complementar","Capital Complementar","Conglomerado","Letra financeira",2299018.37,1510000,"passivo - custo amortizado","2020-12-09","Perpétuo","2050-12-09","Sim","Anual, a partir de 10/12/2025","(1) Não há vinculação regulatória ou fiscal para resgate ou recompra","(2) Em parcela única na data da recompra","Não se aplica","Fixo","IPCA + 7,05%","Não","Mandatório","Não","Cumulativo","Não conversível","Não se aplica","Não se aplica","Não se aplica","Não se aplica","Não se aplica","Não se aplica","Sim","Os títulos serão extintos, permanente e em valor no mínimo correspondente ao saldo computado no Nível I do Patrimônio de Referência do BRB – Banco de Brasília S.A nas seguintes condições:         1. seja verificada a divulgação pelo BRB – Banco de Brasília S.A. de que seu Capital Principal está em patamar inferior a 5,125% (cinco inteiros e cento e vinte e cinco milésimos por cento) do montante RWA, estabelecida pela Resolução 4.193, de 2013; ou\n2. assinatura de compromisso de aporte para a instituição emitente, caso se configure a exceção prevista no caput do art. 28 da Lei Complementar no 101, de 4 de maio de 2000; ou\n3. seja decretado pelo BACEN o regime de administração especial temporária ou intervenção do BRB – Banco de Brasília S.A.; ou\n4. seja determinado pelo BACEN, segundo critérios estabelecidos em regulamento específico editado pelo Conselho Monetário Nacional,a extinção do instrumento.","Totalmente","Permanente","Contratual","Não","Não","Não se aplica"]
[null,98,"BRB - BANCO DE BRASILIA S/A","LFSC21001KL","Lei 12.249/2010 - Resolução 4.955/2021 do CMN","Capital Complementar","Capital Complementar","Conglomerado","Letra financeira",1396568.51,1000000,"passivo - custo amortizado","2021-07-16","Perpétuo","2031-07-17","Sim","Anual, a partir de 17/07/2026","(1) Não há vinculação regulatória ou fiscal para resgate ou recompra","(2) Em parcela única na data da recompra","Não se aplica","Fixo","IPCA + 7,5%","Não","Mandatório","Não","Cumulativo","Não conversível","Não se aplica","Não se aplica","Não se aplica","Não se aplica","Não se aplica","Não se aplica","Sim","Os títulos serão extintos, permanente e em valor no mínimo correspondente ao saldo computado no Nível I do Patrimônio de Referência do BRB – Banco de Brasília S.A nas seguintes condições:         1. seja verificada a divulgação pelo BRB – Banco de Brasília S.A. de que seu Capital Principal está em patamar inferior a 5,125% (cinco inteiros e cento e vinte e cinco milésimos por cento) do montante RWA, estabelecida pela Resolução 4.193, de 2013; ou\n2. assinatura de compromisso de aporte para a instituição emitente, caso se configure a exceção prevista no caput do art. 28 da Lei Complementar no 101, de 4 de maio de 2000; ou\n3. seja decretado pelo BACEN o regime de administração especial temporária ou intervenção do BRB – Banco de Brasília S.A.; ou\n4. seja determinado pelo BACEN, segundo critérios estabelecidos em regulamento específico editado pelo Conselho Monetário Nacional,a extinção do instrumento.","Totalmente","Permanente","Contratual","Não","Não","Não se aplica"]
[null,99,"BRB - BANCO DE BRASILIA S/A","LFSC20001UQ","Lei 12.249/2010 - Resolução 4.955/2021 do CMN","Capital Complementar","Capital Complementar","Conglomerado","Letra financeira",3153605.08,2007000,"passivo - custo amortizado","2020-09-22","Perpétuo","2050-09-22","Sim","Anual, a partir de 23/09/2025","(1) Não há vinculação regulatória ou fiscal para resgate ou recompra","(2) Em parcela única na data da recompra","Não se aplica","Fixo","IPCA + 7,05%","Não","Mandatório","Não","Cumulativo","Não conversível","Não se aplica","Não se aplica","Não se aplica","Não se aplica","Não se aplica","Não se aplica","Sim","Os títulos serão extintos, permanente e em valor no mínimo correspondente ao saldo computado no Nível I do Patrimônio de Referência do BRB – Banco de Brasília S.A nas seguintes condições:         1. seja verificada a divulgação pelo BRB – Banco de Brasília S.A. de que seu Capital Principal está em patamar inferior a 5,125% (cinco inteiros e cento e vinte e cinco milésimos por cento) do montante RWA, estabelecida pela Resolução 4.193, de 2013; ou\n2. assinatura de compromisso de aporte para a instituição emitente, caso se configure a exceção prevista no caput do art. 28 da Lei Complementar no 101, de 4 de maio de 2000; ou\n3. seja decretado pelo BACEN o regime de administração especial temporária ou intervenção do BRB – Banco de Brasília S.A.; ou\n4. seja determinado pelo BACEN, segundo critérios estabelecidos em regulamento específico editado pelo Conselho Monetário Nacional,a extinção do instrumento.","Totalmente","Permanente","Contratual","Não","Não","Não se aplica"]
[null,100,"BRB - BANCO DE BRASILIA S/A","LFSC20001UR","Lei 12.249/2010 - Resolução 4.955/2021 do CMN","Capital Complementar","Capital Complementar","Conglomerado","Letra financeira",1571302.98,1000000,"passivo - custo amortizado","2020-09-22","Perpétuo","2050-09-22","Sim","Anual, a partir de 23/09/2025","(1) Não há vinculação regulatória ou fiscal para resgate ou recompra","(2) Em parcela única na data da recompra","Não se aplica","Fixo","IPCA + 7,05%","Não","Mandatório","Não","Cumulativo","Não conversível","Não se aplica","Não se aplica","Não se aplica","Não se aplica","Não se aplica","Não se aplica","Sim","Os títulos serão extintos, permanente e em valor no mínimo correspondente ao saldo computado no Nível I do Patrimônio de Referência do BRB – Banco de Brasília S.A nas seguintes condições:         1. seja verificada a divulgação pelo BRB – Banco de Brasília S.A. de que seu Capital Principal está em patamar inferior a 5,125% (cinco inteiros e cento e vinte e cinco milésimos por cento) do montante RWA, estabelecida pela Resolução 4.193, de 2013; ou\n2. assinatura de compromisso de aporte para a instituição emitente, caso se configure a exceção prevista no caput do art. 28 da Lei Complementar no 101, de 4 de maio de 2000; ou\n3. seja decretado pelo BACEN o regime de administração especial temporária ou intervenção do BRB – Banco de Brasília S.A.; ou\n4. seja determinado pelo BACEN, segundo critérios estabelecidos em regulamento específico editado pelo Conselho Monetário Nacional,a extinção do instrumento.","Totalmente","Permanente","Contratual","Não","Não","Não se aplica",null,"NUM","NUM","NUM","NUM","NUM","NUM","NUM","NUM","NUM","NUM","NUM","NUM","NUM","NUM","NUM","NUM","NUM","NUM","NUM","NUM","NUM","NUM","NUM","TXT","TXT","TXT","TXT","TXT","TXT","TXT","TXT","TXT","TXT","TXT","TXT","TXT","TXT","TXT","TXT","TXT","TXT","TXT","TXT","TXT","TXT","TXT","TXT","TXT","TXT","TXT","TXT","TXT","TXT","TXT"]
[null,101,"BRB - BANCO DE BRASILIA S/A","LFSC20002C9","Lei 12.249/2010 - Resolução 4.955/2021 do CMN","Capital Complementar","Capital Complementar","Conglomerado","Letra financeira",1797918.52,1172000,"passivo - custo amortizado","2020-11-24","Perpétuo","2050-10-10","Sim","Anual, a partir de 25/11/2025","(1) Não há vinculação regulatória ou fiscal para resgate ou recompra","(2) Em parcela única na data da recompra","Não se aplica","Fixo","IPCA + 7,05%","Não","Mandatório","Não","Cumulativo","Não conversível","Não se aplica","Não se aplica","Não se aplica","Não se aplica","Não se aplica","Não se aplica","Sim","Os títulos serão extintos, permanente e em valor no mínimo correspondente ao saldo computado no Nível I do Patrimônio de Referência do BRB – Banco de Brasília S.A nas seguintes condições:         1. seja verificada a divulgação pelo BRB – Banco de Brasília S.A. de que seu Capital Principal está em patamar inferior a 5,125% (cinco inteiros e cento e vinte e cinco milésimos por cento) do montante RWA, estabelecida pela Resolução 4.193, de 2013; ou\n2. assinatura de compromisso de aporte para a instituição emitente, caso se configure a exceção prevista no caput do art. 28 da Lei Complementar no 101, de 4 de maio de 2000; ou\n3. seja decretado pelo BACEN o regime de administração especial temporária ou intervenção do BRB – Banco de Brasília S.A.; ou\n4. seja determinado pelo BACEN, segundo critérios estabelecidos em regulamento específico editado pelo Conselho Monetário Nacional,a extinção do instrumento.","Totalmente","Permanente","Contratual","Não","Não","Não se aplica"]
[null,102,"BRB - BANCO DE BRASILIA S/A","LFSC20002C8","Lei 12.249/2010 - Resolução 4.955/2021 do CMN","Capital Complementar","Capital Complementar","Conglomerado","Letra financeira",5676022.6699999999,3700000,"passivo - custo amortizado","2020-11-24","Perpétuo","2050-10-10","Sim","Anual, a partir de 25/11/2025","(1) Não há vinculação regulatória ou fiscal para resgate ou recompra","(2) Em parcela única na data da recompra","Não se aplica","Fixo","IPCA + 7,05%","Não","Mandatório","Não","Cumulativo","Não conversível","Não se aplica","Não se aplica","Não se aplica","Não se aplica","Não se aplica","Não se aplica","Sim","Os títulos serão extintos, permanente e em valor no mínimo correspondente ao saldo computado no Nível I do Patrimônio de Referência do BRB – Banco de Brasília S.A nas seguintes condições:         1. seja verificada a divulgação pelo BRB – Banco de Brasília S.A. de que seu Capital Principal está em patamar inferior a 5,125% (cinco inteiros e cento e vinte e cinco milésimos por cento) do montante RWA, estabelecida pela Resolução 4.193, de 2013; ou\n2. assinatura de compromisso de aporte para a instituição emitente, caso se configure a exceção prevista no caput do art. 28 da Lei Complementar no 101, de 4 de maio de 2000; ou\n3. seja decretado pelo BACEN o regime de administração especial temporária ou intervenção do BRB – Banco de Brasília S.A.; ou\n4. seja determinado pelo BACEN, segundo critérios estabelecidos em regulamento específico editado pelo Conselho Monetário Nacional,a extinção do instrumento.","Totalmente","Permanente","Contratual","Não","Não","Não se aplica"]
[null,103,"BRB - BANCO DE BRASILIA S/A","LFSC200025Z","Lei 12.249/2010 - Resolução 4.955/2021 do CMN","Capital Complementar","Capital Complementar","Conglomerado","Letra financeira",15329153.07,9910000,"passivo - custo amortizado","2020-11-05","Perpétuo","2050-11-07","Sim","Anual, a partir de 06/11/2025","(1) Não há vinculação regulatória ou fiscal para resgate ou recompra","(2) Em parcela única na data da recompra","Não se aplica","Fixo","IPCA + 7,05%","Não","Mandatório","Não","Cumulativo","Não conversível","Não se aplica","Não se aplica","Não se aplica","Não se aplica","Não se aplica","Não se aplica","Sim","Os títulos serão extintos, permanente e em valor no mínimo correspondente ao saldo computado no Nível I do Patrimônio de Referência do BRB – Banco de Brasília S.A nas seguintes condições:         1. seja verificada a divulgação pelo BRB – Banco de Brasília S.A. de que seu Capital Principal está em patamar inferior a 5,125% (cinco inteiros e cento e vinte e cinco milésimos por cento) do montante RWA, estabelecida pela Resolução 4.193, de 2013; ou\n2. assinatura de compromisso de aporte para a instituição emitente, caso se configure a exceção prevista no caput do art. 28 da Lei Complementar no 101, de 4 de maio de 2000; ou\n3. seja decretado pelo BACEN o regime de administração especial temporária ou intervenção do BRB – Banco de Brasília S.A.; ou\n4. seja determinado pelo BACEN, segundo critérios estabelecidos em regulamento específico editado pelo Conselho Monetário Nacional,a extinção do instrumento.","Totalmente","Permanente","Contratual","Não","Não","Não se aplica"]
[null,104,"BRB - BANCO DE BRASILIA S/A","LFSC200025Y","Lei 12.249/2010 - Resolução 4.955/2021 do CMN","Capital Complementar","Capital Complementar","Conglomerado","Letra financeira",2861648.14,1850000,"passivo - custo amortizado","2020-11-05","Perpétuo","2050-11-07","Sim","Anual, a partir de 06/11/2025","(1) Não há vinculação regulatória ou fiscal para resgate ou recompra","(2) Em parcela única na data da recompra","Não se aplica","Fixo","IPCA + 7,05%","Não","Mandatório","Não","Cumulativo","Não conversível","Não se aplica","Não se aplica","Não se aplica","Não se aplica","Não se aplica","Não se aplica","Sim","Os títulos serão extintos, permanente e em valor no mínimo correspondente ao saldo computado no Nível I do Patrimônio de Referência do BRB – Banco de Brasília S.A nas seguintes condições:         1. seja verificada a divulgação pelo BRB – Banco de Brasília S.A. de que seu Capital Principal está em patamar inferior a 5,125% (cinco inteiros e cento e vinte e cinco milésimos por cento) do montante RWA, estabelecida pela Resolução 4.193, de 2013; ou\n2. assinatura de compromisso de aporte para a instituição emitente, caso se configure a exceção prevista no caput do art. 28 da Lei Complementar no 101, de 4 de maio de 2000; ou\n3. seja decretado pelo BACEN o regime de administração especial temporária ou intervenção do BRB – Banco de Brasília S.A.; ou\n4. seja determinado pelo BACEN, segundo critérios estabelecidos em regulamento específico editado pelo Conselho Monetário Nacional,a extinção do instrumento.","Totalmente","Permanente","Contratual","Não","Não","Não se aplica"]
[null,105,"BRB - BANCO DE BRASILIA S/A","LFSC21001EF","Lei 12.249/2010 - Resolução 4.955/2021 do CMN","Capital Complementar","Capital Complementar","Conglomerado","Letra financeira",2117240.2599999998,1510000,"passivo - custo amortizado","2021-07-08","Perpétuo","2031-07-08","Sim","Anual, a partir de 09/07/2026","(1) Não há vinculação regulatória ou fiscal para resgate ou recompra","(2) Em parcela única na data da recompra","Não se aplica","Fixo","IPCA + 7,5%","Não","Mandatório","Não","Cumulativo","Não conversível","Não se aplica","Não se aplica","Não se aplica","Não se aplica","Não se aplica","Não se aplica","Sim","Os títulos serão extintos, permanente e em valor no mínimo correspondente ao saldo computado no Nível I do Patrimônio de Referência do BRB – Banco de Brasília S.A nas seguintes condições:         1. seja verificada a divulgação pelo BRB – Banco de Brasília S.A. de que seu Capital Principal está em patamar inferior a 5,125% (cinco inteiros e cento e vinte e cinco milésimos por cento) do montante RWA, estabelecida pela Resolução 4.193, de 2013; ou\n2. assinatura de compromisso de aporte para a instituição emitente, caso se configure a exceção prevista no caput do art. 28 da Lei Complementar no 101, de 4 de maio de 2000; ou\n3. seja decretado pelo BACEN o regime de administração especial temporária ou intervenção do BRB – Banco de Brasília S.A.; ou\n4. seja determinado pelo BACEN, segundo critérios estabelecidos em regulamento específico editado pelo Conselho Monetário Nacional,a extinção do instrumento.","Totalmente","Permanente","Contratual","Não","Não","Não se aplica"]
[null,106,"BRB - BANCO DE BRASILIA S/A","LFSC21001EG","Lei 12.249/2010 - Resolução 4.955/2021 do CMN","Capital Complementar","Capital Complementar","Conglomerado","Letra financeira",4210644.04,3003000,"passivo - custo amortizado","2021-07-08","Perpétuo","2031-07-08","Sim","Anual, a partir de 09/07/2026","(1) Não há vinculação regulatória ou fiscal para resgate ou recompra","(2) Em parcela única na data da recompra","Não se aplica","Fixo","IPCA + 7,5%","Não","Mandatório","Não","Cumulativo","Não conversível","Não se aplica","Não se aplica","Não se aplica","Não se aplica","Não se aplica","Não se aplica","Sim","Os títulos serão extintos, permanente e em valor no mínimo correspondente ao saldo computado no Nível I do Patrimônio de Referência do BRB – Banco de Brasília S.A nas seguintes condições:         1. seja verificada a divulgação pelo BRB – Banco de Brasília S.A. de que seu Capital Principal está em patamar inferior a 5,125% (cinco inteiros e cento e vinte e cinco milésimos por cento) do montante RWA, estabelecida pela Resolução 4.193, de 2013; ou\n2. assinatura de compromisso de aporte para a instituição emitente, caso se configure a exceção prevista no caput do art. 28 da Lei Complementar no 101, de 4 de maio de 2000; ou\n3. seja decretado pelo BACEN o regime de administração especial temporária ou intervenção do BRB – Banco de Brasília S.A.; ou\n4. seja determinado pelo BACEN, segundo critérios estabelecidos em regulamento específico editado pelo Conselho Monetário Nacional,a extinção do instrumento.","Totalmente","Permanente","Contratual","Não","Não","Não se aplica"]
[null,107,"BRB - BANCO DE BRASILIA S/A","LFSC200020E","Lei 12.249/2010 - Resolução 4.955/2021 do CMN","Capital Complementar","Capital Complementar","Conglomerado","Letra financeira",2892804.04,1862000,"passivo - custo amortizado","2020-10-26","Perpétuo","2050-10-10","Sim","Anual, a partir de 27/10/2025","(1) Não há vinculação regulatória ou fiscal para resgate ou recompra","(2) Em parcela única na data da recompra","Não se aplica","Fixo","IPCA + 7,05%","Não","Mandatório","Não","Cumulativo","Não conversível","Não se aplica","Não se aplica","Não se aplica","Não se aplica","Não se aplica","Não se aplica","Sim","Os títulos serão extintos, permanente e em valor no mínimo correspondente ao saldo computado no Nível I do Patrimônio de Referência do BRB – Banco de Brasília S.A nas seguintes condições:         1. seja verificada a divulgação pelo BRB – Banco de Brasília S.A. de que seu Capital Principal está em patamar inferior a 5,125% (cinco inteiros e cento e vinte e cinco milésimos por cento) do montante RWA, estabelecida pela Resolução 4.193, de 2013; ou\n2. assinatura de compromisso de aporte para a instituição emitente, caso se configure a exceção prevista no caput do art. 28 da Lei Complementar no 101, de 4 de maio de 2000; ou\n3. seja decretado pelo BACEN o regime de administração especial temporária ou intervenção do BRB – Banco de Brasília S.A.; ou\n4. seja determinado pelo BACEN, segundo critérios estabelecidos em regulamento específico editado pelo Conselho Monetário Nacional,a extinção do instrumento.","Totalmente","Permanente","Contratual","Não","Não","Não se aplica"]
[null,108,"BRB - BANCO DE BRASILIA S/A","LFSC2100002","Lei 12.249/2010 - Resolução 4.955/2021 do CMN","Capital Complementar","Capital Complementar","Conglomerado","Letra financeira",2930135.33,1950000,"passivo - custo amortizado","2021-01-07","Perpétuo","2051-01-09","Sim","Anual, a partir de 08/01/2026","(1) Não há vinculação regulatória ou fiscal para resgate ou recompra","(2) Em parcela única na data da recompra","Não se aplica","Fixo","IPCA + 7,05%","Não","Mandatório","Não","Cumulativo","Não conversível","Não se aplica","Não se aplica","Não se aplica","Não se aplica","Não se aplica","Não se aplica","Sim","Os títulos serão extintos, permanente e em valor no mínimo correspondente ao saldo computado no Nível I do Patrimônio de Referência do BRB – Banco de Brasília S.A nas seguintes condições:         1. seja verificada a divulgação pelo BRB – Banco de Brasília S.A. de que seu Capital Principal está em patamar inferior a 5,125% (cinco inteiros e cento e vinte e cinco milésimos por cento) do montante RWA, estabelecida pela Resolução 4.193, de 2013; ou\n2. assinatura de compromisso de aporte para a instituição emitente, caso se configure a exceção prevista no caput do art. 28 da Lei Complementar no 101, de 4 de maio de 2000; ou\n3. seja decretado pelo BACEN o regime de administração especial temporária ou intervenção do BRB – Banco de Brasília S.A.; ou\n4. seja determinado pelo BACEN, segundo critérios estabelecidos em regulamento específico editado pelo Conselho Monetário Nacional,a extinção do instrumento.","Totalmente","Permanente","Contratual","Não","Não","Não se aplica"]
[null,109,"BRB - BANCO DE BRASILIA S/A","LFSC20002MP","Lei 12.249/2010 - Resolução 4.955/2021 do CMN","Capital Complementar","Capital Complementar","Conglomerado","Letra financeira",4169260.44,2762700,"passivo - custo amortizado","2020-12-21","Perpétuo","2050-12-21","Sim","Anual, a partir de 22/12/2025","(1) Não há vinculação regulatória ou fiscal para resgate ou recompra","(2) Em parcela única na data da recompra","Não se aplica","Fixo","IPCA + 7,05%","Não","Mandatório","Não","Cumulativo","Não conversível","Não se aplica","Não se aplica","Não se aplica","Não se aplica","Não se aplica","Não se aplica","Sim","Os títulos serão extintos, permanente e em valor no mínimo correspondente ao saldo computado no Nível I do Patrimônio de Referência do BRB – Banco de Brasília S.A nas seguintes condições:         1. seja verificada a divulgação pelo BRB – Banco de Brasília S.A. de que seu Capital Principal está em patamar inferior a 5,125% (cinco inteiros e cento e vinte e cinco milésimos por cento) do montante RWA, estabelecida pela Resolução 4.193, de 2013; ou\n2. assinatura de compromisso de aporte para a instituição emitente, caso se configure a exceção prevista no caput do art. 28 da Lei Complementar no 101, de 4 de maio de 2000; ou\n3. seja decretado pelo BACEN o regime de administração especial temporária ou intervenção do BRB – Banco de Brasília S.A.; ou\n4. seja determinado pelo BACEN, segundo critérios estabelecidos em regulamento específico editado pelo Conselho Monetário Nacional,a extinção do instrumento.","Totalmente","Permanente","Contratual","Não","Não","Não se aplica"]

{"sheet":"csv_CCA","index":12,"n_rows":111,"n_cols":43,"rows_kept":111,"cut":false,"hidden":false,"merged":[]}
["DIV","DIV","DIV","TXT","DIV","TXT","DIV","DIV","TXT","TXT","NUM","NUM","TXT","DIV","TXT","DIV","DIV","TXT","TXT","TXT","TXT","TXT","TXT","TXT","TXT","TXT","TXT","TXT","TXT","TXT","TXT","TXT","TXT","TXT","TXT","TXT","TXT","TXT","TXT","TXT","TXT","TXT","TXT"]
["COD_TABELA","COD_REFERENCIA","DT_REFERENCIA_ARQ","CAMPO_1","CAMPO_2","CAMPO_3","CAMPO_4","CAMPO_5","CAMPO_6","CAMPO_7","CAMPO_8","CAMPO_9","CAMPO_10","CAMPO_11","CAMPO_12","CAMPO_13","CAMPO_14","CAMPO_15_1","CAMPO_15_2","CAMPO_15_3","CAMPO_16","CAMPO_17","CAMPO_18","CAMPO_19","CAMPO_20","CAMPO_21","CAMPO_22","CAMPO_23","CAMPO_24","CAMPO_25","CAMPO_26","CAMPO_27","CAMPO_28","CAMPO_29","CAMPO_30","CAMPO_31","CAMPO_32","CAMPO_33","CAMPO_34a","CAMPO_35","CAMPO_36","CAMPO_37","DS_COMENTÁRIO_TABELA"]
["CCA",{"$f":"YEAR(C3)&IF(MONTH(C3)>9,4,IF(MONTH(C3)>6,3,IF(MONTH(C3)>3,2,1)))&\"T\"","v":"20234T"},{"$f":"EOMONTH(CCA!$C$4,0)","v":"2023-12-31"},{"$f":"CLEAN(CCA!C10)","v":"BRB - BANCO DE BRASILIA S/A"},{"$f":"CLEAN(CCA!D10)","v":"LFSN2200A16"},{"$f":"CLEAN(CCA!E10)","v":"Lei 12.249/2010 - Resolução 4.955/2021 do CMN"},{"$f":"CLEAN(CCA!F10)","v":"Nível II"},{"$f":"CLEAN(CCA!G10)","v":"Nível II"},{"$f":"CLEAN(CCA!H10)","v":"Conglomerado"},{"$f":"CLEAN(CCA!I10)","v":"Letra financeira"},{"$f":"CCA!J10","v":25374129.539999999},{"$f":"CCA!K10","v":20100000},{"$f":"CLEAN(CCA!L10)","v":"passivo - custo amortizado"},{"$f":"CCA!M10","v":"2022-08-10"},{"$f":"CLEAN(CCA!N10)","v":"Com vencimento"},{"$f":"CCA!O10","v":"2029-08-10"},{"$f":"CLEAN(CCA!P10)","v":"Não"},{"$f":"CLEAN(CCA!Q10)","v":"(1) Não há uma data específica, apenas quando for solicitado ao Bacen"},{"$f":"CLEAN(CCA!R10)","v":"(2) Não há vinculação regulatória ou fiscal para resgate ou recompra"},{"$f":"CLEAN(CCA!S10)","v":"(3) O valor pode ser parcial ou total, conforme autorização do Bacen"},{"$f":"CLEAN(CCA!T10)","v":"Não se aplica"},{"$f":"CLEAN(CCA!U10)","v":"Fixo"},{"$f":"CLEAN(CCA!V10)","v":"135% CDI"},{"$f":"CLEAN(CCA!W10)","v":"Não"},{"$f":"CLEAN(CCA!X10)","v":"Mandatório"},{"$f":"CLEAN(CCA!Y10)","v":"Não"},{"$f":"CLEAN(CCA!Z10)","v":"Cumulativo"},{"$f":"CLEAN(CCA!AA10)","v":"Não conversível"},{"$f":"CLEAN(CCA!AB10)","v":"Não se aplica"},{"$f":"CLEAN(CCA!AC10)","v":"Não se aplica"},{"$f":"CLEAN(CCA!AD10)","v":"Não se aplica"},{"$f":"CLEAN(CCA!AE10)","v":"Não se aplica"},{"$f":"CLEAN(CCA!AF10)","v":"Não se aplica"},{"$f":"CLEAN(CCA!AG10)","v":"Não se aplica"},{"$f":"CLEAN(CCA!AH10)","v":"Sim"},{"$f":"CLEAN(CCA!AI10)","v":"Os títulos serão extintos, permanente e em valor no mínimo correspondente ao saldo computado no Nível II do Patrimônio de Referência do BRB – Banco de Brasília S.A nas seguintes condições:         1. seja verificada a divulgação pelo BRB – Banco de Brasília S.A. de que seu Capital Principal está em patamar inferior a 4,5% (quatro inteiros e cinco décimos por cento) do montante RWA, estabelecida pela regulamentação vigente; ou2. seja verificada, em lei específica, a assinatura de compromisso de aporte para o BRB – Banco de Brasília S.A.;3. seja decretado pelo BACEN o regime de administração especial temporária ou intervenção do BRB – Banco de Brasília S.A.; ou4. seja determinado pelo BACEN, segundo critérios estabelecidos em regulamento específico editado pelo Conselho Monetário Nacional,a extinção do instrumento."},{"$f":"CLEAN(CCA!AJ10)","v":"Totalmente"},{"$f":"CLEAN(CCA!AK10)","v":"Permanente"},{"$f":"CLEAN(CCA!AL10)","v":"Contratual"},{"$f":"CLEAN(CCA!AM10)","v":"Não"},{"$f":"CLEAN(CCA!AN10)","v":"Não"},{"$f":"CLEAN(CCA!AO10)","v":"Não se aplica"},"sem comentários"]
["CCA",{"$f":"YEAR(C4)&IF(MONTH(C4)>9,4,IF(MONTH(C4)>6,3,IF(MONTH(C4)>3,2,1)))&\"T\"","v":"20234T"},{"$f":"EOMONTH(CCA!$C$4,0)","v":"2023-12-31"},{"$f":"CLEAN(CCA!C11)","v":"BRB - BANCO DE BRASILIA S/A"},{"$f":"CLEAN(CCA!D11)","v":"LFSN2200DFD"},{"$f":"CLEAN(CCA!E11)","v":"Lei 12.249/2010 - Resolução 4.955/2021 do CMN"},{"$f":"CLEAN(CCA!F11)","v":"Nível II"},{"$f":"CLEAN(CCA!G11)","v":"Nível II"},{"$f":"CLEAN(CCA!H11)","v":"Conglomerado"},{"$f":"CLEAN(CCA!I11)","v":"Letra financeira"},{"$f":"CCA!J11","v":11221012.24},{"$f":"CCA!K11","v":9300000},{"$f":"CLEAN(CCA!L11)","v":"passivo - custo amortizado"},{"$f":"CCA!M11","v":"2022-11-16"},{"$f":"CLEAN(CCA!N11)","v":"Com vencimento"},{"$f":"CCA!O11","v":"2029-11-16"},{"$f":"CLEAN(CCA!P11)","v":"Não"},{"$f":"CLEAN(CCA!Q11)","v":"(1) Não há uma data específica, apenas quando for solicitado ao Bacen"},{"$f":"CLEAN(CCA!R11)","v":"(2) Não há vinculação regulatória ou fiscal para resgate ou recompra"},{"$f":"CLEAN(CCA!S11)","v":"(3) O valor pode ser parcial ou total, conforme autorização do Bacen"},{"$f":"CLEAN(CCA!T11)","v":"Não se aplica"},{"$f":"CLEAN(CCA!U11)","v":"Fixo"},{"$f":"CLEAN(CCA!V11)","v":"135% CDI"},{"$f":"CLEAN(CCA!W11)","v":"Não"},{"$f":"CLEAN(CCA!X11)","v":"Mandatório"},{"$f":"CLEAN(CCA!Y11)","v":"Não"},{"$f":"CLEAN(CCA!Z11)","v":"Cumulativo"},{"$f":"CLEAN(CCA!AA11)","v":"Não conversível"},{"$f":"CLEAN(CCA!AB11)","v":"Não se aplica"},{"$f":"CLEAN(CCA!AC11)","v":"Não se aplica"},{"$f":"CLEAN(CCA!AD11)","v":"Não se aplica"},{"$f":"CLEAN(CCA!AE11)","v":"Não se aplica"},{"$f":"CLEAN(CCA!AF11)","v":"Não se aplica"},{"$f":"CLEAN(CCA!AG11)","v":"Não se aplica"},{"$f":"CLEAN(CCA!AH11)","v":"Sim"},{"$f":"CLEAN(CCA!AI11)","v":"Os títulos serão extintos, permanente e em valor no mínimo correspondente ao saldo computado no Nível II do Patrimônio de Referência do BRB – Banco de Brasília S.A nas seguintes condições:         1. seja verificada a divulgação pelo BRB – Banco de Brasília S.A. de que seu Capital Principal está em patamar inferior a 4,5% (quatro inteiros e cinco décimos por cento) do montante RWA, estabelecida pela regulamentação vigente; ou2. seja verificada, em lei específica, a assinatura de compromisso de aporte para o BRB – Banco de Brasília S.A.;3. seja decretado pelo BACEN o regime de administração especial temporária ou intervenção do BRB – Banco de Brasília S.A.; ou4. seja determinado pelo BACEN, segundo critérios estabelecidos em regulamento específico editado pelo Conselho Monetário Nacional,a extinção do instrumento."},{"$f":"CLEAN(CCA!AJ11)","v":"Totalmente"},{"$f":"CLEAN(CCA!AK11)","v":"Permanente"},{"$f":"CLEAN(CCA!AL11)","v":"Contratual"},{"$f":"CLEAN(CCA!AM11)","v":"Não"},{"$f":"CLEAN(CCA!AN11)","v":"Não"},{"$f":"CLEAN(CCA!AO11)","v":"Não se aplica"},"sem comentários"]
["CCA","20234T",{"$f":"EOMONTH(CCA!$C$4,0)","v":"2023-12-31"},{"$f":"CLEAN(CCA!C12)","v":"BRB - BANCO DE BRASILIA S/A"},{"$f":"CLEAN(CCA!D12)","v":"LFSN2200DFU"},{"$f":"CLEAN(CCA!E12)","v":"Lei 12.249/2010 - Resolução 4.955/2021 do CMN"},{"$f":"CLEAN(CCA!F12)","v":"Nível II"},{"$f":"CLEAN(CCA!G12)","v":"Nível II"},{"$f":"CLEAN(CCA!H12)","v":"Conglomerado"},{"$f":"CLEAN(CCA!I12)","v":"Letra financeira"},{"$f":"CCA!J12","v":12651530.08},{"$f":"CCA!K12","v":10500000},{"$f":"CLEAN(CCA!L12)","v":"passivo - custo amortizado"},{"$f":"CCA!M12","v":"2022-11-18"},{"$f":"CLEAN(CCA!N12)","v":"Com vencimento"},{"$f":"CCA!O12","v":"2029-11-19"},{"$f":"CLEAN(CCA!P12)","v":"Não"},{"$f":"CLEAN(CCA!Q12)","v":"(1) Não há uma data específica, apenas quando for solicitado ao Bacen"},{"$f":"CLEAN(CCA!R12)","v":"(2) Não há vinculação regulatória ou fiscal para resgate ou recompra"},{"$f":"CLEAN(CCA!S12)","v":"(3) O valor pode ser parcial ou total, conforme autorização do Bacen"},{"$f":"CLEAN(CCA!T12)","v":"Não se aplica"},{"$f":"CLEAN(CCA!U12)","v":"Fixo"},{"$f":"CLEAN(CCA!V12)","v":"135% CDI"},{"$f":"CLEAN(CCA!W12)","v":"Não"},{"$f":"CLEAN(CCA!X12)","v":"Mandatório"},{"$f":"CLEAN(CCA!Y12)","v":"Não"},{"$f":"CLEAN(CCA!Z12)","v":"Cumulativo"},{"$f":"CLEAN(CCA!AA12)","v":"Não conversível"},{"$f":"CLEAN(CCA!AB12)","v":"Não se aplica"},{"$f":"CLEAN(CCA!AC12)","v":"Não se aplica"},{"$f":"CLEAN(CCA!AD12)","v":"Não se aplica"},{"$f":"CLEAN(CCA!AE12)","v":"Não se aplica"},{"$f":"CLEAN(CCA!AF12)","v":"Não se aplica"},{"$f":"CLEAN(CCA!AG12)","v":"Não se aplica"},{"$f":"CLEAN(CCA!AH12)","v":"Sim"},{"$f":"CLEAN(CCA!AI12)","v":"Os títulos serão extintos, permanente e em valor no mínimo correspondente ao saldo computado no Nível II do Patrimônio de Referência do BRB – Banco de Brasília S.A nas seguintes condições:         1. seja verificada a divulgação pelo BRB – Banco de Brasília S.A. de que seu Capital Principal está em patamar inferior a 4,5% (quatro inteiros e cinco décimos por cento) do montante RWA, estabelecida pela regulamentação vigente; ou2. seja verificada, em lei específica, a assinatura de compromisso de aporte para o BRB – Banco de Brasília S.A.;3. seja decretado pelo BACEN o regime de administração especial temporária ou intervenção do BRB – Banco de Brasília S.A.; ou4. seja determinado pelo BACEN, segundo critérios estabelecidos em regulamento específico editado pelo Conselho Monetário Nacional,a extinção do instrumento."},{"$f":"CLEAN(CCA!AJ12)","v":"Totalmente"},{"$f":"CLEAN(CCA!AK12)","v":"Permanente"},{"$f":"CLEAN(CCA!AL12)","v":"Contratual"},{"$f":"CLEAN(CCA!AM12)","v":"Não"},{"$f":"CLEAN(CCA!AN12)","v":"Não"},{"$f":"CLEAN(CCA!AO12)","v":"Não se aplica"},"sem comentários"]
["CCA","20234T",{"$f":"EOMONTH(CCA!$C$4,0)","v":"2023-12-31"},{"$f":"CLEAN(CCA!C13)","v":"BRB - BANCO DE BRASILIA S/A"},{"$f":"CLEAN(CCA!D13)","v":"LFSN2200BF5"},{"$f":"CLEAN(CCA!E13)","v":"Lei 12.249/2010 - Resolução 4.955/2021 do CMN"},{"$f":"CLEAN(CCA!F13)","v":"Nível II"},{"$f":"CLEAN(CCA!G13)","v":"Nível II"},{"$f":"CLEAN(CCA!H13)","v":"Conglomerado"},{"$f":"CLEAN(CCA!I13)","v":"Letra financeira"},{"$f":"CCA!J13","v":2428982.2400000002},{"$f":"CCA!K13","v":2000000},{"$f":"CLEAN(CCA!L13)","v":"passivo - custo amortizado"},{"$f":"CCA!M13","v":"2022-10-21"},{"$f":"CLEAN(CCA!N13)","v":"Com vencimento"},{"$f":"CCA!O13","v":"2029-10-22"},{"$f":"CLEAN(CCA!P13)","v":"Não"},{"$f":"CLEAN(CCA!Q13)","v":"(1) Não há uma data específica, apenas quando for solicitado ao Bacen"},{"$f":"CLEAN(CCA!R13)","v":"(2) Não há vinculação regulatória ou fiscal para resgate ou recompra"},{"$f":"CLEAN(CCA!S13)","v":"(3) O valor pode ser parcial ou total, conforme autorização do Bacen"},{"$f":"CLEAN(CCA!T13)","v":"Não se aplica"},{"$f":"CLEAN(CCA!U13)","v":"Fixo"},{"$f":"CLEAN(CCA!V13)","v":"132% CDI"},{"$f":"CLEAN(CCA!W13)","v":"Não"},{"$f":"CLEAN(CCA!X13)","v":"Mandatório"},{"$f":"CLEAN(CCA!Y13)","v":"Não"},{"$f":"CLEAN(CCA!Z13)","v":"Cumulativo"},{"$f":"CLEAN(CCA!AA13)","v":"Não conversível"},{"$f":"CLEAN(CCA!AB13)","v":"Não se aplica"},{"$f":"CLEAN(CCA!AC13)","v":"Não se aplica"},{"$f":"CLEAN(CCA!AD13)","v":"Não se aplica"},{"$f":"CLEAN(CCA!AE13)","v":"Não se aplica"},{"$f":"CLEAN(CCA!AF13)","v":"Não se aplica"},{"$f":"CLEAN(CCA!AG13)","v":"Não se aplica"},{"$f":"CLEAN(CCA!AH13)","v":"Sim"},{"$f":"CLEAN(CCA!AI13)","v":"Os títulos serão extintos, permanente e em valor no mínimo correspondente ao saldo computado no Nível II do Patrimônio de Referência do BRB – Banco de Brasília S.A nas seguintes condições:         1. seja verificada a divulgação pelo BRB – Banco de Brasília S.A. de que seu Capital Principal está em patamar inferior a 4,5% (quatro inteiros e cinco décimos por cento) do montante RWA, estabelecida pela regulamentação vigente; ou2. seja verificada, em lei específica, a assinatura de compromisso de aporte para o BRB – Banco de Brasília S.A.;3. seja decretado pelo BACEN o regime de administração especial temporária ou intervenção do BRB – Banco de Brasília S.A.; ou4. seja determinado pelo BACEN, segundo critérios estabelecidos em regulamento específico editado pelo Conselho Monetário Nacional,a extinção do instrumento."},{"$f":"CLEAN(CCA!AJ13)","v":"Totalmente"},{"$f":"CLEAN(CCA!AK13)","v":"Permanente"},{"$f":"CLEAN(CCA!AL13)","v":"Contratual"},{"$f":"CLEAN(CCA!AM13)","v":"Não"},{"$f":"CLEAN(CCA!AN13)","v":"Não"},{"$f":"CLEAN(CCA!AO13)","v":"Não se aplica"},"sem comentários"]
["CCA","20234T",{"$f":"EOMONTH(CCA!$C$4,0)","v":"2023-12-31"},{"$f":"CLEAN(CCA!C14)","v":"BRB - BANCO DE BRASILIA S/A"},{"$f":"CLEAN(CCA!D14)","v":"LFSN23006SJ"},{"$f":"CLEAN(CCA!E14)","v":"Lei 12.249/2010 - Resolução 4.955/2021 do CMN"},{"$f":"CLEAN(CCA!F14)","v":"Nível II"},{"$f":"CLEAN(CCA!G14)","v":"Nível II"},{"$f":"CLEAN(CCA!H14)","v":"Conglomerado"},{"$f":"CLEAN(CCA!I14)","v":"Letra financeira"},{"$f":"CCA!J14","v":688759.08},{"$f":"CCA!K14","v":600000},{"$f":"CLEAN(CCA!L14)","v":"passivo - custo amortizado"},{"$f":"CCA!M14","v":"2023-02-08"},{"$f":"CLEAN(CCA!N14)","v":"Com vencimento"},{"$f":"CCA!O14","v":"2029-02-08"},{"$f":"CLEAN(CCA!P14)","v":"Não"},{"$f":"CLEAN(CCA!Q14)","v":"(1) Não há uma data específica, apenas quando for solicitado ao Bacen"},{"$f":"CLEAN(CCA!R14)","v":"(2) Não há vinculação regulatória ou fiscal para resgate ou recompra"},{"$f":"CLEAN(CCA!S14)","v":"(3) O valor pode ser parcial ou total, conforme autorização do Bacen"},{"$f":"CLEAN(CCA!T14)","v":"Não se aplica"},{"$f":"CLEAN(CCA!U14)","v":"Fixo"},{"$f":"CLEAN(CCA!V14)","v":"127% CDI"},{"$f":"CLEAN(CCA!W14)","v":"Não"},{"$f":"CLEAN(CCA!X14)","v":"Mandatório"},{"$f":"CLEAN(CCA!Y14)","v":"Não"},{"$f":"CLEAN(CCA!Z14)","v":"Cumulativo"},{"$f":"CLEAN(CCA!AA14)","v":"Não conversível"},{"$f":"CLEAN(CCA!AB14)","v":"Não se aplica"},{"$f":"CLEAN(CCA!AC14)","v":"Não se aplica"},{"$f":"CLEAN(CCA!AD14)","v":"Não se aplica"},{"$f":"CLEAN(CCA!AE14)","v":"Não se aplica"},{"$f":"CLEAN(CCA!AF14)","v":"Não se aplica"},{"$f":"CLEAN(CCA!AG14)","v":"Não se aplica"},{"$f":"CLEAN(CCA!AH14)","v":"Sim"},{"$f":"CLEAN(CCA!AI14)","v":"Os títulos serão extintos, permanente e em valor no mínimo correspondente ao saldo computado no Nível II do Patrimônio de Referência do BRB – Banco de Brasília S.A nas seguintes condições:         1. seja verificada a divulgação pelo BRB – Banco de Brasília S.A. de que seu Capital Principal está em patamar inferior a 4,5% (quatro inteiros e cinco décimos por cento) do montante RWA, estabelecida pela regulamentação vigente; ou2. seja verificada, em lei específica, a assinatura de compromisso de aporte para o BRB – Banco de Brasília S.A.;3. seja decretado pelo BACEN o regime de administração especial temporária ou intervenção do BRB – Banco de Brasília S.A.; ou4. seja determinado pelo BACEN, segundo critérios estabelecidos em regulamento específico editado pelo Conselho Monetário Nacional,a extinção do instrumento."},{"$f":"CLEAN(CCA!AJ14)","v":"Totalmente"},{"$f":"CLEAN(CCA!AK14)","v":"Permanente"},{"$f":"CLEAN(CCA!AL14)","v":"Contratual"},{"$f":"CLEAN(CCA!AM14)","v":"Não"},{"$f":"CLEAN(CCA!AN14)","v":"Não"},{"$f":"CLEAN(CCA!AO14)","v":"Não se aplica"},"sem comentários"]
["CCA","20234T",{"$f":"EOMONTH(CCA!$C$4,0)","v":"2023-12-31"},{"$f":"CLEAN(CCA!C15)","v":"BRB - BANCO DE BRASILIA S/A"},{"$f":"CLEAN(CCA!D15)","v":"LFSN2200D4A"},{"$f":"CLEAN(CCA!E15)","v":"Lei 12.249/2010 - Resolução 4.955/2021 do CMN"},{"$f":"CLEAN(CCA!F15)","v":"Nível II"},{"$f":"CLEAN(CCA!G15)","v":"Nível II"},{"$f":"CLEAN(CCA!H15)","v":"Conglomerado"},{"$f":"CLEAN(CCA!I15)","v":"Letra financeira"},{"$f":"CCA!J15","v":22472809.27},{"$f":"CCA!K15","v":18600000},{"$f":"CLEAN(CCA!L15)","v":"passivo - custo amortizado"},{"$f":"CCA!M15","v":"2022-11-11"},{"$f":"CLEAN(CCA!N15)","v":"Com vencimento"},{"$f":"CCA!O15","v":"2029-11-12"},{"$f":"CLEAN(CCA!P15)","v":"Não"},{"$f":"CLEAN(CCA!Q15)","v":"(1) Não há uma data específica, apenas quando for solicitado ao Bacen"},{"$f":"CLEAN(CCA!R15)","v":"(2) Não há vinculação regulatória ou fiscal para resgate ou recompra"},{"$f":"CLEAN(CCA!S15)","v":"(3) O valor pode ser parcial ou total, conforme autorização do Bacen"},{"$f":"CLEAN(CCA!T15)","v":"Não se aplica"},{"$f":"CLEAN(CCA!U15)","v":"Fixo"},{"$f":"CLEAN(CCA!V15)","v":"135% CDI"},{"$f":"CLEAN(CCA!W15)","v":"Não"},{"$f":"CLEAN(CCA!X15)","v":"Mandatório"},{"$f":"CLEAN(CCA!Y15)","v":"Não"},{"$f":"CLEAN(CCA!Z15)","v":"Cumulativo"},{"$f":"CLEAN(CCA!AA15)","v":"Não conversível"},{"$f":"CLEAN(CCA!AB15)","v":"Não se aplica"},{"$f":"CLEAN(CCA!AC15)","v":"Não se aplica"},{"$f":"CLEAN(CCA!AD15)","v":"Não se aplica"},{"$f":"CLEAN(CCA!AE15)","v":"Não se aplica"},{"$f":"CLEAN(CCA!AF15)","v":"Não se aplica"},{"$f":"CLEAN(CCA!AG15)","v":"Não se aplica"},{"$f":"CLEAN(CCA!AH15)","v":"Sim"},{"$f":"CLEAN(CCA!AI15)","v":"Os títulos serão extintos, permanente e em valor no mínimo correspondente ao saldo computado no Nível II do Patrimônio de Referência do BRB – Banco de Brasília S.A nas seguintes condições:         1. seja verificada a divulgação pelo BRB – Banco de Brasília S.A. de que seu Capital Principal está em patamar inferior a 4,5% (quatro inteiros e cinco décimos por cento) do montante RWA, estabelecida pela regulamentação vigente; ou2. seja verificada, em lei específica, a assinatura de compromisso de aporte para o BRB – Banco de Brasília S.A.;3. seja decretado pelo BACEN o regime de administração especial temporária ou intervenção do BRB – Banco de Brasília S.A.; ou4. seja determinado pelo BACEN, segundo critérios estabelecidos em regulamento específico editado pelo Conselho Monetário Nacional,a extinção do instrumento."},{"$f":"CLEAN(CCA!AJ15)","v":"Totalmente"},{"$f":"CLEAN(CCA!AK15)","v":"Permanente"},{"$f":"CLEAN(CCA!AL15)","v":"Contratual"},{"$f":"CLEAN(CCA!AM15)","v":"Não"},{"$f":"CLEAN(CCA!AN15)","v":"Não"},{"$f":"CLEAN(CCA!AO15)","v":"Não se aplica"},"sem comentários"]
["CCA","20234T",{"$f":"EOMONTH(CCA!$C$4,0)","v":"2023-12-31"},{"$f":"CLEAN(CCA!C16)","v":"BRB - BANCO DE BRASILIA S/A"},{"$f":"CLEAN(CCA!D16)","v":"LFSN2200ENT"},{"$f":"CLEAN(CCA!E16)","v":"Lei 12.249/2010 - Resolução 4.955/2021 do CMN"},{"$f":"CLEAN(CCA!F16)","v":"Nível II"},{"$f":"CLEAN(CCA!G16)","v":"Nível II"},{"$f":"CLEAN(CCA!H16)","v":"Conglomerado"},{"$f":"CLEAN(CCA!I16)","v":"Letra financeira"},{"$f":"CCA!J16","v":6462057.9400000004},{"$f":"CCA!K16","v":5400000},{"$f":"CLEAN(CCA!L16)","v":"passivo - custo amortizado"},{"$f":"CCA!M16","v":"2022-12-02"},{"$f":"CLEAN(CCA!N16)","v":"Com vencimento"},{"$f":"CCA!O16","v":"2029-12-03"},{"$f":"CLEAN(CCA!P16)","v":"Não"},{"$f":"CLEAN(CCA!Q16)","v":"(1) Não há uma data específica, apenas quando for solicitado ao Bacen"},{"$f":"CLEAN(CCA!R16)","v":"(2) Não há vinculação regulatória ou fiscal para resgate ou recompra"},{"$f":"CLEAN(CCA!S16)","v":"(3) O valor pode ser parcial ou total, conforme autorização do Bacen"},{"$f":"CLEAN(CCA!T16)","v":"Não se aplica"},{"$f":"CLEAN(CCA!U16)","v":"Fixo"},{"$f":"CLEAN(CCA!V16)","v":"135% CDI"},{"$f":"CLEAN(CCA!W16)","v":"Não"},{"$f":"CLEAN(CCA!X16)","v":"Mandatório"},{"$f":"CLEAN(CCA!Y16)","v":"Não"},{"$f":"CLEAN(CCA!Z16)","v":"Cumulativo"},{"$f":"CLEAN(CCA!AA16)","v":"Não conversível"},{"$f":"CLEAN(CCA!AB16)","v":"Não se aplica"},{"$f":"CLEAN(CCA!AC16)","v":"Não se aplica"},{"$f":"CLEAN(CCA!AD16)","v":"Não se aplica"},{"$f":"CLEAN(CCA!AE16)","v":"Não se aplica"},{"$f":"CLEAN(CCA!AF16)","v":"Não se aplica"},{"$f":"CLEAN(CCA!AG16)","v":"Não se aplica"},{"$f":"CLEAN(CCA!AH16)","v":"Sim"},{"$f":"CLEAN(CCA!AI16)","v":"Os títulos serão extintos, permanente e em valor no mínimo correspondente ao saldo computado no Nível II do Patrimônio de Referência do BRB – Banco de Brasília S.A nas seguintes condições:         1. seja verificada a divulgação pelo BRB – Banco de Brasília S.A. de que seu Capital Principal está em patamar inferior a 4,5% (quatro inteiros e cinco décimos por cento) do montante RWA, estabelecida pela regulamentação vigente; ou2. seja verificada, em lei específica, a assinatura de compromisso de aporte para o BRB – Banco de Brasília S.A.;3. seja decretado pelo BACEN o regime de administração especial temporária ou intervenção do BRB – Banco de Brasília S.A.; ou4. seja determinado pelo BACEN, segundo critérios estabelecidos em regulamento específico editado pelo Conselho Monetário Nacional,a extinção do instrumento."},{"$f":"CLEAN(CCA!AJ16)","v":"Totalmente"},{"$f":"CLEAN(CCA!AK16)","v":"Permanente"},{"$f":"CLEAN(CCA!AL16)","v":"Contratual"},{"$f":"CLEAN(CCA!AM16)","v":"Não"},{"$f":"CLEAN(CCA!AN16)","v":"Não"},{"$f":"CLEAN(CCA!AO16)","v":"Não se aplica"},"sem comentários"]
["CCA","20234T",{"$f":"EOMONTH(CCA!$C$4,0)","v":"2023-12-31"},{"$f":"CLEAN(CCA!C17)","v":"BRB - BANCO DE BRASILIA S/A"},{"$f":"CLEAN(CCA!D17)","v":"LFSN2200DW7"},{"$f":"CLEAN(CCA!E17)","v":"Lei 12.249/2010 - Resolução 4.955/2021 do CMN"},{"$f":"CLEAN(CCA!F17)","v":"Nível II"},{"$f":"CLEAN(CCA!G17)","v":"Nível II"},{"$f":"CLEAN(CCA!H17)","v":"Conglomerado"},{"$f":"CLEAN(CCA!I17)","v":"Letra financeira"},{"$f":"CCA!J17","v":16570839.380000001},{"$f":"CCA!K17","v":13800000},{"$f":"CLEAN(CCA!L17)","v":"passivo - custo amortizado"},{"$f":"CCA!M17","v":"2022-11-25"},{"$f":"CLEAN(CCA!N17)","v":"Com vencimento"},{"$f":"CCA!O17","v":"2029-11-26"},{"$f":"CLEAN(CCA!P17)","v":"Não"},{"$f":"CLEAN(CCA!Q17)","v":"(1) Não há uma data específica, apenas quando for solicitado ao Bacen"},{"$f":"CLEAN(CCA!R17)","v":"(2) Não há vinculação regulatória ou fiscal para resgate ou recompra"},{"$f":"CLEAN(CCA!S17)","v":"(3) O valor pode ser parcial ou total, conforme autorização do Bacen"},{"$f":"CLEAN(CCA!T17)","v":"Não se aplica"},{"$f":"CLEAN(CCA!U17)","v":"Fixo"},{"$f":"CLEAN(CCA!V17)","v":"135% CDI"},{"$f":"CLEAN(CCA!W17)","v":"Não"},{"$f":"CLEAN(CCA!X17)","v":"Mandatório"},{"$f":"CLEAN(CCA!Y17)","v":"Não"},{"$f":"CLEAN(CCA!Z17)","v":"Cumulativo"},{"$f":"CLEAN(CCA!AA17)","v":"Não conversível"},{"$f":"CLEAN(CCA!AB17)","v":"Não se aplica"},{"$f":"CLEAN(CCA!AC17)","v":"Não se aplica"},{"$f":"CLEAN(CCA!AD17)","v":"Não se aplica"},{"$f":"CLEAN(CCA!AE17)","v":"Não se aplica"},{"$f":"CLEAN(CCA!AF17)","v":"Não se aplica"},{"$f":"CLEAN(CCA!AG17)","v":"Não se aplica"},{"$f":"CLEAN(CCA!AH17)","v":"Sim"},{"$f":"CLEAN(CCA!AI17)","v":"Os títulos serão extintos, permanente e em valor no mínimo correspondente ao saldo computado no Nível II do Patrimônio de Referência do BRB – Banco de Brasília S.A nas seguintes condições:         1. seja verificada a divulgação pelo BRB – Banco de Brasília S.A. de que seu Capital Principal está em patamar inferior a 4,5% (quatro inteiros e cinco décimos por cento) do montante RWA, estabelecida pela regulamentação vigente; ou2. seja verificada, em lei específica, a assinatura de compromisso de aporte para o BRB – Banco de Brasília S.A.;3. seja decretado pelo BACEN o regime de administração especial temporária ou intervenção do BRB – Banco de Brasília S.A.; ou4. seja determinado pelo BACEN, segundo critérios estabelecidos em regulamento específico editado pelo Conselho Monetário Nacional,a extinção do instrumento."},{"$f":"CLEAN(CCA!AJ17)","v":"Totalmente"},{"$f":"CLEAN(CCA!AK17)","v":"Permanente"},{"$f":"CLEAN(CCA!AL17)","v":"Contratual"},{"$f":"CLEAN(CCA!AM17)","v":"Não"},{"$f":"CLEAN(CCA!AN17)","v":"Não"},{"$f":"CLEAN(CCA!AO17)","v":"Não se aplica"},"sem comentários"]
["CCA","20234T",{"$f":"EOMONTH(CCA!$C$4,0)","v":"2023-12-31"},{"$f":"CLEAN(CCA!C18)","v":"BRB - BANCO DE BRASILIA S/A"},{"$f":"CLEAN(CCA!D18)","v":"LFSN23006BT"},{"$f":"CLEAN(CCA!E18)","v":"Lei 12.249/2010 - Resolução 4.955/2021 do CMN"},{"$f":"CLEAN(CCA!F18)","v":"Nível II"},{"$f":"CLEAN(CCA!G18)","v":"Nível II"},{"$f":"CLEAN(CCA!H18)","v":"Conglomerado"},{"$f":"CLEAN(CCA!I18)","v":"Letra financeira"},{"$f":"CCA!J18","v":10028406.51},{"$f":"CCA!K18","v":8700000},{"$f":"CLEAN(CCA!L18)","v":"passivo - custo amortizado"},{"$f":"CCA!M18","v":"2023-02-03"},{"$f":"CLEAN(CCA!N18)","v":"Com vencimento"},{"$f":"CCA!O18","v":"2030-02-04"},{"$f":"CLEAN(CCA!P18)","v":"Não"},{"$f":"CLEAN(CCA!Q18)","v":"(1) Não há uma data específica, apenas quando for solicitado ao Bacen"},{"$f":"CLEAN(CCA!R18)","v":"(2) Não há vinculação regulatória ou fiscal para resgate ou recompra"},{"$f":"CLEAN(CCA!S18)","v":"(3) O valor pode ser parcial ou total, conforme autorização do Bacen"},{"$f":"CLEAN(CCA!T18)","v":"Não se aplica"},{"$f":"CLEAN(CCA!U18)","v":"Fixo"},{"$f":"CLEAN(CCA!V18)","v":"129% CDI"},{"$f":"CLEAN(CCA!W18)","v":"Não"},{"$f":"CLEAN(CCA!X18)","v":"Mandatório"},{"$f":"CLEAN(CCA!Y18)","v":"Não"},{"$f":"CLEAN(CCA!Z18)","v":"Cumulativo"},{"$f":"CLEAN(CCA!AA18)","v":"Não conversível"},{"$f":"CLEAN(CCA!AB18)","v":"Não se aplica"},{"$f":"CLEAN(CCA!AC18)","v":"Não se aplica"},{"$f":"CLEAN(CCA!AD18)","v":"Não se aplica"},{"$f":"CLEAN(CCA!AE18)","v":"Não se aplica"},{"$f":"CLEAN(CCA!AF18)","v":"Não se aplica"},{"$f":"CLEAN(CCA!AG18)","v":"Não se aplica"},{"$f":"CLEAN(CCA!AH18)","v":"Sim"},{"$f":"CLEAN(CCA!AI18)","v":"Os títulos serão extintos, permanente e em valor no mínimo correspondente ao saldo computado no Nível II do Patrimônio de Referência do BRB – Banco de Brasília S.A nas seguintes condições:         1. seja verificada a divulgação pelo BRB – Banco de Brasília S.A. de que seu Capital Principal está em patamar inferior a 4,5% (quatro inteiros e cinco décimos por cento) do montante RWA, estabelecida pela regulamentação vigente; ou2. seja verificada, em lei específica, a assinatura de compromisso de aporte para o BRB – Banco de Brasília S.A.;3. seja decretado pelo BACEN o regime de administração especial temporária ou intervenção do BRB – Banco de Brasília S.A.; ou4. seja determinado pelo BACEN, segundo critérios estabelecidos em regulamento específico editado pelo Conselho Monetário Nacional,a extinção do instrumento."},{"$f":"CLEAN(CCA!AJ18)","v":"Totalmente"},{"$f":"CLEAN(CCA!AK18)","v":"Permanente"},{"$f":"CLEAN(CCA!AL18)","v":"Contratual"},{"$f":"CLEAN(CCA!AM18)","v":"Não"},{"$f":"CLEAN(CCA!AN18)","v":"Não"},{"$f":"CLEAN(CCA!AO18)","v":"Não se aplica"},"sem comentários"]
["CCA","20234T",{"$f":"EOMONTH(CCA!$C$4,0)","v":"2023-12-31"},{"$f":"CLEAN(CCA!C19)","v":"BRB - BANCO DE BRASILIA S/A"},{"$f":"CLEAN(CCA!D19)","v":"LFSN23006HE"},{"$f":"CLEAN(CCA!E19)","v":"Lei 12.249/2010 - Resolução 4.955/2021 do CMN"},{"$f":"CLEAN(CCA!F19)","v":"Nível II"},{"$f":"CLEAN(CCA!G19)","v":"Nível II"},{"$f":"CLEAN(CCA!H19)","v":"Conglomerado"},{"$f":"CLEAN(CCA!I19)","v":"Letra financeira"},{"$f":"CCA!J19","v":345807.11},{"$f":"CCA!K19","v":300000},{"$f":"CLEAN(CCA!L19)","v":"passivo - custo amortizado"},{"$f":"CCA!M19","v":"2023-02-03"},{"$f":"CLEAN(CCA!N19)","v":"Com vencimento"},{"$f":"CCA!O19","v":"2030-02-04"},{"$f":"CLEAN(CCA!P19)","v":"Não"},{"$f":"CLEAN(CCA!Q19)","v":"(1) Não há uma data específica, apenas quando for solicitado ao Bacen"},{"$f":"CLEAN(CCA!R19)","v":"(2) Não há vinculação regulatória ou fiscal para resgate ou recompra"},{"$f":"CLEAN(CCA!S19)","v":"(3) O valor pode ser parcial ou total, conforme autorização do Bacen"},{"$f":"CLEAN(CCA!T19)","v":"Não se aplica"},{"$f":"CLEAN(CCA!U19)","v":"Fixo"},{"$f":"CLEAN(CCA!V19)","v":"129% CDI"},{"$f":"CLEAN(CCA!W19)","v":"Não"},{"$f":"CLEAN(CCA!X19)","v":"Mandatório"},{"$f":"CLEAN(CCA!Y19)","v":"Não"},{"$f":"CLEAN(CCA!Z19)","v":"Cumulativo"},{"$f":"CLEAN(CCA!AA19)","v":"Não conversível"},{"$f":"CLEAN(CCA!AB19)","v":"Não se aplica"},{"$f":"CLEAN(CCA!AC19)","v":"Não se aplica"},{"$f":"CLEAN(CCA!AD19)","v":"Não se aplica"},{"$f":"CLEAN(CCA!AE19)","v":"Não se aplica"},{"$f":"CLEAN(CCA!AF19)","v":"Não se aplica"},{"$f":"CLEAN(CCA!AG19)","v":"Não se aplica"},{"$f":"CLEAN(CCA!AH19)","v":"Sim"},{"$f":"CLEAN(CCA!AI19)","v":"Os títulos serão extintos, permanente e em valor no mínimo correspondente ao saldo computado no Nível II do Patrimônio de Referência do BRB – Banco de Brasília S.A nas seguintes condições:         1. seja verificada a divulgação pelo BRB – Banco de Brasília S.A. de que seu Capital Principal está em patamar inferior a 4,5% (quatro inteiros e cinco décimos por cento) do montante RWA, estabelecida pela regulamentação vigente; ou2. seja verificada, em lei específica, a assinatura de compromisso de aporte para o BRB – Banco de Brasília S.A.;3. seja decretado pelo BACEN o regime de administração especial temporária ou intervenção do BRB – Banco de Brasília S.A.; ou4. seja determinado pelo BACEN, segundo critérios estabelecidos em regulamento específico editado pelo Conselho Monetário Nacional,a extinção do instrumento."},{"$f":"CLEAN(CCA!AJ19)","v":"Totalmente"},{"$f":"CLEAN(CCA!AK19)","v":"Permanente"},{"$f":"CLEAN(CCA!AL19)","v":"Contratual"},{"$f":"CLEAN(CCA!AM19)","v":"Não"},{"$f":"CLEAN(CCA!AN19)","v":"Não"},{"$f":"CLEAN(CCA!AO19)","v":"Não se aplica"},"sem comentários"]
["CCA","20234T",{"$f":"EOMONTH(CCA!$C$4,0)","v":"2023-12-31"},{"$f":"CLEAN(CCA!C20)","v":"BRB - BANCO DE BRASILIA S/A"},{"$f":"CLEAN(CCA!D20)","v":"LFSN2200A15"},{"$f":"CLEAN(CCA!E20)","v":"Lei 12.249/2010 - Resolução 4.955/2021 do CMN"},{"$f":"CLEAN(CCA!F20)","v":"Nível II"},{"$f":"CLEAN(CCA!G20)","v":"Nível II"},{"$f":"CLEAN(CCA!H20)","v":"Conglomerado"},{"$f":"CLEAN(CCA!I20)","v":"Letra financeira"},{"$f":"CCA!J20","v":4004961.24},{"$f":"CCA!K20","v":4000000},{"$f":"CLEAN(CCA!L20)","v":"passivo - custo amortizado"},{"$f":"CCA!M20","v":"2022-08-10"},{"$f":"CLEAN(CCA!N20)","v":"Com vencimento"},{"$f":"CCA!O20","v":"2028-08-10"},{"$f":"CLEAN(CCA!P20)","v":"Não"},{"$f":"CLEAN(CCA!Q20)","v":"(1) Não há uma data específica, apenas quando for solicitado ao Bacen"},{"$f":"CLEAN(CCA!R20)","v":"(2) Não há vinculação regulatória ou fiscal para resgate ou recompra"},{"$f":"CLEAN(CCA!S20)","v":"(3) O valor pode ser parcial ou total, conforme autorização do Bacen"},{"$f":"CLEAN(CCA!T20)","v":"Não se aplica"},{"$f":"CLEAN(CCA!U20)","v":"Fixo"},{"$f":"CLEAN(CCA!V20)","v":"130% CDI"},{"$f":"CLEAN(CCA!W20)","v":"Não"},{"$f":"CLEAN(CCA!X20)","v":"Mandatório"},{"$f":"CLEAN(CCA!Y20)","v":"Não"},{"$f":"CLEAN(CCA!Z20)","v":"Cumulativo"},{"$f":"CLEAN(CCA!AA20)","v":"Não conversível"},{"$f":"CLEAN(CCA!AB20)","v":"Não se aplica"},{"$f":"CLEAN(CCA!AC20)","v":"Não se aplica"},{"$f":"CLEAN(CCA!AD20)","v":"Não se aplica"},{"$f":"CLEAN(CCA!AE20)","v":"Não se aplica"},{"$f":"CLEAN(CCA!AF20)","v":"Não se aplica"},{"$f":"CLEAN(CCA!AG20)","v":"Não se aplica"},{"$f":"CLEAN(CCA!AH20)","v":"Sim"},{"$f":"CLEAN(CCA!AI20)","v":"Os títulos serão extintos, permanente e em valor no mínimo correspondente ao saldo computado no Nível II do Patrimônio de Referência do BRB – Banco de Brasília S.A nas seguintes condições:         1. seja verificada a divulgação pelo BRB – Banco de Brasília S.A. de que seu Capital Principal está em patamar inferior a 4,5% (quatro inteiros e cinco décimos por cento) do montante RWA, estabelecida pela regulamentação vigente; ou2. seja verificada, em lei específica, a assinatura de compromisso de aporte para o BRB – Banco de Brasília S.A.;3. seja decretado pelo BACEN o regime de administração especial temporária ou intervenção do BRB – Banco de Brasília S.A.; ou4. seja determinado pelo BACEN, segundo critérios estabelecidos em regulamento específico editado pelo Conselho Monetário Nacional,a extinção do instrumento."},{"$f":"CLEAN(CCA!AJ20)","v":"Totalmente"},{"$f":"CLEAN(CCA!AK20)","v":"Permanente"},{"$f":"CLEAN(CCA!AL20)","v":"Contratual"},{"$f":"CLEAN(CCA!AM20)","v":"Não"},{"$f":"CLEAN(CCA!AN20)","v":"Não"},{"$f":"CLEAN(CCA!AO20)","v":"Não se aplica"},"sem comentários"]
["CCA","20234T",{"$f":"EOMONTH(CCA!$C$4,0)","v":"2023-12-31"},{"$f":"CLEAN(CCA!C21)","v":"BRB - BANCO DE BRASILIA S/A"},{"$f":"CLEAN(CCA!D21)","v":"LFSN22009KR"},{"$f":"CLEAN(CCA!E21)","v":"Lei 12.249/2010 - Resolução 4.955/2021 do CMN"},{"$f":"CLEAN(CCA!F21)","v":"Nível II"},{"$f":"CLEAN(CCA!G21)","v":"Nível II"},{"$f":"CLEAN(CCA!H21)","v":"Conglomerado"},{"$f":"CLEAN(CCA!I21)","v":"Letra financeira"},{"$f":"CCA!J21","v":5758739.4160000002},{"$f":"CCA!K21","v":5700000},{"$f":"CLEAN(CCA!L21)","v":"passivo - custo amortizado"},{"$f":"CCA!M21","v":"2022-07-21"},{"$f":"CLEAN(CCA!N21)","v":"Com vencimento"},{"$f":"CCA!O21","v":"2028-07-21"},{"$f":"CLEAN(CCA!P21)","v":"Não"},{"$f":"CLEAN(CCA!Q21)","v":"(1) Não há uma data específica, apenas quando for solicitado ao Bacen"},{"$f":"CLEAN(CCA!R21)","v":"(2) Não há vinculação regulatória ou fiscal para resgate ou recompra"},{"$f":"CLEAN(CCA!S21)","v":"(3) O valor pode ser parcial ou total, conforme autorização do Bacen"},{"$f":"CLEAN(CCA!T21)","v":"Não se aplica"},{"$f":"CLEAN(CCA!U21)","v":"Fixo"},{"$f":"CLEAN(CCA!V21)","v":"130% CDI"},{"$f":"CLEAN(CCA!W21)","v":"Não"},{"$f":"CLEAN(CCA!X21)","v":"Mandatório"},{"$f":"CLEAN(CCA!Y21)","v":"Não"},{"$f":"CLEAN(CCA!Z21)","v":"Cumulativo"},{"$f":"CLEAN(CCA!AA21)","v":"Não conversível"},{"$f":"CLEAN(CCA!AB21)","v":"Não se aplica"},{"$f":"CLEAN(CCA!AC21)","v":"Não se aplica"},{"$f":"CLEAN(CCA!AD21)","v":"Não se aplica"},{"$f":"CLEAN(CCA!AE21)","v":"Não se aplica"},{"$f":"CLEAN(CCA!AF21)","v":"Não se aplica"},{"$f":"CLEAN(CCA!AG21)","v":"Não se aplica"},{"$f":"CLEAN(CCA!AH21)","v":"Sim"},{"$f":"CLEAN(CCA!AI21)","v":"Os títulos serão extintos, permanente e em valor no mínimo correspondente ao saldo computado no Nível II do Patrimônio de Referência do BRB – Banco de Brasília S.A nas seguintes condições:         1. seja verificada a divulgação pelo BRB – Banco de Brasília S.A. de que seu Capital Principal está em patamar inferior a 4,5% (quatro inteiros e cinco décimos por cento) do montante RWA, estabelecida pela regulamentação vigente; ou2. seja verificada, em lei específica, a assinatura de compromisso de aporte para o BRB – Banco de Brasília S.A.;3. seja decretado pelo BACEN o regime de administração especial temporária ou intervenção do BRB – Banco de Brasília S.A.; ou4. seja determinado pelo BACEN, segundo critérios estabelecidos em regulamento específico editado pelo Conselho Monetário Nacional,a extinção do instrumento."},{"$f":"CLEAN(CCA!AJ21)","v":"Totalmente"},{"$f":"CLEAN(CCA!AK21)","v":"Permanente"},{"$f":"CLEAN(CCA!AL21)","v":"Contratual"},{"$f":"CLEAN(CCA!AM21)","v":"Não"},{"$f":"CLEAN(CCA!AN21)","v":"Não"},{"$f":"CLEAN(CCA!AO21)","v":"Não se aplica"},"sem comentários"]
["CCA","20234T",{"$f":"EOMONTH(CCA!$C$4,0)","v":"2023-12-31"},{"$f":"CLEAN(CCA!C22)","v":"BRB - BANCO DE BRASILIA S/A"},{"$f":"CLEAN(CCA!D22)","v":"LFSN22009KI"},{"$f":"CLEAN(CCA!E22)","v":"Lei 12.249/2010 - Resolução 4.955/2021 do CMN"},{"$f":"CLEAN(CCA!F22)","v":"Nível II"},{"$f":"CLEAN(CCA!G22)","v":"Nível II"},{"$f":"CLEAN(CCA!H22)","v":"Conglomerado"},{"$f":"CLEAN(CCA!I22)","v":"Letra financeira"},{"$f":"CCA!J22","v":909854.28800000018},{"$f":"CCA!K22","v":900000},{"$f":"CLEAN(CCA!L22)","v":"passivo - custo amortizado"},{"$f":"CCA!M22","v":"2022-07-20"},{"$f":"CLEAN(CCA!N22)","v":"Com vencimento"},{"$f":"CCA!O22","v":"2028-07-20"},{"$f":"CLEAN(CCA!P22)","v":"Não"},{"$f":"CLEAN(CCA!Q22)","v":"(1) Não há uma data específica, apenas quando for solicitado ao Bacen"},{"$f":"CLEAN(CCA!R22)","v":"(2) Não há vinculação regulatória ou fiscal para resgate ou recompra"},{"$f":"CLEAN(CCA!S22)","v":"(3) O valor pode ser parcial ou total, conforme autorização do Bacen"},{"$f":"CLEAN(CCA!T22)","v":"Não se aplica"},{"$f":"CLEAN(CCA!U22)","v":"Fixo"},{"$f":"CLEAN(CCA!V22)","v":"130% CDI"},{"$f":"CLEAN(CCA!W22)","v":"Não"},{"$f":"CLEAN(CCA!X22)","v":"Mandatório"},{"$f":"CLEAN(CCA!Y22)","v":"Não"},{"$f":"CLEAN(CCA!Z22)","v":"Cumulativo"},{"$f":"CLEAN(CCA!AA22)","v":"Não conversível"},{"$f":"CLEAN(CCA!AB22)","v":"Não se aplica"},{"$f":"CLEAN(CCA!AC22)","v":"Não se aplica"},{"$f":"CLEAN(CCA!AD22)","v":"Não se aplica"},{"$f":"CLEAN(CCA!AE22)","v":"Não se aplica"},{"$f":"CLEAN(CCA!AF22)","v":"Não se aplica"},{"$f":"CLEAN(CCA!AG22)","v":"Não se aplica"},{"$f":"CLEAN(CCA!AH22)","v":"Sim"},{"$f":"CLEAN(CCA!AI22)","v":"Os títulos serão extintos, permanente e em valor no mínimo correspondente ao saldo computado no Nível II do Patrimônio de Referência do BRB – Banco de Brasília S.A nas seguintes condições:         1. seja verificada a divulgação pelo BRB – Banco de Brasília S.A. de que seu Capital Principal está em patamar inferior a 4,5% (quatro inteiros e cinco décimos por cento) do montante RWA, estabelecida pela regulamentação vigente; ou2. seja verificada, em lei específica, a assinatura de compromisso de aporte para o BRB – Banco de Brasília S.A.;3. seja decretado pelo BACEN o regime de administração especial temporária ou intervenção do BRB – Banco de Brasília S.A.; ou4. seja determinado pelo BACEN, segundo critérios estabelecidos em regulamento específico editado pelo Conselho Monetário Nacional,a extinção do instrumento."},{"$f":"CLEAN(CCA!AJ22)","v":"Totalmente"},{"$f":"CLEAN(CCA!AK22)","v":"Permanente"},{"$f":"CLEAN(CCA!AL22)","v":"Contratual"},{"$f":"CLEAN(CCA!AM22)","v":"Não"},{"$f":"CLEAN(CCA!AN22)","v":"Não"},{"$f":"CLEAN(CCA!AO22)","v":"Não se aplica"},"sem comentários"]
["CCA","20234T",{"$f":"EOMONTH(CCA!$C$4,0)","v":"2023-12-31"},{"$f":"CLEAN(CCA!C23)","v":"BRB - BANCO DE BRASILIA S/A"},{"$f":"CLEAN(CCA!D23)","v":"LFSN22008YN"},{"$f":"CLEAN(CCA!E23)","v":"Lei 12.249/2010 - Resolução 4.955/2021 do CMN"},{"$f":"CLEAN(CCA!F23)","v":"Nível II"},{"$f":"CLEAN(CCA!G23)","v":"Nível II"},{"$f":"CLEAN(CCA!H23)","v":"Conglomerado"},{"$f":"CLEAN(CCA!I23)","v":"Letra financeira"},{"$f":"CCA!J23","v":306002.73599999998},{"$f":"CCA!K23","v":300000},{"$f":"CLEAN(CCA!L23)","v":"passivo - custo amortizado"},{"$f":"CCA!M23","v":"2022-06-30"},{"$f":"CLEAN(CCA!N23)","v":"Com vencimento"},{"$f":"CCA!O23","v":"2028-06-30"},{"$f":"CLEAN(CCA!P23)","v":"Não"},{"$f":"CLEAN(CCA!Q23)","v":"(1) Não há uma data específica, apenas quando for solicitado ao Bacen"},{"$f":"CLEAN(CCA!R23)","v":"(2) Não há vinculação regulatória ou fiscal para resgate ou recompra"},{"$f":"CLEAN(CCA!S23)","v":"(3) O valor pode ser parcial ou total, conforme autorização do Bacen"},{"$f":"CLEAN(CCA!T23)","v":"Não se aplica"},{"$f":"CLEAN(CCA!U23)","v":"Fixo"},{"$f":"CLEAN(CCA!V23)","v":"130% CDI"},{"$f":"CLEAN(CCA!W23)","v":"Não"},{"$f":"CLEAN(CCA!X23)","v":"Mandatório"},{"$f":"CLEAN(CCA!Y23)","v":"Não"},{"$f":"CLEAN(CCA!Z23)","v":"Cumulativo"},{"$f":"CLEAN(CCA!AA23)","v":"Não conversível"},{"$f":"CLEAN(CCA!AB23)","v":"Não se aplica"},{"$f":"CLEAN(CCA!AC23)","v":"Não se aplica"},{"$f":"CLEAN(CCA!AD23)","v":"Não se aplica"},{"$f":"CLEAN(CCA!AE23)","v":"Não se aplica"},{"$f":"CLEAN(CCA!AF23)","v":"Não se aplica"},{"$f":"CLEAN(CCA!AG23)","v":"Não se aplica"},{"$f":"CLEAN(CCA!AH23)","v":"Sim"},{"$f":"CLEAN(CCA!AI23)","v":"Os títulos serão extintos, permanente e em valor no mínimo correspondente ao saldo computado no Nível II do Patrimônio de Referência do BRB – Banco de Brasília S.A nas seguintes condições:         1. seja verificada a divulgação pelo BRB – Banco de Brasília S.A. de que seu Capital Principal está em patamar inferior a 4,5% (quatro inteiros e cinco décimos por cento) do montante RWA, estabelecida pela regulamentação vigente; ou2. seja verificada, em lei específica, a assinatura de compromisso de aporte para o BRB – Banco de Brasília S.A.;3. seja decretado pelo BACEN o regime de administração especial temporária ou intervenção do BRB – Banco de Brasília S.A.; ou4. seja determinado pelo BACEN, segundo critérios estabelecidos em regulamento específico editado pelo Conselho Monetário Nacional,a extinção do instrumento."},{"$f":"CLEAN(CCA!AJ23)","v":"Totalmente"},{"$f":"CLEAN(CCA!AK23)","v":"Permanente"},{"$f":"CLEAN(CCA!AL23)","v":"Contratual"},{"$f":"CLEAN(CCA!AM23)","v":"Não"},{"$f":"CLEAN(CCA!AN23)","v":"Não"},{"$f":"CLEAN(CCA!AO23)","v":"Não se aplica"},"sem comentários"]
["CCA","20234T",{"$f":"EOMONTH(CCA!$C$4,0)","v":"2023-12-31"},{"$f":"CLEAN(CCA!C24)","v":"BRB - BANCO DE BRASILIA S/A"},{"$f":"CLEAN(CCA!D24)","v":"LFSN22008YJ"},{"$f":"CLEAN(CCA!E24)","v":"Lei 12.249/2010 - Resolução 4.955/2021 do CMN"},{"$f":"CLEAN(CCA!F24)","v":"Nível II"},{"$f":"CLEAN(CCA!G24)","v":"Nível II"},{"$f":"CLEAN(CCA!H24)","v":"Conglomerado"},{"$f":"CLEAN(CCA!I24)","v":"Letra financeira"},{"$f":"CCA!J24","v":33069364},{"$f":"CCA!K24","v":32400000},{"$f":"CLEAN(CCA!L24)","v":"passivo - custo amortizado"},{"$f":"CCA!M24","v":"2022-06-29"},{"$f":"CLEAN(CCA!N24)","v":"Com vencimento"},{"$f":"CCA!O24","v":"2028-06-29"},{"$f":"CLEAN(CCA!P24)","v":"Não"},{"$f":"CLEAN(CCA!Q24)","v":"(1) Não há uma data específica, apenas quando for solicitado ao Bacen"},{"$f":"CLEAN(CCA!R24)","v":"(2) Não há vinculação regulatória ou fiscal para resgate ou recompra"},{"$f":"CLEAN(CCA!S24)","v":"(3) O valor pode ser parcial ou total, conforme autorização do Bacen"},{"$f":"CLEAN(CCA!T24)","v":"Não se aplica"},{"$f":"CLEAN(CCA!U24)","v":"Fixo"},{"$f":"CLEAN(CCA!V24)","v":"130% CDI"},{"$f":"CLEAN(CCA!W24)","v":"Não"},{"$f":"CLEAN(CCA!X24)","v":"Mandatório"},{"$f":"CLEAN(CCA!Y24)","v":"Não"},{"$f":"CLEAN(CCA!Z24)","v":"Cumulativo"},{"$f":"CLEAN(CCA!AA24)","v":"Não conversível"},{"$f":"CLEAN(CCA!AB24)","v":"Não se aplica"},{"$f":"CLEAN(CCA!AC24)","v":"Não se aplica"},{"$f":"CLEAN(CCA!AD24)","v":"Não se aplica"},{"$f":"CLEAN(CCA!AE24)","v":"Não se aplica"},{"$f":"CLEAN(CCA!AF24)","v":"Não se aplica"},{"$f":"CLEAN(CCA!AG24)","v":"Não se aplica"},{"$f":"CLEAN(CCA!AH24)","v":"Sim"},{"$f":"CLEAN(CCA!AI24)","v":"Os títulos serão extintos, permanente e em valor no mínimo correspondente ao saldo computado no Nível II do Patrimônio de Referência do BRB – Banco de Brasília S.A nas seguintes condições:         1. seja verificada a divulgação pelo BRB – Banco de Brasília S.A. de que seu Capital Principal está em patamar inferior a 4,5% (quatro inteiros e cinco décimos por cento) do montante RWA, estabelecida pela regulamentação vigente; ou2. seja verificada, em lei específica, a assinatura de compromisso de aporte para o BRB – Banco de Brasília S.A.;3. seja decretado pelo BACEN o regime de administração especial temporária ou intervenção do BRB – Banco de Brasília S.A.; ou4. seja determinado pelo BACEN, segundo critérios estabelecidos em regulamento específico editado pelo Conselho Monetário Nacional,a extinção do instrumento."},{"$f":"CLEAN(CCA!AJ24)","v":"Totalmente"},{"$f":"CLEAN(CCA!AK24)","v":"Permanente"},{"$f":"CLEAN(CCA!AL24)","v":"Contratual"},{"$f":"CLEAN(CCA!AM24)","v":"Não"},{"$f":"CLEAN(CCA!AN24)","v":"Não"},{"$f":"CLEAN(CCA!AO24)","v":"Não se aplica"},"sem comentários"]
["CCA","20234T",{"$f":"EOMONTH(CCA!$C$4,0)","v":"2023-12-31"},{"$f":"CLEAN(CCA!C25)","v":"BRB - BANCO DE BRASILIA S/A"},{"$f":"CLEAN(CCA!D25)","v":"LFSN1900FDL"},{"$f":"CLEAN(CCA!E25)","v":"Lei 12.249/2010 - Resolução 4.955/2021 do CMN"},{"$f":"CLEAN(CCA!F25)","v":"Nível II"},{"$f":"CLEAN(CCA!G25)","v":"Nível II"},{"$f":"CLEAN(CCA!H25)","v":"Conglomerado"},{"$f":"CLEAN(CCA!I25)","v":"Letra financeira"},{"$f":"CCA!J25","v":2763586.588},{"$f":"CCA!K25","v":4687827.93},{"$f":"CLEAN(CCA!L25)","v":"passivo - custo amortizado"},{"$f":"CCA!M25","v":"2019-09-23"},{"$f":"CLEAN(CCA!N25)","v":"Com vencimento"},{"$f":"CCA!O25","v":"2026-09-23"},{"$f":"CLEAN(CCA!P25)","v":"Não"},{"$f":"CLEAN(CCA!Q25)","v":"(1) Não há uma data específica, apenas quando for solicitado ao Bacen"},{"$f":"CLEAN(CCA!R25)","v":"(2) Não há vinculação regulatória ou fiscal para resgate ou recompra"},{"$f":"CLEAN(CCA!S25)","v":"(3) O valor pode ser parcial ou total, conforme autorização do Bacen"},{"$f":"CLEAN(CCA!T25)","v":"Não se aplica"},{"$f":"CLEAN(CCA!U25)","v":"Fixo"},{"$f":"CLEAN(CCA!V25)","v":"120% CDI"},{"$f":"CLEAN(CCA!W25)","v":"Não"},{"$f":"CLEAN(CCA!X25)","v":"Mandatório"},{"$f":"CLEAN(CCA!Y25)","v":"Não"},{"$f":"CLEAN(CCA!Z25)","v":"Cumulativo"},{"$f":"CLEAN(CCA!AA25)","v":"Não conversível"},{"$f":"CLEAN(CCA!AB25)","v":"Não se aplica"},{"$f":"CLEAN(CCA!AC25)","v":"Não se aplica"},{"$f":"CLEAN(CCA!AD25)","v":"Não se aplica"},{"$f":"CLEAN(CCA!AE25)","v":"Não se aplica"},{"$f":"CLEAN(CCA!AF25)","v":"Não se aplica"},{"$f":"CLEAN(CCA!AG25)","v":"Não se aplica"},{"$f":"CLEAN(CCA!AH25)","v":"Sim"},{"$f":"CLEAN(CCA!AI25)","v":"Os títulos serão extintos, permanente e em valor no mínimo correspondente ao saldo computado no Nível II do Patrimônio de Referência do BRB – Banco de Brasília S.A nas seguintes condições:         1. seja verificada a divulgação pelo BRB – Banco de Brasília S.A. de que seu Capital Principal está em patamar inferior a 4,5% (quatro inteiros e cinco décimos por cento) do montante RWA, estabelecida pela regulamentação vigente; ou2. seja verificada, em lei específica, a assinatura de compromisso de aporte para o BRB – Banco de Brasília S.A.;3. seja decretado pelo BACEN o regime de administração especial temporária ou intervenção do BRB – Banco de Brasília S.A.; ou4. seja determinado pelo BACEN, segundo critérios estabelecidos em regulamento específico editado pelo Conselho Monetário Nacional,a extinção do instrumento."},{"$f":"CLEAN(CCA!AJ25)","v":"Totalmente"},{"$f":"CLEAN(CCA!AK25)","v":"Permanente"},{"$f":"CLEAN(CCA!AL25)","v":"Contratual"},{"$f":"CLEAN(CCA!AM25)","v":"Não"},{"$f":"CLEAN(CCA!AN25)","v":"Não"},{"$f":"CLEAN(CCA!AO25)","v":"Não se aplica"},"sem comentários"]
["CCA","20234T",{"$f":"EOMONTH(CCA!$C$4,0)","v":"2023-12-31"},{"$f":"CLEAN(CCA!C26)","v":"BRB - BANCO DE BRASILIA S/A"},{"$f":"CLEAN(CCA!D26)","v":"LFSN1800I5C"},{"$f":"CLEAN(CCA!E26)","v":"Lei 12.249/2010 - Resolução 4.955/2021 do CMN"},{"$f":"CLEAN(CCA!F26)","v":"Nível II"},{"$f":"CLEAN(CCA!G26)","v":"Nível II"},{"$f":"CLEAN(CCA!H26)","v":"Conglomerado"},{"$f":"CLEAN(CCA!I26)","v":"Letra financeira"},{"$f":"CCA!J26","v":3187771.8200000003},{"$f":"CCA!K26","v":10000000},{"$f":"CLEAN(CCA!L26)","v":"passivo - custo amortizado"},{"$f":"CCA!M26","v":"2018-11-29"},{"$f":"CLEAN(CCA!N26)","v":"Com vencimento"},{"$f":"CCA!O26","v":"2025-11-28"},{"$f":"CLEAN(CCA!P26)","v":"Não"},{"$f":"CLEAN(CCA!Q26)","v":"(1) Não há uma data específica, apenas quando for solicitado ao Bacen"},{"$f":"CLEAN(CCA!R26)","v":"(2) Não há vinculação regulatória ou fiscal para resgate ou recompra"},{"$f":"CLEAN(CCA!S26)","v":"(3) O valor pode ser parcial ou total, conforme autorização do Bacen"},{"$f":"CLEAN(CCA!T26)","v":"Não se aplica"},{"$f":"CLEAN(CCA!U26)","v":"Fixo"},{"$f":"CLEAN(CCA!V26)","v":"125% CDI"},{"$f":"CLEAN(CCA!W26)","v":"Não"},{"$f":"CLEAN(CCA!X26)","v":"Mandatório"},{"$f":"CLEAN(CCA!Y26)","v":"Não"},{"$f":"CLEAN(CCA!Z26)","v":"Cumulativo"},{"$f":"CLEAN(CCA!AA26)","v":"Não conversível"},{"$f":"CLEAN(CCA!AB26)","v":"Não se aplica"},{"$f":"CLEAN(CCA!AC26)","v":"Não se aplica"},{"$f":"CLEAN(CCA!AD26)","v":"Não se aplica"},{"$f":"CLEAN(CCA!AE26)","v":"Não se aplica"},{"$f":"CLEAN(CCA!AF26)","v":"Não se aplica"},{"$f":"CLEAN(CCA!AG26)","v":"Não se aplica"},{"$f":"CLEAN(CCA!AH26)","v":"Sim"},{"$f":"CLEAN(CCA!AI26)","v":"Os títulos serão extintos, permanente e em valor no mínimo correspondente ao saldo computado no Nível II do Patrimônio de Referência do BRB – Banco de Brasília S.A nas seguintes condições:         1. seja verificada a divulgação pelo BRB – Banco de Brasília S.A. de que seu Capital Principal está em patamar inferior a 4,5% (quatro inteiros e cinco décimos por cento) do montante RWA, estabelecida pela regulamentação vigente; ou2. seja verificada, em lei específica, a assinatura de compromisso de aporte para o BRB – Banco de Brasília S.A.;3. seja decretado pelo BACEN o regime de administração especial temporária ou intervenção do BRB – Banco de Brasília S.A.; ou4. seja determinado pelo BACEN, segundo critérios estabelecidos em regulamento específico editado pelo Conselho Monetário Nacional,a extinção do instrumento."},{"$f":"CLEAN(CCA!AJ26)","v":"Totalmente"},{"$f":"CLEAN(CCA!AK26)","v":"Permanente"},{"$f":"CLEAN(CCA!AL26)","v":"Contratual"},{"$f":"CLEAN(CCA!AM26)","v":"Não"},{"$f":"CLEAN(CCA!AN26)","v":"Não"},{"$f":"CLEAN(CCA!AO26)","v":"Não se aplica"},"sem comentários"]
["CCA","20234T",{"$f":"EOMONTH(CCA!$C$4,0)","v":"2023-12-31"},{"$f":"CLEAN(CCA!C27)","v":"BRB - BANCO DE BRASILIA S/A"},{"$f":"CLEAN(CCA!D27)","v":"LFSN1900BZ7"},{"$f":"CLEAN(CCA!E27)","v":"Lei 12.249/2010 - Resolução 4.955/2021 do CMN"},{"$f":"CLEAN(CCA!F27)","v":"Nível II"},{"$f":"CLEAN(CCA!G27)","v":"Nível II"},{"$f":"CLEAN(CCA!H27)","v":"Conglomerado"},{"$f":"CLEAN(CCA!I27)","v":"Letra financeira"},{"$f":"CCA!J27","v":596714.04400000011},{"$f":"CCA!K27","v":1000000},{"$f":"CLEAN(CCA!L27)","v":"passivo - custo amortizado"},{"$f":"CCA!M27","v":"2019-07-23"},{"$f":"CLEAN(CCA!N27)","v":"Com vencimento"},{"$f":"CCA!O27","v":"2026-08-17"},{"$f":"CLEAN(CCA!P27)","v":"Não"},{"$f":"CLEAN(CCA!Q27)","v":"(1) Não há uma data específica, apenas quando for solicitado ao Bacen"},{"$f":"CLEAN(CCA!R27)","v":"(2) Não há vinculação regulatória ou fiscal para resgate ou recompra"},{"$f":"CLEAN(CCA!S27)","v":"(3) O valor pode ser parcial ou total, conforme autorização do Bacen"},{"$f":"CLEAN(CCA!T27)","v":"Não se aplica"},{"$f":"CLEAN(CCA!U27)","v":"Fixo"},{"$f":"CLEAN(CCA!V27)","v":"120% CDI"},{"$f":"CLEAN(CCA!W27)","v":"Não"},{"$f":"CLEAN(CCA!X27)","v":"Mandatório"},{"$f":"CLEAN(CCA!Y27)","v":"Não"},{"$f":"CLEAN(CCA!Z27)","v":"Cumulativo"},{"$f":"CLEAN(CCA!AA27)","v":"Não conversível"},{"$f":"CLEAN(CCA!AB27)","v":"Não se aplica"},{"$f":"CLEAN(CCA!AC27)","v":"Não se aplica"},{"$f":"CLEAN(CCA!AD27)","v":"Não se aplica"},{"$f":"CLEAN(CCA!AE27)","v":"Não se aplica"},{"$f":"CLEAN(CCA!AF27)","v":"Não se aplica"},{"$f":"CLEAN(CCA!AG27)","v":"Não se aplica"},{"$f":"CLEAN(CCA!AH27)","v":"Sim"},{"$f":"CLEAN(CCA!AI27)","v":"Os títulos serão extintos, permanente e em valor no mínimo correspondente ao saldo computado no Nível II do Patrimônio de Referência do BRB – Banco de Brasília S.A nas seguintes condições:         1. seja verificada a divulgação pelo BRB – Banco de Brasília S.A. de que seu Capital Principal está em patamar inferior a 4,5% (quatro inteiros e cinco décimos por cento) do montante RWA, estabelecida pela regulamentação vigente; ou2. seja verificada, em lei específica, a assinatura de compromisso de aporte para o BRB – Banco de Brasília S.A.;3. seja decretado pelo BACEN o regime de administração especial temporária ou intervenção do BRB – Banco de Brasília S.A.; ou4. seja determinado pelo BACEN, segundo critérios estabelecidos em regulamento específico editado pelo Conselho Monetário Nacional,a extinção do instrumento."},{"$f":"CLEAN(CCA!AJ27)","v":"Totalmente"},{"$f":"CLEAN(CCA!AK27)","v":"Permanente"},{"$f":"CLEAN(CCA!AL27)","v":"Contratual"},{"$f":"CLEAN(CCA!AM27)","v":"Não"},{"$f":"CLEAN(CCA!AN27)","v":"Não"},{"$f":"CLEAN(CCA!AO27)","v":"Não se aplica"},"sem comentários"]
["CCA","20234T",{"$f":"EOMONTH(CCA!$C$4,0)","v":"2023-12-31"},{"$f":"CLEAN(CCA!C28)","v":"BRB - BANCO DE BRASILIA S/A"},{"$f":"CLEAN(CCA!D28)","v":"LFSN1900BZ5"},{"$f":"CLEAN(CCA!E28)","v":"Lei 12.249/2010 - Resolução 4.955/2021 do CMN"},{"$f":"CLEAN(CCA!F28)","v":"Nível II"},{"$f":"CLEAN(CCA!G28)","v":"Nível II"},{"$f":"CLEAN(CCA!H28)","v":"Conglomerado"},{"$f":"CLEAN(CCA!I28)","v":"Letra financeira"},{"$f":"CCA!J28","v":596714.04400000011},{"$f":"CCA!K28","v":1000000},{"$f":"CLEAN(CCA!L28)","v":"passivo - custo amortizado"},{"$f":"CCA!M28","v":"2019-07-23"},{"$f":"CLEAN(CCA!N28)","v":"Com vencimento"},{"$f":"CCA!O28","v":"2026-08-17"},{"$f":"CLEAN(CCA!P28)","v":"Não"},{"$f":"CLEAN(CCA!Q28)","v":"(1) Não há uma data específica, apenas quando for solicitado ao Bacen"},{"$f":"CLEAN(CCA!R28)","v":"(2) Não há vinculação regulatória ou fiscal para resgate ou recompra"},{"$f":"CLEAN(CCA!S28)","v":"(3) O valor pode ser parcial ou total, conforme autorização do Bacen"},{"$f":"CLEAN(CCA!T28)","v":"Não se aplica"},{"$f":"CLEAN(CCA!U28)","v":"Fixo"},{"$f":"CLEAN(CCA!V28)","v":"120% CDI"},{"$f":"CLEAN(CCA!W28)","v":"Não"},{"$f":"CLEAN(CCA!X28)","v":"Mandatório"},{"$f":"CLEAN(CCA!Y28)","v":"Não"},{"$f":"CLEAN(CCA!Z28)","v":"Cumulativo"},{"$f":"CLEAN(CCA!AA28)","v":"Não conversível"},{"$f":"CLEAN(CCA!AB28)","v":"Não se aplica"},{"$f":"CLEAN(CCA!AC28)","v":"Não se aplica"},{"$f":"CLEAN(CCA!AD28)","v":"Não se aplica"},{"$f":"CLEAN(CCA!AE28)","v":"Não se aplica"},{"$f":"CLEAN(CCA!AF28)","v":"Não se aplica"},{"$f":"CLEAN(CCA!AG28)","v":"Não se aplica"},{"$f":"CLEAN(CCA!AH28)","v":"Sim"},{"$f":"CLEAN(CCA!AI28)","v":"Os títulos serão extintos, permanente e em valor no mínimo correspondente ao saldo computado no Nível II do Patrimônio de Referência do BRB – Banco de Brasília S.A nas seguintes condições:         1. seja verificada a divulgação pelo BRB – Banco de Brasília S.A. de que seu Capital Principal está em patamar inferior a 4,5% (quatro inteiros e cinco décimos por cento) do montante RWA, estabelecida pela regulamentação vigente; ou2. seja verificada, em lei específica, a assinatura de compromisso de aporte para o BRB – Banco de Brasília S.A.;3. seja decretado pelo BACEN o regime de administração especial temporária ou intervenção do BRB – Banco de Brasília S.A.; ou4. seja determinado pelo BACEN, segundo critérios estabelecidos em regulamento específico editado pelo Conselho Monetário Nacional,a extinção do instrumento."},{"$f":"CLEAN(CCA!AJ28)","v":"Totalmente"},{"$f":"CLEAN(CCA!AK28)","v":"Permanente"},{"$f":"CLEAN(CCA!AL28)","v":"Contratual"},{"$f":"CLEAN(CCA!AM28)","v":"Não"},{"$f":"CLEAN(CCA!AN28)","v":"Não"},{"$f":"CLEAN(CCA!AO28)","v":"Não se aplica"},"sem comentários"]
["CCA","20234T",{"$f":"EOMONTH(CCA!$C$4,0)","v":"2023-12-31"},{"$f":"CLEAN(CCA!C29)","v":"BRB - BANCO DE BRASILIA S/A"},{"$f":"CLEAN(CCA!D29)","v":"LFSN23007K9"},{"$f":"CLEAN(CCA!E29)","v":"Lei 12.249/2010 - Resolução 4.955/2021 do CMN"},{"$f":"CLEAN(CCA!F29)","v":"Nível II"},{"$f":"CLEAN(CCA!G29)","v":"Nível II"},{"$f":"CLEAN(CCA!H29)","v":"Conglomerado"},{"$f":"CLEAN(CCA!I29)","v":"Letra financeira"},{"$f":"CCA!J29","v":6204177.7300000004},{"$f":"CCA!K29","v":5400000},{"$f":"CLEAN(CCA!L29)","v":"passivo - custo amortizado"},{"$f":"CCA!M29","v":"2023-02-10"},{"$f":"CLEAN(CCA!N29)","v":"Com vencimento"},{"$f":"CCA!O29","v":"2030-02-11"},{"$f":"CLEAN(CCA!P29)","v":"Não"},{"$f":"CLEAN(CCA!Q29)","v":"(1) Não há uma data específica, apenas quando for solicitado ao Bacen"},{"$f":"CLEAN(CCA!R29)","v":"(2) Não há vinculação regulatória ou fiscal para resgate ou recompra"},{"$f":"CLEAN(CCA!S29)","v":"(3) O valor pode ser parcial ou total, conforme autorização do Bacen"},{"$f":"CLEAN(CCA!T29)","v":"Não se aplica"},{"$f":"CLEAN(CCA!U29)","v":"Fixo"},{"$f":"CLEAN(CCA!V29)","v":"129% CDI"},{"$f":"CLEAN(CCA!W29)","v":"Não"},{"$f":"CLEAN(CCA!X29)","v":"Mandatório"},{"$f":"CLEAN(CCA!Y29)","v":"Não"},{"$f":"CLEAN(CCA!Z29)","v":"Cumulativo"},{"$f":"CLEAN(CCA!AA29)","v":"Não conversível"},{"$f":"CLEAN(CCA!AB29)","v":"Não se aplica"},{"$f":"CLEAN(CCA!AC29)","v":"Não se aplica"},{"$f":"CLEAN(CCA!AD29)","v":"Não se aplica"},{"$f":"CLEAN(CCA!AE29)","v":"Não se aplica"},{"$f":"CLEAN(CCA!AF29)","v":"Não se aplica"},{"$f":"CLEAN(CCA!AG29)","v":"Não se aplica"},{"$f":"CLEAN(CCA!AH29)","v":"Sim"},{"$f":"CLEAN(CCA!AI29)","v":"Os títulos serão extintos, permanente e em valor no mínimo correspondente ao saldo computado no Nível II do Patrimônio de Referência do BRB – Banco de Brasília S.A nas seguintes condições:         1. seja verificada a divulgação pelo BRB – Banco de Brasília S.A. de que seu Capital Principal está em patamar inferior a 4,5% (quatro inteiros e cinco décimos por cento) do montante RWA, estabelecida pela regulamentação vigente; ou2. seja verificada, em lei específica, a assinatura de compromisso de aporte para o BRB – Banco de Brasília S.A.;3. seja decretado pelo BACEN o regime de administração especial temporária ou intervenção do BRB – Banco de Brasília S.A.; ou4. seja determinado pelo BACEN, segundo critérios estabelecidos em regulamento específico editado pelo Conselho Monetário Nacional,a extinção do instrumento."},{"$f":"CLEAN(CCA!AJ29)","v":"Totalmente"},{"$f":"CLEAN(CCA!AK29)","v":"Permanente"},{"$f":"CLEAN(CCA!AL29)","v":"Contratual"},{"$f":"CLEAN(CCA!AM29)","v":"Não"},{"$f":"CLEAN(CCA!AN29)","v":"Não"},{"$f":"CLEAN(CCA!AO29)","v":"Não se aplica"},"sem comentários"]
["CCA","20234T",{"$f":"EOMONTH(CCA!$C$4,0)","v":"2023-12-31"},{"$f":"CLEAN(CCA!C30)","v":"BRB - BANCO DE BRASILIA S/A"},{"$f":"CLEAN(CCA!D30)","v":"LFSN23007KA"},{"$f":"CLEAN(CCA!E30)","v":"Lei 12.249/2010 - Resolução 4.955/2021 do CMN"},{"$f":"CLEAN(CCA!F30)","v":"Nível II"},{"$f":"CLEAN(CCA!G30)","v":"Nível II"},{"$f":"CLEAN(CCA!H30)","v":"Conglomerado"},{"$f":"CLEAN(CCA!I30)","v":"Letra financeira"},{"$f":"CCA!J30","v":687871.43},{"$f":"CCA!K30","v":600000},{"$f":"CLEAN(CCA!L30)","v":"passivo - custo amortizado"},{"$f":"CCA!M30","v":"2023-02-10"},{"$f":"CLEAN(CCA!N30)","v":"Com vencimento"},{"$f":"CCA!O30","v":"2029-02-14"},{"$f":"CLEAN(CCA!P30)","v":"Não"},{"$f":"CLEAN(CCA!Q30)","v":"(1) Não há uma data específica, apenas quando for solicitado ao Bacen"},{"$f":"CLEAN(CCA!R30)","v":"(2) Não há vinculação regulatória ou fiscal para resgate ou recompra"},{"$f":"CLEAN(CCA!S30)","v":"(3) O valor pode ser parcial ou total, conforme autorização do Bacen"},{"$f":"CLEAN(CCA!T30)","v":"Não se aplica"},{"$f":"CLEAN(CCA!U30)","v":"Fixo"},{"$f":"CLEAN(CCA!V30)","v":"127% CDI"},{"$f":"CLEAN(CCA!W30)","v":"Não"},{"$f":"CLEAN(CCA!X30)","v":"Mandatório"},{"$f":"CLEAN(CCA!Y30)","v":"Não"},{"$f":"CLEAN(CCA!Z30)","v":"Cumulativo"},{"$f":"CLEAN(CCA!AA30)","v":"Não conversível"},{"$f":"CLEAN(CCA!AB30)","v":"Não se aplica"},{"$f":"CLEAN(CCA!AC30)","v":"Não se aplica"},{"$f":"CLEAN(CCA!AD30)","v":"Não se aplica"},{"$f":"CLEAN(CCA!AE30)","v":"Não se aplica"},{"$f":"CLEAN(CCA!AF30)","v":"Não se aplica"},{"$f":"CLEAN(CCA!AG30)","v":"Não se aplica"},{"$f":"CLEAN(CCA!AH30)","v":"Sim"},{"$f":"CLEAN(CCA!AI30)","v":"Os títulos serão extintos, permanente e em valor no mínimo correspondente ao saldo computado no Nível II do Patrimônio de Referência do BRB – Banco de Brasília S.A nas seguintes condições:         1. seja verificada a divulgação pelo BRB – Banco de Brasília S.A. de que seu Capital Principal está em patamar inferior a 4,5% (quatro inteiros e cinco décimos por cento) do montante RWA, estabelecida pela regulamentação vigente; ou2. seja verificada, em lei específica, a assinatura de compromisso de aporte para o BRB – Banco de Brasília S.A.;3. seja decretado pelo BACEN o regime de administração especial temporária ou intervenção do BRB – Banco de Brasília S.A.; ou4. seja determinado pelo BACEN, segundo critérios estabelecidos em regulamento específico editado pelo Conselho Monetário Nacional,a extinção do instrumento."},{"$f":"CLEAN(CCA!AJ30)","v":"Totalmente"},{"$f":"CLEAN(CCA!AK30)","v":"Permanente"},{"$f":"CLEAN(CCA!AL30)","v":"Contratual"},{"$f":"CLEAN(CCA!AM30)","v":"Não"},{"$f":"CLEAN(CCA!AN30)","v":"Não"},{"$f":"CLEAN(CCA!AO30)","v":"Não se aplica"},"sem comentários"]
["CCA","20234T",{"$f":"EOMONTH(CCA!$C$4,0)","v":"2023-12-31"},{"$f":"CLEAN(CCA!C31)","v":"BRB - BANCO DE BRASILIA S/A"},{"$f":"CLEAN(CCA!D31)","v":"LFSN2200ECS"},{"$f":"CLEAN(CCA!E31)","v":"Lei 12.249/2010 - Resolução 4.955/2021 do CMN"},{"$f":"CLEAN(CCA!F31)","v":"Nível II"},{"$f":"CLEAN(CCA!G31)","v":"Nível II"},{"$f":"CLEAN(CCA!H31)","v":"Conglomerado"},{"$f":"CLEAN(CCA!I31)","v":"Letra financeira"},{"$f":"CCA!J31","v":7549409.2699999996},{"$f":"CCA!K31","v":6300000},{"$f":"CLEAN(CCA!L31)","v":"passivo - custo amortizado"},{"$f":"CCA!M31","v":"2022-11-30"},{"$f":"CLEAN(CCA!N31)","v":"Com vencimento"},{"$f":"CCA!O31","v":"2029-11-30"},{"$f":"CLEAN(CCA!P31)","v":"Não"},{"$f":"CLEAN(CCA!Q31)","v":"(1) Não há uma data específica, apenas quando for solicitado ao Bacen"},{"$f":"CLEAN(CCA!R31)","v":"(2) Não há vinculação regulatória ou fiscal para resgate ou recompra"},{"$f":"CLEAN(CCA!S31)","v":"(3) O valor pode ser parcial ou total, conforme autorização do Bacen"},{"$f":"CLEAN(CCA!T31)","v":"Não se aplica"},{"$f":"CLEAN(CCA!U31)","v":"Fixo"},{"$f":"CLEAN(CCA!V31)","v":"135% CDI"},{"$f":"CLEAN(CCA!W31)","v":"Não"},{"$f":"CLEAN(CCA!X31)","v":"Mandatório"},{"$f":"CLEAN(CCA!Y31)","v":"Não"},{"$f":"CLEAN(CCA!Z31)","v":"Cumulativo"},{"$f":"CLEAN(CCA!AA31)","v":"Não conversível"},{"$f":"CLEAN(CCA!AB31)","v":"Não se aplica"},{"$f":"CLEAN(CCA!AC31)","v":"Não se aplica"},{"$f":"CLEAN(CCA!AD31)","v":"Não se aplica"},{"$f":"CLEAN(CCA!AE31)","v":"Não se aplica"},{"$f":"CLEAN(CCA!AF31)","v":"Não se aplica"},{"$f":"CLEAN(CCA!AG31)","v":"Não se aplica"},{"$f":"CLEAN(CCA!AH31)","v":"Sim"},{"$f":"CLEAN(CCA!AI31)","v":"Os títulos serão extintos, permanente e em valor no mínimo correspondente ao saldo computado no Nível II do Patrimônio de Referência do BRB – Banco de Brasília S.A nas seguintes condições:         1. seja verificada a divulgação pelo BRB – Banco de Brasília S.A. de que seu Capital Principal está em patamar inferior a 4,5% (quatro inteiros e cinco décimos por cento) do montante RWA, estabelecida pela regulamentação vigente; ou2. seja verificada, em lei específica, a assinatura de compromisso de aporte para o BRB – Banco de Brasília S.A.;3. seja decretado pelo BACEN o regime de administração especial temporária ou intervenção do BRB – Banco de Brasília S.A.; ou4. seja determinado pelo BACEN, segundo critérios estabelecidos em regulamento específico editado pelo Conselho Monetário Nacional,a extinção do instrumento."},{"$f":"CLEAN(CCA!AJ31)","v":"Totalmente"},{"$f":"CLEAN(CCA!AK31)","v":"Permanente"},{"$f":"CLEAN(CCA!AL31)","v":"Contratual"},{"$f":"CLEAN(CCA!AM31)","v":"Não"},{"$f":"CLEAN(CCA!AN31)","v":"Não"},{"$f":"CLEAN(CCA!AO31)","v":"Não se aplica"},"sem comentários"]
["CCA","20234T",{"$f":"EOMONTH(CCA!$C$4,0)","v":"2023-12-31"},{"$f":"CLEAN(CCA!C32)","v":"BRB - BANCO DE BRASILIA S/A"},{"$f":"CLEAN(CCA!D32)","v":"LFSN2200AO8"},{"$f":"CLEAN(CCA!E32)","v":"Lei 12.249/2010 - Resolução 4.955/2021 do CMN"},{"$f":"CLEAN(CCA!F32)","v":"Nível II"},{"$f":"CLEAN(CCA!G32)","v":"Nível II"},{"$f":"CLEAN(CCA!H32)","v":"Conglomerado"},{"$f":"CLEAN(CCA!I32)","v":"Letra financeira"},{"$f":"CCA!J32","v":124002511.09999999},{"$f":"CCA!K32","v":100200000},{"$f":"CLEAN(CCA!L32)","v":"passivo - custo amortizado"},{"$f":"CCA!M32","v":"2022-09-21"},{"$f":"CLEAN(CCA!N32)","v":"Com vencimento"},{"$f":"CCA!O32","v":"2029-09-21"},{"$f":"CLEAN(CCA!P32)","v":"Não"},{"$f":"CLEAN(CCA!Q32)","v":"(1) Não há uma data específica, apenas quando for solicitado ao Bacen"},{"$f":"CLEAN(CCA!R32)","v":"(2) Não há vinculação regulatória ou fiscal para resgate ou recompra"},{"$f":"CLEAN(CCA!S32)","v":"(3) O valor pode ser parcial ou total, conforme autorização do Bacen"},{"$f":"CLEAN(CCA!T32)","v":"Não se aplica"},{"$f":"CLEAN(CCA!U32)","v":"Fixo"},{"$f":"CLEAN(CCA!V32)","v":"135% CDI"},{"$f":"CLEAN(CCA!W32)","v":"Não"},{"$f":"CLEAN(CCA!X32)","v":"Mandatório"},{"$f":"CLEAN(CCA!Y32)","v":"Não"},{"$f":"CLEAN(CCA!Z32)","v":"Cumulativo"},{"$f":"CLEAN(CCA!AA32)","v":"Não conversível"},{"$f":"CLEAN(CCA!AB32)","v":"Não se aplica"},{"$f":"CLEAN(CCA!AC32)","v":"Não se aplica"},{"$f":"CLEAN(CCA!AD32)","v":"Não se aplica"},{"$f":"CLEAN(CCA!AE32)","v":"Não se aplica"},{"$f":"CLEAN(CCA!AF32)","v":"Não se aplica"},{"$f":"CLEAN(CCA!AG32)","v":"Não se aplica"},{"$f":"CLEAN(CCA!AH32)","v":"Sim"},{"$f":"CLEAN(CCA!AI32)","v":"Os títulos serão extintos, permanente e em valor no mínimo correspondente ao saldo computado no Nível II do Patrimônio de Referência do BRB – Banco de Brasília S.A nas seguintes condições:         1. seja verificada a divulgação pelo BRB – Banco de Brasília S.A. de que seu Capital Principal está em patamar inferior a 4,5% (quatro inteiros e cinco décimos por cento) do montante RWA, estabelecida pela regulamentação vigente; ou2. seja verificada, em lei específica, a assinatura de compromisso de aporte para o BRB – Banco de Brasília S.A.;3. seja decretado pelo BACEN o regime de administração especial temporária ou intervenção do BRB – Banco de Brasília S.A.; ou4. seja determinado pelo BACEN, segundo critérios estabelecidos em regulamento específico editado pelo Conselho Monetário Nacional,a extinção do instrumento."},{"$f":"CLEAN(CCA!AJ32)","v":"Totalmente"},{"$f":"CLEAN(CCA!AK32)","v":"Permanente"},{"$f":"CLEAN(CCA!AL32)","v":"Contratual"},{"$f":"CLEAN(CCA!AM32)","v":"Não"},{"$f":"CLEAN(CCA!AN32)","v":"Não"},{"$f":"CLEAN(CCA!AO32)","v":"Não se aplica"},"sem comentários"]
["CCA","20234T",{"$f":"EOMONTH(CCA!$C$4,0)","v":"2023-12-31"},{"$f":"CLEAN(CCA!C33)","v":"BRB - BANCO DE BRASILIA S/A"},{"$f":"CLEAN(CCA!D33)","v":"LFSN220093X"},{"$f":"CLEAN(CCA!E33)","v":"Lei 12.249/2010 - Resolução 4.955/2021 do CMN"},{"$f":"CLEAN(CCA!F33)","v":"Nível II"},{"$f":"CLEAN(CCA!G33)","v":"Nível II"},{"$f":"CLEAN(CCA!H33)","v":"Conglomerado"},{"$f":"CLEAN(CCA!I33)","v":"Letra financeira"},{"$f":"CCA!J33","v":10059552.544},{"$f":"CCA!K33","v":9900000},{"$f":"CLEAN(CCA!L33)","v":"passivo - custo amortizado"},{"$f":"CCA!M33","v":"2022-07-08"},{"$f":"CLEAN(CCA!N33)","v":"Com vencimento"},{"$f":"CCA!O33","v":"2028-07-10"},{"$f":"CLEAN(CCA!P33)","v":"Não"},{"$f":"CLEAN(CCA!Q33)","v":"(1) Não há uma data específica, apenas quando for solicitado ao Bacen"},{"$f":"CLEAN(CCA!R33)","v":"(2) Não há vinculação regulatória ou fiscal para resgate ou recompra"},{"$f":"CLEAN(CCA!S33)","v":"(3) O valor pode ser parcial ou total, conforme autorização do Bacen"},{"$f":"CLEAN(CCA!T33)","v":"Não se aplica"},{"$f":"CLEAN(CCA!U33)","v":"Fixo"},{"$f":"CLEAN(CCA!V33)","v":"130% CDI"},{"$f":"CLEAN(CCA!W33)","v":"Não"},{"$f":"CLEAN(CCA!X33)","v":"Mandatório"},{"$f":"CLEAN(CCA!Y33)","v":"Não"},{"$f":"CLEAN(CCA!Z33)","v":"Cumulativo"},{"$f":"CLEAN(CCA!AA33)","v":"Não conversível"},{"$f":"CLEAN(CCA!AB33)","v":"Não se aplica"},{"$f":"CLEAN(CCA!AC33)","v":"Não se aplica"},{"$f":"CLEAN(CCA!AD33)","v":"Não se aplica"},{"$f":"CLEAN(CCA!AE33)","v":"Não se aplica"},{"$f":"CLEAN(CCA!AF33)","v":"Não se aplica"},{"$f":"CLEAN(CCA!AG33)","v":"Não se aplica"},{"$f":"CLEAN(CCA!AH33)","v":"Sim"},{"$f":"CLEAN(CCA!AI33)","v":"Os títulos serão extintos, permanente e em valor no mínimo correspondente ao saldo computado no Nível II do Patrimônio de Referência do BRB – Banco de Brasília S.A nas seguintes condições:         1. seja verificada a divulgação pelo BRB – Banco de Brasília S.A. de que seu Capital Principal está em patamar inferior a 4,5% (quatro inteiros e cinco décimos por cento) do montante RWA, estabelecida pela regulamentação vigente; ou2. seja verificada, em lei específica, a assinatura de compromisso de aporte para o BRB – Banco de Brasília S.A.;3. seja decretado pelo BACEN o regime de administração especial temporária ou intervenção do BRB – Banco de Brasília S.A.; ou4. seja determinado pelo BACEN, segundo critérios estabelecidos em regulamento específico editado pelo Conselho Monetário Nacional,a extinção do instrumento."},{"$f":"CLEAN(CCA!AJ33)","v":"Totalmente"},{"$f":"CLEAN(CCA!AK33)","v":"Permanente"},{"$f":"CLEAN(CCA!AL33)","v":"Contratual"},{"$f":"CLEAN(CCA!AM33)","v":"Não"},{"$f":"CLEAN(CCA!AN33)","v":"Não"},{"$f":"CLEAN(CCA!AO33)","v":"Não se aplica"},"sem comentários"]
["CCA","20234T",{"$f":"EOMONTH(CCA!$C$4,0)","v":"2023-12-31"},{"$f":"CLEAN(CCA!C34)","v":"BRB - BANCO DE BRASILIA S/A"},{"$f":"CLEAN(CCA!D34)","v":"LFSN2200B4D"},{"$f":"CLEAN(CCA!E34)","v":"Lei 12.249/2010 - Resolução 4.955/2021 do CMN"},{"$f":"CLEAN(CCA!F34)","v":"Nível II"},{"$f":"CLEAN(CCA!G34)","v":"Nível II"},{"$f":"CLEAN(CCA!H34)","v":"Conglomerado"},{"$f":"CLEAN(CCA!I34)","v":"Letra financeira"},{"$f":"CCA!J34","v":19856853.800000001},{"$f":"CCA!K34","v":16200000},{"$f":"CLEAN(CCA!L34)","v":"passivo - custo amortizado"},{"$f":"CCA!M34","v":"2022-10-11"},{"$f":"CLEAN(CCA!N34)","v":"Com vencimento"},{"$f":"CCA!O34","v":"2029-10-11"},{"$f":"CLEAN(CCA!P34)","v":"Não"},{"$f":"CLEAN(CCA!Q34)","v":"(1) Não há uma data específica, apenas quando for solicitado ao Bacen"},{"$f":"CLEAN(CCA!R34)","v":"(2) Não há vinculação regulatória ou fiscal para resgate ou recompra"},{"$f":"CLEAN(CCA!S34)","v":"(3) O valor pode ser parcial ou total, conforme autorização do Bacen"},{"$f":"CLEAN(CCA!T34)","v":"Não se aplica"},{"$f":"CLEAN(CCA!U34)","v":"Fixo"},{"$f":"CLEAN(CCA!V34)","v":"135% CDI"},{"$f":"CLEAN(CCA!W34)","v":"Não"},{"$f":"CLEAN(CCA!X34)","v":"Mandatório"},{"$f":"CLEAN(CCA!Y34)","v":"Não"},{"$f":"CLEAN(CCA!Z34)","v":"Cumulativo"},{"$f":"CLEAN(CCA!AA34)","v":"Não conversível"},{"$f":"CLEAN(CCA!AB34)","v":"Não se aplica"},{"$f":"CLEAN(CCA!AC34)","v":"Não se aplica"},{"$f":"CLEAN(CCA!AD34)","v":"Não se aplica"},{"$f":"CLEAN(CCA!AE34)","v":"Não se aplica"},{"$f":"CLEAN(CCA!AF34)","v":"Não se aplica"},{"$f":"CLEAN(CCA!AG34)","v":"Não se aplica"},{"$f":"CLEAN(CCA!AH34)","v":"Sim"},{"$f":"CLEAN(CCA!AI34)","v":"Os títulos serão extintos, permanente e em valor no mínimo correspondente ao saldo computado no Nível II do Patrimônio de Referência do BRB – Banco de Brasília S.A nas seguintes condições:         1. seja verificada a divulgação pelo BRB – Banco de Brasília S.A. de que seu Capital Principal está em patamar inferior a 4,5% (quatro inteiros e cinco décimos por cento) do montante RWA, estabelecida pela regulamentação vigente; ou2. seja verificada, em lei específica, a assinatura de compromisso de aporte para o BRB – Banco de Brasília S.A.;3. seja decretado pelo BACEN o regime de administração especial temporária ou intervenção do BRB – Banco de Brasília S.A.; ou4. seja determinado pelo BACEN, segundo critérios estabelecidos em regulamento específico editado pelo Conselho Monetário Nacional,a extinção do instrumento."},{"$f":"CLEAN(CCA!AJ34)","v":"Totalmente"},{"$f":"CLEAN(CCA!AK34)","v":"Permanente"},{"$f":"CLEAN(CCA!AL34)","v":"Contratual"},{"$f":"CLEAN(CCA!AM34)","v":"Não"},{"$f":"CLEAN(CCA!AN34)","v":"Não"},{"$f":"CLEAN(CCA!AO34)","v":"Não se aplica"},"sem comentários"]
["CCA","20234T",{"$f":"EOMONTH(CCA!$C$4,0)","v":"2023-12-31"},{"$f":"CLEAN(CCA!C35)","v":"BRB - BANCO DE BRASILIA S/A"},{"$f":"CLEAN(CCA!D35)","v":"LFSN2200A1C"},{"$f":"CLEAN(CCA!E35)","v":"Lei 12.249/2010 - Resolução 4.955/2021 do CMN"},{"$f":"CLEAN(CCA!F35)","v":"Nível II"},{"$f":"CLEAN(CCA!G35)","v":"Nível II"},{"$f":"CLEAN(CCA!H35)","v":"Conglomerado"},{"$f":"CLEAN(CCA!I35)","v":"Letra financeira"},{"$f":"CCA!J35","v":37845886.5},{"$f":"CCA!K35","v":30000000},{"$f":"CLEAN(CCA!L35)","v":"passivo - custo amortizado"},{"$f":"CCA!M35","v":"2022-08-11"},{"$f":"CLEAN(CCA!N35)","v":"Com vencimento"},{"$f":"CCA!O35","v":"2029-08-13"},{"$f":"CLEAN(CCA!P35)","v":"Não"},{"$f":"CLEAN(CCA!Q35)","v":"(1) Não há uma data específica, apenas quando for solicitado ao Bacen"},{"$f":"CLEAN(CCA!R35)","v":"(2) Não há vinculação regulatória ou fiscal para resgate ou recompra"},{"$f":"CLEAN(CCA!S35)","v":"(3) O valor pode ser parcial ou total, conforme autorização do Bacen"},{"$f":"CLEAN(CCA!T35)","v":"Não se aplica"},{"$f":"CLEAN(CCA!U35)","v":"Fixo"},{"$f":"CLEAN(CCA!V35)","v":"135% CDI"},{"$f":"CLEAN(CCA!W35)","v":"Não"},{"$f":"CLEAN(CCA!X35)","v":"Mandatório"},{"$f":"CLEAN(CCA!Y35)","v":"Não"},{"$f":"CLEAN(CCA!Z35)","v":"Cumulativo"},{"$f":"CLEAN(CCA!AA35)","v":"Não conversível"},{"$f":"CLEAN(CCA!AB35)","v":"Não se aplica"},{"$f":"CLEAN(CCA!AC35)","v":"Não se aplica"},{"$f":"CLEAN(CCA!AD35)","v":"Não se aplica"},{"$f":"CLEAN(CCA!AE35)","v":"Não se aplica"},{"$f":"CLEAN(CCA!AF35)","v":"Não se aplica"},{"$f":"CLEAN(CCA!AG35)","v":"Não se aplica"},{"$f":"CLEAN(CCA!AH35)","v":"Sim"},{"$f":"CLEAN(CCA!AI35)","v":"Os títulos serão extintos, permanente e em valor no mínimo correspondente ao saldo computado no Nível II do Patrimônio de Referência do BRB – Banco de Brasília S.A nas seguintes condições:         1. seja verificada a divulgação pelo BRB – Banco de Brasília S.A. de que seu Capital Principal está em patamar inferior a 4,5% (quatro inteiros e cinco décimos por cento) do montante RWA, estabelecida pela regulamentação vigente; ou2. seja verificada, em lei específica, a assinatura de compromisso de aporte para o BRB – Banco de Brasília S.A.;3. seja decretado pelo BACEN o regime de administração especial temporária ou intervenção do BRB – Banco de Brasília S.A.; ou4. seja determinado pelo BACEN, segundo critérios estabelecidos em regulamento específico editado pelo Conselho Monetário Nacional,a extinção do instrumento."},{"$f":"CLEAN(CCA!AJ35)","v":"Totalmente"},{"$f":"CLEAN(CCA!AK35)","v":"Permanente"},{"$f":"CLEAN(CCA!AL35)","v":"Contratual"},{"$f":"CLEAN(CCA!AM35)","v":"Não"},{"$f":"CLEAN(CCA!AN35)","v":"Não"},{"$f":"CLEAN(CCA!AO35)","v":"Não se aplica"},"sem comentários"]
["CCA","20234T",{"$f":"EOMONTH(CCA!$C$4,0)","v":"2023-12-31"},{"$f":"CLEAN(CCA!C36)","v":"BRB - BANCO DE BRASILIA S/A"},{"$f":"CLEAN(CCA!D36)","v":"LFSN2200A1D"},{"$f":"CLEAN(CCA!E36)","v":"Lei 12.249/2010 - Resolução 4.955/2021 do CMN"},{"$f":"CLEAN(CCA!F36)","v":"Nível II"},{"$f":"CLEAN(CCA!G36)","v":"Nível II"},{"$f":"CLEAN(CCA!H36)","v":"Conglomerado"},{"$f":"CLEAN(CCA!I36)","v":"Letra financeira"},{"$f":"CCA!J36","v":63159326.009999998},{"$f":"CCA!K36","v":50100000},{"$f":"CLEAN(CCA!L36)","v":"passivo - custo amortizado"},{"$f":"CCA!M36","v":"2022-08-12"},{"$f":"CLEAN(CCA!N36)","v":"Com vencimento"},{"$f":"CCA!O36","v":"2029-08-13"},{"$f":"CLEAN(CCA!P36)","v":"Não"},{"$f":"CLEAN(CCA!Q36)","v":"(1) Não há uma data específica, apenas quando for solicitado ao Bacen"},{"$f":"CLEAN(CCA!R36)","v":"(2) Não há vinculação regulatória ou fiscal para resgate ou recompra"},{"$f":"CLEAN(CCA!S36)","v":"(3) O valor pode ser parcial ou total, conforme autorização do Bacen"},{"$f":"CLEAN(CCA!T36)","v":"Não se aplica"},{"$f":"CLEAN(CCA!U36)","v":"Fixo"},{"$f":"CLEAN(CCA!V36)","v":"135% CDI"},{"$f":"CLEAN(CCA!W36)","v":"Não"},{"$f":"CLEAN(CCA!X36)","v":"Mandatório"},{"$f":"CLEAN(CCA!Y36)","v":"Não"},{"$f":"CLEAN(CCA!Z36)","v":"Cumulativo"},{"$f":"CLEAN(CCA!AA36)","v":"Não conversível"},{"$f":"CLEAN(CCA!AB36)","v":"Não se aplica"},{"$f":"CLEAN(CCA!AC36)","v":"Não se aplica"},{"$f":"CLEAN(CCA!AD36)","v":"Não se aplica"},{"$f":"CLEAN(CCA!AE36)","v":"Não se aplica"},{"$f":"CLEAN(CCA!AF36)","v":"Não se aplica"},{"$f":"CLEAN(CCA!AG36)","v":"Não se aplica"},{"$f":"CLEAN(CCA!AH36)","v":"Sim"},{"$f":"CLEAN(CCA!AI36)","v":"Os títulos serão extintos, permanente e em valor no mínimo correspondente ao saldo computado no Nível II do Patrimônio de Referência do BRB – Banco de Brasília S.A nas seguintes condições:         1. seja verificada a divulgação pelo BRB – Banco de Brasília S.A. de que seu Capital Principal está em patamar inferior a 4,5% (quatro inteiros e cinco décimos por cento) do montante RWA, estabelecida pela regulamentação vigente; ou2. seja verificada, em lei específica, a assinatura de compromisso de aporte para o BRB – Banco de Brasília S.A.;3. seja decretado pelo BACEN o regime de administração especial temporária ou intervenção do BRB – Banco de Brasília S.A.; ou4. seja determinado pelo BACEN, segundo critérios estabelecidos em regulamento específico editado pelo Conselho Monetário Nacional,a extinção do instrumento."},{"$f":"CLEAN(CCA!AJ36)","v":"Totalmente"},{"$f":"CLEAN(CCA!AK36)","v":"Permanente"},{"$f":"CLEAN(CCA!AL36)","v":"Contratual"},{"$f":"CLEAN(CCA!AM36)","v":"Não"},{"$f":"CLEAN(CCA!AN36)","v":"Não"},{"$f":"CLEAN(CCA!AO36)","v":"Não se aplica"},"sem comentários"]
["CCA","20234T",{"$f":"EOMONTH(CCA!$C$4,0)","v":"2023-12-31"},{"$f":"CLEAN(CCA!C37)","v":"BRB - BANCO DE BRASILIA S/A"},{"$f":"CLEAN(CCA!D37)","v":"LFSN2200A1E"},{"$f":"CLEAN(CCA!E37)","v":"Lei 12.249/2010 - Resolução 4.955/2021 do CMN"},{"$f":"CLEAN(CCA!F37)","v":"Nível II"},{"$f":"CLEAN(CCA!G37)","v":"Nível II"},{"$f":"CLEAN(CCA!H37)","v":"Conglomerado"},{"$f":"CLEAN(CCA!I37)","v":"Letra financeira"},{"$f":"CCA!J37","v":126318652.04000001},{"$f":"CCA!K37","v":100200000},{"$f":"CLEAN(CCA!L37)","v":"passivo - custo amortizado"},{"$f":"CCA!M37","v":"2022-08-12"},{"$f":"CLEAN(CCA!N37)","v":"Com vencimento"},{"$f":"CCA!O37","v":"2029-08-13"},{"$f":"CLEAN(CCA!P37)","v":"Não"},{"$f":"CLEAN(CCA!Q37)","v":"(1) Não há uma data específica, apenas quando for solicitado ao Bacen"},{"$f":"CLEAN(CCA!R37)","v":"(2) Não há vinculação regulatória ou fiscal para resgate ou recompra"},{"$f":"CLEAN(CCA!S37)","v":"(3) O valor pode ser parcial ou total, conforme autorização do Bacen"},{"$f":"CLEAN(CCA!T37)","v":"Não se aplica"},{"$f":"CLEAN(CCA!U37)","v":"Fixo"},{"$f":"CLEAN(CCA!V37)","v":"135% CDI"},{"$f":"CLEAN(CCA!W37)","v":"Não"},{"$f":"CLEAN(CCA!X37)","v":"Mandatório"},{"$f":"CLEAN(CCA!Y37)","v":"Não"},{"$f":"CLEAN(CCA!Z37)","v":"Cumulativo"},{"$f":"CLEAN(CCA!AA37)","v":"Não conversível"},{"$f":"CLEAN(CCA!AB37)","v":"Não se aplica"},{"$f":"CLEAN(CCA!AC37)","v":"Não se aplica"},{"$f":"CLEAN(CCA!AD37)","v":"Não se aplica"},{"$f":"CLEAN(CCA!AE37)","v":"Não se aplica"},{"$f":"CLEAN(CCA!AF37)","v":"Não se aplica"},{"$f":"CLEAN(CCA!AG37)","v":"Não se aplica"},{"$f":"CLEAN(CCA!AH37)","v":"Sim"},{"$f":"CLEAN(CCA!AI37)","v":"Os títulos serão extintos, permanente e em valor no mínimo correspondente ao saldo computado no Nível II do Patrimônio de Referência do BRB – Banco de Brasília S.A nas seguintes condições:         1. seja verificada a divulgação pelo BRB – Banco de Brasília S.A. de que seu Capital Principal está em patamar inferior a 4,5% (quatro inteiros e cinco décimos por cento) do montante RWA, estabelecida pela regulamentação vigente; ou2. seja verificada, em lei específica, a assinatura de compromisso de aporte para o BRB – Banco de Brasília S.A.;3. seja decretado pelo BACEN o regime de administração especial temporária ou intervenção do BRB – Banco de Brasília S.A.; ou4. seja determinado pelo BACEN, segundo critérios estabelecidos em regulamento específico editado pelo Conselho Monetário Nacional,a extinção do instrumento."},{"$f":"CLEAN(CCA!AJ37)","v":"Totalmente"},{"$f":"CLEAN(CCA!AK37)","v":"Permanente"},{"$f":"CLEAN(CCA!AL37)","v":"Contratual"},{"$f":"CLEAN(CCA!AM37)","v":"Não"},{"$f":"CLEAN(CCA!AN37)","v":"Não"},{"$f":"CLEAN(CCA!AO37)","v":"Não se aplica"},"sem comentários"]
["CCA","20234T",{"$f":"EOMONTH(CCA!$C$4,0)","v":"2023-12-31"},{"$f":"CLEAN(CCA!C38)","v":"BRB - BANCO DE BRASILIA S/A"},{"$f":"CLEAN(CCA!D38)","v":"LFSN2200EZ3"},{"$f":"CLEAN(CCA!E38)","v":"Lei 12.249/2010 - Resolução 4.955/2021 do CMN"},{"$f":"CLEAN(CCA!F38)","v":"Nível II"},{"$f":"CLEAN(CCA!G38)","v":"Nível II"},{"$f":"CLEAN(CCA!H38)","v":"Conglomerado"},{"$f":"CLEAN(CCA!I38)","v":"Letra financeira"},{"$f":"CCA!J38","v":1879676.088},{"$f":"CCA!K38","v":2000000},{"$f":"CLEAN(CCA!L38)","v":"passivo - custo amortizado"},{"$f":"CCA!M38","v":"2022-12-08"},{"$f":"CLEAN(CCA!N38)","v":"Com vencimento"},{"$f":"CCA!O38","v":"2028-11-06"},{"$f":"CLEAN(CCA!P38)","v":"Não"},{"$f":"CLEAN(CCA!Q38)","v":"(1) Não há uma data específica, apenas quando for solicitado ao Bacen"},{"$f":"CLEAN(CCA!R38)","v":"(2) Não há vinculação regulatória ou fiscal para resgate ou recompra"},{"$f":"CLEAN(CCA!S38)","v":"(3) O valor pode ser parcial ou total, conforme autorização do Bacen"},{"$f":"CLEAN(CCA!T38)","v":"Não se aplica"},{"$f":"CLEAN(CCA!U38)","v":"Fixo"},{"$f":"CLEAN(CCA!V38)","v":"123% CDI"},{"$f":"CLEAN(CCA!W38)","v":"Não"},{"$f":"CLEAN(CCA!X38)","v":"Mandatório"},{"$f":"CLEAN(CCA!Y38)","v":"Não"},{"$f":"CLEAN(CCA!Z38)","v":"Cumulativo"},{"$f":"CLEAN(CCA!AA38)","v":"Não conversível"},{"$f":"CLEAN(CCA!AB38)","v":"Não se aplica"},{"$f":"CLEAN(CCA!AC38)","v":"Não se aplica"},{"$f":"CLEAN(CCA!AD38)","v":"Não se aplica"},{"$f":"CLEAN(CCA!AE38)","v":"Não se aplica"},{"$f":"CLEAN(CCA!AF38)","v":"Não se aplica"},{"$f":"CLEAN(CCA!AG38)","v":"Não se aplica"},{"$f":"CLEAN(CCA!AH38)","v":"Sim"},{"$f":"CLEAN(CCA!AI38)","v":"Os títulos serão extintos, permanente e em valor no mínimo correspondente ao saldo computado no Nível II do Patrimônio de Referência do BRB – Banco de Brasília S.A nas seguintes condições:         1. seja verificada a divulgação pelo BRB – Banco de Brasília S.A. de que seu Capital Principal está em patamar inferior a 4,5% (quatro inteiros e cinco décimos por cento) do montante RWA, estabelecida pela regulamentação vigente; ou2. seja verificada, em lei específica, a assinatura de compromisso de aporte para o BRB – Banco de Brasília S.A.;3. seja decretado pelo BACEN o regime de administração especial temporária ou intervenção do BRB – Banco de Brasília S.A.; ou4. seja determinado pelo BACEN, segundo critérios estabelecidos em regulamento específico editado pelo Conselho Monetário Nacional,a extinção do instrumento."},{"$f":"CLEAN(CCA!AJ38)","v":"Totalmente"},{"$f":"CLEAN(CCA!AK38)","v":"Permanente"},{"$f":"CLEAN(CCA!AL38)","v":"Contratual"},{"$f":"CLEAN(CCA!AM38)","v":"Não"},{"$f":"CLEAN(CCA!AN38)","v":"Não"},{"$f":"CLEAN(CCA!AO38)","v":"Não se aplica"},"sem comentários"]
["CCA","20234T",{"$f":"EOMONTH(CCA!$C$4,0)","v":"2023-12-31"},{"$f":"CLEAN(CCA!C39)","v":"BRB - BANCO DE BRASILIA S/A"},{"$f":"CLEAN(CCA!D39)","v":"LFSN2200A6R"},{"$f":"CLEAN(CCA!E39)","v":"Lei 12.249/2010 - Resolução 4.955/2021 do CMN"},{"$f":"CLEAN(CCA!F39)","v":"Nível II"},{"$f":"CLEAN(CCA!G39)","v":"Nível II"},{"$f":"CLEAN(CCA!H39)","v":"Conglomerado"},{"$f":"CLEAN(CCA!I39)","v":"Letra financeira"},{"$f":"CCA!J39","v":63072806.07},{"$f":"CCA!K39","v":50100000},{"$f":"CLEAN(CCA!L39)","v":"passivo - custo amortizado"},{"$f":"CCA!M39","v":"2022-08-16"},{"$f":"CLEAN(CCA!N39)","v":"Com vencimento"},{"$f":"CCA!O39","v":"2029-08-16"},{"$f":"CLEAN(CCA!P39)","v":"Não"},{"$f":"CLEAN(CCA!Q39)","v":"(1) Não há uma data específica, apenas quando for solicitado ao Bacen"},{"$f":"CLEAN(CCA!R39)","v":"(2) Não há vinculação regulatória ou fiscal para resgate ou recompra"},{"$f":"CLEAN(CCA!S39)","v":"(3) O valor pode ser parcial ou total, conforme autorização do Bacen"},{"$f":"CLEAN(CCA!T39)","v":"Não se aplica"},{"$f":"CLEAN(CCA!U39)","v":"Fixo"},{"$f":"CLEAN(CCA!V39)","v":"135% CDI"},{"$f":"CLEAN(CCA!W39)","v":"Não"},{"$f":"CLEAN(CCA!X39)","v":"Mandatório"},{"$f":"CLEAN(CCA!Y39)","v":"Não"},{"$f":"CLEAN(CCA!Z39)","v":"Cumulativo"},{"$f":"CLEAN(CCA!AA39)","v":"Não conversível"},{"$f":"CLEAN(CCA!AB39)","v":"Não se aplica"},{"$f":"CLEAN(CCA!AC39)","v":"Não se aplica"},{"$f":"CLEAN(CCA!AD39)","v":"Não se aplica"},{"$f":"CLEAN(CCA!AE39)","v":"Não se aplica"},{"$f":"CLEAN(CCA!AF39)","v":"Não se aplica"},{"$f":"CLEAN(CCA!AG39)","v":"Não se aplica"},{"$f":"CLEAN(CCA!AH39)","v":"Sim"},{"$f":"CLEAN(CCA!AI39)","v":"Os títulos serão extintos, permanente e em valor no mínimo correspondente ao saldo computado no Nível II do Patrimônio de Referência do BRB – Banco de Brasília S.A nas seguintes condições:         1. seja verificada a divulgação pelo BRB – Banco de Brasília S.A. de que seu Capital Principal está em patamar inferior a 4,5% (quatro inteiros e cinco décimos por cento) do montante RWA, estabelecida pela regulamentação vigente; ou2. seja verificada, em lei específica, a assinatura de compromisso de aporte para o BRB – Banco de Brasília S.A.;3. seja decretado pelo BACEN o regime de administração especial temporária ou intervenção do BRB – Banco de Brasília S.A.; ou4. seja determinado pelo BACEN, segundo critérios estabelecidos em regulamento específico editado pelo Conselho Monetário Nacional,a extinção do instrumento."},{"$f":"CLEAN(CCA!AJ39)","v":"Totalmente"},{"$f":"CLEAN(CCA!AK39)","v":"Permanente"},{"$f":"CLEAN(CCA!AL39)","v":"Contratual"},{"$f":"CLEAN(CCA!AM39)","v":"Não"},{"$f":"CLEAN(CCA!AN39)","v":"Não"},{"$f":"CLEAN(CCA!AO39)","v":"Não se aplica"},"sem comentários"]
["CCA","20234T",{"$f":"EOMONTH(CCA!$C$4,0)","v":"2023-12-31"},{"$f":"CLEAN(CCA!C40)","v":"BRB - BANCO DE BRASILIA S/A"},{"$f":"CLEAN(CCA!D40)","v":"LFSN22009F0"},{"$f":"CLEAN(CCA!E40)","v":"Lei 12.249/2010 - Resolução 4.955/2021 do CMN"},{"$f":"CLEAN(CCA!F40)","v":"Nível II"},{"$f":"CLEAN(CCA!G40)","v":"Nível II"},{"$f":"CLEAN(CCA!H40)","v":"Conglomerado"},{"$f":"CLEAN(CCA!I40)","v":"Letra financeira"},{"$f":"CCA!J40","v":12442602.200000001},{"$f":"CCA!K40","v":12300000},{"$f":"CLEAN(CCA!L40)","v":"passivo - custo amortizado"},{"$f":"CCA!M40","v":"2022-07-19"},{"$f":"CLEAN(CCA!N40)","v":"Com vencimento"},{"$f":"CCA!O40","v":"2028-07-19"},{"$f":"CLEAN(CCA!P40)","v":"Não"},{"$f":"CLEAN(CCA!Q40)","v":"(1) Não há uma data específica, apenas quando for solicitado ao Bacen"},{"$f":"CLEAN(CCA!R40)","v":"(2) Não há vinculação regulatória ou fiscal para resgate ou recompra"},{"$f":"CLEAN(CCA!S40)","v":"(3) O valor pode ser parcial ou total, conforme autorização do Bacen"},{"$f":"CLEAN(CCA!T40)","v":"Não se aplica"},{"$f":"CLEAN(CCA!U40)","v":"Fixo"},{"$f":"CLEAN(CCA!V40)","v":"130% CDI"},{"$f":"CLEAN(CCA!W40)","v":"Não"},{"$f":"CLEAN(CCA!X40)","v":"Mandatório"},{"$f":"CLEAN(CCA!Y40)","v":"Não"},{"$f":"CLEAN(CCA!Z40)","v":"Cumulativo"},{"$f":"CLEAN(CCA!AA40)","v":"Não conversível"},{"$f":"CLEAN(CCA!AB40)","v":"Não se aplica"},{"$f":"CLEAN(CCA!AC40)","v":"Não se aplica"},{"$f":"CLEAN(CCA!AD40)","v":"Não se aplica"},{"$f":"CLEAN(CCA!AE40)","v":"Não se aplica"},{"$f":"CLEAN(CCA!AF40)","v":"Não se aplica"},{"$f":"CLEAN(CCA!AG40)","v":"Não se aplica"},{"$f":"CLEAN(CCA!AH40)","v":"Sim"},{"$f":"CLEAN(CCA!AI40)","v":"Os títulos serão extintos, permanente e em valor no mínimo correspondente ao saldo computado no Nível II do Patrimônio de Referência do BRB – Banco de Brasília S.A nas seguintes condições:         1. seja verificada a divulgação pelo BRB – Banco de Brasília S.A. de que seu Capital Principal está em patamar inferior a 4,5% (quatro inteiros e cinco décimos por cento) do montante RWA, estabelecida pela regulamentação vigente; ou2. seja verificada, em lei específica, a assinatura de compromisso de aporte para o BRB – Banco de Brasília S.A.;3. seja decretado pelo BACEN o regime de administração especial temporária ou intervenção do BRB – Banco de Brasília S.A.; ou4. seja determinado pelo BACEN, segundo critérios estabelecidos em regulamento específico editado pelo Conselho Monetário Nacional,a extinção do instrumento."},{"$f":"CLEAN(CCA!AJ40)","v":"Totalmente"},{"$f":"CLEAN(CCA!AK40)","v":"Permanente"},{"$f":"CLEAN(CCA!AL40)","v":"Contratual"},{"$f":"CLEAN(CCA!AM40)","v":"Não"},{"$f":"CLEAN(CCA!AN40)","v":"Não"},{"$f":"CLEAN(CCA!AO40)","v":"Não se aplica"},"sem comentários"]
["CCA","20234T",{"$f":"EOMONTH(CCA!$C$4,0)","v":"2023-12-31"},{"$f":"CLEAN(CCA!C41)","v":"BRB - BANCO DE BRASILIA S/A"},{"$f":"CLEAN(CCA!D41)","v":"LFSN2200ATC"},{"$f":"CLEAN(CCA!E41)","v":"Lei 12.249/2010 - Resolução 4.955/2021 do CMN"},{"$f":"CLEAN(CCA!F41)","v":"Nível II"},{"$f":"CLEAN(CCA!G41)","v":"Nível II"},{"$f":"CLEAN(CCA!H41)","v":"Conglomerado"},{"$f":"CLEAN(CCA!I41)","v":"Letra financeira"},{"$f":"CCA!J41","v":3066903.88},{"$f":"CCA!K41","v":2500000},{"$f":"CLEAN(CCA!L41)","v":"passivo - custo amortizado"},{"$f":"CCA!M41","v":"2022-09-29"},{"$f":"CLEAN(CCA!N41)","v":"Com vencimento"},{"$f":"CCA!O41","v":"2029-09-28"},{"$f":"CLEAN(CCA!P41)","v":"Não"},{"$f":"CLEAN(CCA!Q41)","v":"(1) Não há uma data específica, apenas quando for solicitado ao Bacen"},{"$f":"CLEAN(CCA!R41)","v":"(2) Não há vinculação regulatória ou fiscal para resgate ou recompra"},{"$f":"CLEAN(CCA!S41)","v":"(3) O valor pode ser parcial ou total, conforme autorização do Bacen"},{"$f":"CLEAN(CCA!T41)","v":"Não se aplica"},{"$f":"CLEAN(CCA!U41)","v":"Fixo"},{"$f":"CLEAN(CCA!V41)","v":"132% CDI"},{"$f":"CLEAN(CCA!W41)","v":"Não"},{"$f":"CLEAN(CCA!X41)","v":"Mandatório"},{"$f":"CLEAN(CCA!Y41)","v":"Não"},{"$f":"CLEAN(CCA!Z41)","v":"Cumulativo"},{"$f":"CLEAN(CCA!AA41)","v":"Não conversível"},{"$f":"CLEAN(CCA!AB41)","v":"Não se aplica"},{"$f":"CLEAN(CCA!AC41)","v":"Não se aplica"},{"$f":"CLEAN(CCA!AD41)","v":"Não se aplica"},{"$f":"CLEAN(CCA!AE41)","v":"Não se aplica"},{"$f":"CLEAN(CCA!AF41)","v":"Não se aplica"},{"$f":"CLEAN(CCA!AG41)","v":"Não se aplica"},{"$f":"CLEAN(CCA!AH41)","v":"Sim"},{"$f":"CLEAN(CCA!AI41)","v":"Os títulos serão extintos, permanente e em valor no mínimo correspondente ao saldo computado no Nível II do Patrimônio de Referência do BRB – Banco de Brasília S.A nas seguintes condições:         1. seja verificada a divulgação pelo BRB – Banco de Brasília S.A. de que seu Capital Principal está em patamar inferior a 4,5% (quatro inteiros e cinco décimos por cento) do montante RWA, estabelecida pela regulamentação vigente; ou2. seja verificada, em lei específica, a assinatura de compromisso de aporte para o BRB – Banco de Brasília S.A.;3. seja decretado pelo BACEN o regime de administração especial temporária ou intervenção do BRB – Banco de Brasília S.A.; ou4. seja determinado pelo BACEN, segundo critérios estabelecidos em regulamento específico editado pelo Conselho Monetário Nacional,a extinção do instrumento."},{"$f":"CLEAN(CCA!AJ41)","v":"Totalmente"},{"$f":"CLEAN(CCA!AK41)","v":"Permanente"},{"$f":"CLEAN(CCA!AL41)","v":"Contratual"},{"$f":"CLEAN(CCA!AM41)","v":"Não"},{"$f":"CLEAN(CCA!AN41)","v":"Não"},{"$f":"CLEAN(CCA!AO41)","v":"Não se aplica"},"sem comentários"]
["CCA","20234T",{"$f":"EOMONTH(CCA!$C$4,0)","v":"2023-12-31"},{"$f":"CLEAN(CCA!C42)","v":"BRB - BANCO DE BRASILIA S/A"},{"$f":"CLEAN(CCA!D42)","v":"LFSN2200ATD"},{"$f":"CLEAN(CCA!E42)","v":"Lei 12.249/2010 - Resolução 4.955/2021 do CMN"},{"$f":"CLEAN(CCA!F42)","v":"Nível II"},{"$f":"CLEAN(CCA!G42)","v":"Nível II"},{"$f":"CLEAN(CCA!H42)","v":"Conglomerado"},{"$f":"CLEAN(CCA!I42)","v":"Letra financeira"},{"$f":"CCA!J42","v":3066903.88},{"$f":"CCA!K42","v":2500000},{"$f":"CLEAN(CCA!L42)","v":"passivo - custo amortizado"},{"$f":"CCA!M42","v":"2022-09-29"},{"$f":"CLEAN(CCA!N42)","v":"Com vencimento"},{"$f":"CCA!O42","v":"2029-09-28"},{"$f":"CLEAN(CCA!P42)","v":"Não"},{"$f":"CLEAN(CCA!Q42)","v":"(1) Não há uma data específica, apenas quando for solicitado ao Bacen"},{"$f":"CLEAN(CCA!R42)","v":"(2) Não há vinculação regulatória ou fiscal para resgate ou recompra"},{"$f":"CLEAN(CCA!S42)","v":"(3) O valor pode ser parcial ou total, conforme autorização do Bacen"},{"$f":"CLEAN(CCA!T42)","v":"Não se aplica"},{"$f":"CLEAN(CCA!U42)","v":"Fixo"},{"$f":"CLEAN(CCA!V42)","v":"132% CDI"},{"$f":"CLEAN(CCA!W42)","v":"Não"},{"$f":"CLEAN(CCA!X42)","v":"Mandatório"},{"$f":"CLEAN(CCA!Y42)","v":"Não"},{"$f":"CLEAN(CCA!Z42)","v":"Cumulativo"},{"$f":"CLEAN(CCA!AA42)","v":"Não conversível"},{"$f":"CLEAN(CCA!AB42)","v":"Não se aplica"},{"$f":"CLEAN(CCA!AC42)","v":"Não se aplica"},{"$f":"CLEAN(CCA!AD42)","v":"Não se aplica"},{"$f":"CLEAN(CCA!AE42)","v":"Não se aplica"},{"$f":"CLEAN(CCA!AF42)","v":"Não se aplica"},{"$f":"CLEAN(CCA!AG42)","v":"Não se aplica"},{"$f":"CLEAN(CCA!AH42)","v":"Sim"},{"$f":"CLEAN(CCA!AI42)","v":"Os títulos serão extintos, permanente e em valor no mínimo correspondente ao saldo computado no Nível II do Patrimônio de Referência do BRB – Banco de Brasília S.A nas seguintes condições:         1. seja verificada a divulgação pelo BRB – Banco de Brasília S.A. de que seu Capital Principal está em patamar inferior a 4,5% (quatro inteiros e cinco décimos por cento) do montante RWA, estabelecida pela regulamentação vigente; ou2. seja verificada, em lei específica, a assinatura de compromisso de aporte para o BRB – Banco de Brasília S.A.;3. seja decretado pelo BACEN o regime de administração especial temporária ou intervenção do BRB – Banco de Brasília S.A.; ou4. seja determinado pelo BACEN, segundo critérios estabelecidos em regulamento específico editado pelo Conselho Monetário Nacional,a extinção do instrumento."},{"$f":"CLEAN(CCA!AJ42)","v":"Totalmente"},{"$f":"CLEAN(CCA!AK42)","v":"Permanente"},{"$f":"CLEAN(CCA!AL42)","v":"Contratual"},{"$f":"CLEAN(CCA!AM42)","v":"Não"},{"$f":"CLEAN(CCA!AN42)","v":"Não"},{"$f":"CLEAN(CCA!AO42)","v":"Não se aplica"},"sem comentários"]
["CCA","20234T",{"$f":"EOMONTH(CCA!$C$4,0)","v":"2023-12-31"},{"$f":"CLEAN(CCA!C43)","v":"BRB - BANCO DE BRASILIA S/A"},{"$f":"CLEAN(CCA!D43)","v":"LFSN2200DQM"},{"$f":"CLEAN(CCA!E43)","v":"Lei 12.249/2010 - Resolução 4.955/2021 do CMN"},{"$f":"CLEAN(CCA!F43)","v":"Nível II"},{"$f":"CLEAN(CCA!G43)","v":"Nível II"},{"$f":"CLEAN(CCA!H43)","v":"Conglomerado"},{"$f":"CLEAN(CCA!I43)","v":"Letra financeira"},{"$f":"CCA!J43","v":12264812.890000001},{"$f":"CCA!K43","v":10200000},{"$f":"CLEAN(CCA!L43)","v":"passivo - custo amortizado"},{"$f":"CCA!M43","v":"2022-11-23"},{"$f":"CLEAN(CCA!N43)","v":"Com vencimento"},{"$f":"CCA!O43","v":"2029-11-23"},{"$f":"CLEAN(CCA!P43)","v":"Não"},{"$f":"CLEAN(CCA!Q43)","v":"(1) Não há uma data específica, apenas quando for solicitado ao Bacen"},{"$f":"CLEAN(CCA!R43)","v":"(2) Não há vinculação regulatória ou fiscal para resgate ou recompra"},{"$f":"CLEAN(CCA!S43)","v":"(3) O valor pode ser parcial ou total, conforme autorização do Bacen"},{"$f":"CLEAN(CCA!T43)","v":"Não se aplica"},{"$f":"CLEAN(CCA!U43)","v":"Fixo"},{"$f":"CLEAN(CCA!V43)","v":"135% CDI"},{"$f":"CLEAN(CCA!W43)","v":"Não"},{"$f":"CLEAN(CCA!X43)","v":"Mandatório"},{"$f":"CLEAN(CCA!Y43)","v":"Não"},{"$f":"CLEAN(CCA!Z43)","v":"Cumulativo"},{"$f":"CLEAN(CCA!AA43)","v":"Não conversível"},{"$f":"CLEAN(CCA!AB43)","v":"Não se aplica"},{"$f":"CLEAN(CCA!AC43)","v":"Não se aplica"},{"$f":"CLEAN(CCA!AD43)","v":"Não se aplica"},{"$f":"CLEAN(CCA!AE43)","v":"Não se aplica"},{"$f":"CLEAN(CCA!AF43)","v":"Não se aplica"},{"$f":"CLEAN(CCA!AG43)","v":"Não se aplica"},{"$f":"CLEAN(CCA!AH43)","v":"Sim"},{"$f":"CLEAN(CCA!AI43)","v":"Os títulos serão extintos, permanente e em valor no mínimo correspondente ao saldo computado no Nível II do Patrimônio de Referência do BRB – Banco de Brasília S.A nas seguintes condições:         1. seja verificada a divulgação pelo BRB – Banco de Brasília S.A. de que seu Capital Principal está em patamar inferior a 4,5% (quatro inteiros e cinco décimos por cento) do montante RWA, estabelecida pela regulamentação vigente; ou2. seja verificada, em lei específica, a assinatura de compromisso de aporte para o BRB – Banco de Brasília S.A.;3. seja decretado pelo BACEN o regime de administração especial temporária ou intervenção do BRB – Banco de Brasília S.A.; ou4. seja determinado pelo BACEN, segundo critérios estabelecidos em regulamento específico editado pelo Conselho Monetário Nacional,a extinção do instrumento."},{"$f":"CLEAN(CCA!AJ43)","v":"Totalmente"},{"$f":"CLEAN(CCA!AK43)","v":"Permanente"},{"$f":"CLEAN(CCA!AL43)","v":"Contratual"},{"$f":"CLEAN(CCA!AM43)","v":"Não"},{"$f":"CLEAN(CCA!AN43)","v":"Não"},{"$f":"CLEAN(CCA!AO43)","v":"Não se aplica"},"sem comentários"]
["CCA","20234T",{"$f":"EOMONTH(CCA!$C$4,0)","v":"2023-12-31"},{"$f":"CLEAN(CCA!C44)","v":"BRB - BANCO DE BRASILIA S/A"},{"$f":"CLEAN(CCA!D44)","v":"LFSN22008Z2"},{"$f":"CLEAN(CCA!E44)","v":"Lei 12.249/2010 - Resolução 4.955/2021 do CMN"},{"$f":"CLEAN(CCA!F44)","v":"Nível II"},{"$f":"CLEAN(CCA!G44)","v":"Nível II"},{"$f":"CLEAN(CCA!H44)","v":"Conglomerado"},{"$f":"CLEAN(CCA!I44)","v":"Letra financeira"},{"$f":"CCA!J44","v":3052237.0160000003},{"$f":"CCA!K44","v":3000000},{"$f":"CLEAN(CCA!L44)","v":"passivo - custo amortizado"},{"$f":"CCA!M44","v":"2022-07-06"},{"$f":"CLEAN(CCA!N44)","v":"Com vencimento"},{"$f":"CCA!O44","v":"2028-07-06"},{"$f":"CLEAN(CCA!P44)","v":"Não"},{"$f":"CLEAN(CCA!Q44)","v":"(1) Não há uma data específica, apenas quando for solicitado ao Bacen"},{"$f":"CLEAN(CCA!R44)","v":"(2) Não há vinculação regulatória ou fiscal para resgate ou recompra"},{"$f":"CLEAN(CCA!S44)","v":"(3) O valor pode ser parcial ou total, conforme autorização do Bacen"},{"$f":"CLEAN(CCA!T44)","v":"Não se aplica"},{"$f":"CLEAN(CCA!U44)","v":"Fixo"},{"$f":"CLEAN(CCA!V44)","v":"130% CDI"},{"$f":"CLEAN(CCA!W44)","v":"Não"},{"$f":"CLEAN(CCA!X44)","v":"Mandatório"},{"$f":"CLEAN(CCA!Y44)","v":"Não"},{"$f":"CLEAN(CCA!Z44)","v":"Cumulativo"},{"$f":"CLEAN(CCA!AA44)","v":"Não conversível"},{"$f":"CLEAN(CCA!AB44)","v":"Não se aplica"},{"$f":"CLEAN(CCA!AC44)","v":"Não se aplica"},{"$f":"CLEAN(CCA!AD44)","v":"Não se aplica"},{"$f":"CLEAN(CCA!AE44)","v":"Não se aplica"},{"$f":"CLEAN(CCA!AF44)","v":"Não se aplica"},{"$f":"CLEAN(CCA!AG44)","v":"Não se aplica"},{"$f":"CLEAN(CCA!AH44)","v":"Sim"},{"$f":"CLEAN(CCA!AI44)","v":"Os títulos serão extintos, permanente e em valor no mínimo correspondente ao saldo computado no Nível II do Patrimônio de Referência do BRB – Banco de Brasília S.A nas seguintes condições:         1. seja verificada a divulgação pelo BRB – Banco de Brasília S.A. de que seu Capital Principal está em patamar inferior a 4,5% (quatro inteiros e cinco décimos por cento) do montante RWA, estabelecida pela regulamentação vigente; ou2. seja verificada, em lei específica, a assinatura de compromisso de aporte para o BRB – Banco de Brasília S.A.;3. seja decretado pelo BACEN o regime de administração especial temporária ou intervenção do BRB – Banco de Brasília S.A.; ou4. seja determinado pelo BACEN, segundo critérios estabelecidos em regulamento específico editado pelo Conselho Monetário Nacional,a extinção do instrumento."},{"$f":"CLEAN(CCA!AJ44)","v":"Totalmente"},{"$f":"CLEAN(CCA!AK44)","v":"Permanente"},{"$f":"CLEAN(CCA!AL44)","v":"Contratual"},{"$f":"CLEAN(CCA!AM44)","v":"Não"},{"$f":"CLEAN(CCA!AN44)","v":"Não"},{"$f":"CLEAN(CCA!AO44)","v":"Não se aplica"},"sem comentários"]
["CCA","20234T",{"$f":"EOMONTH(CCA!$C$4,0)","v":"2023-12-31"},{"$f":"CLEAN(CCA!C45)","v":"BRB - BANCO DE BRASILIA S/A"},{"$f":"CLEAN(CCA!D45)","v":"LFSN22009RR"},{"$f":"CLEAN(CCA!E45)","v":"Lei 12.249/2010 - Resolução 4.955/2021 do CMN"},{"$f":"CLEAN(CCA!F45)","v":"Nível II"},{"$f":"CLEAN(CCA!G45)","v":"Nível II"},{"$f":"CLEAN(CCA!H45)","v":"Conglomerado"},{"$f":"CLEAN(CCA!I45)","v":"Letra financeira"},{"$f":"CCA!J45","v":7246436.1840000004},{"$f":"CCA!K45","v":7200000},{"$f":"CLEAN(CCA!L45)","v":"passivo - custo amortizado"},{"$f":"CCA!M45","v":"2022-07-29"},{"$f":"CLEAN(CCA!N45)","v":"Com vencimento"},{"$f":"CCA!O45","v":"2028-07-31"},{"$f":"CLEAN(CCA!P45)","v":"Não"},{"$f":"CLEAN(CCA!Q45)","v":"(1) Não há uma data específica, apenas quando for solicitado ao Bacen"},{"$f":"CLEAN(CCA!R45)","v":"(2) Não há vinculação regulatória ou fiscal para resgate ou recompra"},{"$f":"CLEAN(CCA!S45)","v":"(3) O valor pode ser parcial ou total, conforme autorização do Bacen"},{"$f":"CLEAN(CCA!T45)","v":"Não se aplica"},{"$f":"CLEAN(CCA!U45)","v":"Fixo"},{"$f":"CLEAN(CCA!V45)","v":"130% CDI"},{"$f":"CLEAN(CCA!W45)","v":"Não"},{"$f":"CLEAN(CCA!X45)","v":"Mandatório"},{"$f":"CLEAN(CCA!Y45)","v":"Não"},{"$f":"CLEAN(CCA!Z45)","v":"Cumulativo"},{"$f":"CLEAN(CCA!AA45)","v":"Não conversível"},{"$f":"CLEAN(CCA!AB45)","v":"Não se aplica"},{"$f":"CLEAN(CCA!AC45)","v":"Não se aplica"},{"$f":"CLEAN(CCA!AD45)","v":"Não se aplica"},{"$f":"CLEAN(CCA!AE45)","v":"Não se aplica"},{"$f":"CLEAN(CCA!AF45)","v":"Não se aplica"},{"$f":"CLEAN(CCA!AG45)","v":"Não se aplica"},{"$f":"CLEAN(CCA!AH45)","v":"Sim"},{"$f":"CLEAN(CCA!AI45)","v":"Os títulos serão extintos, permanente e em valor no mínimo correspondente ao saldo computado no Nível II do Patrimônio de Referência do BRB – Banco de Brasília S.A nas seguintes condições:         1. seja verificada a divulgação pelo BRB – Banco de Brasília S.A. de que seu Capital Principal está em patamar inferior a 4,5% (quatro inteiros e cinco décimos por cento) do montante RWA, estabelecida pela regulamentação vigente; ou2. seja verificada, em lei específica, a assinatura de compromisso de aporte para o BRB – Banco de Brasília S.A.;3. seja decretado pelo BACEN o regime de administração especial temporária ou intervenção do BRB – Banco de Brasília S.A.; ou4. seja determinado pelo BACEN, segundo critérios estabelecidos em regulamento específico editado pelo Conselho Monetário Nacional,a extinção do instrumento."},{"$f":"CLEAN(CCA!AJ45)","v":"Totalmente"},{"$f":"CLEAN(CCA!AK45)","v":"Permanente"},{"$f":"CLEAN(CCA!AL45)","v":"Contratual"},{"$f":"CLEAN(CCA!AM45)","v":"Não"},{"$f":"CLEAN(CCA!AN45)","v":"Não"},{"$f":"CLEAN(CCA!AO45)","v":"Não se aplica"},"sem comentários"]
["CCA","20234T",{"$f":"EOMONTH(CCA!$C$4,0)","v":"2023-12-31"},{"$f":"CLEAN(CCA!C46)","v":"BRB - BANCO DE BRASILIA S/A"},{"$f":"CLEAN(CCA!D46)","v":"LFSN2200B9R"},{"$f":"CLEAN(CCA!E46)","v":"Lei 12.249/2010 - Resolução 4.955/2021 do CMN"},{"$f":"CLEAN(CCA!F46)","v":"Nível II"},{"$f":"CLEAN(CCA!G46)","v":"Nível II"},{"$f":"CLEAN(CCA!H46)","v":"Conglomerado"},{"$f":"CLEAN(CCA!I46)","v":"Letra financeira"},{"$f":"CCA!J46","v":3648360.19},{"$f":"CCA!K46","v":3000000},{"$f":"CLEAN(CCA!L46)","v":"passivo - custo amortizado"},{"$f":"CCA!M46","v":"2022-10-19"},{"$f":"CLEAN(CCA!N46)","v":"Com vencimento"},{"$f":"CCA!O46","v":"2029-10-19"},{"$f":"CLEAN(CCA!P46)","v":"Não"},{"$f":"CLEAN(CCA!Q46)","v":"(1) Não há uma data específica, apenas quando for solicitado ao Bacen"},{"$f":"CLEAN(CCA!R46)","v":"(2) Não há vinculação regulatória ou fiscal para resgate ou recompra"},{"$f":"CLEAN(CCA!S46)","v":"(3) O valor pode ser parcial ou total, conforme autorização do Bacen"},{"$f":"CLEAN(CCA!T46)","v":"Não se aplica"},{"$f":"CLEAN(CCA!U46)","v":"Fixo"},{"$f":"CLEAN(CCA!V46)","v":"132% CDI"},{"$f":"CLEAN(CCA!W46)","v":"Não"},{"$f":"CLEAN(CCA!X46)","v":"Mandatório"},{"$f":"CLEAN(CCA!Y46)","v":"Não"},{"$f":"CLEAN(CCA!Z46)","v":"Cumulativo"},{"$f":"CLEAN(CCA!AA46)","v":"Não conversível"},{"$f":"CLEAN(CCA!AB46)","v":"Não se aplica"},{"$f":"CLEAN(CCA!AC46)","v":"Não se aplica"},{"$f":"CLEAN(CCA!AD46)","v":"Não se aplica"},{"$f":"CLEAN(CCA!AE46)","v":"Não se aplica"},{"$f":"CLEAN(CCA!AF46)","v":"Não se aplica"},{"$f":"CLEAN(CCA!AG46)","v":"Não se aplica"},{"$f":"CLEAN(CCA!AH46)","v":"Sim"},{"$f":"CLEAN(CCA!AI46)","v":"Os títulos serão extintos, permanente e em valor no mínimo correspondente ao saldo computado no Nível II do Patrimônio de Referência do BRB – Banco de Brasília S.A nas seguintes condições:         1. seja verificada a divulgação pelo BRB – Banco de Brasília S.A. de que seu Capital Principal está em patamar inferior a 4,5% (quatro inteiros e cinco décimos por cento) do montante RWA, estabelecida pela regulamentação vigente; ou2. seja verificada, em lei específica, a assinatura de compromisso de aporte para o BRB – Banco de Brasília S.A.;3. seja decretado pelo BACEN o regime de administração especial temporária ou intervenção do BRB – Banco de Brasília S.A.; ou4. seja determinado pelo BACEN, segundo critérios estabelecidos em regulamento específico editado pelo Conselho Monetário Nacional,a extinção do instrumento."},{"$f":"CLEAN(CCA!AJ46)","v":"Totalmente"},{"$f":"CLEAN(CCA!AK46)","v":"Permanente"},{"$f":"CLEAN(CCA!AL46)","v":"Contratual"},{"$f":"CLEAN(CCA!AM46)","v":"Não"},{"$f":"CLEAN(CCA!AN46)","v":"Não"},{"$f":"CLEAN(CCA!AO46)","v":"Não se aplica"},"sem comentários"]
["CCA","20234T",{"$f":"EOMONTH(CCA!$C$4,0)","v":"2023-12-31"},{"$f":"CLEAN(CCA!C47)","v":"BRB - BANCO DE BRASILIA S/A"},{"$f":"CLEAN(CCA!D47)","v":"LFSN2200B9U"},{"$f":"CLEAN(CCA!E47)","v":"Lei 12.249/2010 - Resolução 4.955/2021 do CMN"},{"$f":"CLEAN(CCA!F47)","v":"Nível II"},{"$f":"CLEAN(CCA!G47)","v":"Nível II"},{"$f":"CLEAN(CCA!H47)","v":"Conglomerado"},{"$f":"CLEAN(CCA!I47)","v":"Letra financeira"},{"$f":"CCA!J47","v":33128118.872000005},{"$f":"CCA!K47","v":33900000},{"$f":"CLEAN(CCA!L47)","v":"passivo - custo amortizado"},{"$f":"CCA!M47","v":"2022-10-19"},{"$f":"CLEAN(CCA!N47)","v":"Com vencimento"},{"$f":"CCA!O47","v":"2028-10-19"},{"$f":"CLEAN(CCA!P47)","v":"Não"},{"$f":"CLEAN(CCA!Q47)","v":"(1) Não há uma data específica, apenas quando for solicitado ao Bacen"},{"$f":"CLEAN(CCA!R47)","v":"(2) Não há vinculação regulatória ou fiscal para resgate ou recompra"},{"$f":"CLEAN(CCA!S47)","v":"(3) O valor pode ser parcial ou total, conforme autorização do Bacen"},{"$f":"CLEAN(CCA!T47)","v":"Não se aplica"},{"$f":"CLEAN(CCA!U47)","v":"Fixo"},{"$f":"CLEAN(CCA!V47)","v":"135% CDI"},{"$f":"CLEAN(CCA!W47)","v":"Não"},{"$f":"CLEAN(CCA!X47)","v":"Mandatório"},{"$f":"CLEAN(CCA!Y47)","v":"Não"},{"$f":"CLEAN(CCA!Z47)","v":"Cumulativo"},{"$f":"CLEAN(CCA!AA47)","v":"Não conversível"},{"$f":"CLEAN(CCA!AB47)","v":"Não se aplica"},{"$f":"CLEAN(CCA!AC47)","v":"Não se aplica"},{"$f":"CLEAN(CCA!AD47)","v":"Não se aplica"},{"$f":"CLEAN(CCA!AE47)","v":"Não se aplica"},{"$f":"CLEAN(CCA!AF47)","v":"Não se aplica"},{"$f":"CLEAN(CCA!AG47)","v":"Não se aplica"},{"$f":"CLEAN(CCA!AH47)","v":"Sim"},{"$f":"CLEAN(CCA!AI47)","v":"Os títulos serão extintos, permanente e em valor no mínimo correspondente ao saldo computado no Nível II do Patrimônio de Referência do BRB – Banco de Brasília S.A nas seguintes condições:         1. seja verificada a divulgação pelo BRB – Banco de Brasília S.A. de que seu Capital Principal está em patamar inferior a 4,5% (quatro inteiros e cinco décimos por cento) do montante RWA, estabelecida pela regulamentação vigente; ou2. seja verificada, em lei específica, a assinatura de compromisso de aporte para o BRB – Banco de Brasília S.A.;3. seja decretado pelo BACEN o regime de administração especial temporária ou intervenção do BRB – Banco de Brasília S.A.; ou4. seja determinado pelo BACEN, segundo critérios estabelecidos em regulamento específico editado pelo Conselho Monetário Nacional,a extinção do instrumento."},{"$f":"CLEAN(CCA!AJ47)","v":"Totalmente"},{"$f":"CLEAN(CCA!AK47)","v":"Permanente"},{"$f":"CLEAN(CCA!AL47)","v":"Contratual"},{"$f":"CLEAN(CCA!AM47)","v":"Não"},{"$f":"CLEAN(CCA!AN47)","v":"Não"},{"$f":"CLEAN(CCA!AO47)","v":"Não se aplica"},"sem comentários"]
["CCA","20234T",{"$f":"EOMONTH(CCA!$C$4,0)","v":"2023-12-31"},{"$f":"CLEAN(CCA!C48)","v":"BRB - BANCO DE BRASILIA S/A"},{"$f":"CLEAN(CCA!D48)","v":"LFSN22002N6"},{"$f":"CLEAN(CCA!E48)","v":"Lei 12.249/2010 - Resolução 4.955/2021 do CMN"},{"$f":"CLEAN(CCA!F48)","v":"Nível II"},{"$f":"CLEAN(CCA!G48)","v":"Nível II"},{"$f":"CLEAN(CCA!H48)","v":"Conglomerado"},{"$f":"CLEAN(CCA!I48)","v":"Letra financeira"},{"$f":"CCA!J48","v":32725955.059999999},{"$f":"CCA!K48","v":24000000},{"$f":"CLEAN(CCA!L48)","v":"passivo - custo amortizado"},{"$f":"CCA!M48","v":"2022-03-11"},{"$f":"CLEAN(CCA!N48)","v":"Com vencimento"},{"$f":"CCA!O48","v":"2029-03-12"},{"$f":"CLEAN(CCA!P48)","v":"Não"},{"$f":"CLEAN(CCA!Q48)","v":"(1) Não há uma data específica, apenas quando for solicitado ao Bacen"},{"$f":"CLEAN(CCA!R48)","v":"(2) Não há vinculação regulatória ou fiscal para resgate ou recompra"},{"$f":"CLEAN(CCA!S48)","v":"(3) O valor pode ser parcial ou total, conforme autorização do Bacen"},{"$f":"CLEAN(CCA!T48)","v":"Não se aplica"},{"$f":"CLEAN(CCA!U48)","v":"Fixo"},{"$f":"CLEAN(CCA!V48)","v":"140% CDI"},{"$f":"CLEAN(CCA!W48)","v":"Não"},{"$f":"CLEAN(CCA!X48)","v":"Mandatório"},{"$f":"CLEAN(CCA!Y48)","v":"Não"},{"$f":"CLEAN(CCA!Z48)","v":"Cumulativo"},{"$f":"CLEAN(CCA!AA48)","v":"Não conversível"},{"$f":"CLEAN(CCA!AB48)","v":"Não se aplica"},{"$f":"CLEAN(CCA!AC48)","v":"Não se aplica"},{"$f":"CLEAN(CCA!AD48)","v":"Não se aplica"},{"$f":"CLEAN(CCA!AE48)","v":"Não se aplica"},{"$f":"CLEAN(CCA!AF48)","v":"Não se aplica"},{"$f":"CLEAN(CCA!AG48)","v":"Não se aplica"},{"$f":"CLEAN(CCA!AH48)","v":"Sim"},{"$f":"CLEAN(CCA!AI48)","v":"Os títulos serão extintos, permanente e em valor no mínimo correspondente ao saldo computado no Nível II do Patrimônio de Referência do BRB – Banco de Brasília S.A nas seguintes condições:         1. seja verificada a divulgação pelo BRB – Banco de Brasília S.A. de que seu Capital Principal está em patamar inferior a 4,5% (quatro inteiros e cinco décimos por cento) do montante RWA, estabelecida pela regulamentação vigente; ou2. seja verificada, em lei específica, a assinatura de compromisso de aporte para o BRB – Banco de Brasília S.A.;3. seja decretado pelo BACEN o regime de administração especial temporária ou intervenção do BRB – Banco de Brasília S.A.; ou4. seja determinado pelo BACEN, segundo critérios estabelecidos em regulamento específico editado pelo Conselho Monetário Nacional,a extinção do instrumento."},{"$f":"CLEAN(CCA!AJ48)","v":"Totalmente"},{"$f":"CLEAN(CCA!AK48)","v":"Permanente"},{"$f":"CLEAN(CCA!AL48)","v":"Contratual"},{"$f":"CLEAN(CCA!AM48)","v":"Não"},{"$f":"CLEAN(CCA!AN48)","v":"Não"},{"$f":"CLEAN(CCA!AO48)","v":"Não se aplica"},"sem comentários"]
["CCA","20234T",{"$f":"EOMONTH(CCA!$C$4,0)","v":"2023-12-31"},{"$f":"CLEAN(CCA!C49)","v":"BRB - BANCO DE BRASILIA S/A"},{"$f":"CLEAN(CCA!D49)","v":"LFSN22002N7"},{"$f":"CLEAN(CCA!E49)","v":"Lei 12.249/2010 - Resolução 4.955/2021 do CMN"},{"$f":"CLEAN(CCA!F49)","v":"Nível II"},{"$f":"CLEAN(CCA!G49)","v":"Nível II"},{"$f":"CLEAN(CCA!H49)","v":"Conglomerado"},{"$f":"CLEAN(CCA!I49)","v":"Letra financeira"},{"$f":"CCA!J49","v":25892493.144000001},{"$f":"CCA!K49","v":24000000},{"$f":"CLEAN(CCA!L49)","v":"passivo - custo amortizado"},{"$f":"CCA!M49","v":"2022-03-11"},{"$f":"CLEAN(CCA!N49)","v":"Com vencimento"},{"$f":"CCA!O49","v":"2028-03-13"},{"$f":"CLEAN(CCA!P49)","v":"Não"},{"$f":"CLEAN(CCA!Q49)","v":"(1) Não há uma data específica, apenas quando for solicitado ao Bacen"},{"$f":"CLEAN(CCA!R49)","v":"(2) Não há vinculação regulatória ou fiscal para resgate ou recompra"},{"$f":"CLEAN(CCA!S49)","v":"(3) O valor pode ser parcial ou total, conforme autorização do Bacen"},{"$f":"CLEAN(CCA!T49)","v":"Não se aplica"},{"$f":"CLEAN(CCA!U49)","v":"Fixo"},{"$f":"CLEAN(CCA!V49)","v":"135% CDI"},{"$f":"CLEAN(CCA!W49)","v":"Não"},{"$f":"CLEAN(CCA!X49)","v":"Mandatório"},{"$f":"CLEAN(CCA!Y49)","v":"Não"},{"$f":"CLEAN(CCA!Z49)","v":"Cumulativo"},{"$f":"CLEAN(CCA!AA49)","v":"Não conversível"},{"$f":"CLEAN(CCA!AB49)","v":"Não se aplica"},{"$f":"CLEAN(CCA!AC49)","v":"Não se aplica"},{"$f":"CLEAN(CCA!AD49)","v":"Não se aplica"},{"$f":"CLEAN(CCA!AE49)","v":"Não se aplica"},{"$f":"CLEAN(CCA!AF49)","v":"Não se aplica"},{"$f":"CLEAN(CCA!AG49)","v":"Não se aplica"},{"$f":"CLEAN(CCA!AH49)","v":"Sim"},{"$f":"CLEAN(CCA!AI49)","v":"Os títulos serão extintos, permanente e em valor no mínimo correspondente ao saldo computado no Nível II do Patrimônio de Referência do BRB – Banco de Brasília S.A nas seguintes condições:         1. seja verificada a divulgação pelo BRB – Banco de Brasília S.A. de que seu Capital Principal está em patamar inferior a 4,5% (quatro inteiros e cinco décimos por cento) do montante RWA, estabelecida pela regulamentação vigente; ou2. seja verificada, em lei específica, a assinatura de compromisso de aporte para o BRB – Banco de Brasília S.A.;3. seja decretado pelo BACEN o regime de administração especial temporária ou intervenção do BRB – Banco de Brasília S.A.; ou4. seja determinado pelo BACEN, segundo critérios estabelecidos em regulamento específico editado pelo Conselho Monetário Nacional,a extinção do instrumento."},{"$f":"CLEAN(CCA!AJ49)","v":"Totalmente"},{"$f":"CLEAN(CCA!AK49)","v":"Permanente"},{"$f":"CLEAN(CCA!AL49)","v":"Contratual"},{"$f":"CLEAN(CCA!AM49)","v":"Não"},{"$f":"CLEAN(CCA!AN49)","v":"Não"},{"$f":"CLEAN(CCA!AO49)","v":"Não se aplica"},"sem comentários"]
["CCA","20234T",{"$f":"EOMONTH(CCA!$C$4,0)","v":"2023-12-31"},{"$f":"CLEAN(CCA!C50)","v":"BRB - BANCO DE BRASILIA S/A"},{"$f":"CLEAN(CCA!D50)","v":"LFSN23005EH"},{"$f":"CLEAN(CCA!E50)","v":"Lei 12.249/2010 - Resolução 4.955/2021 do CMN"},{"$f":"CLEAN(CCA!F50)","v":"Nível II"},{"$f":"CLEAN(CCA!G50)","v":"Nível II"},{"$f":"CLEAN(CCA!H50)","v":"Conglomerado"},{"$f":"CLEAN(CCA!I50)","v":"Letra financeira"},{"$f":"CCA!J50","v":3111430.13},{"$f":"CCA!K50","v":2700000},{"$f":"CLEAN(CCA!L50)","v":"passivo - custo amortizado"},{"$f":"CCA!M50","v":"2023-01-31"},{"$f":"CLEAN(CCA!N50)","v":"Com vencimento"},{"$f":"CCA!O50","v":"2029-01-31"},{"$f":"CLEAN(CCA!P50)","v":"Não"},{"$f":"CLEAN(CCA!Q50)","v":"(1) Não há uma data específica, apenas quando for solicitado ao Bacen"},{"$f":"CLEAN(CCA!R50)","v":"(2) Não há vinculação regulatória ou fiscal para resgate ou recompra"},{"$f":"CLEAN(CCA!S50)","v":"(3) O valor pode ser parcial ou total, conforme autorização do Bacen"},{"$f":"CLEAN(CCA!T50)","v":"Não se aplica"},{"$f":"CLEAN(CCA!U50)","v":"Fixo"},{"$f":"CLEAN(CCA!V50)","v":"127% CDI"},{"$f":"CLEAN(CCA!W50)","v":"Não"},{"$f":"CLEAN(CCA!X50)","v":"Mandatório"},{"$f":"CLEAN(CCA!Y50)","v":"Não"},{"$f":"CLEAN(CCA!Z50)","v":"Cumulativo"},{"$f":"CLEAN(CCA!AA50)","v":"Não conversível"},{"$f":"CLEAN(CCA!AB50)","v":"Não se aplica"},{"$f":"CLEAN(CCA!AC50)","v":"Não se aplica"},{"$f":"CLEAN(CCA!AD50)","v":"Não se aplica"},{"$f":"CLEAN(CCA!AE50)","v":"Não se aplica"},{"$f":"CLEAN(CCA!AF50)","v":"Não se aplica"},{"$f":"CLEAN(CCA!AG50)","v":"Não se aplica"},{"$f":"CLEAN(CCA!AH50)","v":"Sim"},{"$f":"CLEAN(CCA!AI50)","v":"Os títulos serão extintos, permanente e em valor no mínimo correspondente ao saldo computado no Nível II do Patrimônio de Referência do BRB – Banco de Brasília S.A nas seguintes condições:         1. seja verificada a divulgação pelo BRB – Banco de Brasília S.A. de que seu Capital Principal está em patamar inferior a 4,5% (quatro inteiros e cinco décimos por cento) do montante RWA, estabelecida pela regulamentação vigente; ou2. seja verificada, em lei específica, a assinatura de compromisso de aporte para o BRB – Banco de Brasília S.A.;3. seja decretado pelo BACEN o regime de administração especial temporária ou intervenção do BRB – Banco de Brasília S.A.; ou4. seja determinado pelo BACEN, segundo critérios estabelecidos em regulamento específico editado pelo Conselho Monetário Nacional,a extinção do instrumento."},{"$f":"CLEAN(CCA!AJ50)","v":"Totalmente"},{"$f":"CLEAN(CCA!AK50)","v":"Permanente"},{"$f":"CLEAN(CCA!AL50)","v":"Contratual"},{"$f":"CLEAN(CCA!AM50)","v":"Não"},{"$f":"CLEAN(CCA!AN50)","v":"Não"},{"$f":"CLEAN(CCA!AO50)","v":"Não se aplica"},"sem comentários"]
["CCA","20234T",{"$f":"EOMONTH(CCA!$C$4,0)","v":"2023-12-31"},{"$f":"CLEAN(CCA!C51)","v":"BRB - BANCO DE BRASILIA S/A"},{"$f":"CLEAN(CCA!D51)","v":"LFSN23005K1"},{"$f":"CLEAN(CCA!E51)","v":"Lei 12.249/2010 - Resolução 4.955/2021 do CMN"},{"$f":"CLEAN(CCA!F51)","v":"Nível II"},{"$f":"CLEAN(CCA!G51)","v":"Nível II"},{"$f":"CLEAN(CCA!H51)","v":"Conglomerado"},{"$f":"CLEAN(CCA!I51)","v":"Letra financeira"},{"$f":"CCA!J51","v":11780566.43},{"$f":"CCA!K51","v":10200000},{"$f":"CLEAN(CCA!L51)","v":"passivo - custo amortizado"},{"$f":"CCA!M51","v":"2023-01-31"},{"$f":"CLEAN(CCA!N51)","v":"Com vencimento"},{"$f":"CCA!O51","v":"2030-01-31"},{"$f":"CLEAN(CCA!P51)","v":"Não"},{"$f":"CLEAN(CCA!Q51)","v":"(1) Não há uma data específica, apenas quando for solicitado ao Bacen"},{"$f":"CLEAN(CCA!R51)","v":"(2) Não há vinculação regulatória ou fiscal para resgate ou recompra"},{"$f":"CLEAN(CCA!S51)","v":"(3) O valor pode ser parcial ou total, conforme autorização do Bacen"},{"$f":"CLEAN(CCA!T51)","v":"Não se aplica"},{"$f":"CLEAN(CCA!U51)","v":"Fixo"},{"$f":"CLEAN(CCA!V51)","v":"129% CDI"},{"$f":"CLEAN(CCA!W51)","v":"Não"},{"$f":"CLEAN(CCA!X51)","v":"Mandatório"},{"$f":"CLEAN(CCA!Y51)","v":"Não"},{"$f":"CLEAN(CCA!Z51)","v":"Cumulativo"},{"$f":"CLEAN(CCA!AA51)","v":"Não conversível"},{"$f":"CLEAN(CCA!AB51)","v":"Não se aplica"},{"$f":"CLEAN(CCA!AC51)","v":"Não se aplica"},{"$f":"CLEAN(CCA!AD51)","v":"Não se aplica"},{"$f":"CLEAN(CCA!AE51)","v":"Não se aplica"},{"$f":"CLEAN(CCA!AF51)","v":"Não se aplica"},{"$f":"CLEAN(CCA!AG51)","v":"Não se aplica"},{"$f":"CLEAN(CCA!AH51)","v":"Sim"},{"$f":"CLEAN(CCA!AI51)","v":"Os títulos serão extintos, permanente e em valor no mínimo correspondente ao saldo computado no Nível II do Patrimônio de Referência do BRB – Banco de Brasília S.A nas seguintes condições:         1. seja verificada a divulgação pelo BRB – Banco de Brasília S.A. de que seu Capital Principal está em patamar inferior a 4,5% (quatro inteiros e cinco décimos por cento) do montante RWA, estabelecida pela regulamentação vigente; ou2. seja verificada, em lei específica, a assinatura de compromisso de aporte para o BRB – Banco de Brasília S.A.;3. seja decretado pelo BACEN o regime de administração especial temporária ou intervenção do BRB – Banco de Brasília S.A.; ou4. seja determinado pelo BACEN, segundo critérios estabelecidos em regulamento específico editado pelo Conselho Monetário Nacional,a extinção do instrumento."},{"$f":"CLEAN(CCA!AJ51)","v":"Totalmente"},{"$f":"CLEAN(CCA!AK51)","v":"Permanente"},{"$f":"CLEAN(CCA!AL51)","v":"Contratual"},{"$f":"CLEAN(CCA!AM51)","v":"Não"},{"$f":"CLEAN(CCA!AN51)","v":"Não"},{"$f":"CLEAN(CCA!AO51)","v":"Não se aplica"},"sem comentários"]
["CCA","20234T",{"$f":"EOMONTH(CCA!$C$4,0)","v":"2023-12-31"},{"$f":"CLEAN(CCA!C52)","v":"BRB - BANCO DE BRASILIA S/A"},{"$f":"CLEAN(CCA!D52)","v":"LFSN2200ASZ"},{"$f":"CLEAN(CCA!E52)","v":"Lei 12.249/2010 - Resolução 4.955/2021 do CMN"},{"$f":"CLEAN(CCA!F52)","v":"Nível II"},{"$f":"CLEAN(CCA!G52)","v":"Nível II"},{"$f":"CLEAN(CCA!H52)","v":"Conglomerado"},{"$f":"CLEAN(CCA!I52)","v":"Letra financeira"},{"$f":"CCA!J52","v":51094297.520000003},{"$f":"CCA!K52","v":41400000},{"$f":"CLEAN(CCA!L52)","v":"passivo - custo amortizado"},{"$f":"CCA!M52","v":"2022-09-27"},{"$f":"CLEAN(CCA!N52)","v":"Com vencimento"},{"$f":"CCA!O52","v":"2029-09-27"},{"$f":"CLEAN(CCA!P52)","v":"Não"},{"$f":"CLEAN(CCA!Q52)","v":"(1) Não há uma data específica, apenas quando for solicitado ao Bacen"},{"$f":"CLEAN(CCA!R52)","v":"(2) Não há vinculação regulatória ou fiscal para resgate ou recompra"},{"$f":"CLEAN(CCA!S52)","v":"(3) O valor pode ser parcial ou total, conforme autorização do Bacen"},{"$f":"CLEAN(CCA!T52)","v":"Não se aplica"},{"$f":"CLEAN(CCA!U52)","v":"Fixo"},{"$f":"CLEAN(CCA!V52)","v":"135% CDI"},{"$f":"CLEAN(CCA!W52)","v":"Não"},{"$f":"CLEAN(CCA!X52)","v":"Mandatório"},{"$f":"CLEAN(CCA!Y52)","v":"Não"},{"$f":"CLEAN(CCA!Z52)","v":"Cumulativo"},{"$f":"CLEAN(CCA!AA52)","v":"Não conversível"},{"$f":"CLEAN(CCA!AB52)","v":"Não se aplica"},{"$f":"CLEAN(CCA!AC52)","v":"Não se aplica"},{"$f":"CLEAN(CCA!AD52)","v":"Não se aplica"},{"$f":"CLEAN(CCA!AE52)","v":"Não se aplica"},{"$f":"CLEAN(CCA!AF52)","v":"Não se aplica"},{"$f":"CLEAN(CCA!AG52)","v":"Não se aplica"},{"$f":"CLEAN(CCA!AH52)","v":"Sim"},{"$f":"CLEAN(CCA!AI52)","v":"Os títulos serão extintos, permanente e em valor no mínimo correspondente ao saldo computado no Nível II do Patrimônio de Referência do BRB – Banco de Brasília S.A nas seguintes condições:         1. seja verificada a divulgação pelo BRB – Banco de Brasília S.A. de que seu Capital Principal está em patamar inferior a 4,5% (quatro inteiros e cinco décimos por cento) do montante RWA, estabelecida pela regulamentação vigente; ou2. seja verificada, em lei específica, a assinatura de compromisso de aporte para o BRB – Banco de Brasília S.A.;3. seja decretado pelo BACEN o regime de administração especial temporária ou intervenção do BRB – Banco de Brasília S.A.; ou4. seja determinado pelo BACEN, segundo critérios estabelecidos em regulamento específico editado pelo Conselho Monetário Nacional,a extinção do instrumento."},{"$f":"CLEAN(CCA!AJ52)","v":"Totalmente"},{"$f":"CLEAN(CCA!AK52)","v":"Permanente"},{"$f":"CLEAN(CCA!AL52)","v":"Contratual"},{"$f":"CLEAN(CCA!AM52)","v":"Não"},{"$f":"CLEAN(CCA!AN52)","v":"Não"},{"$f":"CLEAN(CCA!AO52)","v":"Não se aplica"},"sem comentários"]
["CCA","20234T",{"$f":"EOMONTH(CCA!$C$4,0)","v":"2023-12-31"},{"$f":"CLEAN(CCA!C53)","v":"BRB - BANCO DE BRASILIA S/A"},{"$f":"CLEAN(CCA!D53)","v":"LFSN2200AT0"},{"$f":"CLEAN(CCA!E53)","v":"Lei 12.249/2010 - Resolução 4.955/2021 do CMN"},{"$f":"CLEAN(CCA!F53)","v":"Nível II"},{"$f":"CLEAN(CCA!G53)","v":"Nível II"},{"$f":"CLEAN(CCA!H53)","v":"Conglomerado"},{"$f":"CLEAN(CCA!I53)","v":"Letra financeira"},{"$f":"CCA!J53","v":10687140.439999999},{"$f":"CCA!K53","v":8700000},{"$f":"CLEAN(CCA!L53)","v":"passivo - custo amortizado"},{"$f":"CCA!M53","v":"2022-09-27"},{"$f":"CLEAN(CCA!N53)","v":"Com vencimento"},{"$f":"CCA!O53","v":"2029-09-27"},{"$f":"CLEAN(CCA!P53)","v":"Não"},{"$f":"CLEAN(CCA!Q53)","v":"(1) Não há uma data específica, apenas quando for solicitado ao Bacen"},{"$f":"CLEAN(CCA!R53)","v":"(2) Não há vinculação regulatória ou fiscal para resgate ou recompra"},{"$f":"CLEAN(CCA!S53)","v":"(3) O valor pode ser parcial ou total, conforme autorização do Bacen"},{"$f":"CLEAN(CCA!T53)","v":"Não se aplica"},{"$f":"CLEAN(CCA!U53)","v":"Fixo"},{"$f":"CLEAN(CCA!V53)","v":"132% CDI"},{"$f":"CLEAN(CCA!W53)","v":"Não"},{"$f":"CLEAN(CCA!X53)","v":"Mandatório"},{"$f":"CLEAN(CCA!Y53)","v":"Não"},{"$f":"CLEAN(CCA!Z53)","v":"Cumulativo"},{"$f":"CLEAN(CCA!AA53)","v":"Não conversível"},{"$f":"CLEAN(CCA!AB53)","v":"Não se aplica"},{"$f":"CLEAN(CCA!AC53)","v":"Não se aplica"},{"$f":"CLEAN(CCA!AD53)","v":"Não se aplica"},{"$f":"CLEAN(CCA!AE53)","v":"Não se aplica"},{"$f":"CLEAN(CCA!AF53)","v":"Não se aplica"},{"$f":"CLEAN(CCA!AG53)","v":"Não se aplica"},{"$f":"CLEAN(CCA!AH53)","v":"Sim"},{"$f":"CLEAN(CCA!AI53)","v":"Os títulos serão extintos, permanente e em valor no mínimo correspondente ao saldo computado no Nível II do Patrimônio de Referência do BRB – Banco de Brasília S.A nas seguintes condições:         1. seja verificada a divulgação pelo BRB – Banco de Brasília S.A. de que seu Capital Principal está em patamar inferior a 4,5% (quatro inteiros e cinco décimos por cento) do montante RWA, estabelecida pela regulamentação vigente; ou2. seja verificada, em lei específica, a assinatura de compromisso de aporte para o BRB – Banco de Brasília S.A.;3. seja decretado pelo BACEN o regime de administração especial temporária ou intervenção do BRB – Banco de Brasília S.A.; ou4. seja determinado pelo BACEN, segundo critérios estabelecidos em regulamento específico editado pelo Conselho Monetário Nacional,a extinção do instrumento."},{"$f":"CLEAN(CCA!AJ53)","v":"Totalmente"},{"$f":"CLEAN(CCA!AK53)","v":"Permanente"},{"$f":"CLEAN(CCA!AL53)","v":"Contratual"},{"$f":"CLEAN(CCA!AM53)","v":"Não"},{"$f":"CLEAN(CCA!AN53)","v":"Não"},{"$f":"CLEAN(CCA!AO53)","v":"Não se aplica"},"sem comentários"]
["CCA","20234T",{"$f":"EOMONTH(CCA!$C$4,0)","v":"2023-12-31"},{"$f":"CLEAN(CCA!C54)","v":"BRB - BANCO DE BRASILIA S/A"},{"$f":"CLEAN(CCA!D54)","v":"LFSN22006SV"},{"$f":"CLEAN(CCA!E54)","v":"Lei 12.249/2010 - Resolução 4.955/2021 do CMN"},{"$f":"CLEAN(CCA!F54)","v":"Nível II"},{"$f":"CLEAN(CCA!G54)","v":"Nível II"},{"$f":"CLEAN(CCA!H54)","v":"Conglomerado"},{"$f":"CLEAN(CCA!I54)","v":"Letra financeira"},{"$f":"CCA!J54","v":5078092.28},{"$f":"CCA!K54","v":5000000},{"$f":"CLEAN(CCA!L54)","v":"passivo - custo amortizado"},{"$f":"CCA!M54","v":"2022-05-25"},{"$f":"CLEAN(CCA!N54)","v":"Com vencimento"},{"$f":"CCA!O54","v":"2028-05-25"},{"$f":"CLEAN(CCA!P54)","v":"Não"},{"$f":"CLEAN(CCA!Q54)","v":"(1) Não há uma data específica, apenas quando for solicitado ao Bacen"},{"$f":"CLEAN(CCA!R54)","v":"(2) Não há vinculação regulatória ou fiscal para resgate ou recompra"},{"$f":"CLEAN(CCA!S54)","v":"(3) O valor pode ser parcial ou total, conforme autorização do Bacen"},{"$f":"CLEAN(CCA!T54)","v":"Não se aplica"},{"$f":"CLEAN(CCA!U54)","v":"Fixo"},{"$f":"CLEAN(CCA!V54)","v":"120% CDI"},{"$f":"CLEAN(CCA!W54)","v":"Não"},{"$f":"CLEAN(CCA!X54)","v":"Mandatório"},{"$f":"CLEAN(CCA!Y54)","v":"Não"},{"$f":"CLEAN(CCA!Z54)","v":"Cumulativo"},{"$f":"CLEAN(CCA!AA54)","v":"Não conversível"},{"$f":"CLEAN(CCA!AB54)","v":"Não se aplica"},{"$f":"CLEAN(CCA!AC54)","v":"Não se aplica"},{"$f":"CLEAN(CCA!AD54)","v":"Não se aplica"},{"$f":"CLEAN(CCA!AE54)","v":"Não se aplica"},{"$f":"CLEAN(CCA!AF54)","v":"Não se aplica"},{"$f":"CLEAN(CCA!AG54)","v":"Não se aplica"},{"$f":"CLEAN(CCA!AH54)","v":"Sim"},{"$f":"CLEAN(CCA!AI54)","v":"Os títulos serão extintos, permanente e em valor no mínimo correspondente ao saldo computado no Nível II do Patrimônio de Referência do BRB – Banco de Brasília S.A nas seguintes condições:         1. seja verificada a divulgação pelo BRB – Banco de Brasília S.A. de que seu Capital Principal está em patamar inferior a 4,5% (quatro inteiros e cinco décimos por cento) do montante RWA, estabelecida pela regulamentação vigente; ou2. seja verificada, em lei específica, a assinatura de compromisso de aporte para o BRB – Banco de Brasília S.A.;3. seja decretado pelo BACEN o regime de administração especial temporária ou intervenção do BRB – Banco de Brasília S.A.; ou4. seja determinado pelo BACEN, segundo critérios estabelecidos em regulamento específico editado pelo Conselho Monetário Nacional,a extinção do instrumento."},{"$f":"CLEAN(CCA!AJ54)","v":"Totalmente"},{"$f":"CLEAN(CCA!AK54)","v":"Permanente"},{"$f":"CLEAN(CCA!AL54)","v":"Contratual"},{"$f":"CLEAN(CCA!AM54)","v":"Não"},{"$f":"CLEAN(CCA!AN54)","v":"Não"},{"$f":"CLEAN(CCA!AO54)","v":"Não se aplica"},"sem comentários"]
["CCA","20234T",{"$f":"EOMONTH(CCA!$C$4,0)","v":"2023-12-31"},{"$f":"CLEAN(CCA!C55)","v":"BRB - BANCO DE BRASILIA S/A"},{"$f":"CLEAN(CCA!D55)","v":"LFSN2200C6Z"},{"$f":"CLEAN(CCA!E55)","v":"Lei 12.249/2010 - Resolução 4.955/2021 do CMN"},{"$f":"CLEAN(CCA!F55)","v":"Nível II"},{"$f":"CLEAN(CCA!G55)","v":"Nível II"},{"$f":"CLEAN(CCA!H55)","v":"Conglomerado"},{"$f":"CLEAN(CCA!I55)","v":"Letra financeira"},{"$f":"CCA!J55","v":13441767.736000001},{"$f":"CCA!K55","v":14000000},{"$f":"CLEAN(CCA!L55)","v":"passivo - custo amortizado"},{"$f":"CCA!M55","v":"2022-11-01"},{"$f":"CLEAN(CCA!N55)","v":"Com vencimento"},{"$f":"CCA!O55","v":"2028-11-01"},{"$f":"CLEAN(CCA!P55)","v":"Não"},{"$f":"CLEAN(CCA!Q55)","v":"(1) Não há uma data específica, apenas quando for solicitado ao Bacen"},{"$f":"CLEAN(CCA!R55)","v":"(2) Não há vinculação regulatória ou fiscal para resgate ou recompra"},{"$f":"CLEAN(CCA!S55)","v":"(3) O valor pode ser parcial ou total, conforme autorização do Bacen"},{"$f":"CLEAN(CCA!T55)","v":"Não se aplica"},{"$f":"CLEAN(CCA!U55)","v":"Fixo"},{"$f":"CLEAN(CCA!V55)","v":"127% CDI"},{"$f":"CLEAN(CCA!W55)","v":"Não"},{"$f":"CLEAN(CCA!X55)","v":"Mandatório"},{"$f":"CLEAN(CCA!Y55)","v":"Não"},{"$f":"CLEAN(CCA!Z55)","v":"Cumulativo"},{"$f":"CLEAN(CCA!AA55)","v":"Não conversível"},{"$f":"CLEAN(CCA!AB55)","v":"Não se aplica"},{"$f":"CLEAN(CCA!AC55)","v":"Não se aplica"},{"$f":"CLEAN(CCA!AD55)","v":"Não se aplica"},{"$f":"CLEAN(CCA!AE55)","v":"Não se aplica"},{"$f":"CLEAN(CCA!AF55)","v":"Não se aplica"},{"$f":"CLEAN(CCA!AG55)","v":"Não se aplica"},{"$f":"CLEAN(CCA!AH55)","v":"Sim"},{"$f":"CLEAN(CCA!AI55)","v":"Os títulos serão extintos, permanente e em valor no mínimo correspondente ao saldo computado no Nível II do Patrimônio de Referência do BRB – Banco de Brasília S.A nas seguintes condições:         1. seja verificada a divulgação pelo BRB – Banco de Brasília S.A. de que seu Capital Principal está em patamar inferior a 4,5% (quatro inteiros e cinco décimos por cento) do montante RWA, estabelecida pela regulamentação vigente; ou2. seja verificada, em lei específica, a assinatura de compromisso de aporte para o BRB – Banco de Brasília S.A.;3. seja decretado pelo BACEN o regime de administração especial temporária ou intervenção do BRB – Banco de Brasília S.A.; ou4. seja determinado pelo BACEN, segundo critérios estabelecidos em regulamento específico editado pelo Conselho Monetário Nacional,a extinção do instrumento."},{"$f":"CLEAN(CCA!AJ55)","v":"Totalmente"},{"$f":"CLEAN(CCA!AK55)","v":"Permanente"},{"$f":"CLEAN(CCA!AL55)","v":"Contratual"},{"$f":"CLEAN(CCA!AM55)","v":"Não"},{"$f":"CLEAN(CCA!AN55)","v":"Não"},{"$f":"CLEAN(CCA!AO55)","v":"Não se aplica"},"sem comentários"]
["CCA","20234T",{"$f":"EOMONTH(CCA!$C$4,0)","v":"2023-12-31"},{"$f":"CLEAN(CCA!C56)","v":"BRB - BANCO DE BRASILIA S/A"},{"$f":"CLEAN(CCA!D56)","v":"LFSN20009F8"},{"$f":"CLEAN(CCA!E56)","v":"Lei 12.249/2010 - Resolução 4.955/2021 do CMN"},{"$f":"CLEAN(CCA!F56)","v":"Nível II"},{"$f":"CLEAN(CCA!G56)","v":"Nível II"},{"$f":"CLEAN(CCA!H56)","v":"Conglomerado"},{"$f":"CLEAN(CCA!I56)","v":"Letra financeira"},{"$f":"CCA!J56","v":8472036.6300000008},{"$f":"CCA!K56","v":9495766.6199999992},{"$f":"CLEAN(CCA!L56)","v":"passivo - custo amortizado"},{"$f":"CCA!M56","v":"2020-12-14"},{"$f":"CLEAN(CCA!N56)","v":"Com vencimento"},{"$f":"CCA!O56","v":"2027-12-14"},{"$f":"CLEAN(CCA!P56)","v":"Não"},{"$f":"CLEAN(CCA!Q56)","v":"(1) Não há uma data específica, apenas quando for solicitado ao Bacen"},{"$f":"CLEAN(CCA!R56)","v":"(2) Não há vinculação regulatória ou fiscal para resgate ou recompra"},{"$f":"CLEAN(CCA!S56)","v":"(3) O valor pode ser parcial ou total, conforme autorização do Bacen"},{"$f":"CLEAN(CCA!T56)","v":"Não se aplica"},{"$f":"CLEAN(CCA!U56)","v":"Fixo"},{"$f":"CLEAN(CCA!V56)","v":"140% CDI"},{"$f":"CLEAN(CCA!W56)","v":"Não"},{"$f":"CLEAN(CCA!X56)","v":"Mandatório"},{"$f":"CLEAN(CCA!Y56)","v":"Não"},{"$f":"CLEAN(CCA!Z56)","v":"Cumulativo"},{"$f":"CLEAN(CCA!AA56)","v":"Não conversível"},{"$f":"CLEAN(CCA!AB56)","v":"Não se aplica"},{"$f":"CLEAN(CCA!AC56)","v":"Não se aplica"},{"$f":"CLEAN(CCA!AD56)","v":"Não se aplica"},{"$f":"CLEAN(CCA!AE56)","v":"Não se aplica"},{"$f":"CLEAN(CCA!AF56)","v":"Não se aplica"},{"$f":"CLEAN(CCA!AG56)","v":"Não se aplica"},{"$f":"CLEAN(CCA!AH56)","v":"Sim"},{"$f":"CLEAN(CCA!AI56)","v":"Os títulos serão extintos, permanente e em valor no mínimo correspondente ao saldo computado no Nível II do Patrimônio de Referência do BRB – Banco de Brasília S.A nas seguintes condições:         1. seja verificada a divulgação pelo BRB – Banco de Brasília S.A. de que seu Capital Principal está em patamar inferior a 4,5% (quatro inteiros e cinco décimos por cento) do montante RWA, estabelecida pela regulamentação vigente; ou2. seja verificada, em lei específica, a assinatura de compromisso de aporte para o BRB – Banco de Brasília S.A.;3. seja decretado pelo BACEN o regime de administração especial temporária ou intervenção do BRB – Banco de Brasília S.A.; ou4. seja determinado pelo BACEN, segundo critérios estabelecidos em regulamento específico editado pelo Conselho Monetário Nacional,a extinção do instrumento."},{"$f":"CLEAN(CCA!AJ56)","v":"Totalmente"},{"$f":"CLEAN(CCA!AK56)","v":"Permanente"},{"$f":"CLEAN(CCA!AL56)","v":"Contratual"},{"$f":"CLEAN(CCA!AM56)","v":"Não"},{"$f":"CLEAN(CCA!AN56)","v":"Não"},{"$f":"CLEAN(CCA!AO56)","v":"Não se aplica"},"sem comentários"]
["CCA","20234T",{"$f":"EOMONTH(CCA!$C$4,0)","v":"2023-12-31"},{"$f":"CLEAN(CCA!C57)","v":"BRB - BANCO DE BRASILIA S/A"},{"$f":"CLEAN(CCA!D57)","v":"LFSN20009F9"},{"$f":"CLEAN(CCA!E57)","v":"Lei 12.249/2010 - Resolução 4.955/2021 do CMN"},{"$f":"CLEAN(CCA!F57)","v":"Nível II"},{"$f":"CLEAN(CCA!G57)","v":"Nível II"},{"$f":"CLEAN(CCA!H57)","v":"Conglomerado"},{"$f":"CLEAN(CCA!I57)","v":"Letra financeira"},{"$f":"CCA!J57","v":79121353.571999997},{"$f":"CCA!K57","v":88682089.159999996},{"$f":"CLEAN(CCA!L57)","v":"passivo - custo amortizado"},{"$f":"CCA!M57","v":"2020-12-14"},{"$f":"CLEAN(CCA!N57)","v":"Com vencimento"},{"$f":"CCA!O57","v":"2027-12-14"},{"$f":"CLEAN(CCA!P57)","v":"Não"},{"$f":"CLEAN(CCA!Q57)","v":"(1) Não há uma data específica, apenas quando for solicitado ao Bacen"},{"$f":"CLEAN(CCA!R57)","v":"(2) Não há vinculação regulatória ou fiscal para resgate ou recompra"},{"$f":"CLEAN(CCA!S57)","v":"(3) O valor pode ser parcial ou total, conforme autorização do Bacen"},{"$f":"CLEAN(CCA!T57)","v":"Não se aplica"},{"$f":"CLEAN(CCA!U57)","v":"Fixo"},{"$f":"CLEAN(CCA!V57)","v":"140% CDI"},{"$f":"CLEAN(CCA!W57)","v":"Não"},{"$f":"CLEAN(CCA!X57)","v":"Mandatório"},{"$f":"CLEAN(CCA!Y57)","v":"Não"},{"$f":"CLEAN(CCA!Z57)","v":"Cumulativo"},{"$f":"CLEAN(CCA!AA57)","v":"Não conversível"},{"$f":"CLEAN(CCA!AB57)","v":"Não se aplica"},{"$f":"CLEAN(CCA!AC57)","v":"Não se aplica"},{"$f":"CLEAN(CCA!AD57)","v":"Não se aplica"},{"$f":"CLEAN(CCA!AE57)","v":"Não se aplica"},{"$f":"CLEAN(CCA!AF57)","v":"Não se aplica"},{"$f":"CLEAN(CCA!AG57)","v":"Não se aplica"},{"$f":"CLEAN(CCA!AH57)","v":"Sim"},{"$f":"CLEAN(CCA!AI57)","v":"Os títulos serão extintos, permanente e em valor no mínimo correspondente ao saldo computado no Nível II do Patrimônio de Referência do BRB – Banco de Brasília S.A nas seguintes condições:         1. seja verificada a divulgação pelo BRB – Banco de Brasília S.A. de que seu Capital Principal está em patamar inferior a 4,5% (quatro inteiros e cinco décimos por cento) do montante RWA, estabelecida pela regulamentação vigente; ou2. seja verificada, em lei específica, a assinatura de compromisso de aporte para o BRB – Banco de Brasília S.A.;3. seja decretado pelo BACEN o regime de administração especial temporária ou intervenção do BRB – Banco de Brasília S.A.; ou4. seja determinado pelo BACEN, segundo critérios estabelecidos em regulamento específico editado pelo Conselho Monetário Nacional,a extinção do instrumento."},{"$f":"CLEAN(CCA!AJ57)","v":"Totalmente"},{"$f":"CLEAN(CCA!AK57)","v":"Permanente"},{"$f":"CLEAN(CCA!AL57)","v":"Contratual"},{"$f":"CLEAN(CCA!AM57)","v":"Não"},{"$f":"CLEAN(CCA!AN57)","v":"Não"},{"$f":"CLEAN(CCA!AO57)","v":"Não se aplica"},"sem comentários"]
["CCA","20234T",{"$f":"EOMONTH(CCA!$C$4,0)","v":"2023-12-31"},{"$f":"CLEAN(CCA!C58)","v":"BRB - BANCO DE BRASILIA S/A"},{"$f":"CLEAN(CCA!D58)","v":"LFSN23006SI"},{"$f":"CLEAN(CCA!E58)","v":"Lei 12.249/2010 - Resolução 4.955/2021 do CMN"},{"$f":"CLEAN(CCA!F58)","v":"Nível II"},{"$f":"CLEAN(CCA!G58)","v":"Nível II"},{"$f":"CLEAN(CCA!H58)","v":"Conglomerado"},{"$f":"CLEAN(CCA!I58)","v":"Letra financeira"},{"$f":"CCA!J58","v":10008721.49},{"$f":"CCA!K58","v":8700000},{"$f":"CLEAN(CCA!L58)","v":"passivo - custo amortizado"},{"$f":"CCA!M58","v":"2023-02-08"},{"$f":"CLEAN(CCA!N58)","v":"Com vencimento"},{"$f":"CCA!O58","v":"2030-02-08"},{"$f":"CLEAN(CCA!P58)","v":"Não"},{"$f":"CLEAN(CCA!Q58)","v":"(1) Não há uma data específica, apenas quando for solicitado ao Bacen"},{"$f":"CLEAN(CCA!R58)","v":"(2) Não há vinculação regulatória ou fiscal para resgate ou recompra"},{"$f":"CLEAN(CCA!S58)","v":"(3) O valor pode ser parcial ou total, conforme autorização do Bacen"},{"$f":"CLEAN(CCA!T58)","v":"Não se aplica"},{"$f":"CLEAN(CCA!U58)","v":"Fixo"},{"$f":"CLEAN(CCA!V58)","v":"129% CDI"},{"$f":"CLEAN(CCA!W58)","v":"Não"},{"$f":"CLEAN(CCA!X58)","v":"Mandatório"},{"$f":"CLEAN(CCA!Y58)","v":"Não"},{"$f":"CLEAN(CCA!Z58)","v":"Cumulativo"},{"$f":"CLEAN(CCA!AA58)","v":"Não conversível"},{"$f":"CLEAN(CCA!AB58)","v":"Não se aplica"},{"$f":"CLEAN(CCA!AC58)","v":"Não se aplica"},{"$f":"CLEAN(CCA!AD58)","v":"Não se aplica"},{"$f":"CLEAN(CCA!AE58)","v":"Não se aplica"},{"$f":"CLEAN(CCA!AF58)","v":"Não se aplica"},{"$f":"CLEAN(CCA!AG58)","v":"Não se aplica"},{"$f":"CLEAN(CCA!AH58)","v":"Sim"},{"$f":"CLEAN(CCA!AI58)","v":"Os títulos serão extintos, permanente e em valor no mínimo correspondente ao saldo computado no Nível II do Patrimônio de Referência do BRB – Banco de Brasília S.A nas seguintes condições:         1. seja verificada a divulgação pelo BRB – Banco de Brasília S.A. de que seu Capital Principal está em patamar inferior a 4,5% (quatro inteiros e cinco décimos por cento) do montante RWA, estabelecida pela regulamentação vigente; ou2. seja verificada, em lei específica, a assinatura de compromisso de aporte para o BRB – Banco de Brasília S.A.;3. seja decretado pelo BACEN o regime de administração especial temporária ou intervenção do BRB – Banco de Brasília S.A.; ou4. seja determinado pelo BACEN, segundo critérios estabelecidos em regulamento específico editado pelo Conselho Monetário Nacional,a extinção do instrumento."},{"$f":"CLEAN(CCA!AJ58)","v":"Totalmente"},{"$f":"CLEAN(CCA!AK58)","v":"Permanente"},{"$f":"CLEAN(CCA!AL58)","v":"Contratual"},{"$f":"CLEAN(CCA!AM58)","v":"Não"},{"$f":"CLEAN(CCA!AN58)","v":"Não"},{"$f":"CLEAN(CCA!AO58)","v":"Não se aplica"},"sem comentários"]
["CCA","20234T",{"$f":"EOMONTH(CCA!$C$4,0)","v":"2023-12-31"},{"$f":"CLEAN(CCA!C59)","v":"BRB - BANCO DE BRASILIA S/A"},{"$f":"CLEAN(CCA!D59)","v":"LFSN2200B9Q"},{"$f":"CLEAN(CCA!E59)","v":"Lei 12.249/2010 - Resolução 4.955/2021 do CMN"},{"$f":"CLEAN(CCA!F59)","v":"Nível II"},{"$f":"CLEAN(CCA!G59)","v":"Nível II"},{"$f":"CLEAN(CCA!H59)","v":"Conglomerado"},{"$f":"CLEAN(CCA!I59)","v":"Letra financeira"},{"$f":"CCA!J59","v":2432240.12},{"$f":"CCA!K59","v":2000000},{"$f":"CLEAN(CCA!L59)","v":"passivo - custo amortizado"},{"$f":"CCA!M59","v":"2022-10-19"},{"$f":"CLEAN(CCA!N59)","v":"Com vencimento"},{"$f":"CCA!O59","v":"2029-10-19"},{"$f":"CLEAN(CCA!P59)","v":"Não"},{"$f":"CLEAN(CCA!Q59)","v":"(1) Não há uma data específica, apenas quando for solicitado ao Bacen"},{"$f":"CLEAN(CCA!R59)","v":"(2) Não há vinculação regulatória ou fiscal para resgate ou recompra"},{"$f":"CLEAN(CCA!S59)","v":"(3) O valor pode ser parcial ou total, conforme autorização do Bacen"},{"$f":"CLEAN(CCA!T59)","v":"Não se aplica"},{"$f":"CLEAN(CCA!U59)","v":"Fixo"},{"$f":"CLEAN(CCA!V59)","v":"132% CDI"},{"$f":"CLEAN(CCA!W59)","v":"Não"},{"$f":"CLEAN(CCA!X59)","v":"Mandatório"},{"$f":"CLEAN(CCA!Y59)","v":"Não"},{"$f":"CLEAN(CCA!Z59)","v":"Cumulativo"},{"$f":"CLEAN(CCA!AA59)","v":"Não conversível"},{"$f":"CLEAN(CCA!AB59)","v":"Não se aplica"},{"$f":"CLEAN(CCA!AC59)","v":"Não se aplica"},{"$f":"CLEAN(CCA!AD59)","v":"Não se aplica"},{"$f":"CLEAN(CCA!AE59)","v":"Não se aplica"},{"$f":"CLEAN(CCA!AF59)","v":"Não se aplica"},{"$f":"CLEAN(CCA!AG59)","v":"Não se aplica"},{"$f":"CLEAN(CCA!AH59)","v":"Sim"},{"$f":"CLEAN(CCA!AI59)","v":"Os títulos serão extintos, permanente e em valor no mínimo correspondente ao saldo computado no Nível II do Patrimônio de Referência do BRB – Banco de Brasília S.A nas seguintes condições:         1. seja verificada a divulgação pelo BRB – Banco de Brasília S.A. de que seu Capital Principal está em patamar inferior a 4,5% (quatro inteiros e cinco décimos por cento) do montante RWA, estabelecida pela regulamentação vigente; ou2. seja verificada, em lei específica, a assinatura de compromisso de aporte para o BRB – Banco de Brasília S.A.;3. seja decretado pelo BACEN o regime de administração especial temporária ou intervenção do BRB – Banco de Brasília S.A.; ou4. seja determinado pelo BACEN, segundo critérios estabelecidos em regulamento específico editado pelo Conselho Monetário Nacional,a extinção do instrumento."},{"$f":"CLEAN(CCA!AJ59)","v":"Totalmente"},{"$f":"CLEAN(CCA!AK59)","v":"Permanente"},{"$f":"CLEAN(CCA!AL59)","v":"Contratual"},{"$f":"CLEAN(CCA!AM59)","v":"Não"},{"$f":"CLEAN(CCA!AN59)","v":"Não"},{"$f":"CLEAN(CCA!AO59)","v":"Não se aplica"},"sem comentários"]
["CCA","20234T",{"$f":"EOMONTH(CCA!$C$4,0)","v":"2023-12-31"},{"$f":"CLEAN(CCA!C60)","v":"BRB - BANCO DE BRASILIA S/A"},{"$f":"CLEAN(CCA!D60)","v":"LFSN210024S"},{"$f":"CLEAN(CCA!E60)","v":"Lei 12.249/2010 - Resolução 4.955/2021 do CMN"},{"$f":"CLEAN(CCA!F60)","v":"Nível II"},{"$f":"CLEAN(CCA!G60)","v":"Nível II"},{"$f":"CLEAN(CCA!H60)","v":"Conglomerado"},{"$f":"CLEAN(CCA!I60)","v":"Letra financeira"},{"$f":"CCA!J60","v":27814794.744000003},{"$f":"CCA!K60","v":50000000},{"$f":"CLEAN(CCA!L60)","v":"passivo - custo amortizado"},{"$f":"CCA!M60","v":"2021-06-28"},{"$f":"CLEAN(CCA!N60)","v":"Com vencimento"},{"$f":"CCA!O60","v":"2026-06-29"},{"$f":"CLEAN(CCA!P60)","v":"Não"},{"$f":"CLEAN(CCA!Q60)","v":"(1) Não há uma data específica, apenas quando for solicitado ao Bacen"},{"$f":"CLEAN(CCA!R60)","v":"(2) Não há vinculação regulatória ou fiscal para resgate ou recompra"},{"$f":"CLEAN(CCA!S60)","v":"(3) O valor pode ser parcial ou total, conforme autorização do Bacen"},{"$f":"CLEAN(CCA!T60)","v":"Não se aplica"},{"$f":"CLEAN(CCA!U60)","v":"Fixo"},{"$f":"CLEAN(CCA!V60)","v":"IPCA + 7%"},{"$f":"CLEAN(CCA!W60)","v":"Não"},{"$f":"CLEAN(CCA!X60)","v":"Mandatório"},{"$f":"CLEAN(CCA!Y60)","v":"Não"},{"$f":"CLEAN(CCA!Z60)","v":"Cumulativo"},{"$f":"CLEAN(CCA!AA60)","v":"Não conversível"},{"$f":"CLEAN(CCA!AB60)","v":"Não se aplica"},{"$f":"CLEAN(CCA!AC60)","v":"Não se aplica"},{"$f":"CLEAN(CCA!AD60)","v":"Não se aplica"},{"$f":"CLEAN(CCA!AE60)","v":"Não se aplica"},{"$f":"CLEAN(CCA!AF60)","v":"Não se aplica"},{"$f":"CLEAN(CCA!AG60)","v":"Não se aplica"},{"$f":"CLEAN(CCA!AH60)","v":"Sim"},{"$f":"CLEAN(CCA!AI60)","v":"Os títulos serão extintos, permanente e em valor no mínimo correspondente ao saldo computado no Nível II do Patrimônio de Referência do BRB – Banco de Brasília S.A nas seguintes condições:         1. seja verificada a divulgação pelo BRB – Banco de Brasília S.A. de que seu Capital Principal está em patamar inferior a 4,5% (quatro inteiros e cinco décimos por cento) do montante RWA, estabelecida pela regulamentação vigente; ou2. seja verificada, em lei específica, a assinatura de compromisso de aporte para o BRB – Banco de Brasília S.A.;3. seja decretado pelo BACEN o regime de administração especial temporária ou intervenção do BRB – Banco de Brasília S.A.; ou4. seja determinado pelo BACEN, segundo critérios estabelecidos em regulamento específico editado pelo Conselho Monetário Nacional,a extinção do instrumento."},{"$f":"CLEAN(CCA!AJ60)","v":"Totalmente"},{"$f":"CLEAN(CCA!AK60)","v":"Permanente"},{"$f":"CLEAN(CCA!AL60)","v":"Contratual"},{"$f":"CLEAN(CCA!AM60)","v":"Não"},{"$f":"CLEAN(CCA!AN60)","v":"Não"},{"$f":"CLEAN(CCA!AO60)","v":"Não se aplica"},"sem comentários"]
["CCA","20234T",{"$f":"EOMONTH(CCA!$C$4,0)","v":"2023-12-31"},{"$f":"CLEAN(CCA!C61)","v":"BRB - BANCO DE BRASILIA S/A"},{"$f":"CLEAN(CCA!D61)","v":"LFSN22009LL"},{"$f":"CLEAN(CCA!E61)","v":"Lei 12.249/2010 - Resolução 4.955/2021 do CMN"},{"$f":"CLEAN(CCA!F61)","v":"Nível II"},{"$f":"CLEAN(CCA!G61)","v":"Nível II"},{"$f":"CLEAN(CCA!H61)","v":"Conglomerado"},{"$f":"CLEAN(CCA!I61)","v":"Letra financeira"},{"$f":"CCA!J61","v":8396220.5840000007},{"$f":"CCA!K61","v":9000000},{"$f":"CLEAN(CCA!L61)","v":"passivo - custo amortizado"},{"$f":"CCA!M61","v":"2022-07-22"},{"$f":"CLEAN(CCA!N61)","v":"Com vencimento"},{"$f":"CCA!O61","v":"2028-07-24"},{"$f":"CLEAN(CCA!P61)","v":"Não"},{"$f":"CLEAN(CCA!Q61)","v":"(1) Não há uma data específica, apenas quando for solicitado ao Bacen"},{"$f":"CLEAN(CCA!R61)","v":"(2) Não há vinculação regulatória ou fiscal para resgate ou recompra"},{"$f":"CLEAN(CCA!S61)","v":"(3) O valor pode ser parcial ou total, conforme autorização do Bacen"},{"$f":"CLEAN(CCA!T61)","v":"Não se aplica"},{"$f":"CLEAN(CCA!U61)","v":"Fixo"},{"$f":"CLEAN(CCA!V61)","v":"IPCA + 8%"},{"$f":"CLEAN(CCA!W61)","v":"Não"},{"$f":"CLEAN(CCA!X61)","v":"Mandatório"},{"$f":"CLEAN(CCA!Y61)","v":"Não"},{"$f":"CLEAN(CCA!Z61)","v":"Cumulativo"},{"$f":"CLEAN(CCA!AA61)","v":"Não conversível"},{"$f":"CLEAN(CCA!AB61)","v":"Não se aplica"},{"$f":"CLEAN(CCA!AC61)","v":"Não se aplica"},{"$f":"CLEAN(CCA!AD61)","v":"Não se aplica"},{"$f":"CLEAN(CCA!AE61)","v":"Não se aplica"},{"$f":"CLEAN(CCA!AF61)","v":"Não se aplica"},{"$f":"CLEAN(CCA!AG61)","v":"Não se aplica"},{"$f":"CLEAN(CCA!AH61)","v":"Sim"},{"$f":"CLEAN(CCA!AI61)","v":"Os títulos serão extintos, permanente e em valor no mínimo correspondente ao saldo computado no Nível II do Patrimônio de Referência do BRB – Banco de Brasília S.A nas seguintes condições:         1. seja verificada a divulgação pelo BRB – Banco de Brasília S.A. de que seu Capital Principal está em patamar inferior a 4,5% (quatro inteiros e cinco décimos por cento) do montante RWA, estabelecida pela regulamentação vigente; ou2. seja verificada, em lei específica, a assinatura de compromisso de aporte para o BRB – Banco de Brasília S.A.;3. seja decretado pelo BACEN o regime de administração especial temporária ou intervenção do BRB – Banco de Brasília S.A.; ou4. seja determinado pelo BACEN, segundo critérios estabelecidos em regulamento específico editado pelo Conselho Monetário Nacional,a extinção do instrumento."},{"$f":"CLEAN(CCA!AJ61)","v":"Totalmente"},{"$f":"CLEAN(CCA!AK61)","v":"Permanente"},{"$f":"CLEAN(CCA!AL61)","v":"Contratual"},{"$f":"CLEAN(CCA!AM61)","v":"Não"},{"$f":"CLEAN(CCA!AN61)","v":"Não"},{"$f":"CLEAN(CCA!AO61)","v":"Não se aplica"},"sem comentários"]
["CCA","20234T",{"$f":"EOMONTH(CCA!$C$4,0)","v":"2023-12-31"},{"$f":"CLEAN(CCA!C62)","v":"BRB - BANCO DE BRASILIA S/A"},{"$f":"CLEAN(CCA!D62)","v":"LFSN21003UM"},{"$f":"CLEAN(CCA!E62)","v":"Lei 12.249/2010 - Resolução 4.955/2021 do CMN"},{"$f":"CLEAN(CCA!F62)","v":"Nível II"},{"$f":"CLEAN(CCA!G62)","v":"Nível II"},{"$f":"CLEAN(CCA!H62)","v":"Conglomerado"},{"$f":"CLEAN(CCA!I62)","v":"Letra financeira"},{"$f":"CCA!J62","v":159762.28400000001},{"$f":"CCA!K62","v":300000},{"$f":"CLEAN(CCA!L62)","v":"passivo - custo amortizado"},{"$f":"CCA!M62","v":"2021-09-23"},{"$f":"CLEAN(CCA!N62)","v":"Com vencimento"},{"$f":"CCA!O62","v":"2026-09-24"},{"$f":"CLEAN(CCA!P62)","v":"Não"},{"$f":"CLEAN(CCA!Q62)","v":"(1) Não há uma data específica, apenas quando for solicitado ao Bacen"},{"$f":"CLEAN(CCA!R62)","v":"(2) Não há vinculação regulatória ou fiscal para resgate ou recompra"},{"$f":"CLEAN(CCA!S62)","v":"(3) O valor pode ser parcial ou total, conforme autorização do Bacen"},{"$f":"CLEAN(CCA!T62)","v":"Não se aplica"},{"$f":"CLEAN(CCA!U62)","v":"Fixo"},{"$f":"CLEAN(CCA!V62)","v":"IPCA + 6,8%"},{"$f":"CLEAN(CCA!W62)","v":"Não"},{"$f":"CLEAN(CCA!X62)","v":"Mandatório"},{"$f":"CLEAN(CCA!Y62)","v":"Não"},{"$f":"CLEAN(CCA!Z62)","v":"Cumulativo"},{"$f":"CLEAN(CCA!AA62)","v":"Não conversível"},{"$f":"CLEAN(CCA!AB62)","v":"Não se aplica"},{"$f":"CLEAN(CCA!AC62)","v":"Não se aplica"},{"$f":"CLEAN(CCA!AD62)","v":"Não se aplica"},{"$f":"CLEAN(CCA!AE62)","v":"Não se aplica"},{"$f":"CLEAN(CCA!AF62)","v":"Não se aplica"},{"$f":"CLEAN(CCA!AG62)","v":"Não se aplica"},{"$f":"CLEAN(CCA!AH62)","v":"Sim"},{"$f":"CLEAN(CCA!AI62)","v":"Os títulos serão extintos, permanente e em valor no mínimo correspondente ao saldo computado no Nível II do Patrimônio de Referência do BRB – Banco de Brasília S.A nas seguintes condições:         1. seja verificada a divulgação pelo BRB – Banco de Brasília S.A. de que seu Capital Principal está em patamar inferior a 4,5% (quatro inteiros e cinco décimos por cento) do montante RWA, estabelecida pela regulamentação vigente; ou2. seja verificada, em lei específica, a assinatura de compromisso de aporte para o BRB – Banco de Brasília S.A.;3. seja decretado pelo BACEN o regime de administração especial temporária ou intervenção do BRB – Banco de Brasília S.A.; ou4. seja determinado pelo BACEN, segundo critérios estabelecidos em regulamento específico editado pelo Conselho Monetário Nacional,a extinção do instrumento."},{"$f":"CLEAN(CCA!AJ62)","v":"Totalmente"},{"$f":"CLEAN(CCA!AK62)","v":"Permanente"},{"$f":"CLEAN(CCA!AL62)","v":"Contratual"},{"$f":"CLEAN(CCA!AM62)","v":"Não"},{"$f":"CLEAN(CCA!AN62)","v":"Não"},{"$f":"CLEAN(CCA!AO62)","v":"Não se aplica"},"sem comentários"]
["CCA","20234T",{"$f":"EOMONTH(CCA!$C$4,0)","v":"2023-12-31"},{"$f":"CLEAN(CCA!C63)","v":"BRB - BANCO DE BRASILIA S/A"},{"$f":"CLEAN(CCA!D63)","v":"LFSN21003UL"},{"$f":"CLEAN(CCA!E63)","v":"Lei 12.249/2010 - Resolução 4.955/2021 do CMN"},{"$f":"CLEAN(CCA!F63)","v":"Nível II"},{"$f":"CLEAN(CCA!G63)","v":"Nível II"},{"$f":"CLEAN(CCA!H63)","v":"Conglomerado"},{"$f":"CLEAN(CCA!I63)","v":"Letra financeira"},{"$f":"CCA!J63","v":159829.788},{"$f":"CCA!K63","v":300000},{"$f":"CLEAN(CCA!L63)","v":"passivo - custo amortizado"},{"$f":"CCA!M63","v":"2021-09-23"},{"$f":"CLEAN(CCA!N63)","v":"Com vencimento"},{"$f":"CCA!O63","v":"2026-09-24"},{"$f":"CLEAN(CCA!P63)","v":"Não"},{"$f":"CLEAN(CCA!Q63)","v":"(1) Não há uma data específica, apenas quando for solicitado ao Bacen"},{"$f":"CLEAN(CCA!R63)","v":"(2) Não há vinculação regulatória ou fiscal para resgate ou recompra"},{"$f":"CLEAN(CCA!S63)","v":"(3) O valor pode ser parcial ou total, conforme autorização do Bacen"},{"$f":"CLEAN(CCA!T63)","v":"Não se aplica"},{"$f":"CLEAN(CCA!U63)","v":"Fixo"},{"$f":"CLEAN(CCA!V63)","v":"IPCA + 6,82%"},{"$f":"CLEAN(CCA!W63)","v":"Não"},{"$f":"CLEAN(CCA!X63)","v":"Mandatório"},{"$f":"CLEAN(CCA!Y63)","v":"Não"},{"$f":"CLEAN(CCA!Z63)","v":"Cumulativo"},{"$f":"CLEAN(CCA!AA63)","v":"Não conversível"},{"$f":"CLEAN(CCA!AB63)","v":"Não se aplica"},{"$f":"CLEAN(CCA!AC63)","v":"Não se aplica"},{"$f":"CLEAN(CCA!AD63)","v":"Não se aplica"},{"$f":"CLEAN(CCA!AE63)","v":"Não se aplica"},{"$f":"CLEAN(CCA!AF63)","v":"Não se aplica"},{"$f":"CLEAN(CCA!AG63)","v":"Não se aplica"},{"$f":"CLEAN(CCA!AH63)","v":"Sim"},{"$f":"CLEAN(CCA!AI63)","v":"Os títulos serão extintos, permanente e em valor no mínimo correspondente ao saldo computado no Nível II do Patrimônio de Referência do BRB – Banco de Brasília S.A nas seguintes condições:         1. seja verificada a divulgação pelo BRB – Banco de Brasília S.A. de que seu Capital Principal está em patamar inferior a 4,5% (quatro inteiros e cinco décimos por cento) do montante RWA, estabelecida pela regulamentação vigente; ou2. seja verificada, em lei específica, a assinatura de compromisso de aporte para o BRB – Banco de Brasília S.A.;3. seja decretado pelo BACEN o regime de administração especial temporária ou intervenção do BRB – Banco de Brasília S.A.; ou4. seja determinado pelo BACEN, segundo critérios estabelecidos em regulamento específico editado pelo Conselho Monetário Nacional,a extinção do instrumento."},{"$f":"CLEAN(CCA!AJ63)","v":"Totalmente"},{"$f":"CLEAN(CCA!AK63)","v":"Permanente"},{"$f":"CLEAN(CCA!AL63)","v":"Contratual"},{"$f":"CLEAN(CCA!AM63)","v":"Não"},{"$f":"CLEAN(CCA!AN63)","v":"Não"},{"$f":"CLEAN(CCA!AO63)","v":"Não se aplica"},"sem comentários"]
["CCA","20234T",{"$f":"EOMONTH(CCA!$C$4,0)","v":"2023-12-31"},{"$f":"CLEAN(CCA!C64)","v":"BRB - BANCO DE BRASILIA S/A"},{"$f":"CLEAN(CCA!D64)","v":"LFSN22008YO"},{"$f":"CLEAN(CCA!E64)","v":"Lei 12.249/2010 - Resolução 4.955/2021 do CMN"},{"$f":"CLEAN(CCA!F64)","v":"Nível II"},{"$f":"CLEAN(CCA!G64)","v":"Nível II"},{"$f":"CLEAN(CCA!H64)","v":"Conglomerado"},{"$f":"CLEAN(CCA!I64)","v":"Letra financeira"},{"$f":"CCA!J64","v":1862522.5440000002},{"$f":"CCA!K64","v":2000000},{"$f":"CLEAN(CCA!L64)","v":"passivo - custo amortizado"},{"$f":"CCA!M64","v":"2022-06-30"},{"$f":"CLEAN(CCA!N64)","v":"Com vencimento"},{"$f":"CCA!O64","v":"2028-06-30"},{"$f":"CLEAN(CCA!P64)","v":"Não"},{"$f":"CLEAN(CCA!Q64)","v":"(1) Não há uma data específica, apenas quando for solicitado ao Bacen"},{"$f":"CLEAN(CCA!R64)","v":"(2) Não há vinculação regulatória ou fiscal para resgate ou recompra"},{"$f":"CLEAN(CCA!S64)","v":"(3) O valor pode ser parcial ou total, conforme autorização do Bacen"},{"$f":"CLEAN(CCA!T64)","v":"Não se aplica"},{"$f":"CLEAN(CCA!U64)","v":"Fixo"},{"$f":"CLEAN(CCA!V64)","v":"IPCA + 7,1%"},{"$f":"CLEAN(CCA!W64)","v":"Não"},{"$f":"CLEAN(CCA!X64)","v":"Mandatório"},{"$f":"CLEAN(CCA!Y64)","v":"Não"},{"$f":"CLEAN(CCA!Z64)","v":"Cumulativo"},{"$f":"CLEAN(CCA!AA64)","v":"Não conversível"},{"$f":"CLEAN(CCA!AB64)","v":"Não se aplica"},{"$f":"CLEAN(CCA!AC64)","v":"Não se aplica"},{"$f":"CLEAN(CCA!AD64)","v":"Não se aplica"},{"$f":"CLEAN(CCA!AE64)","v":"Não se aplica"},{"$f":"CLEAN(CCA!AF64)","v":"Não se aplica"},{"$f":"CLEAN(CCA!AG64)","v":"Não se aplica"},{"$f":"CLEAN(CCA!AH64)","v":"Sim"},{"$f":"CLEAN(CCA!AI64)","v":"Os títulos serão extintos, permanente e em valor no mínimo correspondente ao saldo computado no Nível II do Patrimônio de Referência do BRB – Banco de Brasília S.A nas seguintes condições:         1. seja verificada a divulgação pelo BRB – Banco de Brasília S.A. de que seu Capital Principal está em patamar inferior a 4,5% (quatro inteiros e cinco décimos por cento) do montante RWA, estabelecida pela regulamentação vigente; ou2. seja verificada, em lei específica, a assinatura de compromisso de aporte para o BRB – Banco de Brasília S.A.;3. seja decretado pelo BACEN o regime de administração especial temporária ou intervenção do BRB – Banco de Brasília S.A.; ou4. seja determinado pelo BACEN, segundo critérios estabelecidos em regulamento específico editado pelo Conselho Monetário Nacional,a extinção do instrumento."},{"$f":"CLEAN(CCA!AJ64)","v":"Totalmente"},{"$f":"CLEAN(CCA!AK64)","v":"Permanente"},{"$f":"CLEAN(CCA!AL64)","v":"Contratual"},{"$f":"CLEAN(CCA!AM64)","v":"Não"},{"$f":"CLEAN(CCA!AN64)","v":"Não"},{"$f":"CLEAN(CCA!AO64)","v":"Não se aplica"},"sem comentários"]
["CCA","20234T",{"$f":"EOMONTH(CCA!$C$4,0)","v":"2023-12-31"},{"$f":"CLEAN(CCA!C65)","v":"BRB - BANCO DE BRASILIA S/A"},{"$f":"CLEAN(CCA!D65)","v":"LFSN22006BY"},{"$f":"CLEAN(CCA!E65)","v":"Lei 12.249/2010 - Resolução 4.955/2021 do CMN"},{"$f":"CLEAN(CCA!F65)","v":"Nível II"},{"$f":"CLEAN(CCA!G65)","v":"Nível II"},{"$f":"CLEAN(CCA!H65)","v":"Conglomerado"},{"$f":"CLEAN(CCA!I65)","v":"Letra financeira"},{"$f":"CCA!J65","v":9340171.8900000006},{"$f":"CCA!K65","v":7800000},{"$f":"CLEAN(CCA!L65)","v":"passivo - custo amortizado"},{"$f":"CCA!M65","v":"2022-05-17"},{"$f":"CLEAN(CCA!N65)","v":"Com vencimento"},{"$f":"CCA!O65","v":"2029-05-17"},{"$f":"CLEAN(CCA!P65)","v":"Não"},{"$f":"CLEAN(CCA!Q65)","v":"(1) Não há uma data específica, apenas quando for solicitado ao Bacen"},{"$f":"CLEAN(CCA!R65)","v":"(2) Não há vinculação regulatória ou fiscal para resgate ou recompra"},{"$f":"CLEAN(CCA!S65)","v":"(3) O valor pode ser parcial ou total, conforme autorização do Bacen"},{"$f":"CLEAN(CCA!T65)","v":"Não se aplica"},{"$f":"CLEAN(CCA!U65)","v":"Fixo"},{"$f":"CLEAN(CCA!V65)","v":"IPCA + 7,99%"},{"$f":"CLEAN(CCA!W65)","v":"Não"},{"$f":"CLEAN(CCA!X65)","v":"Mandatório"},{"$f":"CLEAN(CCA!Y65)","v":"Não"},{"$f":"CLEAN(CCA!Z65)","v":"Cumulativo"},{"$f":"CLEAN(CCA!AA65)","v":"Não conversível"},{"$f":"CLEAN(CCA!AB65)","v":"Não se aplica"},{"$f":"CLEAN(CCA!AC65)","v":"Não se aplica"},{"$f":"CLEAN(CCA!AD65)","v":"Não se aplica"},{"$f":"CLEAN(CCA!AE65)","v":"Não se aplica"},{"$f":"CLEAN(CCA!AF65)","v":"Não se aplica"},{"$f":"CLEAN(CCA!AG65)","v":"Não se aplica"},{"$f":"CLEAN(CCA!AH65)","v":"Sim"},{"$f":"CLEAN(CCA!AI65)","v":"Os títulos serão extintos, permanente e em valor no mínimo correspondente ao saldo computado no Nível II do Patrimônio de Referência do BRB – Banco de Brasília S.A nas seguintes condições:         1. seja verificada a divulgação pelo BRB – Banco de Brasília S.A. de que seu Capital Principal está em patamar inferior a 4,5% (quatro inteiros e cinco décimos por cento) do montante RWA, estabelecida pela regulamentação vigente; ou2. seja verificada, em lei específica, a assinatura de compromisso de aporte para o BRB – Banco de Brasília S.A.;3. seja decretado pelo BACEN o regime de administração especial temporária ou intervenção do BRB – Banco de Brasília S.A.; ou4. seja determinado pelo BACEN, segundo critérios estabelecidos em regulamento específico editado pelo Conselho Monetário Nacional,a extinção do instrumento."},{"$f":"CLEAN(CCA!AJ65)","v":"Totalmente"},{"$f":"CLEAN(CCA!AK65)","v":"Permanente"},{"$f":"CLEAN(CCA!AL65)","v":"Contratual"},{"$f":"CLEAN(CCA!AM65)","v":"Não"},{"$f":"CLEAN(CCA!AN65)","v":"Não"},{"$f":"CLEAN(CCA!AO65)","v":"Não se aplica"},"sem comentários"]
["CCA","20234T",{"$f":"EOMONTH(CCA!$C$4,0)","v":"2023-12-31"},{"$f":"CLEAN(CCA!C66)","v":"BRB - BANCO DE BRASILIA S/A"},{"$f":"CLEAN(CCA!D66)","v":"LFSN22003UX"},{"$f":"CLEAN(CCA!E66)","v":"Lei 12.249/2010 - Resolução 4.955/2021 do CMN"},{"$f":"CLEAN(CCA!F66)","v":"Nível II"},{"$f":"CLEAN(CCA!G66)","v":"Nível II"},{"$f":"CLEAN(CCA!H66)","v":"Conglomerado"},{"$f":"CLEAN(CCA!I66)","v":"Letra financeira"},{"$f":"CCA!J66","v":9902636.5120000001},{"$f":"CCA!K66","v":10000000},{"$f":"CLEAN(CCA!L66)","v":"passivo - custo amortizado"},{"$f":"CCA!M66","v":"2022-03-30"},{"$f":"CLEAN(CCA!N66)","v":"Com vencimento"},{"$f":"CCA!O66","v":"2028-03-30"},{"$f":"CLEAN(CCA!P66)","v":"Não"},{"$f":"CLEAN(CCA!Q66)","v":"(1) Não há uma data específica, apenas quando for solicitado ao Bacen"},{"$f":"CLEAN(CCA!R66)","v":"(2) Não há vinculação regulatória ou fiscal para resgate ou recompra"},{"$f":"CLEAN(CCA!S66)","v":"(3) O valor pode ser parcial ou total, conforme autorização do Bacen"},{"$f":"CLEAN(CCA!T66)","v":"Não se aplica"},{"$f":"CLEAN(CCA!U66)","v":"Fixo"},{"$f":"CLEAN(CCA!V66)","v":"IPCA + 7,9%"},{"$f":"CLEAN(CCA!W66)","v":"Não"},{"$f":"CLEAN(CCA!X66)","v":"Mandatório"},{"$f":"CLEAN(CCA!Y66)","v":"Não"},{"$f":"CLEAN(CCA!Z66)","v":"Cumulativo"},{"$f":"CLEAN(CCA!AA66)","v":"Não conversível"},{"$f":"CLEAN(CCA!AB66)","v":"Não se aplica"},{"$f":"CLEAN(CCA!AC66)","v":"Não se aplica"},{"$f":"CLEAN(CCA!AD66)","v":"Não se aplica"},{"$f":"CLEAN(CCA!AE66)","v":"Não se aplica"},{"$f":"CLEAN(CCA!AF66)","v":"Não se aplica"},{"$f":"CLEAN(CCA!AG66)","v":"Não se aplica"},{"$f":"CLEAN(CCA!AH66)","v":"Sim"},{"$f":"CLEAN(CCA!AI66)","v":"Os títulos serão extintos, permanente e em valor no mínimo correspondente ao saldo computado no Nível II do Patrimônio de Referência do BRB – Banco de Brasília S.A nas seguintes condições:         1. seja verificada a divulgação pelo BRB – Banco de Brasília S.A. de que seu Capital Principal está em patamar inferior a 4,5% (quatro inteiros e cinco décimos por cento) do montante RWA, estabelecida pela regulamentação vigente; ou2. seja verificada, em lei específica, a assinatura de compromisso de aporte para o BRB – Banco de Brasília S.A.;3. seja decretado pelo BACEN o regime de administração especial temporária ou intervenção do BRB – Banco de Brasília S.A.; ou4. seja determinado pelo BACEN, segundo critérios estabelecidos em regulamento específico editado pelo Conselho Monetário Nacional,a extinção do instrumento."},{"$f":"CLEAN(CCA!AJ66)","v":"Totalmente"},{"$f":"CLEAN(CCA!AK66)","v":"Permanente"},{"$f":"CLEAN(CCA!AL66)","v":"Contratual"},{"$f":"CLEAN(CCA!AM66)","v":"Não"},{"$f":"CLEAN(CCA!AN66)","v":"Não"},{"$f":"CLEAN(CCA!AO66)","v":"Não se aplica"},"sem comentários"]
["CCA","20234T",{"$f":"EOMONTH(CCA!$C$4,0)","v":"2023-12-31"},{"$f":"CLEAN(CCA!C67)","v":"BRB - BANCO DE BRASILIA S/A"},{"$f":"CLEAN(CCA!D67)","v":"LFSN1900BZ6"},{"$f":"CLEAN(CCA!E67)","v":"Lei 12.249/2010 - Resolução 4.955/2021 do CMN"},{"$f":"CLEAN(CCA!F67)","v":"Nível II"},{"$f":"CLEAN(CCA!G67)","v":"Nível II"},{"$f":"CLEAN(CCA!H67)","v":"Conglomerado"},{"$f":"CLEAN(CCA!I67)","v":"Letra financeira"},{"$f":"CCA!J67","v":628447.00800000003},{"$f":"CCA!K67","v":1000000},{"$f":"CLEAN(CCA!L67)","v":"passivo - custo amortizado"},{"$f":"CCA!M67","v":"2019-07-23"},{"$f":"CLEAN(CCA!N67)","v":"Com vencimento"},{"$f":"CCA!O67","v":"2026-08-17"},{"$f":"CLEAN(CCA!P67)","v":"Não"},{"$f":"CLEAN(CCA!Q67)","v":"(1) Não há uma data específica, apenas quando for solicitado ao Bacen"},{"$f":"CLEAN(CCA!R67)","v":"(2) Não há vinculação regulatória ou fiscal para resgate ou recompra"},{"$f":"CLEAN(CCA!S67)","v":"(3) O valor pode ser parcial ou total, conforme autorização do Bacen"},{"$f":"CLEAN(CCA!T67)","v":"Não se aplica"},{"$f":"CLEAN(CCA!U67)","v":"Fixo"},{"$f":"CLEAN(CCA!V67)","v":"IPCA + 4,48%"},{"$f":"CLEAN(CCA!W67)","v":"Não"},{"$f":"CLEAN(CCA!X67)","v":"Mandatório"},{"$f":"CLEAN(CCA!Y67)","v":"Não"},{"$f":"CLEAN(CCA!Z67)","v":"Cumulativo"},{"$f":"CLEAN(CCA!AA67)","v":"Não conversível"},{"$f":"CLEAN(CCA!AB67)","v":"Não se aplica"},{"$f":"CLEAN(CCA!AC67)","v":"Não se aplica"},{"$f":"CLEAN(CCA!AD67)","v":"Não se aplica"},{"$f":"CLEAN(CCA!AE67)","v":"Não se aplica"},{"$f":"CLEAN(CCA!AF67)","v":"Não se aplica"},{"$f":"CLEAN(CCA!AG67)","v":"Não se aplica"},{"$f":"CLEAN(CCA!AH67)","v":"Sim"},{"$f":"CLEAN(CCA!AI67)","v":"Os títulos serão extintos, permanente e em valor no mínimo correspondente ao saldo computado no Nível II do Patrimônio de Referência do BRB – Banco de Brasília S.A nas seguintes condições:         1. seja verificada a divulgação pelo BRB – Banco de Brasília S.A. de que seu Capital Principal está em patamar inferior a 4,5% (quatro inteiros e cinco décimos por cento) do montante RWA, estabelecida pela regulamentação vigente; ou2. seja verificada, em lei específica, a assinatura de compromisso de aporte para o BRB – Banco de Brasília S.A.;3. seja decretado pelo BACEN o regime de administração especial temporária ou intervenção do BRB – Banco de Brasília S.A.; ou4. seja determinado pelo BACEN, segundo critérios estabelecidos em regulamento específico editado pelo Conselho Monetário Nacional,a extinção do instrumento."},{"$f":"CLEAN(CCA!AJ67)","v":"Totalmente"},{"$f":"CLEAN(CCA!AK67)","v":"Permanente"},{"$f":"CLEAN(CCA!AL67)","v":"Contratual"},{"$f":"CLEAN(CCA!AM67)","v":"Não"},{"$f":"CLEAN(CCA!AN67)","v":"Não"},{"$f":"CLEAN(CCA!AO67)","v":"Não se aplica"},"sem comentários"]
["CCA","20234T",{"$f":"EOMONTH(CCA!$C$4,0)","v":"2023-12-31"},{"$f":"CLEAN(CCA!C68)","v":"BRB - BANCO DE BRASILIA S/A"},{"$f":"CLEAN(CCA!D68)","v":"LFSN19000BA"},{"$f":"CLEAN(CCA!E68)","v":"Lei 12.249/2010 - Resolução 4.955/2021 do CMN"},{"$f":"CLEAN(CCA!F68)","v":"Nível II"},{"$f":"CLEAN(CCA!G68)","v":"Nível II"},{"$f":"CLEAN(CCA!H68)","v":"Conglomerado"},{"$f":"CLEAN(CCA!I68)","v":"Letra financeira"},{"$f":"CCA!J68","v":2754547.1680000001},{"$f":"CCA!K68","v":4000000},{"$f":"CLEAN(CCA!L68)","v":"passivo - custo amortizado"},{"$f":"CCA!M68","v":"2019-02-08"},{"$f":"CLEAN(CCA!N68)","v":"Com vencimento"},{"$f":"CCA!O68","v":"2026-08-17"},{"$f":"CLEAN(CCA!P68)","v":"Não"},{"$f":"CLEAN(CCA!Q68)","v":"(1) Não há uma data específica, apenas quando for solicitado ao Bacen"},{"$f":"CLEAN(CCA!R68)","v":"(2) Não há vinculação regulatória ou fiscal para resgate ou recompra"},{"$f":"CLEAN(CCA!S68)","v":"(3) O valor pode ser parcial ou total, conforme autorização do Bacen"},{"$f":"CLEAN(CCA!T68)","v":"Não se aplica"},{"$f":"CLEAN(CCA!U68)","v":"Fixo"},{"$f":"CLEAN(CCA!V68)","v":"IPCA + 5,6%"},{"$f":"CLEAN(CCA!W68)","v":"Não"},{"$f":"CLEAN(CCA!X68)","v":"Mandatório"},{"$f":"CLEAN(CCA!Y68)","v":"Não"},{"$f":"CLEAN(CCA!Z68)","v":"Cumulativo"},{"$f":"CLEAN(CCA!AA68)","v":"Não conversível"},{"$f":"CLEAN(CCA!AB68)","v":"Não se aplica"},{"$f":"CLEAN(CCA!AC68)","v":"Não se aplica"},{"$f":"CLEAN(CCA!AD68)","v":"Não se aplica"},{"$f":"CLEAN(CCA!AE68)","v":"Não se aplica"},{"$f":"CLEAN(CCA!AF68)","v":"Não se aplica"},{"$f":"CLEAN(CCA!AG68)","v":"Não se aplica"},{"$f":"CLEAN(CCA!AH68)","v":"Sim"},{"$f":"CLEAN(CCA!AI68)","v":"Os títulos serão extintos, permanente e em valor no mínimo correspondente ao saldo computado no Nível II do Patrimônio de Referência do BRB – Banco de Brasília S.A nas seguintes condições:         1. seja verificada a divulgação pelo BRB – Banco de Brasília S.A. de que seu Capital Principal está em patamar inferior a 4,5% (quatro inteiros e cinco décimos por cento) do montante RWA, estabelecida pela regulamentação vigente; ou2. seja verificada, em lei específica, a assinatura de compromisso de aporte para o BRB – Banco de Brasília S.A.;3. seja decretado pelo BACEN o regime de administração especial temporária ou intervenção do BRB – Banco de Brasília S.A.; ou4. seja determinado pelo BACEN, segundo critérios estabelecidos em regulamento específico editado pelo Conselho Monetário Nacional,a extinção do instrumento."},{"$f":"CLEAN(CCA!AJ68)","v":"Totalmente"},{"$f":"CLEAN(CCA!AK68)","v":"Permanente"},{"$f":"CLEAN(CCA!AL68)","v":"Contratual"},{"$f":"CLEAN(CCA!AM68)","v":"Não"},{"$f":"CLEAN(CCA!AN68)","v":"Não"},{"$f":"CLEAN(CCA!AO68)","v":"Não se aplica"},"sem comentários"]
["CCA","20234T",{"$f":"EOMONTH(CCA!$C$4,0)","v":"2023-12-31"},{"$f":"CLEAN(CCA!C69)","v":"BRB - BANCO DE BRASILIA S/A"},{"$f":"CLEAN(CCA!D69)","v":"LFSN20008SR"},{"$f":"CLEAN(CCA!E69)","v":"Lei 12.249/2010 - Resolução 4.955/2021 do CMN"},{"$f":"CLEAN(CCA!F69)","v":"Nível II"},{"$f":"CLEAN(CCA!G69)","v":"Nível II"},{"$f":"CLEAN(CCA!H69)","v":"Conglomerado"},{"$f":"CLEAN(CCA!I69)","v":"Letra financeira"},{"$f":"CCA!J69","v":23946236.030000001},{"$f":"CCA!K69","v":15000000},{"$f":"CLEAN(CCA!L69)","v":"passivo - custo amortizado"},{"$f":"CCA!M69","v":"2020-10-15"},{"$f":"CLEAN(CCA!N69)","v":"Com vencimento"},{"$f":"CCA!O69","v":"2030-10-15"},{"$f":"CLEAN(CCA!P69)","v":"Não"},{"$f":"CLEAN(CCA!Q69)","v":"(1) Não há uma data específica, apenas quando for solicitado ao Bacen"},{"$f":"CLEAN(CCA!R69)","v":"(2) Não há vinculação regulatória ou fiscal para resgate ou recompra"},{"$f":"CLEAN(CCA!S69)","v":"(3) O valor pode ser parcial ou total, conforme autorização do Bacen"},{"$f":"CLEAN(CCA!T69)","v":"Não se aplica"},{"$f":"CLEAN(CCA!U69)","v":"Fixo"},{"$f":"CLEAN(CCA!V69)","v":"IPCA + 7,9%"},{"$f":"CLEAN(CCA!W69)","v":"Não"},{"$f":"CLEAN(CCA!X69)","v":"Mandatório"},{"$f":"CLEAN(CCA!Y69)","v":"Não"},{"$f":"CLEAN(CCA!Z69)","v":"Cumulativo"},{"$f":"CLEAN(CCA!AA69)","v":"Não conversível"},{"$f":"CLEAN(CCA!AB69)","v":"Não se aplica"},{"$f":"CLEAN(CCA!AC69)","v":"Não se aplica"},{"$f":"CLEAN(CCA!AD69)","v":"Não se aplica"},{"$f":"CLEAN(CCA!AE69)","v":"Não se aplica"},{"$f":"CLEAN(CCA!AF69)","v":"Não se aplica"},{"$f":"CLEAN(CCA!AG69)","v":"Não se aplica"},{"$f":"CLEAN(CCA!AH69)","v":"Sim"},{"$f":"CLEAN(CCA!AI69)","v":"Os títulos serão extintos, permanente e em valor no mínimo correspondente ao saldo computado no Nível II do Patrimônio de Referência do BRB – Banco de Brasília S.A nas seguintes condições:         1. seja verificada a divulgação pelo BRB – Banco de Brasília S.A. de que seu Capital Principal está em patamar inferior a 4,5% (quatro inteiros e cinco décimos por cento) do montante RWA, estabelecida pela regulamentação vigente; ou2. seja verificada, em lei específica, a assinatura de compromisso de aporte para o BRB – Banco de Brasília S.A.;3. seja decretado pelo BACEN o regime de administração especial temporária ou intervenção do BRB – Banco de Brasília S.A.; ou4. seja determinado pelo BACEN, segundo critérios estabelecidos em regulamento específico editado pelo Conselho Monetário Nacional,a extinção do instrumento."},{"$f":"CLEAN(CCA!AJ69)","v":"Totalmente"},{"$f":"CLEAN(CCA!AK69)","v":"Permanente"},{"$f":"CLEAN(CCA!AL69)","v":"Contratual"},{"$f":"CLEAN(CCA!AM69)","v":"Não"},{"$f":"CLEAN(CCA!AN69)","v":"Não"},{"$f":"CLEAN(CCA!AO69)","v":"Não se aplica"},"sem comentários"]
["CCA","20234T",{"$f":"EOMONTH(CCA!$C$4,0)","v":"2023-12-31"},{"$f":"CLEAN(CCA!C70)","v":"BRB - BANCO DE BRASILIA S/A"},{"$f":"CLEAN(CCA!D70)","v":"LFSN20008SS"},{"$f":"CLEAN(CCA!E70)","v":"Lei 12.249/2010 - Resolução 4.955/2021 do CMN"},{"$f":"CLEAN(CCA!F70)","v":"Nível II"},{"$f":"CLEAN(CCA!G70)","v":"Nível II"},{"$f":"CLEAN(CCA!H70)","v":"Conglomerado"},{"$f":"CLEAN(CCA!I70)","v":"Letra financeira"},{"$f":"CCA!J70","v":95784944.150000006},{"$f":"CCA!K70","v":60000000},{"$f":"CLEAN(CCA!L70)","v":"passivo - custo amortizado"},{"$f":"CCA!M70","v":"2020-10-15"},{"$f":"CLEAN(CCA!N70)","v":"Com vencimento"},{"$f":"CCA!O70","v":"2030-10-15"},{"$f":"CLEAN(CCA!P70)","v":"Não"},{"$f":"CLEAN(CCA!Q70)","v":"(1) Não há uma data específica, apenas quando for solicitado ao Bacen"},{"$f":"CLEAN(CCA!R70)","v":"(2) Não há vinculação regulatória ou fiscal para resgate ou recompra"},{"$f":"CLEAN(CCA!S70)","v":"(3) O valor pode ser parcial ou total, conforme autorização do Bacen"},{"$f":"CLEAN(CCA!T70)","v":"Não se aplica"},{"$f":"CLEAN(CCA!U70)","v":"Fixo"},{"$f":"CLEAN(CCA!V70)","v":"IPCA + 7,9%"},{"$f":"CLEAN(CCA!W70)","v":"Não"},{"$f":"CLEAN(CCA!X70)","v":"Mandatório"},{"$f":"CLEAN(CCA!Y70)","v":"Não"},{"$f":"CLEAN(CCA!Z70)","v":"Cumulativo"},{"$f":"CLEAN(CCA!AA70)","v":"Não conversível"},{"$f":"CLEAN(CCA!AB70)","v":"Não se aplica"},{"$f":"CLEAN(CCA!AC70)","v":"Não se aplica"},{"$f":"CLEAN(CCA!AD70)","v":"Não se aplica"},{"$f":"CLEAN(CCA!AE70)","v":"Não se aplica"},{"$f":"CLEAN(CCA!AF70)","v":"Não se aplica"},{"$f":"CLEAN(CCA!AG70)","v":"Não se aplica"},{"$f":"CLEAN(CCA!AH70)","v":"Sim"},{"$f":"CLEAN(CCA!AI70)","v":"Os títulos serão extintos, permanente e em valor no mínimo correspondente ao saldo computado no Nível II do Patrimônio de Referência do BRB – Banco de Brasília S.A nas seguintes condições:         1. seja verificada a divulgação pelo BRB – Banco de Brasília S.A. de que seu Capital Principal está em patamar inferior a 4,5% (quatro inteiros e cinco décimos por cento) do montante RWA, estabelecida pela regulamentação vigente; ou2. seja verificada, em lei específica, a assinatura de compromisso de aporte para o BRB – Banco de Brasília S.A.;3. seja decretado pelo BACEN o regime de administração especial temporária ou intervenção do BRB – Banco de Brasília S.A.; ou4. seja determinado pelo BACEN, segundo critérios estabelecidos em regulamento específico editado pelo Conselho Monetário Nacional,a extinção do instrumento."},{"$f":"CLEAN(CCA!AJ70)","v":"Totalmente"},{"$f":"CLEAN(CCA!AK70)","v":"Permanente"},{"$f":"CLEAN(CCA!AL70)","v":"Contratual"},{"$f":"CLEAN(CCA!AM70)","v":"Não"},{"$f":"CLEAN(CCA!AN70)","v":"Não"},{"$f":"CLEAN(CCA!AO70)","v":"Não se aplica"},"sem comentários"]
["CCA","20234T",{"$f":"EOMONTH(CCA!$C$4,0)","v":"2023-12-31"},{"$f":"CLEAN(CCA!C71)","v":"BRB - BANCO DE BRASILIA S/A"},{"$f":"CLEAN(CCA!D71)","v":"LFSN21002KE"},{"$f":"CLEAN(CCA!E71)","v":"Lei 12.249/2010 - Resolução 4.955/2021 do CMN"},{"$f":"CLEAN(CCA!F71)","v":"Nível II"},{"$f":"CLEAN(CCA!G71)","v":"Nível II"},{"$f":"CLEAN(CCA!H71)","v":"Conglomerado"},{"$f":"CLEAN(CCA!I71)","v":"Letra financeira"},{"$f":"CCA!J71","v":55572293.328000002},{"$f":"CCA!K71","v":50000000},{"$f":"CLEAN(CCA!L71)","v":"passivo - custo amortizado"},{"$f":"CCA!M71","v":"2021-08-11"},{"$f":"CLEAN(CCA!N71)","v":"Com vencimento"},{"$f":"CCA!O71","v":"2028-08-11"},{"$f":"CLEAN(CCA!P71)","v":"Não"},{"$f":"CLEAN(CCA!Q71)","v":"(1) Não há uma data específica, apenas quando for solicitado ao Bacen"},{"$f":"CLEAN(CCA!R71)","v":"(2) Não há vinculação regulatória ou fiscal para resgate ou recompra"},{"$f":"CLEAN(CCA!S71)","v":"(3) O valor pode ser parcial ou total, conforme autorização do Bacen"},{"$f":"CLEAN(CCA!T71)","v":"Não se aplica"},{"$f":"CLEAN(CCA!U71)","v":"Fixo"},{"$f":"CLEAN(CCA!V71)","v":"IPCA + 7,65%"},{"$f":"CLEAN(CCA!W71)","v":"Não"},{"$f":"CLEAN(CCA!X71)","v":"Mandatório"},{"$f":"CLEAN(CCA!Y71)","v":"Não"},{"$f":"CLEAN(CCA!Z71)","v":"Cumulativo"},{"$f":"CLEAN(CCA!AA71)","v":"Não conversível"},{"$f":"CLEAN(CCA!AB71)","v":"Não se aplica"},{"$f":"CLEAN(CCA!AC71)","v":"Não se aplica"},{"$f":"CLEAN(CCA!AD71)","v":"Não se aplica"},{"$f":"CLEAN(CCA!AE71)","v":"Não se aplica"},{"$f":"CLEAN(CCA!AF71)","v":"Não se aplica"},{"$f":"CLEAN(CCA!AG71)","v":"Não se aplica"},{"$f":"CLEAN(CCA!AH71)","v":"Sim"},{"$f":"CLEAN(CCA!AI71)","v":"Os títulos serão extintos, permanente e em valor no mínimo correspondente ao saldo computado no Nível II do Patrimônio de Referência do BRB – Banco de Brasília S.A nas seguintes condições:         1. seja verificada a divulgação pelo BRB – Banco de Brasília S.A. de que seu Capital Principal está em patamar inferior a 4,5% (quatro inteiros e cinco décimos por cento) do montante RWA, estabelecida pela regulamentação vigente; ou2. seja verificada, em lei específica, a assinatura de compromisso de aporte para o BRB – Banco de Brasília S.A.;3. seja decretado pelo BACEN o regime de administração especial temporária ou intervenção do BRB – Banco de Brasília S.A.; ou4. seja determinado pelo BACEN, segundo critérios estabelecidos em regulamento específico editado pelo Conselho Monetário Nacional,a extinção do instrumento."},{"$f":"CLEAN(CCA!AJ71)","v":"Totalmente"},{"$f":"CLEAN(CCA!AK71)","v":"Permanente"},{"$f":"CLEAN(CCA!AL71)","v":"Contratual"},{"$f":"CLEAN(CCA!AM71)","v":"Não"},{"$f":"CLEAN(CCA!AN71)","v":"Não"},{"$f":"CLEAN(CCA!AO71)","v":"Não se aplica"},"sem comentários"]
["CCA",{"$f":"YEAR(C65)&IF(MONTH(C65)>9,4,IF(MONTH(C65)>6,3,IF(MONTH(C65)>3,2,1)))&\"T\"","v":"20234T"},{"$f":"EOMONTH(CCA!$C$4,0)","v":"2023-12-31"},{"$f":"CLEAN(CCA!C72)","v":"BRB - BANCO DE BRASILIA S/A"},{"$f":"CLEAN(CCA!D72)","v":"LFSN21003V1"},{"$f":"CLEAN(CCA!E72)","v":"Lei 12.249/2010 - Resolução 4.955/2021 do CMN"},{"$f":"CLEAN(CCA!F72)","v":"Nível II"},{"$f":"CLEAN(CCA!G72)","v":"Nível II"},{"$f":"CLEAN(CCA!H72)","v":"Conglomerado"},{"$f":"CLEAN(CCA!I72)","v":"Letra financeira"},{"$f":"CCA!J72","v":5313924.2640000004},{"$f":"CCA!K72","v":9953469.0999999996},{"$f":"CLEAN(CCA!L72)","v":"passivo - custo amortizado"},{"$f":"CCA!M72","v":"2021-09-28"},{"$f":"CLEAN(CCA!N72)","v":"Com vencimento"},{"$f":"CCA!O72","v":"2026-09-28"},{"$f":"CLEAN(CCA!P72)","v":"Não"},{"$f":"CLEAN(CCA!Q72)","v":"(1) Não há uma data específica, apenas quando for solicitado ao Bacen"},{"$f":"CLEAN(CCA!R72)","v":"(2) Não há vinculação regulatória ou fiscal para resgate ou recompra"},{"$f":"CLEAN(CCA!S72)","v":"(3) O valor pode ser parcial ou total, conforme autorização do Bacen"},{"$f":"CLEAN(CCA!T72)","v":"Não se aplica"},{"$f":"CLEAN(CCA!U72)","v":"Fixo"},{"$f":"CLEAN(CCA!V72)","v":"IPCA + 7%"},{"$f":"CLEAN(CCA!W72)","v":"Não"},{"$f":"CLEAN(CCA!X72)","v":"Mandatório"},{"$f":"CLEAN(CCA!Y72)","v":"Não"},{"$f":"CLEAN(CCA!Z72)","v":"Cumulativo"},{"$f":"CLEAN(CCA!AA72)","v":"Não conversível"},{"$f":"CLEAN(CCA!AB72)","v":"Não se aplica"},{"$f":"CLEAN(CCA!AC72)","v":"Não se aplica"},{"$f":"CLEAN(CCA!AD72)","v":"Não se aplica"},{"$f":"CLEAN(CCA!AE72)","v":"Não se aplica"},{"$f":"CLEAN(CCA!AF72)","v":"Não se aplica"},{"$f":"CLEAN(CCA!AG72)","v":"Não se aplica"},{"$f":"CLEAN(CCA!AH72)","v":"Sim"},{"$f":"CLEAN(CCA!AI72)","v":"Os títulos serão extintos, permanente e em valor no mínimo correspondente ao saldo computado no Nível II do Patrimônio de Referência do BRB – Banco de Brasília S.A nas seguintes condições:         1. seja verificada a divulgação pelo BRB – Banco de Brasília S.A. de que seu Capital Principal está em patamar inferior a 4,5% (quatro inteiros e cinco décimos por cento) do montante RWA, estabelecida pela regulamentação vigente; ou2. seja verificada, em lei específica, a assinatura de compromisso de aporte para o BRB – Banco de Brasília S.A.;3. seja decretado pelo BACEN o regime de administração especial temporária ou intervenção do BRB – Banco de Brasília S.A.; ou4. seja determinado pelo BACEN, segundo critérios estabelecidos em regulamento específico editado pelo Conselho Monetário Nacional,a extinção do instrumento."},{"$f":"CLEAN(CCA!AJ72)","v":"Totalmente"},{"$f":"CLEAN(CCA!AK72)","v":"Permanente"},{"$f":"CLEAN(CCA!AL72)","v":"Contratual"},{"$f":"CLEAN(CCA!AM72)","v":"Não"},{"$f":"CLEAN(CCA!AN72)","v":"Não"},{"$f":"CLEAN(CCA!AO72)","v":"Não se aplica"},"sem comentários"]
["CCA","20234T",{"$f":"EOMONTH(CCA!$C$4,0)","v":"2023-12-31"},{"$f":"CLEAN(CCA!C73)","v":"BRB - BANCO DE BRASILIA S/A"},{"$f":"CLEAN(CCA!D73)","v":"LFSN220086L"},{"$f":"CLEAN(CCA!E73)","v":"Lei 12.249/2010 - Resolução 4.955/2021 do CMN"},{"$f":"CLEAN(CCA!F73)","v":"Nível II"},{"$f":"CLEAN(CCA!G73)","v":"Nível II"},{"$f":"CLEAN(CCA!H73)","v":"Conglomerado"},{"$f":"CLEAN(CCA!I73)","v":"Letra financeira"},{"$f":"CCA!J73","v":26430796.656000003},{"$f":"CCA!K73","v":26235000},{"$f":"CLEAN(CCA!L73)","v":"passivo - custo amortizado"},{"$f":"CCA!M73","v":"2022-04-13"},{"$f":"CLEAN(CCA!N73)","v":"Com vencimento"},{"$f":"CCA!O73","v":"2028-04-13"},{"$f":"CLEAN(CCA!P73)","v":"Não"},{"$f":"CLEAN(CCA!Q73)","v":"(1) Não há uma data específica, apenas quando for solicitado ao Bacen"},{"$f":"CLEAN(CCA!R73)","v":"(2) Não há vinculação regulatória ou fiscal para resgate ou recompra"},{"$f":"CLEAN(CCA!S73)","v":"(3) O valor pode ser parcial ou total, conforme autorização do Bacen"},{"$f":"CLEAN(CCA!T73)","v":"Não se aplica"},{"$f":"CLEAN(CCA!U73)","v":"Fixo"},{"$f":"CLEAN(CCA!V73)","v":"14,41%"},{"$f":"CLEAN(CCA!W73)","v":"Não"},{"$f":"CLEAN(CCA!X73)","v":"Mandatório"},{"$f":"CLEAN(CCA!Y73)","v":"Não"},{"$f":"CLEAN(CCA!Z73)","v":"Cumulativo"},{"$f":"CLEAN(CCA!AA73)","v":"Não conversível"},{"$f":"CLEAN(CCA!AB73)","v":"Não se aplica"},{"$f":"CLEAN(CCA!AC73)","v":"Não se aplica"},{"$f":"CLEAN(CCA!AD73)","v":"Não se aplica"},{"$f":"CLEAN(CCA!AE73)","v":"Não se aplica"},{"$f":"CLEAN(CCA!AF73)","v":"Não se aplica"},{"$f":"CLEAN(CCA!AG73)","v":"Não se aplica"},{"$f":"CLEAN(CCA!AH73)","v":"Sim"},{"$f":"CLEAN(CCA!AI73)","v":"Os títulos serão extintos, permanente e em valor no mínimo correspondente ao saldo computado no Nível II do Patrimônio de Referência do BRB – Banco de Brasília S.A nas seguintes condições:         1. seja verificada a divulgação pelo BRB – Banco de Brasília S.A. de que seu Capital Principal está em patamar inferior a 4,5% (quatro inteiros e cinco décimos por cento) do montante RWA, estabelecida pela regulamentação vigente; ou2. seja verificada, em lei específica, a assinatura de compromisso de aporte para o BRB – Banco de Brasília S.A.;3. seja decretado pelo BACEN o regime de administração especial temporária ou intervenção do BRB – Banco de Brasília S.A.; ou4. seja determinado pelo BACEN, segundo critérios estabelecidos em regulamento específico editado pelo Conselho Monetário Nacional,a extinção do instrumento."},{"$f":"CLEAN(CCA!AJ73)","v":"Totalmente"},{"$f":"CLEAN(CCA!AK73)","v":"Permanente"},{"$f":"CLEAN(CCA!AL73)","v":"Contratual"},{"$f":"CLEAN(CCA!AM73)","v":"Não"},{"$f":"CLEAN(CCA!AN73)","v":"Não"},{"$f":"CLEAN(CCA!AO73)","v":"Não se aplica"},"sem comentários"]
["CCA","20234T",{"$f":"EOMONTH(CCA!$C$4,0)","v":"2023-12-31"},{"$f":"CLEAN(CCA!C74)","v":"BRB - BANCO DE BRASILIA S/A"},{"$f":"CLEAN(CCA!D74)","v":"LFSN220040V"},{"$f":"CLEAN(CCA!E74)","v":"Lei 12.249/2010 - Resolução 4.955/2021 do CMN"},{"$f":"CLEAN(CCA!F74)","v":"Nível II"},{"$f":"CLEAN(CCA!G74)","v":"Nível II"},{"$f":"CLEAN(CCA!H74)","v":"Conglomerado"},{"$f":"CLEAN(CCA!I74)","v":"Letra financeira"},{"$f":"CCA!J74","v":10892759.672},{"$f":"CCA!K74","v":10749000},{"$f":"CLEAN(CCA!L74)","v":"passivo - custo amortizado"},{"$f":"CCA!M74","v":"2022-03-31"},{"$f":"CLEAN(CCA!N74)","v":"Com vencimento"},{"$f":"CCA!O74","v":"2028-03-31"},{"$f":"CLEAN(CCA!P74)","v":"Não"},{"$f":"CLEAN(CCA!Q74)","v":"(1) Não há uma data específica, apenas quando for solicitado ao Bacen"},{"$f":"CLEAN(CCA!R74)","v":"(2) Não há vinculação regulatória ou fiscal para resgate ou recompra"},{"$f":"CLEAN(CCA!S74)","v":"(3) O valor pode ser parcial ou total, conforme autorização do Bacen"},{"$f":"CLEAN(CCA!T74)","v":"Não se aplica"},{"$f":"CLEAN(CCA!U74)","v":"Fixo"},{"$f":"CLEAN(CCA!V74)","v":"14,48%"},{"$f":"CLEAN(CCA!W74)","v":"Não"},{"$f":"CLEAN(CCA!X74)","v":"Mandatório"},{"$f":"CLEAN(CCA!Y74)","v":"Não"},{"$f":"CLEAN(CCA!Z74)","v":"Cumulativo"},{"$f":"CLEAN(CCA!AA74)","v":"Não conversível"},{"$f":"CLEAN(CCA!AB74)","v":"Não se aplica"},{"$f":"CLEAN(CCA!AC74)","v":"Não se aplica"},{"$f":"CLEAN(CCA!AD74)","v":"Não se aplica"},{"$f":"CLEAN(CCA!AE74)","v":"Não se aplica"},{"$f":"CLEAN(CCA!AF74)","v":"Não se aplica"},{"$f":"CLEAN(CCA!AG74)","v":"Não se aplica"},{"$f":"CLEAN(CCA!AH74)","v":"Sim"},{"$f":"CLEAN(CCA!AI74)","v":"Os títulos serão extintos, permanente e em valor no mínimo correspondente ao saldo computado no Nível II do Patrimônio de Referência do BRB – Banco de Brasília S.A nas seguintes condições:         1. seja verificada a divulgação pelo BRB – Banco de Brasília S.A. de que seu Capital Principal está em patamar inferior a 4,5% (quatro inteiros e cinco décimos por cento) do montante RWA, estabelecida pela regulamentação vigente; ou2. seja verificada, em lei específica, a assinatura de compromisso de aporte para o BRB – Banco de Brasília S.A.;3. seja decretado pelo BACEN o regime de administração especial temporária ou intervenção do BRB – Banco de Brasília S.A.; ou4. seja determinado pelo BACEN, segundo critérios estabelecidos em regulamento específico editado pelo Conselho Monetário Nacional,a extinção do instrumento."},{"$f":"CLEAN(CCA!AJ74)","v":"Totalmente"},{"$f":"CLEAN(CCA!AK74)","v":"Permanente"},{"$f":"CLEAN(CCA!AL74)","v":"Contratual"},{"$f":"CLEAN(CCA!AM74)","v":"Não"},{"$f":"CLEAN(CCA!AN74)","v":"Não"},{"$f":"CLEAN(CCA!AO74)","v":"Não se aplica"},"sem comentários"]
["CCA","20234T",{"$f":"EOMONTH(CCA!$C$4,0)","v":"2023-12-31"},{"$f":"CLEAN(CCA!C75)","v":"BRB - BANCO DE BRASILIA S/A"},{"$f":"CLEAN(CCA!D75)","v":"LFSN2200795"},{"$f":"CLEAN(CCA!E75)","v":"Lei 12.249/2010 - Resolução 4.955/2021 do CMN"},{"$f":"CLEAN(CCA!F75)","v":"Nível II"},{"$f":"CLEAN(CCA!G75)","v":"Nível II"},{"$f":"CLEAN(CCA!H75)","v":"Conglomerado"},{"$f":"CLEAN(CCA!I75)","v":"Letra financeira"},{"$f":"CCA!J75","v":170446162.04800001},{"$f":"CCA!K75","v":170432403.91},{"$f":"CLEAN(CCA!L75)","v":"passivo - custo amortizado"},{"$f":"CCA!M75","v":"2022-05-30"},{"$f":"CLEAN(CCA!N75)","v":"Com vencimento"},{"$f":"CCA!O75","v":"2028-05-30"},{"$f":"CLEAN(CCA!P75)","v":"Não"},{"$f":"CLEAN(CCA!Q75)","v":"(1) Não há uma data específica, apenas quando for solicitado ao Bacen"},{"$f":"CLEAN(CCA!R75)","v":"(2) Não há vinculação regulatória ou fiscal para resgate ou recompra"},{"$f":"CLEAN(CCA!S75)","v":"(3) O valor pode ser parcial ou total, conforme autorização do Bacen"},{"$f":"CLEAN(CCA!T75)","v":"Não se aplica"},{"$f":"CLEAN(CCA!U75)","v":"Fixo"},{"$f":"CLEAN(CCA!V75)","v":"15,14%"},{"$f":"CLEAN(CCA!W75)","v":"Não"},{"$f":"CLEAN(CCA!X75)","v":"Mandatório"},{"$f":"CLEAN(CCA!Y75)","v":"Não"},{"$f":"CLEAN(CCA!Z75)","v":"Cumulativo"},{"$f":"CLEAN(CCA!AA75)","v":"Não conversível"},{"$f":"CLEAN(CCA!AB75)","v":"Não se aplica"},{"$f":"CLEAN(CCA!AC75)","v":"Não se aplica"},{"$f":"CLEAN(CCA!AD75)","v":"Não se aplica"},{"$f":"CLEAN(CCA!AE75)","v":"Não se aplica"},{"$f":"CLEAN(CCA!AF75)","v":"Não se aplica"},{"$f":"CLEAN(CCA!AG75)","v":"Não se aplica"},{"$f":"CLEAN(CCA!AH75)","v":"Sim"},{"$f":"CLEAN(CCA!AI75)","v":"Os títulos serão extintos, permanente e em valor no mínimo correspondente ao saldo computado no Nível II do Patrimônio de Referência do BRB – Banco de Brasília S.A nas seguintes condições:         1. seja verificada a divulgação pelo BRB – Banco de Brasília S.A. de que seu Capital Principal está em patamar inferior a 4,5% (quatro inteiros e cinco décimos por cento) do montante RWA, estabelecida pela regulamentação vigente; ou2. seja verificada, em lei específica, a assinatura de compromisso de aporte para o BRB – Banco de Brasília S.A.;3. seja decretado pelo BACEN o regime de administração especial temporária ou intervenção do BRB – Banco de Brasília S.A.; ou4. seja determinado pelo BACEN, segundo critérios estabelecidos em regulamento específico editado pelo Conselho Monetário Nacional,a extinção do instrumento."},{"$f":"CLEAN(CCA!AJ75)","v":"Totalmente"},{"$f":"CLEAN(CCA!AK75)","v":"Permanente"},{"$f":"CLEAN(CCA!AL75)","v":"Contratual"},{"$f":"CLEAN(CCA!AM75)","v":"Não"},{"$f":"CLEAN(CCA!AN75)","v":"Não"},{"$f":"CLEAN(CCA!AO75)","v":"Não se aplica"},"sem comentários"]
["CCA","20234T",{"$f":"EOMONTH(CCA!$C$4,0)","v":"2023-12-31"},{"$f":"CLEAN(CCA!C76)","v":"BRB - BANCO DE BRASILIA S/A"},{"$f":"CLEAN(CCA!D76)","v":"LFSN220086J"},{"$f":"CLEAN(CCA!E76)","v":"Lei 12.249/2010 - Resolução 4.955/2021 do CMN"},{"$f":"CLEAN(CCA!F76)","v":"Nível II"},{"$f":"CLEAN(CCA!G76)","v":"Nível II"},{"$f":"CLEAN(CCA!H76)","v":"Conglomerado"},{"$f":"CLEAN(CCA!I76)","v":"Letra financeira"},{"$f":"CCA!J76","v":18987282.256000001},{"$f":"CCA!K76","v":18912000},{"$f":"CLEAN(CCA!L76)","v":"passivo - custo amortizado"},{"$f":"CCA!M76","v":"2022-04-20"},{"$f":"CLEAN(CCA!N76)","v":"Com vencimento"},{"$f":"CCA!O76","v":"2028-04-20"},{"$f":"CLEAN(CCA!P76)","v":"Não"},{"$f":"CLEAN(CCA!Q76)","v":"(1) Não há uma data específica, apenas quando for solicitado ao Bacen"},{"$f":"CLEAN(CCA!R76)","v":"(2) Não há vinculação regulatória ou fiscal para resgate ou recompra"},{"$f":"CLEAN(CCA!S76)","v":"(3) O valor pode ser parcial ou total, conforme autorização do Bacen"},{"$f":"CLEAN(CCA!T76)","v":"Não se aplica"},{"$f":"CLEAN(CCA!U76)","v":"Fixo"},{"$f":"CLEAN(CCA!V76)","v":"14,35%"},{"$f":"CLEAN(CCA!W76)","v":"Não"},{"$f":"CLEAN(CCA!X76)","v":"Mandatório"},{"$f":"CLEAN(CCA!Y76)","v":"Não"},{"$f":"CLEAN(CCA!Z76)","v":"Cumulativo"},{"$f":"CLEAN(CCA!AA76)","v":"Não conversível"},{"$f":"CLEAN(CCA!AB76)","v":"Não se aplica"},{"$f":"CLEAN(CCA!AC76)","v":"Não se aplica"},{"$f":"CLEAN(CCA!AD76)","v":"Não se aplica"},{"$f":"CLEAN(CCA!AE76)","v":"Não se aplica"},{"$f":"CLEAN(CCA!AF76)","v":"Não se aplica"},{"$f":"CLEAN(CCA!AG76)","v":"Não se aplica"},{"$f":"CLEAN(CCA!AH76)","v":"Sim"},{"$f":"CLEAN(CCA!AI76)","v":"Os títulos serão extintos, permanente e em valor no mínimo correspondente ao saldo computado no Nível II do Patrimônio de Referência do BRB – Banco de Brasília S.A nas seguintes condições:         1. seja verificada a divulgação pelo BRB – Banco de Brasília S.A. de que seu Capital Principal está em patamar inferior a 4,5% (quatro inteiros e cinco décimos por cento) do montante RWA, estabelecida pela regulamentação vigente; ou2. seja verificada, em lei específica, a assinatura de compromisso de aporte para o BRB – Banco de Brasília S.A.;3. seja decretado pelo BACEN o regime de administração especial temporária ou intervenção do BRB – Banco de Brasília S.A.; ou4. seja determinado pelo BACEN, segundo critérios estabelecidos em regulamento específico editado pelo Conselho Monetário Nacional,a extinção do instrumento."},{"$f":"CLEAN(CCA!AJ76)","v":"Totalmente"},{"$f":"CLEAN(CCA!AK76)","v":"Permanente"},{"$f":"CLEAN(CCA!AL76)","v":"Contratual"},{"$f":"CLEAN(CCA!AM76)","v":"Não"},{"$f":"CLEAN(CCA!AN76)","v":"Não"},{"$f":"CLEAN(CCA!AO76)","v":"Não se aplica"},"sem comentários"]
["CCA","20234T",{"$f":"EOMONTH(CCA!$C$4,0)","v":"2023-12-31"},{"$f":"CLEAN(CCA!C77)","v":"BRB - BANCO DE BRASILIA S/A"},{"$f":"CLEAN(CCA!D77)","v":"LFSN220086K"},{"$f":"CLEAN(CCA!E77)","v":"Lei 12.249/2010 - Resolução 4.955/2021 do CMN"},{"$f":"CLEAN(CCA!F77)","v":"Nível II"},{"$f":"CLEAN(CCA!G77)","v":"Nível II"},{"$f":"CLEAN(CCA!H77)","v":"Conglomerado"},{"$f":"CLEAN(CCA!I77)","v":"Letra financeira"},{"$f":"CCA!J77","v":23040591.672000002},{"$f":"CCA!K77","v":22912000},{"$f":"CLEAN(CCA!L77)","v":"passivo - custo amortizado"},{"$f":"CCA!M77","v":"2022-04-18"},{"$f":"CLEAN(CCA!N77)","v":"Com vencimento"},{"$f":"CCA!O77","v":"2028-04-18"},{"$f":"CLEAN(CCA!P77)","v":"Não"},{"$f":"CLEAN(CCA!Q77)","v":"(1) Não há uma data específica, apenas quando for solicitado ao Bacen"},{"$f":"CLEAN(CCA!R77)","v":"(2) Não há vinculação regulatória ou fiscal para resgate ou recompra"},{"$f":"CLEAN(CCA!S77)","v":"(3) O valor pode ser parcial ou total, conforme autorização do Bacen"},{"$f":"CLEAN(CCA!T77)","v":"Não se aplica"},{"$f":"CLEAN(CCA!U77)","v":"Fixo"},{"$f":"CLEAN(CCA!V77)","v":"14,41%"},{"$f":"CLEAN(CCA!W77)","v":"Não"},{"$f":"CLEAN(CCA!X77)","v":"Mandatório"},{"$f":"CLEAN(CCA!Y77)","v":"Não"},{"$f":"CLEAN(CCA!Z77)","v":"Cumulativo"},{"$f":"CLEAN(CCA!AA77)","v":"Não conversível"},{"$f":"CLEAN(CCA!AB77)","v":"Não se aplica"},{"$f":"CLEAN(CCA!AC77)","v":"Não se aplica"},{"$f":"CLEAN(CCA!AD77)","v":"Não se aplica"},{"$f":"CLEAN(CCA!AE77)","v":"Não se aplica"},{"$f":"CLEAN(CCA!AF77)","v":"Não se aplica"},{"$f":"CLEAN(CCA!AG77)","v":"Não se aplica"},{"$f":"CLEAN(CCA!AH77)","v":"Sim"},{"$f":"CLEAN(CCA!AI77)","v":"Os títulos serão extintos, permanente e em valor no mínimo correspondente ao saldo computado no Nível II do Patrimônio de Referência do BRB – Banco de Brasília S.A nas seguintes condições:         1. seja verificada a divulgação pelo BRB – Banco de Brasília S.A. de que seu Capital Principal está em patamar inferior a 4,5% (quatro inteiros e cinco décimos por cento) do montante RWA, estabelecida pela regulamentação vigente; ou2. seja verificada, em lei específica, a assinatura de compromisso de aporte para o BRB – Banco de Brasília S.A.;3. seja decretado pelo BACEN o regime de administração especial temporária ou intervenção do BRB – Banco de Brasília S.A.; ou4. seja determinado pelo BACEN, segundo critérios estabelecidos em regulamento específico editado pelo Conselho Monetário Nacional,a extinção do instrumento."},{"$f":"CLEAN(CCA!AJ77)","v":"Totalmente"},{"$f":"CLEAN(CCA!AK77)","v":"Permanente"},{"$f":"CLEAN(CCA!AL77)","v":"Contratual"},{"$f":"CLEAN(CCA!AM77)","v":"Não"},{"$f":"CLEAN(CCA!AN77)","v":"Não"},{"$f":"CLEAN(CCA!AO77)","v":"Não se aplica"},"sem comentários"]
["CCA","20234T",{"$f":"EOMONTH(CCA!$C$4,0)","v":"2023-12-31"},{"$f":"CLEAN(CCA!C78)","v":"BRB - BANCO DE BRASILIA S/A"},{"$f":"CLEAN(CCA!D78)","v":"LFSC21001V3"},{"$f":"CLEAN(CCA!E78)","v":"Lei 12.249/2010 - Resolução 4.955/2021 do CMN"},{"$f":"CLEAN(CCA!F78)","v":"Capital Complementar"},{"$f":"CLEAN(CCA!G78)","v":"Capital Complementar"},{"$f":"CLEAN(CCA!H78)","v":"Conglomerado"},{"$f":"CLEAN(CCA!I78)","v":"Letra financeira"},{"$f":"CCA!J78","v":47437131.310000002},{"$f":"CCA!K78","v":30803000},{"$f":"CLEAN(CCA!L78)","v":"passivo - custo amortizado"},{"$f":"CCA!M78","v":"2021-09-02"},{"$f":"CLEAN(CCA!N78)","v":"Perpétuo"},{"$f":"CCA!O78","v":"2050-01-05"},{"$f":"CLEAN(CCA!P78)","v":"Sim"},{"$f":"CLEAN(CCA!Q78)","v":"Anual, a partir de 03/09/2026"},{"$f":"CLEAN(CCA!R78)","v":"(1) Não há vinculação regulatória ou fiscal para resgate ou recompra"},{"$f":"CLEAN(CCA!S78)","v":"(2) Em parcela única na data da recompra"},{"$f":"CLEAN(CCA!T78)","v":"Não se aplica"},{"$f":"CLEAN(CCA!U78)","v":"Fixo"},{"$f":"CLEAN(CCA!V78)","v":"165% CDI"},{"$f":"CLEAN(CCA!W78)","v":"Não"},{"$f":"CLEAN(CCA!X78)","v":"Mandatório"},{"$f":"CLEAN(CCA!Y78)","v":"Não"},{"$f":"CLEAN(CCA!Z78)","v":"Cumulativo"},{"$f":"CLEAN(CCA!AA78)","v":"Não conversível"},{"$f":"CLEAN(CCA!AB78)","v":"Não se aplica"},{"$f":"CLEAN(CCA!AC78)","v":"Não se aplica"},{"$f":"CLEAN(CCA!AD78)","v":"Não se aplica"},{"$f":"CLEAN(CCA!AE78)","v":"Não se aplica"},{"$f":"CLEAN(CCA!AF78)","v":"Não se aplica"},{"$f":"CLEAN(CCA!AG78)","v":"Não se aplica"},{"$f":"CLEAN(CCA!AH78)","v":"Sim"},{"$f":"CLEAN(CCA!AI78)","v":"Os títulos serão extintos, permanente e em valor no mínimo correspondente ao saldo computado no Nível I do Patrimônio de Referência do BRB – Banco de Brasília S.A nas seguintes condições:         1. seja verificada a divulgação pelo BRB – Banco de Brasília S.A. de que seu Capital Principal está em patamar inferior a 5,125% (cinco inteiros e cento e vinte e cinco milésimos por cento) do montante RWA, estabelecida pela Resolução 4.193, de 2013; ou2. assinatura de compromisso de aporte para a instituição emitente, caso se configure a exceção prevista no caput do art. 28 da Lei Complementar no 101, de 4 de maio de 2000; ou3. seja decretado pelo BACEN o regime de administração especial temporária ou intervenção do BRB – Banco de Brasília S.A.; ou4. seja determinado pelo BACEN, segundo critérios estabelecidos em regulamento específico editado pelo Conselho Monetário Nacional,a extinção do instrumento."},{"$f":"CLEAN(CCA!AJ78)","v":"Totalmente"},{"$f":"CLEAN(CCA!AK78)","v":"Permanente"},{"$f":"CLEAN(CCA!AL78)","v":"Contratual"},{"$f":"CLEAN(CCA!AM78)","v":"Não"},{"$f":"CLEAN(CCA!AN78)","v":"Não"},{"$f":"CLEAN(CCA!AO78)","v":"Não se aplica"},"sem comentários"]
["CCA","20234T",{"$f":"EOMONTH(CCA!$C$4,0)","v":"2023-12-31"},{"$f":"CLEAN(CCA!C79)","v":"BRB - BANCO DE BRASILIA S/A"},{"$f":"CLEAN(CCA!D79)","v":"LFSC21001V4"},{"$f":"CLEAN(CCA!E79)","v":"Lei 12.249/2010 - Resolução 4.955/2021 do CMN"},{"$f":"CLEAN(CCA!F79)","v":"Capital Complementar"},{"$f":"CLEAN(CCA!G79)","v":"Capital Complementar"},{"$f":"CLEAN(CCA!H79)","v":"Conglomerado"},{"$f":"CLEAN(CCA!I79)","v":"Letra financeira"},{"$f":"CCA!J79","v":47437131.310000002},{"$f":"CCA!K79","v":30803000},{"$f":"CLEAN(CCA!L79)","v":"passivo - custo amortizado"},{"$f":"CCA!M79","v":"2021-09-02"},{"$f":"CLEAN(CCA!N79)","v":"Perpétuo"},{"$f":"CCA!O79","v":"2050-01-05"},{"$f":"CLEAN(CCA!P79)","v":"Sim"},{"$f":"CLEAN(CCA!Q79)","v":"Anual, a partir de 03/09/2026"},{"$f":"CLEAN(CCA!R79)","v":"(1) Não há vinculação regulatória ou fiscal para resgate ou recompra"},{"$f":"CLEAN(CCA!S79)","v":"(2) Em parcela única na data da recompra"},{"$f":"CLEAN(CCA!T79)","v":"Não se aplica"},{"$f":"CLEAN(CCA!U79)","v":"Fixo"},{"$f":"CLEAN(CCA!V79)","v":"165% CDI"},{"$f":"CLEAN(CCA!W79)","v":"Não"},{"$f":"CLEAN(CCA!X79)","v":"Mandatório"},{"$f":"CLEAN(CCA!Y79)","v":"Não"},{"$f":"CLEAN(CCA!Z79)","v":"Cumulativo"},{"$f":"CLEAN(CCA!AA79)","v":"Não conversível"},{"$f":"CLEAN(CCA!AB79)","v":"Não se aplica"},{"$f":"CLEAN(CCA!AC79)","v":"Não se aplica"},{"$f":"CLEAN(CCA!AD79)","v":"Não se aplica"},{"$f":"CLEAN(CCA!AE79)","v":"Não se aplica"},{"$f":"CLEAN(CCA!AF79)","v":"Não se aplica"},{"$f":"CLEAN(CCA!AG79)","v":"Não se aplica"},{"$f":"CLEAN(CCA!AH79)","v":"Sim"},{"$f":"CLEAN(CCA!AI79)","v":"Os títulos serão extintos, permanente e em valor no mínimo correspondente ao saldo computado no Nível I do Patrimônio de Referência do BRB – Banco de Brasília S.A nas seguintes condições:         1. seja verificada a divulgação pelo BRB – Banco de Brasília S.A. de que seu Capital Principal está em patamar inferior a 5,125% (cinco inteiros e cento e vinte e cinco milésimos por cento) do montante RWA, estabelecida pela Resolução 4.193, de 2013; ou2. assinatura de compromisso de aporte para a instituição emitente, caso se configure a exceção prevista no caput do art. 28 da Lei Complementar no 101, de 4 de maio de 2000; ou3. seja decretado pelo BACEN o regime de administração especial temporária ou intervenção do BRB – Banco de Brasília S.A.; ou4. seja determinado pelo BACEN, segundo critérios estabelecidos em regulamento específico editado pelo Conselho Monetário Nacional,a extinção do instrumento."},{"$f":"CLEAN(CCA!AJ79)","v":"Totalmente"},{"$f":"CLEAN(CCA!AK79)","v":"Permanente"},{"$f":"CLEAN(CCA!AL79)","v":"Contratual"},{"$f":"CLEAN(CCA!AM79)","v":"Não"},{"$f":"CLEAN(CCA!AN79)","v":"Não"},{"$f":"CLEAN(CCA!AO79)","v":"Não se aplica"},"sem comentários"]
["CCA","20234T",{"$f":"EOMONTH(CCA!$C$4,0)","v":"2023-12-31"},{"$f":"CLEAN(CCA!C80)","v":"BRB - BANCO DE BRASILIA S/A"},{"$f":"CLEAN(CCA!D80)","v":"LFSC21001V5"},{"$f":"CLEAN(CCA!E80)","v":"Lei 12.249/2010 - Resolução 4.955/2021 do CMN"},{"$f":"CLEAN(CCA!F80)","v":"Capital Complementar"},{"$f":"CLEAN(CCA!G80)","v":"Capital Complementar"},{"$f":"CLEAN(CCA!H80)","v":"Conglomerado"},{"$f":"CLEAN(CCA!I80)","v":"Letra financeira"},{"$f":"CCA!J80","v":47437131.310000002},{"$f":"CCA!K80","v":30803000},{"$f":"CLEAN(CCA!L80)","v":"passivo - custo amortizado"},{"$f":"CCA!M80","v":"2021-09-02"},{"$f":"CLEAN(CCA!N80)","v":"Perpétuo"},{"$f":"CCA!O80","v":"2050-01-05"},{"$f":"CLEAN(CCA!P80)","v":"Sim"},{"$f":"CLEAN(CCA!Q80)","v":"Anual, a partir de 03/09/2026"},{"$f":"CLEAN(CCA!R80)","v":"(1) Não há vinculação regulatória ou fiscal para resgate ou recompra"},{"$f":"CLEAN(CCA!S80)","v":"(2) Em parcela única na data da recompra"},{"$f":"CLEAN(CCA!T80)","v":"Não se aplica"},{"$f":"CLEAN(CCA!U80)","v":"Fixo"},{"$f":"CLEAN(CCA!V80)","v":"165% CDI"},{"$f":"CLEAN(CCA!W80)","v":"Não"},{"$f":"CLEAN(CCA!X80)","v":"Mandatório"},{"$f":"CLEAN(CCA!Y80)","v":"Não"},{"$f":"CLEAN(CCA!Z80)","v":"Cumulativo"},{"$f":"CLEAN(CCA!AA80)","v":"Não conversível"},{"$f":"CLEAN(CCA!AB80)","v":"Não se aplica"},{"$f":"CLEAN(CCA!AC80)","v":"Não se aplica"},{"$f":"CLEAN(CCA!AD80)","v":"Não se aplica"},{"$f":"CLEAN(CCA!AE80)","v":"Não se aplica"},{"$f":"CLEAN(CCA!AF80)","v":"Não se aplica"},{"$f":"CLEAN(CCA!AG80)","v":"Não se aplica"},{"$f":"CLEAN(CCA!AH80)","v":"Sim"},{"$f":"CLEAN(CCA!AI80)","v":"Os títulos serão extintos, permanente e em valor no mínimo correspondente ao saldo computado no Nível I do Patrimônio de Referência do BRB – Banco de Brasília S.A nas seguintes condições:         1. seja verificada a divulgação pelo BRB – Banco de Brasília S.A. de que seu Capital Principal está em patamar inferior a 5,125% (cinco inteiros e cento e vinte e cinco milésimos por cento) do montante RWA, estabelecida pela Resolução 4.193, de 2013; ou2. assinatura de compromisso de aporte para a instituição emitente, caso se configure a exceção prevista no caput do art. 28 da Lei Complementar no 101, de 4 de maio de 2000; ou3. seja decretado pelo BACEN o regime de administração especial temporária ou intervenção do BRB – Banco de Brasília S.A.; ou4. seja determinado pelo BACEN, segundo critérios estabelecidos em regulamento específico editado pelo Conselho Monetário Nacional,a extinção do instrumento."},{"$f":"CLEAN(CCA!AJ80)","v":"Totalmente"},{"$f":"CLEAN(CCA!AK80)","v":"Permanente"},{"$f":"CLEAN(CCA!AL80)","v":"Contratual"},{"$f":"CLEAN(CCA!AM80)","v":"Não"},{"$f":"CLEAN(CCA!AN80)","v":"Não"},{"$f":"CLEAN(CCA!AO80)","v":"Não se aplica"},"sem comentários"]
["CCA","20234T",{"$f":"EOMONTH(CCA!$C$4,0)","v":"2023-12-31"},{"$f":"CLEAN(CCA!C81)","v":"BRB - BANCO DE BRASILIA S/A"},{"$f":"CLEAN(CCA!D81)","v":"LFSC21001V6"},{"$f":"CLEAN(CCA!E81)","v":"Lei 12.249/2010 - Resolução 4.955/2021 do CMN"},{"$f":"CLEAN(CCA!F81)","v":"Capital Complementar"},{"$f":"CLEAN(CCA!G81)","v":"Capital Complementar"},{"$f":"CLEAN(CCA!H81)","v":"Conglomerado"},{"$f":"CLEAN(CCA!I81)","v":"Letra financeira"},{"$f":"CCA!J81","v":47437131.310000002},{"$f":"CCA!K81","v":30803000},{"$f":"CLEAN(CCA!L81)","v":"passivo - custo amortizado"},{"$f":"CCA!M81","v":"2021-09-02"},{"$f":"CLEAN(CCA!N81)","v":"Perpétuo"},{"$f":"CCA!O81","v":"2050-01-05"},{"$f":"CLEAN(CCA!P81)","v":"Sim"},{"$f":"CLEAN(CCA!Q81)","v":"Anual, a partir de 03/09/2026"},{"$f":"CLEAN(CCA!R81)","v":"(1) Não há vinculação regulatória ou fiscal para resgate ou recompra"},{"$f":"CLEAN(CCA!S81)","v":"(2) Em parcela única na data da recompra"},{"$f":"CLEAN(CCA!T81)","v":"Não se aplica"},{"$f":"CLEAN(CCA!U81)","v":"Fixo"},{"$f":"CLEAN(CCA!V81)","v":"165% CDI"},{"$f":"CLEAN(CCA!W81)","v":"Não"},{"$f":"CLEAN(CCA!X81)","v":"Mandatório"},{"$f":"CLEAN(CCA!Y81)","v":"Não"},{"$f":"CLEAN(CCA!Z81)","v":"Cumulativo"},{"$f":"CLEAN(CCA!AA81)","v":"Não conversível"},{"$f":"CLEAN(CCA!AB81)","v":"Não se aplica"},{"$f":"CLEAN(CCA!AC81)","v":"Não se aplica"},{"$f":"CLEAN(CCA!AD81)","v":"Não se aplica"},{"$f":"CLEAN(CCA!AE81)","v":"Não se aplica"},{"$f":"CLEAN(CCA!AF81)","v":"Não se aplica"},{"$f":"CLEAN(CCA!AG81)","v":"Não se aplica"},{"$f":"CLEAN(CCA!AH81)","v":"Sim"},{"$f":"CLEAN(CCA!AI81)","v":"Os títulos serão extintos, permanente e em valor no mínimo correspondente ao saldo computado no Nível I do Patrimônio de Referência do BRB – Banco de Brasília S.A nas seguintes condições:         1. seja verificada a divulgação pelo BRB – Banco de Brasília S.A. de que seu Capital Principal está em patamar inferior a 5,125% (cinco inteiros e cento e vinte e cinco milésimos por cento) do montante RWA, estabelecida pela Resolução 4.193, de 2013; ou2. assinatura de compromisso de aporte para a instituição emitente, caso se configure a exceção prevista no caput do art. 28 da Lei Complementar no 101, de 4 de maio de 2000; ou3. seja decretado pelo BACEN o regime de administração especial temporária ou intervenção do BRB – Banco de Brasília S.A.; ou4. seja determinado pelo BACEN, segundo critérios estabelecidos em regulamento específico editado pelo Conselho Monetário Nacional,a extinção do instrumento."},{"$f":"CLEAN(CCA!AJ81)","v":"Totalmente"},{"$f":"CLEAN(CCA!AK81)","v":"Permanente"},{"$f":"CLEAN(CCA!AL81)","v":"Contratual"},{"$f":"CLEAN(CCA!AM81)","v":"Não"},{"$f":"CLEAN(CCA!AN81)","v":"Não"},{"$f":"CLEAN(CCA!AO81)","v":"Não se aplica"},"sem comentários"]
["CCA","20234T",{"$f":"EOMONTH(CCA!$C$4,0)","v":"2023-12-31"},{"$f":"CLEAN(CCA!C82)","v":"BRB - BANCO DE BRASILIA S/A"},{"$f":"CLEAN(CCA!D82)","v":"LFSC21001V7"},{"$f":"CLEAN(CCA!E82)","v":"Lei 12.249/2010 - Resolução 4.955/2021 do CMN"},{"$f":"CLEAN(CCA!F82)","v":"Capital Complementar"},{"$f":"CLEAN(CCA!G82)","v":"Capital Complementar"},{"$f":"CLEAN(CCA!H82)","v":"Conglomerado"},{"$f":"CLEAN(CCA!I82)","v":"Letra financeira"},{"$f":"CCA!J82","v":8417730.7200000007},{"$f":"CCA!K82","v":5466000},{"$f":"CLEAN(CCA!L82)","v":"passivo - custo amortizado"},{"$f":"CCA!M82","v":"2021-09-02"},{"$f":"CLEAN(CCA!N82)","v":"Perpétuo"},{"$f":"CCA!O82","v":"2050-01-05"},{"$f":"CLEAN(CCA!P82)","v":"Sim"},{"$f":"CLEAN(CCA!Q82)","v":"Anual, a partir de 03/09/2026"},{"$f":"CLEAN(CCA!R82)","v":"(1) Não há vinculação regulatória ou fiscal para resgate ou recompra"},{"$f":"CLEAN(CCA!S82)","v":"(2) Em parcela única na data da recompra"},{"$f":"CLEAN(CCA!T82)","v":"Não se aplica"},{"$f":"CLEAN(CCA!U82)","v":"Fixo"},{"$f":"CLEAN(CCA!V82)","v":"165% CDI"},{"$f":"CLEAN(CCA!W82)","v":"Não"},{"$f":"CLEAN(CCA!X82)","v":"Mandatório"},{"$f":"CLEAN(CCA!Y82)","v":"Não"},{"$f":"CLEAN(CCA!Z82)","v":"Cumulativo"},{"$f":"CLEAN(CCA!AA82)","v":"Não conversível"},{"$f":"CLEAN(CCA!AB82)","v":"Não se aplica"},{"$f":"CLEAN(CCA!AC82)","v":"Não se aplica"},{"$f":"CLEAN(CCA!AD82)","v":"Não se aplica"},{"$f":"CLEAN(CCA!AE82)","v":"Não se aplica"},{"$f":"CLEAN(CCA!AF82)","v":"Não se aplica"},{"$f":"CLEAN(CCA!AG82)","v":"Não se aplica"},{"$f":"CLEAN(CCA!AH82)","v":"Sim"},{"$f":"CLEAN(CCA!AI82)","v":"Os títulos serão extintos, permanente e em valor no mínimo correspondente ao saldo computado no Nível I do Patrimônio de Referência do BRB – Banco de Brasília S.A nas seguintes condições:         1. seja verificada a divulgação pelo BRB – Banco de Brasília S.A. de que seu Capital Principal está em patamar inferior a 5,125% (cinco inteiros e cento e vinte e cinco milésimos por cento) do montante RWA, estabelecida pela Resolução 4.193, de 2013; ou2. assinatura de compromisso de aporte para a instituição emitente, caso se configure a exceção prevista no caput do art. 28 da Lei Complementar no 101, de 4 de maio de 2000; ou3. seja decretado pelo BACEN o regime de administração especial temporária ou intervenção do BRB – Banco de Brasília S.A.; ou4. seja determinado pelo BACEN, segundo critérios estabelecidos em regulamento específico editado pelo Conselho Monetário Nacional,a extinção do instrumento."},{"$f":"CLEAN(CCA!AJ82)","v":"Totalmente"},{"$f":"CLEAN(CCA!AK82)","v":"Permanente"},{"$f":"CLEAN(CCA!AL82)","v":"Contratual"},{"$f":"CLEAN(CCA!AM82)","v":"Não"},{"$f":"CLEAN(CCA!AN82)","v":"Não"},{"$f":"CLEAN(CCA!AO82)","v":"Não se aplica"},"sem comentários"]
["CCA","20234T",{"$f":"EOMONTH(CCA!$C$4,0)","v":"2023-12-31"},{"$f":"CLEAN(CCA!C83)","v":"BRB - BANCO DE BRASILIA S/A"},{"$f":"CLEAN(CCA!D83)","v":"LFSC21001V8"},{"$f":"CLEAN(CCA!E83)","v":"Lei 12.249/2010 - Resolução 4.955/2021 do CMN"},{"$f":"CLEAN(CCA!F83)","v":"Capital Complementar"},{"$f":"CLEAN(CCA!G83)","v":"Capital Complementar"},{"$f":"CLEAN(CCA!H83)","v":"Conglomerado"},{"$f":"CLEAN(CCA!I83)","v":"Letra financeira"},{"$f":"CCA!J83","v":5709927.4800000004},{"$f":"CCA!K83","v":3707705.16},{"$f":"CLEAN(CCA!L83)","v":"passivo - custo amortizado"},{"$f":"CCA!M83","v":"2021-09-02"},{"$f":"CLEAN(CCA!N83)","v":"Perpétuo"},{"$f":"CCA!O83","v":"2050-01-05"},{"$f":"CLEAN(CCA!P83)","v":"Sim"},{"$f":"CLEAN(CCA!Q83)","v":"Anual, a partir de 03/09/2026"},{"$f":"CLEAN(CCA!R83)","v":"(1) Não há vinculação regulatória ou fiscal para resgate ou recompra"},{"$f":"CLEAN(CCA!S83)","v":"(2) Em parcela única na data da recompra"},{"$f":"CLEAN(CCA!T83)","v":"Não se aplica"},{"$f":"CLEAN(CCA!U83)","v":"Fixo"},{"$f":"CLEAN(CCA!V83)","v":"165% CDI"},{"$f":"CLEAN(CCA!W83)","v":"Não"},{"$f":"CLEAN(CCA!X83)","v":"Mandatório"},{"$f":"CLEAN(CCA!Y83)","v":"Não"},{"$f":"CLEAN(CCA!Z83)","v":"Cumulativo"},{"$f":"CLEAN(CCA!AA83)","v":"Não conversível"},{"$f":"CLEAN(CCA!AB83)","v":"Não se aplica"},{"$f":"CLEAN(CCA!AC83)","v":"Não se aplica"},{"$f":"CLEAN(CCA!AD83)","v":"Não se aplica"},{"$f":"CLEAN(CCA!AE83)","v":"Não se aplica"},{"$f":"CLEAN(CCA!AF83)","v":"Não se aplica"},{"$f":"CLEAN(CCA!AG83)","v":"Não se aplica"},{"$f":"CLEAN(CCA!AH83)","v":"Sim"},{"$f":"CLEAN(CCA!AI83)","v":"Os títulos serão extintos, permanente e em valor no mínimo correspondente ao saldo computado no Nível I do Patrimônio de Referência do BRB – Banco de Brasília S.A nas seguintes condições:         1. seja verificada a divulgação pelo BRB – Banco de Brasília S.A. de que seu Capital Principal está em patamar inferior a 5,125% (cinco inteiros e cento e vinte e cinco milésimos por cento) do montante RWA, estabelecida pela Resolução 4.193, de 2013; ou2. assinatura de compromisso de aporte para a instituição emitente, caso se configure a exceção prevista no caput do art. 28 da Lei Complementar no 101, de 4 de maio de 2000; ou3. seja decretado pelo BACEN o regime de administração especial temporária ou intervenção do BRB – Banco de Brasília S.A.; ou4. seja determinado pelo BACEN, segundo critérios estabelecidos em regulamento específico editado pelo Conselho Monetário Nacional,a extinção do instrumento."},{"$f":"CLEAN(CCA!AJ83)","v":"Totalmente"},{"$f":"CLEAN(CCA!AK83)","v":"Permanente"},{"$f":"CLEAN(CCA!AL83)","v":"Contratual"},{"$f":"CLEAN(CCA!AM83)","v":"Não"},{"$f":"CLEAN(CCA!AN83)","v":"Não"},{"$f":"CLEAN(CCA!AO83)","v":"Não se aplica"},"sem comentários"]
["CCA","20234T",{"$f":"EOMONTH(CCA!$C$4,0)","v":"2023-12-31"},{"$f":"CLEAN(CCA!C84)","v":"BRB - BANCO DE BRASILIA S/A"},{"$f":"CLEAN(CCA!D84)","v":"LFSC2200463"},{"$f":"CLEAN(CCA!E84)","v":"Lei 12.249/2010 - Resolução 4.955/2021 do CMN"},{"$f":"CLEAN(CCA!F84)","v":"Capital Complementar"},{"$f":"CLEAN(CCA!G84)","v":"Capital Complementar"},{"$f":"CLEAN(CCA!H84)","v":"Conglomerado"},{"$f":"CLEAN(CCA!I84)","v":"Letra financeira"},{"$f":"CCA!J84","v":933242.17},{"$f":"CCA!K84","v":766000},{"$f":"CLEAN(CCA!L84)","v":"passivo - custo amortizado"},{"$f":"CCA!M84","v":"2022-12-19"},{"$f":"CLEAN(CCA!N84)","v":"Perpétuo"},{"$f":"CCA!O84","v":"2050-05-05"},{"$f":"CLEAN(CCA!P84)","v":"Sim"},{"$f":"CLEAN(CCA!Q84)","v":"Anual, a partir de 20/12/2027"},{"$f":"CLEAN(CCA!R84)","v":"(1) Não há vinculação regulatória ou fiscal para resgate ou recompra"},{"$f":"CLEAN(CCA!S84)","v":"(2) Em parcela única na data da recompra"},{"$f":"CLEAN(CCA!T84)","v":"Não se aplica"},{"$f":"CLEAN(CCA!U84)","v":"Fixo"},{"$f":"CLEAN(CCA!V84)","v":"155% CDI"},{"$f":"CLEAN(CCA!W84)","v":"Não"},{"$f":"CLEAN(CCA!X84)","v":"Mandatório"},{"$f":"CLEAN(CCA!Y84)","v":"Não"},{"$f":"CLEAN(CCA!Z84)","v":"Cumulativo"},{"$f":"CLEAN(CCA!AA84)","v":"Não conversível"},{"$f":"CLEAN(CCA!AB84)","v":"Não se aplica"},{"$f":"CLEAN(CCA!AC84)","v":"Não se aplica"},{"$f":"CLEAN(CCA!AD84)","v":"Não se aplica"},{"$f":"CLEAN(CCA!AE84)","v":"Não se aplica"},{"$f":"CLEAN(CCA!AF84)","v":"Não se aplica"},{"$f":"CLEAN(CCA!AG84)","v":"Não se aplica"},{"$f":"CLEAN(CCA!AH84)","v":"Sim"},{"$f":"CLEAN(CCA!AI84)","v":"Os títulos serão extintos, permanente e em valor no mínimo correspondente ao saldo computado no Nível I do Patrimônio de Referência do BRB – Banco de Brasília S.A nas seguintes condições:         1. seja verificada a divulgação pelo BRB – Banco de Brasília S.A. de que seu Capital Principal está em patamar inferior a 5,125% (cinco inteiros e cento e vinte e cinco milésimos por cento) do montante RWA, estabelecida pela Resolução 4.193, de 2013; ou2. assinatura de compromisso de aporte para a instituição emitente, caso se configure a exceção prevista no caput do art. 28 da Lei Complementar no 101, de 4 de maio de 2000; ou3. seja decretado pelo BACEN o regime de administração especial temporária ou intervenção do BRB – Banco de Brasília S.A.; ou4. seja determinado pelo BACEN, segundo critérios estabelecidos em regulamento específico editado pelo Conselho Monetário Nacional,a extinção do instrumento."},{"$f":"CLEAN(CCA!AJ84)","v":"Totalmente"},{"$f":"CLEAN(CCA!AK84)","v":"Permanente"},{"$f":"CLEAN(CCA!AL84)","v":"Contratual"},{"$f":"CLEAN(CCA!AM84)","v":"Não"},{"$f":"CLEAN(CCA!AN84)","v":"Não"},{"$f":"CLEAN(CCA!AO84)","v":"Não se aplica"},"sem comentários"]
["CCA","20234T",{"$f":"EOMONTH(CCA!$C$4,0)","v":"2023-12-31"},{"$f":"CLEAN(CCA!C85)","v":"BRB - BANCO DE BRASILIA S/A"},{"$f":"CLEAN(CCA!D85)","v":"LFSC2200462"},{"$f":"CLEAN(CCA!E85)","v":"Lei 12.249/2010 - Resolução 4.955/2021 do CMN"},{"$f":"CLEAN(CCA!F85)","v":"Capital Complementar"},{"$f":"CLEAN(CCA!G85)","v":"Capital Complementar"},{"$f":"CLEAN(CCA!H85)","v":"Conglomerado"},{"$f":"CLEAN(CCA!I85)","v":"Letra financeira"},{"$f":"CCA!J85","v":5568994.8099999996},{"$f":"CCA!K85","v":4571000},{"$f":"CLEAN(CCA!L85)","v":"passivo - custo amortizado"},{"$f":"CCA!M85","v":"2022-12-19"},{"$f":"CLEAN(CCA!N85)","v":"Perpétuo"},{"$f":"CCA!O85","v":"2050-05-05"},{"$f":"CLEAN(CCA!P85)","v":"Sim"},{"$f":"CLEAN(CCA!Q85)","v":"Anual, a partir de 20/12/2027"},{"$f":"CLEAN(CCA!R85)","v":"(1) Não há vinculação regulatória ou fiscal para resgate ou recompra"},{"$f":"CLEAN(CCA!S85)","v":"(2) Em parcela única na data da recompra"},{"$f":"CLEAN(CCA!T85)","v":"Não se aplica"},{"$f":"CLEAN(CCA!U85)","v":"Fixo"},{"$f":"CLEAN(CCA!V85)","v":"155% CDI"},{"$f":"CLEAN(CCA!W85)","v":"Não"},{"$f":"CLEAN(CCA!X85)","v":"Mandatório"},{"$f":"CLEAN(CCA!Y85)","v":"Não"},{"$f":"CLEAN(CCA!Z85)","v":"Cumulativo"},{"$f":"CLEAN(CCA!AA85)","v":"Não conversível"},{"$f":"CLEAN(CCA!AB85)","v":"Não se aplica"},{"$f":"CLEAN(CCA!AC85)","v":"Não se aplica"},{"$f":"CLEAN(CCA!AD85)","v":"Não se aplica"},{"$f":"CLEAN(CCA!AE85)","v":"Não se aplica"},{"$f":"CLEAN(CCA!AF85)","v":"Não se aplica"},{"$f":"CLEAN(CCA!AG85)","v":"Não se aplica"},{"$f":"CLEAN(CCA!AH85)","v":"Sim"},{"$f":"CLEAN(CCA!AI85)","v":"Os títulos serão extintos, permanente e em valor no mínimo correspondente ao saldo computado no Nível I do Patrimônio de Referência do BRB – Banco de Brasília S.A nas seguintes condições:         1. seja verificada a divulgação pelo BRB – Banco de Brasília S.A. de que seu Capital Principal está em patamar inferior a 5,125% (cinco inteiros e cento e vinte e cinco milésimos por cento) do montante RWA, estabelecida pela Resolução 4.193, de 2013; ou2. assinatura de compromisso de aporte para a instituição emitente, caso se configure a exceção prevista no caput do art. 28 da Lei Complementar no 101, de 4 de maio de 2000; ou3. seja decretado pelo BACEN o regime de administração especial temporária ou intervenção do BRB – Banco de Brasília S.A.; ou4. seja determinado pelo BACEN, segundo critérios estabelecidos em regulamento específico editado pelo Conselho Monetário Nacional,a extinção do instrumento."},{"$f":"CLEAN(CCA!AJ85)","v":"Totalmente"},{"$f":"CLEAN(CCA!AK85)","v":"Permanente"},{"$f":"CLEAN(CCA!AL85)","v":"Contratual"},{"$f":"CLEAN(CCA!AM85)","v":"Não"},{"$f":"CLEAN(CCA!AN85)","v":"Não"},{"$f":"CLEAN(CCA!AO85)","v":"Não se aplica"},"sem comentários"]
["CCA","20234T",{"$f":"EOMONTH(CCA!$C$4,0)","v":"2023-12-31"},{"$f":"CLEAN(CCA!C86)","v":"BRB - BANCO DE BRASILIA S/A"},{"$f":"CLEAN(CCA!D86)","v":"LFSC2200461"},{"$f":"CLEAN(CCA!E86)","v":"Lei 12.249/2010 - Resolução 4.955/2021 do CMN"},{"$f":"CLEAN(CCA!F86)","v":"Capital Complementar"},{"$f":"CLEAN(CCA!G86)","v":"Capital Complementar"},{"$f":"CLEAN(CCA!H86)","v":"Conglomerado"},{"$f":"CLEAN(CCA!I86)","v":"Letra financeira"},{"$f":"CCA!J86","v":2972729.67},{"$f":"CCA!K86","v":2440000},{"$f":"CLEAN(CCA!L86)","v":"passivo - custo amortizado"},{"$f":"CCA!M86","v":"2022-12-19"},{"$f":"CLEAN(CCA!N86)","v":"Perpétuo"},{"$f":"CCA!O86","v":"2050-05-05"},{"$f":"CLEAN(CCA!P86)","v":"Sim"},{"$f":"CLEAN(CCA!Q86)","v":"Anual, a partir de 20/12/2027"},{"$f":"CLEAN(CCA!R86)","v":"(1) Não há vinculação regulatória ou fiscal para resgate ou recompra"},{"$f":"CLEAN(CCA!S86)","v":"(2) Em parcela única na data da recompra"},{"$f":"CLEAN(CCA!T86)","v":"Não se aplica"},{"$f":"CLEAN(CCA!U86)","v":"Fixo"},{"$f":"CLEAN(CCA!V86)","v":"155% CDI"},{"$f":"CLEAN(CCA!W86)","v":"Não"},{"$f":"CLEAN(CCA!X86)","v":"Mandatório"},{"$f":"CLEAN(CCA!Y86)","v":"Não"},{"$f":"CLEAN(CCA!Z86)","v":"Cumulativo"},{"$f":"CLEAN(CCA!AA86)","v":"Não conversível"},{"$f":"CLEAN(CCA!AB86)","v":"Não se aplica"},{"$f":"CLEAN(CCA!AC86)","v":"Não se aplica"},{"$f":"CLEAN(CCA!AD86)","v":"Não se aplica"},{"$f":"CLEAN(CCA!AE86)","v":"Não se aplica"},{"$f":"CLEAN(CCA!AF86)","v":"Não se aplica"},{"$f":"CLEAN(CCA!AG86)","v":"Não se aplica"},{"$f":"CLEAN(CCA!AH86)","v":"Sim"},{"$f":"CLEAN(CCA!AI86)","v":"Os títulos serão extintos, permanente e em valor no mínimo correspondente ao saldo computado no Nível I do Patrimônio de Referência do BRB – Banco de Brasília S.A nas seguintes condições:         1. seja verificada a divulgação pelo BRB – Banco de Brasília S.A. de que seu Capital Principal está em patamar inferior a 5,125% (cinco inteiros e cento e vinte e cinco milésimos por cento) do montante RWA, estabelecida pela Resolução 4.193, de 2013; ou2. assinatura de compromisso de aporte para a instituição emitente, caso se configure a exceção prevista no caput do art. 28 da Lei Complementar no 101, de 4 de maio de 2000; ou3. seja decretado pelo BACEN o regime de administração especial temporária ou intervenção do BRB – Banco de Brasília S.A.; ou4. seja determinado pelo BACEN, segundo critérios estabelecidos em regulamento específico editado pelo Conselho Monetário Nacional,a extinção do instrumento."},{"$f":"CLEAN(CCA!AJ86)","v":"Totalmente"},{"$f":"CLEAN(CCA!AK86)","v":"Permanente"},{"$f":"CLEAN(CCA!AL86)","v":"Contratual"},{"$f":"CLEAN(CCA!AM86)","v":"Não"},{"$f":"CLEAN(CCA!AN86)","v":"Não"},{"$f":"CLEAN(CCA!AO86)","v":"Não se aplica"},"sem comentários"]
["CCA","20234T",{"$f":"EOMONTH(CCA!$C$4,0)","v":"2023-12-31"},{"$f":"CLEAN(CCA!C87)","v":"BRB - BANCO DE BRASILIA S/A"},{"$f":"CLEAN(CCA!D87)","v":"LFSC22004BM"},{"$f":"CLEAN(CCA!E87)","v":"Lei 12.249/2010 - Resolução 4.955/2021 do CMN"},{"$f":"CLEAN(CCA!F87)","v":"Capital Complementar"},{"$f":"CLEAN(CCA!G87)","v":"Capital Complementar"},{"$f":"CLEAN(CCA!H87)","v":"Conglomerado"},{"$f":"CLEAN(CCA!I87)","v":"Letra financeira"},{"$f":"CCA!J87","v":3609735.78},{"$f":"CCA!K87","v":3000000},{"$f":"CLEAN(CCA!L87)","v":"passivo - custo amortizado"},{"$f":"CCA!M87","v":"2022-12-29"},{"$f":"CLEAN(CCA!N87)","v":"Perpétuo"},{"$f":"CCA!O87","v":"2050-05-16"},{"$f":"CLEAN(CCA!P87)","v":"Sim"},{"$f":"CLEAN(CCA!Q87)","v":"Anual, a partir de 30/12/2027"},{"$f":"CLEAN(CCA!R87)","v":"(1) Não há vinculação regulatória ou fiscal para resgate ou recompra"},{"$f":"CLEAN(CCA!S87)","v":"(2) Em parcela única na data da recompra"},{"$f":"CLEAN(CCA!T87)","v":"Não se aplica"},{"$f":"CLEAN(CCA!U87)","v":"Fixo"},{"$f":"CLEAN(CCA!V87)","v":"150% CDI"},{"$f":"CLEAN(CCA!W87)","v":"Não"},{"$f":"CLEAN(CCA!X87)","v":"Mandatório"},{"$f":"CLEAN(CCA!Y87)","v":"Não"},{"$f":"CLEAN(CCA!Z87)","v":"Cumulativo"},{"$f":"CLEAN(CCA!AA87)","v":"Não conversível"},{"$f":"CLEAN(CCA!AB87)","v":"Não se aplica"},{"$f":"CLEAN(CCA!AC87)","v":"Não se aplica"},{"$f":"CLEAN(CCA!AD87)","v":"Não se aplica"},{"$f":"CLEAN(CCA!AE87)","v":"Não se aplica"},{"$f":"CLEAN(CCA!AF87)","v":"Não se aplica"},{"$f":"CLEAN(CCA!AG87)","v":"Não se aplica"},{"$f":"CLEAN(CCA!AH87)","v":"Sim"},{"$f":"CLEAN(CCA!AI87)","v":"Os títulos serão extintos, permanente e em valor no mínimo correspondente ao saldo computado no Nível I do Patrimônio de Referência do BRB – Banco de Brasília S.A nas seguintes condições:         1. seja verificada a divulgação pelo BRB – Banco de Brasília S.A. de que seu Capital Principal está em patamar inferior a 5,125% (cinco inteiros e cento e vinte e cinco milésimos por cento) do montante RWA, estabelecida pela Resolução 4.193, de 2013; ou2. assinatura de compromisso de aporte para a instituição emitente, caso se configure a exceção prevista no caput do art. 28 da Lei Complementar no 101, de 4 de maio de 2000; ou3. seja decretado pelo BACEN o regime de administração especial temporária ou intervenção do BRB – Banco de Brasília S.A.; ou4. seja determinado pelo BACEN, segundo critérios estabelecidos em regulamento específico editado pelo Conselho Monetário Nacional,a extinção do instrumento."},{"$f":"CLEAN(CCA!AJ87)","v":"Totalmente"},{"$f":"CLEAN(CCA!AK87)","v":"Permanente"},{"$f":"CLEAN(CCA!AL87)","v":"Contratual"},{"$f":"CLEAN(CCA!AM87)","v":"Não"},{"$f":"CLEAN(CCA!AN87)","v":"Não"},{"$f":"CLEAN(CCA!AO87)","v":"Não se aplica"},"sem comentários"]
["CCA","20234T",{"$f":"EOMONTH(CCA!$C$4,0)","v":"2023-12-31"},{"$f":"CLEAN(CCA!C88)","v":"BRB - BANCO DE BRASILIA S/A"},{"$f":"CLEAN(CCA!D88)","v":"LFSC20002MO"},{"$f":"CLEAN(CCA!E88)","v":"Lei 12.249/2010 - Resolução 4.955/2021 do CMN"},{"$f":"CLEAN(CCA!F88)","v":"Capital Complementar"},{"$f":"CLEAN(CCA!G88)","v":"Capital Complementar"},{"$f":"CLEAN(CCA!H88)","v":"Conglomerado"},{"$f":"CLEAN(CCA!I88)","v":"Letra financeira"},{"$f":"CCA!J88","v":5665804.1500000004},{"$f":"CCA!K88","v":3750300},{"$f":"CLEAN(CCA!L88)","v":"passivo - custo amortizado"},{"$f":"CCA!M88","v":"2020-12-18"},{"$f":"CLEAN(CCA!N88)","v":"Perpétuo"},{"$f":"CCA!O88","v":"2050-12-19"},{"$f":"CLEAN(CCA!P88)","v":"Sim"},{"$f":"CLEAN(CCA!Q88)","v":"Anual, a partir de 19/12/2025"},{"$f":"CLEAN(CCA!R88)","v":"(1) Não há vinculação regulatória ou fiscal para resgate ou recompra"},{"$f":"CLEAN(CCA!S88)","v":"(2) Em parcela única na data da recompra"},{"$f":"CLEAN(CCA!T88)","v":"Não se aplica"},{"$f":"CLEAN(CCA!U88)","v":"Fixo"},{"$f":"CLEAN(CCA!V88)","v":"IPCA + 7,05%"},{"$f":"CLEAN(CCA!W88)","v":"Não"},{"$f":"CLEAN(CCA!X88)","v":"Mandatório"},{"$f":"CLEAN(CCA!Y88)","v":"Não"},{"$f":"CLEAN(CCA!Z88)","v":"Cumulativo"},{"$f":"CLEAN(CCA!AA88)","v":"Não conversível"},{"$f":"CLEAN(CCA!AB88)","v":"Não se aplica"},{"$f":"CLEAN(CCA!AC88)","v":"Não se aplica"},{"$f":"CLEAN(CCA!AD88)","v":"Não se aplica"},{"$f":"CLEAN(CCA!AE88)","v":"Não se aplica"},{"$f":"CLEAN(CCA!AF88)","v":"Não se aplica"},{"$f":"CLEAN(CCA!AG88)","v":"Não se aplica"},{"$f":"CLEAN(CCA!AH88)","v":"Sim"},{"$f":"CLEAN(CCA!AI88)","v":"Os títulos serão extintos, permanente e em valor no mínimo correspondente ao saldo computado no Nível I do Patrimônio de Referência do BRB – Banco de Brasília S.A nas seguintes condições:         1. seja verificada a divulgação pelo BRB – Banco de Brasília S.A. de que seu Capital Principal está em patamar inferior a 5,125% (cinco inteiros e cento e vinte e cinco milésimos por cento) do montante RWA, estabelecida pela Resolução 4.193, de 2013; ou2. assinatura de compromisso de aporte para a instituição emitente, caso se configure a exceção prevista no caput do art. 28 da Lei Complementar no 101, de 4 de maio de 2000; ou3. seja decretado pelo BACEN o regime de administração especial temporária ou intervenção do BRB – Banco de Brasília S.A.; ou4. seja determinado pelo BACEN, segundo critérios estabelecidos em regulamento específico editado pelo Conselho Monetário Nacional,a extinção do instrumento."},{"$f":"CLEAN(CCA!AJ88)","v":"Totalmente"},{"$f":"CLEAN(CCA!AK88)","v":"Permanente"},{"$f":"CLEAN(CCA!AL88)","v":"Contratual"},{"$f":"CLEAN(CCA!AM88)","v":"Não"},{"$f":"CLEAN(CCA!AN88)","v":"Não"},{"$f":"CLEAN(CCA!AO88)","v":"Não se aplica"},"sem comentários"]
["CCA","20234T",{"$f":"EOMONTH(CCA!$C$4,0)","v":"2023-12-31"},{"$f":"CLEAN(CCA!C89)","v":"BRB - BANCO DE BRASILIA S/A"},{"$f":"CLEAN(CCA!D89)","v":"LFSC23000GP"},{"$f":"CLEAN(CCA!E89)","v":"Lei 12.249/2010 - Resolução 4.955/2021 do CMN"},{"$f":"CLEAN(CCA!F89)","v":"Capital Complementar"},{"$f":"CLEAN(CCA!G89)","v":"Capital Complementar"},{"$f":"CLEAN(CCA!H89)","v":"Conglomerado"},{"$f":"CLEAN(CCA!I89)","v":"Letra financeira"},{"$f":"CCA!J89","v":59429925.450000003},{"$f":"CCA!K89","v":52999999.359999999},{"$f":"CLEAN(CCA!L89)","v":"passivo - custo amortizado"},{"$f":"CCA!M89","v":"2023-02-06"},{"$f":"CLEAN(CCA!N89)","v":"Perpétuo"},{"$f":"CCA!O89","v":"2050-06-23"},{"$f":"CLEAN(CCA!P89)","v":"Sim"},{"$f":"CLEAN(CCA!Q89)","v":"Anual, a partir de 07/02/2028"},{"$f":"CLEAN(CCA!R89)","v":"(1) Não há vinculação regulatória ou fiscal para resgate ou recompra"},{"$f":"CLEAN(CCA!S89)","v":"(2) Em parcela única na data da recompra"},{"$f":"CLEAN(CCA!T89)","v":"Não se aplica"},{"$f":"CLEAN(CCA!U89)","v":"Fixo"},{"$f":"CLEAN(CCA!V89)","v":"IPCA + 9,01%"},{"$f":"CLEAN(CCA!W89)","v":"Não"},{"$f":"CLEAN(CCA!X89)","v":"Mandatório"},{"$f":"CLEAN(CCA!Y89)","v":"Não"},{"$f":"CLEAN(CCA!Z89)","v":"Cumulativo"},{"$f":"CLEAN(CCA!AA89)","v":"Não conversível"},{"$f":"CLEAN(CCA!AB89)","v":"Não se aplica"},{"$f":"CLEAN(CCA!AC89)","v":"Não se aplica"},{"$f":"CLEAN(CCA!AD89)","v":"Não se aplica"},{"$f":"CLEAN(CCA!AE89)","v":"Não se aplica"},{"$f":"CLEAN(CCA!AF89)","v":"Não se aplica"},{"$f":"CLEAN(CCA!AG89)","v":"Não se aplica"},{"$f":"CLEAN(CCA!AH89)","v":"Sim"},{"$f":"CLEAN(CCA!AI89)","v":"Os títulos serão extintos, permanente e em valor no mínimo correspondente ao saldo computado no Nível I do Patrimônio de Referência do BRB – Banco de Brasília S.A nas seguintes condições:         1. seja verificada a divulgação pelo BRB – Banco de Brasília S.A. de que seu Capital Principal está em patamar inferior a 5,125% (cinco inteiros e cento e vinte e cinco milésimos por cento) do montante RWA, estabelecida pela Resolução 4.193, de 2013; ou2. assinatura de compromisso de aporte para a instituição emitente, caso se configure a exceção prevista no caput do art. 28 da Lei Complementar no 101, de 4 de maio de 2000; ou3. seja decretado pelo BACEN o regime de administração especial temporária ou intervenção do BRB – Banco de Brasília S.A.; ou4. seja determinado pelo BACEN, segundo critérios estabelecidos em regulamento específico editado pelo Conselho Monetário Nacional,a extinção do instrumento."},{"$f":"CLEAN(CCA!AJ89)","v":"Totalmente"},{"$f":"CLEAN(CCA!AK89)","v":"Permanente"},{"$f":"CLEAN(CCA!AL89)","v":"Contratual"},{"$f":"CLEAN(CCA!AM89)","v":"Não"},{"$f":"CLEAN(CCA!AN89)","v":"Não"},{"$f":"CLEAN(CCA!AO89)","v":"Não se aplica"},"sem comentários"]
["CCA","20234T",{"$f":"EOMONTH(CCA!$C$4,0)","v":"2023-12-31"},{"$f":"CLEAN(CCA!C90)","v":"BRB - BANCO DE BRASILIA S/A"},{"$f":"CLEAN(CCA!D90)","v":"LFSC23000GQ"},{"$f":"CLEAN(CCA!E90)","v":"Lei 12.249/2010 - Resolução 4.955/2021 do CMN"},{"$f":"CLEAN(CCA!F90)","v":"Capital Complementar"},{"$f":"CLEAN(CCA!G90)","v":"Capital Complementar"},{"$f":"CLEAN(CCA!H90)","v":"Conglomerado"},{"$f":"CLEAN(CCA!I90)","v":"Letra financeira"},{"$f":"CCA!J90","v":18389637.300000001},{"$f":"CCA!K90","v":16399999.800000001},{"$f":"CLEAN(CCA!L90)","v":"passivo - custo amortizado"},{"$f":"CCA!M90","v":"2023-02-06"},{"$f":"CLEAN(CCA!N90)","v":"Perpétuo"},{"$f":"CCA!O90","v":"2050-06-23"},{"$f":"CLEAN(CCA!P90)","v":"Sim"},{"$f":"CLEAN(CCA!Q90)","v":"Anual, a partir de 07/02/2028"},{"$f":"CLEAN(CCA!R90)","v":"(1) Não há vinculação regulatória ou fiscal para resgate ou recompra"},{"$f":"CLEAN(CCA!S90)","v":"(2) Em parcela única na data da recompra"},{"$f":"CLEAN(CCA!T90)","v":"Não se aplica"},{"$f":"CLEAN(CCA!U90)","v":"Fixo"},{"$f":"CLEAN(CCA!V90)","v":"IPCA + 9,01%"},{"$f":"CLEAN(CCA!W90)","v":"Não"},{"$f":"CLEAN(CCA!X90)","v":"Mandatório"},{"$f":"CLEAN(CCA!Y90)","v":"Não"},{"$f":"CLEAN(CCA!Z90)","v":"Cumulativo"},{"$f":"CLEAN(CCA!AA90)","v":"Não conversível"},{"$f":"CLEAN(CCA!AB90)","v":"Não se aplica"},{"$f":"CLEAN(CCA!AC90)","v":"Não se aplica"},{"$f":"CLEAN(CCA!AD90)","v":"Não se aplica"},{"$f":"CLEAN(CCA!AE90)","v":"Não se aplica"},{"$f":"CLEAN(CCA!AF90)","v":"Não se aplica"},{"$f":"CLEAN(CCA!AG90)","v":"Não se aplica"},{"$f":"CLEAN(CCA!AH90)","v":"Sim"},{"$f":"CLEAN(CCA!AI90)","v":"Os títulos serão extintos, permanente e em valor no mínimo correspondente ao saldo computado no Nível I do Patrimônio de Referência do BRB – Banco de Brasília S.A nas seguintes condições:         1. seja verificada a divulgação pelo BRB – Banco de Brasília S.A. de que seu Capital Principal está em patamar inferior a 5,125% (cinco inteiros e cento e vinte e cinco milésimos por cento) do montante RWA, estabelecida pela Resolução 4.193, de 2013; ou2. assinatura de compromisso de aporte para a instituição emitente, caso se configure a exceção prevista no caput do art. 28 da Lei Complementar no 101, de 4 de maio de 2000; ou3. seja decretado pelo BACEN o regime de administração especial temporária ou intervenção do BRB – Banco de Brasília S.A.; ou4. seja determinado pelo BACEN, segundo critérios estabelecidos em regulamento específico editado pelo Conselho Monetário Nacional,a extinção do instrumento."},{"$f":"CLEAN(CCA!AJ90)","v":"Totalmente"},{"$f":"CLEAN(CCA!AK90)","v":"Permanente"},{"$f":"CLEAN(CCA!AL90)","v":"Contratual"},{"$f":"CLEAN(CCA!AM90)","v":"Não"},{"$f":"CLEAN(CCA!AN90)","v":"Não"},{"$f":"CLEAN(CCA!AO90)","v":"Não se aplica"},"sem comentários"]
["CCA","20234T",{"$f":"EOMONTH(CCA!$C$4,0)","v":"2023-12-31"},{"$f":"CLEAN(CCA!C91)","v":"BRB - BANCO DE BRASILIA S/A"},{"$f":"CLEAN(CCA!D91)","v":"LFSC23000M9"},{"$f":"CLEAN(CCA!E91)","v":"Lei 12.249/2010 - Resolução 4.955/2021 do CMN"},{"$f":"CLEAN(CCA!F91)","v":"Capital Complementar"},{"$f":"CLEAN(CCA!G91)","v":"Capital Complementar"},{"$f":"CLEAN(CCA!H91)","v":"Conglomerado"},{"$f":"CLEAN(CCA!I91)","v":"Letra financeira"},{"$f":"CCA!J91","v":672791.61},{"$f":"CCA!K91","v":600000},{"$f":"CLEAN(CCA!L91)","v":"passivo - custo amortizado"},{"$f":"CCA!M91","v":"2023-02-06"},{"$f":"CLEAN(CCA!N91)","v":"Perpétuo"},{"$f":"CCA!O91","v":"2050-06-23"},{"$f":"CLEAN(CCA!P91)","v":"Sim"},{"$f":"CLEAN(CCA!Q91)","v":"Anual, a partir de 07/02/2028"},{"$f":"CLEAN(CCA!R91)","v":"(1) Não há vinculação regulatória ou fiscal para resgate ou recompra"},{"$f":"CLEAN(CCA!S91)","v":"(2) Em parcela única na data da recompra"},{"$f":"CLEAN(CCA!T91)","v":"Não se aplica"},{"$f":"CLEAN(CCA!U91)","v":"Fixo"},{"$f":"CLEAN(CCA!V91)","v":"IPCA + 9,01%"},{"$f":"CLEAN(CCA!W91)","v":"Não"},{"$f":"CLEAN(CCA!X91)","v":"Mandatório"},{"$f":"CLEAN(CCA!Y91)","v":"Não"},{"$f":"CLEAN(CCA!Z91)","v":"Cumulativo"},{"$f":"CLEAN(CCA!AA91)","v":"Não conversível"},{"$f":"CLEAN(CCA!AB91)","v":"Não se aplica"},{"$f":"CLEAN(CCA!AC91)","v":"Não se aplica"},{"$f":"CLEAN(CCA!AD91)","v":"Não se aplica"},{"$f":"CLEAN(CCA!AE91)","v":"Não se aplica"},{"$f":"CLEAN(CCA!AF91)","v":"Não se aplica"},{"$f":"CLEAN(CCA!AG91)","v":"Não se aplica"},{"$f":"CLEAN(CCA!AH91)","v":"Sim"},{"$f":"CLEAN(CCA!AI91)","v":"Os títulos serão extintos, permanente e em valor no mínimo correspondente ao saldo computado no Nível I do Patrimônio de Referência do BRB – Banco de Brasília S.A nas seguintes condições:         1. seja verificada a divulgação pelo BRB – Banco de Brasília S.A. de que seu Capital Principal está em patamar inferior a 5,125% (cinco inteiros e cento e vinte e cinco milésimos por cento) do montante RWA, estabelecida pela Resolução 4.193, de 2013; ou2. assinatura de compromisso de aporte para a instituição emitente, caso se configure a exceção prevista no caput do art. 28 da Lei Complementar no 101, de 4 de maio de 2000; ou3. seja decretado pelo BACEN o regime de administração especial temporária ou intervenção do BRB – Banco de Brasília S.A.; ou4. seja determinado pelo BACEN, segundo critérios estabelecidos em regulamento específico editado pelo Conselho Monetário Nacional,a extinção do instrumento."},{"$f":"CLEAN(CCA!AJ91)","v":"Totalmente"},{"$f":"CLEAN(CCA!AK91)","v":"Permanente"},{"$f":"CLEAN(CCA!AL91)","v":"Contratual"},{"$f":"CLEAN(CCA!AM91)","v":"Não"},{"$f":"CLEAN(CCA!AN91)","v":"Não"},{"$f":"CLEAN(CCA!AO91)","v":"Não se aplica"},"sem comentários"]
["CCA","20234T",{"$f":"EOMONTH(CCA!$C$4,0)","v":"2023-12-31"},{"$f":"CLEAN(CCA!C92)","v":"BRB - BANCO DE BRASILIA S/A"},{"$f":"CLEAN(CCA!D92)","v":"LFSC200020A"},{"$f":"CLEAN(CCA!E92)","v":"Lei 12.249/2010 - Resolução 4.955/2021 do CMN"},{"$f":"CLEAN(CCA!F92)","v":"Capital Complementar"},{"$f":"CLEAN(CCA!G92)","v":"Capital Complementar"},{"$f":"CLEAN(CCA!H92)","v":"Conglomerado"},{"$f":"CLEAN(CCA!I92)","v":"Letra financeira"},{"$f":"CCA!J92","v":3256563.56},{"$f":"CCA!K92","v":2086000},{"$f":"CLEAN(CCA!L92)","v":"passivo - custo amortizado"},{"$f":"CCA!M92","v":"2020-10-14"},{"$f":"CLEAN(CCA!N92)","v":"Perpétuo"},{"$f":"CCA!O92","v":"2050-10-10"},{"$f":"CLEAN(CCA!P92)","v":"Sim"},{"$f":"CLEAN(CCA!Q92)","v":"Anual, a partir de 15/10/2025"},{"$f":"CLEAN(CCA!R92)","v":"(1) Não há vinculação regulatória ou fiscal para resgate ou recompra"},{"$f":"CLEAN(CCA!S92)","v":"(2) Em parcela única na data da recompra"},{"$f":"CLEAN(CCA!T92)","v":"Não se aplica"},{"$f":"CLEAN(CCA!U92)","v":"Fixo"},{"$f":"CLEAN(CCA!V92)","v":"IPCA + 7,05%"},{"$f":"CLEAN(CCA!W92)","v":"Não"},{"$f":"CLEAN(CCA!X92)","v":"Mandatório"},{"$f":"CLEAN(CCA!Y92)","v":"Não"},{"$f":"CLEAN(CCA!Z92)","v":"Cumulativo"},{"$f":"CLEAN(CCA!AA92)","v":"Não conversível"},{"$f":"CLEAN(CCA!AB92)","v":"Não se aplica"},{"$f":"CLEAN(CCA!AC92)","v":"Não se aplica"},{"$f":"CLEAN(CCA!AD92)","v":"Não se aplica"},{"$f":"CLEAN(CCA!AE92)","v":"Não se aplica"},{"$f":"CLEAN(CCA!AF92)","v":"Não se aplica"},{"$f":"CLEAN(CCA!AG92)","v":"Não se aplica"},{"$f":"CLEAN(CCA!AH92)","v":"Sim"},{"$f":"CLEAN(CCA!AI92)","v":"Os títulos serão extintos, permanente e em valor no mínimo correspondente ao saldo computado no Nível I do Patrimônio de Referência do BRB – Banco de Brasília S.A nas seguintes condições:         1. seja verificada a divulgação pelo BRB – Banco de Brasília S.A. de que seu Capital Principal está em patamar inferior a 5,125% (cinco inteiros e cento e vinte e cinco milésimos por cento) do montante RWA, estabelecida pela Resolução 4.193, de 2013; ou2. assinatura de compromisso de aporte para a instituição emitente, caso se configure a exceção prevista no caput do art. 28 da Lei Complementar no 101, de 4 de maio de 2000; ou3. seja decretado pelo BACEN o regime de administração especial temporária ou intervenção do BRB – Banco de Brasília S.A.; ou4. seja determinado pelo BACEN, segundo critérios estabelecidos em regulamento específico editado pelo Conselho Monetário Nacional,a extinção do instrumento."},{"$f":"CLEAN(CCA!AJ92)","v":"Totalmente"},{"$f":"CLEAN(CCA!AK92)","v":"Permanente"},{"$f":"CLEAN(CCA!AL92)","v":"Contratual"},{"$f":"CLEAN(CCA!AM92)","v":"Não"},{"$f":"CLEAN(CCA!AN92)","v":"Não"},{"$f":"CLEAN(CCA!AO92)","v":"Não se aplica"},"sem comentários"]
["CCA","20234T",{"$f":"EOMONTH(CCA!$C$4,0)","v":"2023-12-31"},{"$f":"CLEAN(CCA!C93)","v":"BRB - BANCO DE BRASILIA S/A"},{"$f":"CLEAN(CCA!D93)","v":"LFSC20001P5"},{"$f":"CLEAN(CCA!E93)","v":"Lei 12.249/2010 - Resolução 4.955/2021 do CMN"},{"$f":"CLEAN(CCA!F93)","v":"Capital Complementar"},{"$f":"CLEAN(CCA!G93)","v":"Capital Complementar"},{"$f":"CLEAN(CCA!H93)","v":"Conglomerado"},{"$f":"CLEAN(CCA!I93)","v":"Letra financeira"},{"$f":"CCA!J93","v":3039085.27},{"$f":"CCA!K93","v":1930000},{"$f":"CLEAN(CCA!L93)","v":"passivo - custo amortizado"},{"$f":"CCA!M93","v":"2020-09-16"},{"$f":"CLEAN(CCA!N93)","v":"Perpétuo"},{"$f":"CCA!O93","v":"2050-09-16"},{"$f":"CLEAN(CCA!P93)","v":"Sim"},{"$f":"CLEAN(CCA!Q93)","v":"Anual, a partir de 17/09/2025"},{"$f":"CLEAN(CCA!R93)","v":"(1) Não há vinculação regulatória ou fiscal para resgate ou recompra"},{"$f":"CLEAN(CCA!S93)","v":"(2) Em parcela única na data da recompra"},{"$f":"CLEAN(CCA!T93)","v":"Não se aplica"},{"$f":"CLEAN(CCA!U93)","v":"Fixo"},{"$f":"CLEAN(CCA!V93)","v":"IPCA + 7,05%"},{"$f":"CLEAN(CCA!W93)","v":"Não"},{"$f":"CLEAN(CCA!X93)","v":"Mandatório"},{"$f":"CLEAN(CCA!Y93)","v":"Não"},{"$f":"CLEAN(CCA!Z93)","v":"Cumulativo"},{"$f":"CLEAN(CCA!AA93)","v":"Não conversível"},{"$f":"CLEAN(CCA!AB93)","v":"Não se aplica"},{"$f":"CLEAN(CCA!AC93)","v":"Não se aplica"},{"$f":"CLEAN(CCA!AD93)","v":"Não se aplica"},{"$f":"CLEAN(CCA!AE93)","v":"Não se aplica"},{"$f":"CLEAN(CCA!AF93)","v":"Não se aplica"},{"$f":"CLEAN(CCA!AG93)","v":"Não se aplica"},{"$f":"CLEAN(CCA!AH93)","v":"Sim"},{"$f":"CLEAN(CCA!AI93)","v":"Os títulos serão extintos, permanente e em valor no mínimo correspondente ao saldo computado no Nível I do Patrimônio de Referência do BRB – Banco de Brasília S.A nas seguintes condições:         1. seja verificada a divulgação pelo BRB – Banco de Brasília S.A. de que seu Capital Principal está em patamar inferior a 5,125% (cinco inteiros e cento e vinte e cinco milésimos por cento) do montante RWA, estabelecida pela Resolução 4.193, de 2013; ou2. assinatura de compromisso de aporte para a instituição emitente, caso se configure a exceção prevista no caput do art. 28 da Lei Complementar no 101, de 4 de maio de 2000; ou3. seja decretado pelo BACEN o regime de administração especial temporária ou intervenção do BRB – Banco de Brasília S.A.; ou4. seja determinado pelo BACEN, segundo critérios estabelecidos em regulamento específico editado pelo Conselho Monetário Nacional,a extinção do instrumento."},{"$f":"CLEAN(CCA!AJ93)","v":"Totalmente"},{"$f":"CLEAN(CCA!AK93)","v":"Permanente"},{"$f":"CLEAN(CCA!AL93)","v":"Contratual"},{"$f":"CLEAN(CCA!AM93)","v":"Não"},{"$f":"CLEAN(CCA!AN93)","v":"Não"},{"$f":"CLEAN(CCA!AO93)","v":"Não se aplica"},"sem comentários"]
["CCA","20234T",{"$f":"EOMONTH(CCA!$C$4,0)","v":"2023-12-31"},{"$f":"CLEAN(CCA!C94)","v":"BRB - BANCO DE BRASILIA S/A"},{"$f":"CLEAN(CCA!D94)","v":"LFSC21000MH"},{"$f":"CLEAN(CCA!E94)","v":"Lei 12.249/2010 - Resolução 4.955/2021 do CMN"},{"$f":"CLEAN(CCA!F94)","v":"Capital Complementar"},{"$f":"CLEAN(CCA!G94)","v":"Capital Complementar"},{"$f":"CLEAN(CCA!H94)","v":"Conglomerado"},{"$f":"CLEAN(CCA!I94)","v":"Letra financeira"},{"$f":"CCA!J94","v":44187795.829999998},{"$f":"CCA!K94","v":30000000},{"$f":"CLEAN(CCA!L94)","v":"passivo - custo amortizado"},{"$f":"CCA!M94","v":"2021-02-11"},{"$f":"CLEAN(CCA!N94)","v":"Perpétuo"},{"$f":"CCA!O94","v":"2051-02-15"},{"$f":"CLEAN(CCA!P94)","v":"Sim"},{"$f":"CLEAN(CCA!Q94)","v":"Anual, a partir de 12/02/2026"},{"$f":"CLEAN(CCA!R94)","v":"(1) Não há vinculação regulatória ou fiscal para resgate ou recompra"},{"$f":"CLEAN(CCA!S94)","v":"(2) Em parcela única na data da recompra"},{"$f":"CLEAN(CCA!T94)","v":"Não se aplica"},{"$f":"CLEAN(CCA!U94)","v":"Fixo"},{"$f":"CLEAN(CCA!V94)","v":"IPCA + 7,05%"},{"$f":"CLEAN(CCA!W94)","v":"Não"},{"$f":"CLEAN(CCA!X94)","v":"Mandatório"},{"$f":"CLEAN(CCA!Y94)","v":"Não"},{"$f":"CLEAN(CCA!Z94)","v":"Cumulativo"},{"$f":"CLEAN(CCA!AA94)","v":"Não conversível"},{"$f":"CLEAN(CCA!AB94)","v":"Não se aplica"},{"$f":"CLEAN(CCA!AC94)","v":"Não se aplica"},{"$f":"CLEAN(CCA!AD94)","v":"Não se aplica"},{"$f":"CLEAN(CCA!AE94)","v":"Não se aplica"},{"$f":"CLEAN(CCA!AF94)","v":"Não se aplica"},{"$f":"CLEAN(CCA!AG94)","v":"Não se aplica"},{"$f":"CLEAN(CCA!AH94)","v":"Sim"},{"$f":"CLEAN(CCA!AI94)","v":"Os títulos serão extintos, permanente e em valor no mínimo correspondente ao saldo computado no Nível I do Patrimônio de Referência do BRB – Banco de Brasília S.A nas seguintes condições:         1. seja verificada a divulgação pelo BRB – Banco de Brasília S.A. de que seu Capital Principal está em patamar inferior a 5,125% (cinco inteiros e cento e vinte e cinco milésimos por cento) do montante RWA, estabelecida pela Resolução 4.193, de 2013; ou2. assinatura de compromisso de aporte para a instituição emitente, caso se configure a exceção prevista no caput do art. 28 da Lei Complementar no 101, de 4 de maio de 2000; ou3. seja decretado pelo BACEN o regime de administração especial temporária ou intervenção do BRB – Banco de Brasília S.A.; ou4. seja determinado pelo BACEN, segundo critérios estabelecidos em regulamento específico editado pelo Conselho Monetário Nacional,a extinção do instrumento."},{"$f":"CLEAN(CCA!AJ94)","v":"Totalmente"},{"$f":"CLEAN(CCA!AK94)","v":"Permanente"},{"$f":"CLEAN(CCA!AL94)","v":"Contratual"},{"$f":"CLEAN(CCA!AM94)","v":"Não"},{"$f":"CLEAN(CCA!AN94)","v":"Não"},{"$f":"CLEAN(CCA!AO94)","v":"Não se aplica"},"sem comentários"]
["CCA","20234T",{"$f":"EOMONTH(CCA!$C$4,0)","v":"2023-12-31"},{"$f":"CLEAN(CCA!C95)","v":"BRB - BANCO DE BRASILIA S/A"},{"$f":"CLEAN(CCA!D95)","v":"LFSC21000MI"},{"$f":"CLEAN(CCA!E95)","v":"Lei 12.249/2010 - Resolução 4.955/2021 do CMN"},{"$f":"CLEAN(CCA!F95)","v":"Capital Complementar"},{"$f":"CLEAN(CCA!G95)","v":"Capital Complementar"},{"$f":"CLEAN(CCA!H95)","v":"Conglomerado"},{"$f":"CLEAN(CCA!I95)","v":"Letra financeira"},{"$f":"CCA!J95","v":2661937.65},{"$f":"CCA!K95","v":1810000},{"$f":"CLEAN(CCA!L95)","v":"passivo - custo amortizado"},{"$f":"CCA!M95","v":"2021-02-18"},{"$f":"CLEAN(CCA!N95)","v":"Perpétuo"},{"$f":"CCA!O95","v":"2050-02-18"},{"$f":"CLEAN(CCA!P95)","v":"Sim"},{"$f":"CLEAN(CCA!Q95)","v":"Anual, a partir de 19/02/2026"},{"$f":"CLEAN(CCA!R95)","v":"(1) Não há vinculação regulatória ou fiscal para resgate ou recompra"},{"$f":"CLEAN(CCA!S95)","v":"(2) Em parcela única na data da recompra"},{"$f":"CLEAN(CCA!T95)","v":"Não se aplica"},{"$f":"CLEAN(CCA!U95)","v":"Fixo"},{"$f":"CLEAN(CCA!V95)","v":"IPCA + 7,05%"},{"$f":"CLEAN(CCA!W95)","v":"Não"},{"$f":"CLEAN(CCA!X95)","v":"Mandatório"},{"$f":"CLEAN(CCA!Y95)","v":"Não"},{"$f":"CLEAN(CCA!Z95)","v":"Cumulativo"},{"$f":"CLEAN(CCA!AA95)","v":"Não conversível"},{"$f":"CLEAN(CCA!AB95)","v":"Não se aplica"},{"$f":"CLEAN(CCA!AC95)","v":"Não se aplica"},{"$f":"CLEAN(CCA!AD95)","v":"Não se aplica"},{"$f":"CLEAN(CCA!AE95)","v":"Não se aplica"},{"$f":"CLEAN(CCA!AF95)","v":"Não se aplica"},{"$f":"CLEAN(CCA!AG95)","v":"Não se aplica"},{"$f":"CLEAN(CCA!AH95)","v":"Sim"},{"$f":"CLEAN(CCA!AI95)","v":"Os títulos serão extintos, permanente e em valor no mínimo correspondente ao saldo computado no Nível I do Patrimônio de Referência do BRB – Banco de Brasília S.A nas seguintes condições:         1. seja verificada a divulgação pelo BRB – Banco de Brasília S.A. de que seu Capital Principal está em patamar inferior a 5,125% (cinco inteiros e cento e vinte e cinco milésimos por cento) do montante RWA, estabelecida pela Resolução 4.193, de 2013; ou2. assinatura de compromisso de aporte para a instituição emitente, caso se configure a exceção prevista no caput do art. 28 da Lei Complementar no 101, de 4 de maio de 2000; ou3. seja decretado pelo BACEN o regime de administração especial temporária ou intervenção do BRB – Banco de Brasília S.A.; ou4. seja determinado pelo BACEN, segundo critérios estabelecidos em regulamento específico editado pelo Conselho Monetário Nacional,a extinção do instrumento."},{"$f":"CLEAN(CCA!AJ95)","v":"Totalmente"},{"$f":"CLEAN(CCA!AK95)","v":"Permanente"},{"$f":"CLEAN(CCA!AL95)","v":"Contratual"},{"$f":"CLEAN(CCA!AM95)","v":"Não"},{"$f":"CLEAN(CCA!AN95)","v":"Não"},{"$f":"CLEAN(CCA!AO95)","v":"Não se aplica"},"sem comentários"]
["CCA","20234T",{"$f":"EOMONTH(CCA!$C$4,0)","v":"2023-12-31"},{"$f":"CLEAN(CCA!C96)","v":"BRB - BANCO DE BRASILIA S/A"},{"$f":"CLEAN(CCA!D96)","v":"LFSC2100001"},{"$f":"CLEAN(CCA!E96)","v":"Lei 12.249/2010 - Resolução 4.955/2021 do CMN"},{"$f":"CLEAN(CCA!F96)","v":"Capital Complementar"},{"$f":"CLEAN(CCA!G96)","v":"Capital Complementar"},{"$f":"CLEAN(CCA!H96)","v":"Conglomerado"},{"$f":"CLEAN(CCA!I96)","v":"Letra financeira"},{"$f":"CCA!J96","v":1504232.37},{"$f":"CCA!K96","v":1000000},{"$f":"CLEAN(CCA!L96)","v":"passivo - custo amortizado"},{"$f":"CCA!M96","v":"2021-01-04"},{"$f":"CLEAN(CCA!N96)","v":"Perpétuo"},{"$f":"CCA!O96","v":"2031-01-06"},{"$f":"CLEAN(CCA!P96)","v":"Sim"},{"$f":"CLEAN(CCA!Q96)","v":"Anual, a partir de 05/01/2026"},{"$f":"CLEAN(CCA!R96)","v":"(1) Não há vinculação regulatória ou fiscal para resgate ou recompra"},{"$f":"CLEAN(CCA!S96)","v":"(2) Em parcela única na data da recompra"},{"$f":"CLEAN(CCA!T96)","v":"Não se aplica"},{"$f":"CLEAN(CCA!U96)","v":"Fixo"},{"$f":"CLEAN(CCA!V96)","v":"IPCA + 7,05%"},{"$f":"CLEAN(CCA!W96)","v":"Não"},{"$f":"CLEAN(CCA!X96)","v":"Mandatório"},{"$f":"CLEAN(CCA!Y96)","v":"Não"},{"$f":"CLEAN(CCA!Z96)","v":"Cumulativo"},{"$f":"CLEAN(CCA!AA96)","v":"Não conversível"},{"$f":"CLEAN(CCA!AB96)","v":"Não se aplica"},{"$f":"CLEAN(CCA!AC96)","v":"Não se aplica"},{"$f":"CLEAN(CCA!AD96)","v":"Não se aplica"},{"$f":"CLEAN(CCA!AE96)","v":"Não se aplica"},{"$f":"CLEAN(CCA!AF96)","v":"Não se aplica"},{"$f":"CLEAN(CCA!AG96)","v":"Não se aplica"},{"$f":"CLEAN(CCA!AH96)","v":"Sim"},{"$f":"CLEAN(CCA!AI96)","v":"Os títulos serão extintos, permanente e em valor no mínimo correspondente ao saldo computado no Nível I do Patrimônio de Referência do BRB – Banco de Brasília S.A nas seguintes condições:         1. seja verificada a divulgação pelo BRB – Banco de Brasília S.A. de que seu Capital Principal está em patamar inferior a 5,125% (cinco inteiros e cento e vinte e cinco milésimos por cento) do montante RWA, estabelecida pela Resolução 4.193, de 2013; ou2. assinatura de compromisso de aporte para a instituição emitente, caso se configure a exceção prevista no caput do art. 28 da Lei Complementar no 101, de 4 de maio de 2000; ou3. seja decretado pelo BACEN o regime de administração especial temporária ou intervenção do BRB – Banco de Brasília S.A.; ou4. seja determinado pelo BACEN, segundo critérios estabelecidos em regulamento específico editado pelo Conselho Monetário Nacional,a extinção do instrumento."},{"$f":"CLEAN(CCA!AJ96)","v":"Totalmente"},{"$f":"CLEAN(CCA!AK96)","v":"Permanente"},{"$f":"CLEAN(CCA!AL96)","v":"Contratual"},{"$f":"CLEAN(CCA!AM96)","v":"Não"},{"$f":"CLEAN(CCA!AN96)","v":"Não"},{"$f":"CLEAN(CCA!AO96)","v":"Não se aplica"},"sem comentários"]
["CCA","20234T",{"$f":"EOMONTH(CCA!$C$4,0)","v":"2023-12-31"},{"$f":"CLEAN(CCA!C97)","v":"BRB - BANCO DE BRASILIA S/A"},{"$f":"CLEAN(CCA!D97)","v":"LFSC21000RT"},{"$f":"CLEAN(CCA!E97)","v":"Lei 12.249/2010 - Resolução 4.955/2021 do CMN"},{"$f":"CLEAN(CCA!F97)","v":"Capital Complementar"},{"$f":"CLEAN(CCA!G97)","v":"Capital Complementar"},{"$f":"CLEAN(CCA!H97)","v":"Conglomerado"},{"$f":"CLEAN(CCA!I97)","v":"Letra financeira"},{"$f":"CCA!J97","v":1459737.8},{"$f":"CCA!K97","v":1000000},{"$f":"CLEAN(CCA!L97)","v":"passivo - custo amortizado"},{"$f":"CCA!M97","v":"2021-03-12"},{"$f":"CLEAN(CCA!N97)","v":"Perpétuo"},{"$f":"CCA!O97","v":"2051-03-13"},{"$f":"CLEAN(CCA!P97)","v":"Sim"},{"$f":"CLEAN(CCA!Q97)","v":"Anual, a partir de 13/03/2026"},{"$f":"CLEAN(CCA!R97)","v":"(1) Não há vinculação regulatória ou fiscal para resgate ou recompra"},{"$f":"CLEAN(CCA!S97)","v":"(2) Em parcela única na data da recompra"},{"$f":"CLEAN(CCA!T97)","v":"Não se aplica"},{"$f":"CLEAN(CCA!U97)","v":"Fixo"},{"$f":"CLEAN(CCA!V97)","v":"IPCA + 7,05%"},{"$f":"CLEAN(CCA!W97)","v":"Não"},{"$f":"CLEAN(CCA!X97)","v":"Mandatório"},{"$f":"CLEAN(CCA!Y97)","v":"Não"},{"$f":"CLEAN(CCA!Z97)","v":"Cumulativo"},{"$f":"CLEAN(CCA!AA97)","v":"Não conversível"},{"$f":"CLEAN(CCA!AB97)","v":"Não se aplica"},{"$f":"CLEAN(CCA!AC97)","v":"Não se aplica"},{"$f":"CLEAN(CCA!AD97)","v":"Não se aplica"},{"$f":"CLEAN(CCA!AE97)","v":"Não se aplica"},{"$f":"CLEAN(CCA!AF97)","v":"Não se aplica"},{"$f":"CLEAN(CCA!AG97)","v":"Não se aplica"},{"$f":"CLEAN(CCA!AH97)","v":"Sim"},{"$f":"CLEAN(CCA!AI97)","v":"Os títulos serão extintos, permanente e em valor no mínimo correspondente ao saldo computado no Nível I do Patrimônio de Referência do BRB – Banco de Brasília S.A nas seguintes condições:         1. seja verificada a divulgação pelo BRB – Banco de Brasília S.A. de que seu Capital Principal está em patamar inferior a 5,125% (cinco inteiros e cento e vinte e cinco milésimos por cento) do montante RWA, estabelecida pela Resolução 4.193, de 2013; ou2. assinatura de compromisso de aporte para a instituição emitente, caso se configure a exceção prevista no caput do art. 28 da Lei Complementar no 101, de 4 de maio de 2000; ou3. seja decretado pelo BACEN o regime de administração especial temporária ou intervenção do BRB – Banco de Brasília S.A.; ou4. seja determinado pelo BACEN, segundo critérios estabelecidos em regulamento específico editado pelo Conselho Monetário Nacional,a extinção do instrumento."},{"$f":"CLEAN(CCA!AJ97)","v":"Totalmente"},{"$f":"CLEAN(CCA!AK97)","v":"Permanente"},{"$f":"CLEAN(CCA!AL97)","v":"Contratual"},{"$f":"CLEAN(CCA!AM97)","v":"Não"},{"$f":"CLEAN(CCA!AN97)","v":"Não"},{"$f":"CLEAN(CCA!AO97)","v":"Não se aplica"},"sem comentários"]
["CCA","20234T",{"$f":"EOMONTH(CCA!$C$4,0)","v":"2023-12-31"},{"$f":"CLEAN(CCA!C98)","v":"BRB - BANCO DE BRASILIA S/A"},{"$f":"CLEAN(CCA!D98)","v":"LFSC21000B5"},{"$f":"CLEAN(CCA!E98)","v":"Lei 12.249/2010 - Resolução 4.955/2021 do CMN"},{"$f":"CLEAN(CCA!F98)","v":"Capital Complementar"},{"$f":"CLEAN(CCA!G98)","v":"Capital Complementar"},{"$f":"CLEAN(CCA!H98)","v":"Conglomerado"},{"$f":"CLEAN(CCA!I98)","v":"Letra financeira"},{"$f":"CCA!J98","v":2212891.9300000002},{"$f":"CCA!K98","v":1500000},{"$f":"CLEAN(CCA!L98)","v":"passivo - custo amortizado"},{"$f":"CCA!M98","v":"2021-02-02"},{"$f":"CLEAN(CCA!N98)","v":"Perpétuo"},{"$f":"CCA!O98","v":"2050-02-02"},{"$f":"CLEAN(CCA!P98)","v":"Sim"},{"$f":"CLEAN(CCA!Q98)","v":"Anual, a partir de 03/02/2026"},{"$f":"CLEAN(CCA!R98)","v":"(1) Não há vinculação regulatória ou fiscal para resgate ou recompra"},{"$f":"CLEAN(CCA!S98)","v":"(2) Em parcela única na data da recompra"},{"$f":"CLEAN(CCA!T98)","v":"Não se aplica"},{"$f":"CLEAN(CCA!U98)","v":"Fixo"},{"$f":"CLEAN(CCA!V98)","v":"IPCA + 7,05%"},{"$f":"CLEAN(CCA!W98)","v":"Não"},{"$f":"CLEAN(CCA!X98)","v":"Mandatório"},{"$f":"CLEAN(CCA!Y98)","v":"Não"},{"$f":"CLEAN(CCA!Z98)","v":"Cumulativo"},{"$f":"CLEAN(CCA!AA98)","v":"Não conversível"},{"$f":"CLEAN(CCA!AB98)","v":"Não se aplica"},{"$f":"CLEAN(CCA!AC98)","v":"Não se aplica"},{"$f":"CLEAN(CCA!AD98)","v":"Não se aplica"},{"$f":"CLEAN(CCA!AE98)","v":"Não se aplica"},{"$f":"CLEAN(CCA!AF98)","v":"Não se aplica"},{"$f":"CLEAN(CCA!AG98)","v":"Não se aplica"},{"$f":"CLEAN(CCA!AH98)","v":"Sim"},{"$f":"CLEAN(CCA!AI98)","v":"Os títulos serão extintos, permanente e em valor no mínimo correspondente ao saldo computado no Nível I do Patrimônio de Referência do BRB – Banco de Brasília S.A nas seguintes condições:         1. seja verificada a divulgação pelo BRB – Banco de Brasília S.A. de que seu Capital Principal está em patamar inferior a 5,125% (cinco inteiros e cento e vinte e cinco milésimos por cento) do montante RWA, estabelecida pela Resolução 4.193, de 2013; ou2. assinatura de compromisso de aporte para a instituição emitente, caso se configure a exceção prevista no caput do art. 28 da Lei Complementar no 101, de 4 de maio de 2000; ou3. seja decretado pelo BACEN o regime de administração especial temporária ou intervenção do BRB – Banco de Brasília S.A.; ou4. seja determinado pelo BACEN, segundo critérios estabelecidos em regulamento específico editado pelo Conselho Monetário Nacional,a extinção do instrumento."},{"$f":"CLEAN(CCA!AJ98)","v":"Totalmente"},{"$f":"CLEAN(CCA!AK98)","v":"Permanente"},{"$f":"CLEAN(CCA!AL98)","v":"Contratual"},{"$f":"CLEAN(CCA!AM98)","v":"Não"},{"$f":"CLEAN(CCA!AN98)","v":"Não"},{"$f":"CLEAN(CCA!AO98)","v":"Não se aplica"},"sem comentários"]
["CCA","20234T",{"$f":"EOMONTH(CCA!$C$4,0)","v":"2023-12-31"},{"$f":"CLEAN(CCA!C99)","v":"BRB - BANCO DE BRASILIA S/A"},{"$f":"CLEAN(CCA!D99)","v":"LFSC21001KV"},{"$f":"CLEAN(CCA!E99)","v":"Lei 12.249/2010 - Resolução 4.955/2021 do CMN"},{"$f":"CLEAN(CCA!F99)","v":"Capital Complementar"},{"$f":"CLEAN(CCA!G99)","v":"Capital Complementar"},{"$f":"CLEAN(CCA!H99)","v":"Conglomerado"},{"$f":"CLEAN(CCA!I99)","v":"Letra financeira"},{"$f":"CCA!J99","v":2850682.21},{"$f":"CCA!K99","v":2050000},{"$f":"CLEAN(CCA!L99)","v":"passivo - custo amortizado"},{"$f":"CCA!M99","v":"2021-07-28"},{"$f":"CLEAN(CCA!N99)","v":"Perpétuo"},{"$f":"CCA!O99","v":"2051-07-28"},{"$f":"CLEAN(CCA!P99)","v":"Sim"},{"$f":"CLEAN(CCA!Q99)","v":"Anual, a partir de 29/07/2026"},{"$f":"CLEAN(CCA!R99)","v":"(1) Não há vinculação regulatória ou fiscal para resgate ou recompra"},{"$f":"CLEAN(CCA!S99)","v":"(2) Em parcela única na data da recompra"},{"$f":"CLEAN(CCA!T99)","v":"Não se aplica"},{"$f":"CLEAN(CCA!U99)","v":"Fixo"},{"$f":"CLEAN(CCA!V99)","v":"IPCA + 7,5%"},{"$f":"CLEAN(CCA!W99)","v":"Não"},{"$f":"CLEAN(CCA!X99)","v":"Mandatório"},{"$f":"CLEAN(CCA!Y99)","v":"Não"},{"$f":"CLEAN(CCA!Z99)","v":"Cumulativo"},{"$f":"CLEAN(CCA!AA99)","v":"Não conversível"},{"$f":"CLEAN(CCA!AB99)","v":"Não se aplica"},{"$f":"CLEAN(CCA!AC99)","v":"Não se aplica"},{"$f":"CLEAN(CCA!AD99)","v":"Não se aplica"},{"$f":"CLEAN(CCA!AE99)","v":"Não se aplica"},{"$f":"CLEAN(CCA!AF99)","v":"Não se aplica"},{"$f":"CLEAN(CCA!AG99)","v":"Não se aplica"},{"$f":"CLEAN(CCA!AH99)","v":"Sim"},{"$f":"CLEAN(CCA!AI99)","v":"Os títulos serão extintos, permanente e em valor no mínimo correspondente ao saldo computado no Nível I do Patrimônio de Referência do BRB – Banco de Brasília S.A nas seguintes condições:         1. seja verificada a divulgação pelo BRB – Banco de Brasília S.A. de que seu Capital Principal está em patamar inferior a 5,125% (cinco inteiros e cento e vinte e cinco milésimos por cento) do montante RWA, estabelecida pela Resolução 4.193, de 2013; ou2. assinatura de compromisso de aporte para a instituição emitente, caso se configure a exceção prevista no caput do art. 28 da Lei Complementar no 101, de 4 de maio de 2000; ou3. seja decretado pelo BACEN o regime de administração especial temporária ou intervenção do BRB – Banco de Brasília S.A.; ou4. seja determinado pelo BACEN, segundo critérios estabelecidos em regulamento específico editado pelo Conselho Monetário Nacional,a extinção do instrumento."},{"$f":"CLEAN(CCA!AJ99)","v":"Totalmente"},{"$f":"CLEAN(CCA!AK99)","v":"Permanente"},{"$f":"CLEAN(CCA!AL99)","v":"Contratual"},{"$f":"CLEAN(CCA!AM99)","v":"Não"},{"$f":"CLEAN(CCA!AN99)","v":"Não"},{"$f":"CLEAN(CCA!AO99)","v":"Não se aplica"},"sem comentários"]
["CCA","20234T",{"$f":"EOMONTH(CCA!$C$4,0)","v":"2023-12-31"},{"$f":"CLEAN(CCA!C100)","v":"BRB - BANCO DE BRASILIA S/A"},{"$f":"CLEAN(CCA!D100)","v":"LFSC20001UP"},{"$f":"CLEAN(CCA!E100)","v":"Lei 12.249/2010 - Resolução 4.955/2021 do CMN"},{"$f":"CLEAN(CCA!F100)","v":"Capital Complementar"},{"$f":"CLEAN(CCA!G100)","v":"Capital Complementar"},{"$f":"CLEAN(CCA!H100)","v":"Conglomerado"},{"$f":"CLEAN(CCA!I100)","v":"Letra financeira"},{"$f":"CCA!J100","v":4029105.14},{"$f":"CCA!K100","v":2563000},{"$f":"CLEAN(CCA!L100)","v":"passivo - custo amortizado"},{"$f":"CCA!M100","v":"2020-09-21"},{"$f":"CLEAN(CCA!N100)","v":"Perpétuo"},{"$f":"CCA!O100","v":"2050-09-21"},{"$f":"CLEAN(CCA!P100)","v":"Sim"},{"$f":"CLEAN(CCA!Q100)","v":"Anual, a partir de 22/09/2025"},{"$f":"CLEAN(CCA!R100)","v":"(1) Não há vinculação regulatória ou fiscal para resgate ou recompra"},{"$f":"CLEAN(CCA!S100)","v":"(2) Em parcela única na data da recompra"},{"$f":"CLEAN(CCA!T100)","v":"Não se aplica"},{"$f":"CLEAN(CCA!U100)","v":"Fixo"},{"$f":"CLEAN(CCA!V100)","v":"IPCA + 7,05%"},{"$f":"CLEAN(CCA!W100)","v":"Não"},{"$f":"CLEAN(CCA!X100)","v":"Mandatório"},{"$f":"CLEAN(CCA!Y100)","v":"Não"},{"$f":"CLEAN(CCA!Z100)","v":"Cumulativo"},{"$f":"CLEAN(CCA!AA100)","v":"Não conversível"},{"$f":"CLEAN(CCA!AB100)","v":"Não se aplica"},{"$f":"CLEAN(CCA!AC100)","v":"Não se aplica"},{"$f":"CLEAN(CCA!AD100)","v":"Não se aplica"},{"$f":"CLEAN(CCA!AE100)","v":"Não se aplica"},{"$f":"CLEAN(CCA!AF100)","v":"Não se aplica"},{"$f":"CLEAN(CCA!AG100)","v":"Não se aplica"},{"$f":"CLEAN(CCA!AH100)","v":"Sim"},{"$f":"CLEAN(CCA!AI100)","v":"Os títulos serão extintos, permanente e em valor no mínimo correspondente ao saldo computado no Nível I do Patrimônio de Referência do BRB – Banco de Brasília S.A nas seguintes condições:         1. seja verificada a divulgação pelo BRB – Banco de Brasília S.A. de que seu Capital Principal está em patamar inferior a 5,125% (cinco inteiros e cento e vinte e cinco milésimos por cento) do montante RWA, estabelecida pela Resolução 4.193, de 2013; ou2. assinatura de compromisso de aporte para a instituição emitente, caso se configure a exceção prevista no caput do art. 28 da Lei Complementar no 101, de 4 de maio de 2000; ou3. seja decretado pelo BACEN o regime de administração especial temporária ou intervenção do BRB – Banco de Brasília S.A.; ou4. seja determinado pelo BACEN, segundo critérios estabelecidos em regulamento específico editado pelo Conselho Monetário Nacional,a extinção do instrumento."},{"$f":"CLEAN(CCA!AJ100)","v":"Totalmente"},{"$f":"CLEAN(CCA!AK100)","v":"Permanente"},{"$f":"CLEAN(CCA!AL100)","v":"Contratual"},{"$f":"CLEAN(CCA!AM100)","v":"Não"},{"$f":"CLEAN(CCA!AN100)","v":"Não"},{"$f":"CLEAN(CCA!AO100)","v":"Não se aplica"},"sem comentários"]
["CCA","20234T",{"$f":"EOMONTH(CCA!$C$4,0)","v":"2023-12-31"},{"$f":"CLEAN(CCA!C101)","v":"BRB - BANCO DE BRASILIA S/A"},{"$f":"CLEAN(CCA!D101)","v":"LFSC200020B"},{"$f":"CLEAN(CCA!E101)","v":"Lei 12.249/2010 - Resolução 4.955/2021 do CMN"},{"$f":"CLEAN(CCA!F101)","v":"Capital Complementar"},{"$f":"CLEAN(CCA!G101)","v":"Capital Complementar"},{"$f":"CLEAN(CCA!H101)","v":"Conglomerado"},{"$f":"CLEAN(CCA!I101)","v":"Letra financeira"},{"$f":"CCA!J101","v":2138009.58},{"$f":"CCA!K101","v":1372000},{"$f":"CLEAN(CCA!L101)","v":"passivo - custo amortizado"},{"$f":"CCA!M101","v":"2020-10-19"},{"$f":"CLEAN(CCA!N101)","v":"Perpétuo"},{"$f":"CCA!O101","v":"2050-10-10"},{"$f":"CLEAN(CCA!P101)","v":"Sim"},{"$f":"CLEAN(CCA!Q101)","v":"Anual, a partir de 20/10/2025"},{"$f":"CLEAN(CCA!R101)","v":"(1) Não há vinculação regulatória ou fiscal para resgate ou recompra"},{"$f":"CLEAN(CCA!S101)","v":"(2) Em parcela única na data da recompra"},{"$f":"CLEAN(CCA!T101)","v":"Não se aplica"},{"$f":"CLEAN(CCA!U101)","v":"Fixo"},{"$f":"CLEAN(CCA!V101)","v":"IPCA + 7,05%"},{"$f":"CLEAN(CCA!W101)","v":"Não"},{"$f":"CLEAN(CCA!X101)","v":"Mandatório"},{"$f":"CLEAN(CCA!Y101)","v":"Não"},{"$f":"CLEAN(CCA!Z101)","v":"Cumulativo"},{"$f":"CLEAN(CCA!AA101)","v":"Não conversível"},{"$f":"CLEAN(CCA!AB101)","v":"Não se aplica"},{"$f":"CLEAN(CCA!AC101)","v":"Não se aplica"},{"$f":"CLEAN(CCA!AD101)","v":"Não se aplica"},{"$f":"CLEAN(CCA!AE101)","v":"Não se aplica"},{"$f":"CLEAN(CCA!AF101)","v":"Não se aplica"},{"$f":"CLEAN(CCA!AG101)","v":"Não se aplica"},{"$f":"CLEAN(CCA!AH101)","v":"Sim"},{"$f":"CLEAN(CCA!AI101)","v":"Os títulos serão extintos, permanente e em valor no mínimo correspondente ao saldo computado no Nível I do Patrimônio de Referência do BRB – Banco de Brasília S.A nas seguintes condições:         1. seja verificada a divulgação pelo BRB – Banco de Brasília S.A. de que seu Capital Principal está em patamar inferior a 5,125% (cinco inteiros e cento e vinte e cinco milésimos por cento) do montante RWA, estabelecida pela Resolução 4.193, de 2013; ou2. assinatura de compromisso de aporte para a instituição emitente, caso se configure a exceção prevista no caput do art. 28 da Lei Complementar no 101, de 4 de maio de 2000; ou3. seja decretado pelo BACEN o regime de administração especial temporária ou intervenção do BRB – Banco de Brasília S.A.; ou4. seja determinado pelo BACEN, segundo critérios estabelecidos em regulamento específico editado pelo Conselho Monetário Nacional,a extinção do instrumento."},{"$f":"CLEAN(CCA!AJ101)","v":"Totalmente"},{"$f":"CLEAN(CCA!AK101)","v":"Permanente"},{"$f":"CLEAN(CCA!AL101)","v":"Contratual"},{"$f":"CLEAN(CCA!AM101)","v":"Não"},{"$f":"CLEAN(CCA!AN101)","v":"Não"},{"$f":"CLEAN(CCA!AO101)","v":"Não se aplica"},"sem comentários"]
["CCA","20234T",{"$f":"EOMONTH(CCA!$C$4,0)","v":"2023-12-31"},{"$f":"CLEAN(CCA!C102)","v":"BRB - BANCO DE BRASILIA S/A"},{"$f":"CLEAN(CCA!D102)","v":"LFSC20002H2"},{"$f":"CLEAN(CCA!E102)","v":"Lei 12.249/2010 - Resolução 4.955/2021 do CMN"},{"$f":"CLEAN(CCA!F102)","v":"Capital Complementar"},{"$f":"CLEAN(CCA!G102)","v":"Capital Complementar"},{"$f":"CLEAN(CCA!H102)","v":"Conglomerado"},{"$f":"CLEAN(CCA!I102)","v":"Letra financeira"},{"$f":"CCA!J102","v":5606946.79},{"$f":"CCA!K102","v":3680000},{"$f":"CLEAN(CCA!L102)","v":"passivo - custo amortizado"},{"$f":"CCA!M102","v":"2020-12-07"},{"$f":"CLEAN(CCA!N102)","v":"Perpétuo"},{"$f":"CCA!O102","v":"2050-12-07"},{"$f":"CLEAN(CCA!P102)","v":"Sim"},{"$f":"CLEAN(CCA!Q102)","v":"Anual, a partir de 08/12/2025"},{"$f":"CLEAN(CCA!R102)","v":"(1) Não há vinculação regulatória ou fiscal para resgate ou recompra"},{"$f":"CLEAN(CCA!S102)","v":"(2) Em parcela única na data da recompra"},{"$f":"CLEAN(CCA!T102)","v":"Não se aplica"},{"$f":"CLEAN(CCA!U102)","v":"Fixo"},{"$f":"CLEAN(CCA!V102)","v":"IPCA + 7,05%"},{"$f":"CLEAN(CCA!W102)","v":"Não"},{"$f":"CLEAN(CCA!X102)","v":"Mandatório"},{"$f":"CLEAN(CCA!Y102)","v":"Não"},{"$f":"CLEAN(CCA!Z102)","v":"Cumulativo"},{"$f":"CLEAN(CCA!AA102)","v":"Não conversível"},{"$f":"CLEAN(CCA!AB102)","v":"Não se aplica"},{"$f":"CLEAN(CCA!AC102)","v":"Não se aplica"},{"$f":"CLEAN(CCA!AD102)","v":"Não se aplica"},{"$f":"CLEAN(CCA!AE102)","v":"Não se aplica"},{"$f":"CLEAN(CCA!AF102)","v":"Não se aplica"},{"$f":"CLEAN(CCA!AG102)","v":"Não se aplica"},{"$f":"CLEAN(CCA!AH102)","v":"Sim"},{"$f":"CLEAN(CCA!AI102)","v":"Os títulos serão extintos, permanente e em valor no mínimo correspondente ao saldo computado no Nível I do Patrimônio de Referência do BRB – Banco de Brasília S.A nas seguintes condições:         1. seja verificada a divulgação pelo BRB – Banco de Brasília S.A. de que seu Capital Principal está em patamar inferior a 5,125% (cinco inteiros e cento e vinte e cinco milésimos por cento) do montante RWA, estabelecida pela Resolução 4.193, de 2013; ou2. assinatura de compromisso de aporte para a instituição emitente, caso se configure a exceção prevista no caput do art. 28 da Lei Complementar no 101, de 4 de maio de 2000; ou3. seja decretado pelo BACEN o regime de administração especial temporária ou intervenção do BRB – Banco de Brasília S.A.; ou4. seja determinado pelo BACEN, segundo critérios estabelecidos em regulamento específico editado pelo Conselho Monetário Nacional,a extinção do instrumento."},{"$f":"CLEAN(CCA!AJ102)","v":"Totalmente"},{"$f":"CLEAN(CCA!AK102)","v":"Permanente"},{"$f":"CLEAN(CCA!AL102)","v":"Contratual"},{"$f":"CLEAN(CCA!AM102)","v":"Não"},{"$f":"CLEAN(CCA!AN102)","v":"Não"},{"$f":"CLEAN(CCA!AO102)","v":"Não se aplica"},"sem comentários"]
["CCA","20234T",{"$f":"EOMONTH(CCA!$C$4,0)","v":"2023-12-31"},{"$f":"CLEAN(CCA!C103)","v":"BRB - BANCO DE BRASILIA S/A"},{"$f":"CLEAN(CCA!D103)","v":"LFSC20002MQ"},{"$f":"CLEAN(CCA!E103)","v":"Lei 12.249/2010 - Resolução 4.955/2021 do CMN"},{"$f":"CLEAN(CCA!F103)","v":"Capital Complementar"},{"$f":"CLEAN(CCA!G103)","v":"Capital Complementar"},{"$f":"CLEAN(CCA!H103)","v":"Conglomerado"},{"$f":"CLEAN(CCA!I103)","v":"Letra financeira"},{"$f":"CCA!J103","v":11371259.08},{"$f":"CCA!K103","v":7535000},{"$f":"CLEAN(CCA!L103)","v":"passivo - custo amortizado"},{"$f":"CCA!M103","v":"2020-12-21"},{"$f":"CLEAN(CCA!N103)","v":"Perpétuo"},{"$f":"CCA!O103","v":"2050-12-21"},{"$f":"CLEAN(CCA!P103)","v":"Sim"},{"$f":"CLEAN(CCA!Q103)","v":"Anual, a partir de 22/12/2025"},{"$f":"CLEAN(CCA!R103)","v":"(1) Não há vinculação regulatória ou fiscal para resgate ou recompra"},{"$f":"CLEAN(CCA!S103)","v":"(2) Em parcela única na data da recompra"},{"$f":"CLEAN(CCA!T103)","v":"Não se aplica"},{"$f":"CLEAN(CCA!U103)","v":"Fixo"},{"$f":"CLEAN(CCA!V103)","v":"IPCA + 7,05%"},{"$f":"CLEAN(CCA!W103)","v":"Não"},{"$f":"CLEAN(CCA!X103)","v":"Mandatório"},{"$f":"CLEAN(CCA!Y103)","v":"Não"},{"$f":"CLEAN(CCA!Z103)","v":"Cumulativo"},{"$f":"CLEAN(CCA!AA103)","v":"Não conversível"},{"$f":"CLEAN(CCA!AB103)","v":"Não se aplica"},{"$f":"CLEAN(CCA!AC103)","v":"Não se aplica"},{"$f":"CLEAN(CCA!AD103)","v":"Não se aplica"},{"$f":"CLEAN(CCA!AE103)","v":"Não se aplica"},{"$f":"CLEAN(CCA!AF103)","v":"Não se aplica"},{"$f":"CLEAN(CCA!AG103)","v":"Não se aplica"},{"$f":"CLEAN(CCA!AH103)","v":"Sim"},{"$f":"CLEAN(CCA!AI103)","v":"Os títulos serão extintos, permanente e em valor no mínimo correspondente ao saldo computado no Nível I do Patrimônio de Referência do BRB – Banco de Brasília S.A nas seguintes condições:         1. seja verificada a divulgação pelo BRB – Banco de Brasília S.A. de que seu Capital Principal está em patamar inferior a 5,125% (cinco inteiros e cento e vinte e cinco milésimos por cento) do montante RWA, estabelecida pela Resolução 4.193, de 2013; ou2. assinatura de compromisso de aporte para a instituição emitente, caso se configure a exceção prevista no caput do art. 28 da Lei Complementar no 101, de 4 de maio de 2000; ou3. seja decretado pelo BACEN o regime de administração especial temporária ou intervenção do BRB – Banco de Brasília S.A.; ou4. seja determinado pelo BACEN, segundo critérios estabelecidos em regulamento específico editado pelo Conselho Monetário Nacional,a extinção do instrumento."},{"$f":"CLEAN(CCA!AJ103)","v":"Totalmente"},{"$f":"CLEAN(CCA!AK103)","v":"Permanente"},{"$f":"CLEAN(CCA!AL103)","v":"Contratual"},{"$f":"CLEAN(CCA!AM103)","v":"Não"},{"$f":"CLEAN(CCA!AN103)","v":"Não"},{"$f":"CLEAN(CCA!AO103)","v":"Não se aplica"},"sem comentários"]
["CCA","20234T",{"$f":"EOMONTH(CCA!$C$4,0)","v":"2023-12-31"},{"$f":"CLEAN(CCA!C104)","v":"BRB - BANCO DE BRASILIA S/A"},{"$f":"CLEAN(CCA!D104)","v":"LFSC2000209"},{"$f":"CLEAN(CCA!E104)","v":"Lei 12.249/2010 - Resolução 4.955/2021 do CMN"},{"$f":"CLEAN(CCA!F104)","v":"Capital Complementar"},{"$f":"CLEAN(CCA!G104)","v":"Capital Complementar"},{"$f":"CLEAN(CCA!H104)","v":"Conglomerado"},{"$f":"CLEAN(CCA!I104)","v":"Letra financeira"},{"$f":"CCA!J104","v":3822230.17},{"$f":"CCA!K104","v":2445000},{"$f":"CLEAN(CCA!L104)","v":"passivo - custo amortizado"},{"$f":"CCA!M104","v":"2020-10-08"},{"$f":"CLEAN(CCA!N104)","v":"Perpétuo"},{"$f":"CCA!O104","v":"2050-10-10"},{"$f":"CLEAN(CCA!P104)","v":"Sim"},{"$f":"CLEAN(CCA!Q104)","v":"Anual, a partir de 09/10/2025"},{"$f":"CLEAN(CCA!R104)","v":"(1) Não há vinculação regulatória ou fiscal para resgate ou recompra"},{"$f":"CLEAN(CCA!S104)","v":"(2) Em parcela única na data da recompra"},{"$f":"CLEAN(CCA!T104)","v":"Não se aplica"},{"$f":"CLEAN(CCA!U104)","v":"Fixo"},{"$f":"CLEAN(CCA!V104)","v":"IPCA + 7,05%"},{"$f":"CLEAN(CCA!W104)","v":"Não"},{"$f":"CLEAN(CCA!X104)","v":"Mandatório"},{"$f":"CLEAN(CCA!Y104)","v":"Não"},{"$f":"CLEAN(CCA!Z104)","v":"Cumulativo"},{"$f":"CLEAN(CCA!AA104)","v":"Não conversível"},{"$f":"CLEAN(CCA!AB104)","v":"Não se aplica"},{"$f":"CLEAN(CCA!AC104)","v":"Não se aplica"},{"$f":"CLEAN(CCA!AD104)","v":"Não se aplica"},{"$f":"CLEAN(CCA!AE104)","v":"Não se aplica"},{"$f":"CLEAN(CCA!AF104)","v":"Não se aplica"},{"$f":"CLEAN(CCA!AG104)","v":"Não se aplica"},{"$f":"CLEAN(CCA!AH104)","v":"Sim"},{"$f":"CLEAN(CCA!AI104)","v":"Os títulos serão extintos, permanente e em valor no mínimo correspondente ao saldo computado no Nível I do Patrimônio de Referência do BRB – Banco de Brasília S.A nas seguintes condições:         1. seja verificada a divulgação pelo BRB – Banco de Brasília S.A. de que seu Capital Principal está em patamar inferior a 5,125% (cinco inteiros e cento e vinte e cinco milésimos por cento) do montante RWA, estabelecida pela Resolução 4.193, de 2013; ou2. assinatura de compromisso de aporte para a instituição emitente, caso se configure a exceção prevista no caput do art. 28 da Lei Complementar no 101, de 4 de maio de 2000; ou3. seja decretado pelo BACEN o regime de administração especial temporária ou intervenção do BRB – Banco de Brasília S.A.; ou4. seja determinado pelo BACEN, segundo critérios estabelecidos em regulamento específico editado pelo Conselho Monetário Nacional,a extinção do instrumento."},{"$f":"CLEAN(CCA!AJ104)","v":"Totalmente"},{"$f":"CLEAN(CCA!AK104)","v":"Permanente"},{"$f":"CLEAN(CCA!AL104)","v":"Contratual"},{"$f":"CLEAN(CCA!AM104)","v":"Não"},{"$f":"CLEAN(CCA!AN104)","v":"Não"},{"$f":"CLEAN(CCA!AO104)","v":"Não se aplica"},"sem comentários"]
["CCA","20234T",{"$f":"EOMONTH(CCA!$C$4,0)","v":"2023-12-31"},{"$f":"CLEAN(CCA!C105)","v":"BRB - BANCO DE BRASILIA S/A"},{"$f":"CLEAN(CCA!D105)","v":"LFSC20002MN"},{"$f":"CLEAN(CCA!E105)","v":"Lei 12.249/2010 - Resolução 4.955/2021 do CMN"},{"$f":"CLEAN(CCA!F105)","v":"Capital Complementar"},{"$f":"CLEAN(CCA!G105)","v":"Capital Complementar"},{"$f":"CLEAN(CCA!H105)","v":"Conglomerado"},{"$f":"CLEAN(CCA!I105)","v":"Letra financeira"},{"$f":"CCA!J105","v":4034701.13},{"$f":"CCA!K105","v":2650000},{"$f":"CLEAN(CCA!L105)","v":"passivo - custo amortizado"},{"$f":"CCA!M105","v":"2020-12-09"},{"$f":"CLEAN(CCA!N105)","v":"Perpétuo"},{"$f":"CCA!O105","v":"2050-12-09"},{"$f":"CLEAN(CCA!P105)","v":"Sim"},{"$f":"CLEAN(CCA!Q105)","v":"Anual, a partir de 10/12/2025"},{"$f":"CLEAN(CCA!R105)","v":"(1) Não há vinculação regulatória ou fiscal para resgate ou recompra"},{"$f":"CLEAN(CCA!S105)","v":"(2) Em parcela única na data da recompra"},{"$f":"CLEAN(CCA!T105)","v":"Não se aplica"},{"$f":"CLEAN(CCA!U105)","v":"Fixo"},{"$f":"CLEAN(CCA!V105)","v":"IPCA + 7,05%"},{"$f":"CLEAN(CCA!W105)","v":"Não"},{"$f":"CLEAN(CCA!X105)","v":"Mandatório"},{"$f":"CLEAN(CCA!Y105)","v":"Não"},{"$f":"CLEAN(CCA!Z105)","v":"Cumulativo"},{"$f":"CLEAN(CCA!AA105)","v":"Não conversível"},{"$f":"CLEAN(CCA!AB105)","v":"Não se aplica"},{"$f":"CLEAN(CCA!AC105)","v":"Não se aplica"},{"$f":"CLEAN(CCA!AD105)","v":"Não se aplica"},{"$f":"CLEAN(CCA!AE105)","v":"Não se aplica"},{"$f":"CLEAN(CCA!AF105)","v":"Não se aplica"},{"$f":"CLEAN(CCA!AG105)","v":"Não se aplica"},{"$f":"CLEAN(CCA!AH105)","v":"Sim"},{"$f":"CLEAN(CCA!AI105)","v":"Os títulos serão extintos, permanente e em valor no mínimo correspondente ao saldo computado no Nível I do Patrimônio de Referência do BRB – Banco de Brasília S.A nas seguintes condições:         1. seja verificada a divulgação pelo BRB – Banco de Brasília S.A. de que seu Capital Principal está em patamar inferior a 5,125% (cinco inteiros e cento e vinte e cinco milésimos por cento) do montante RWA, estabelecida pela Resolução 4.193, de 2013; ou2. assinatura de compromisso de aporte para a instituição emitente, caso se configure a exceção prevista no caput do art. 28 da Lei Complementar no 101, de 4 de maio de 2000; ou3. seja decretado pelo BACEN o regime de administração especial temporária ou intervenção do BRB – Banco de Brasília S.A.; ou4. seja determinado pelo BACEN, segundo critérios estabelecidos em regulamento específico editado pelo Conselho Monetário Nacional,a extinção do instrumento."},{"$f":"CLEAN(CCA!AJ105)","v":"Totalmente"},{"$f":"CLEAN(CCA!AK105)","v":"Permanente"},{"$f":"CLEAN(CCA!AL105)","v":"Contratual"},{"$f":"CLEAN(CCA!AM105)","v":"Não"},{"$f":"CLEAN(CCA!AN105)","v":"Não"},{"$f":"CLEAN(CCA!AO105)","v":"Não se aplica"},"sem comentários"]
["CCA","20234T",{"$f":"EOMONTH(CCA!$C$4,0)","v":"2023-12-31"},{"$f":"CLEAN(CCA!C106)","v":"BRB - BANCO DE BRASILIA S/A"},{"$f":"CLEAN(CCA!D106)","v":"LFSC20002MM"},{"$f":"CLEAN(CCA!E106)","v":"Lei 12.249/2010 - Resolução 4.955/2021 do CMN"},{"$f":"CLEAN(CCA!F106)","v":"Capital Complementar"},{"$f":"CLEAN(CCA!G106)","v":"Capital Complementar"},{"$f":"CLEAN(CCA!H106)","v":"Conglomerado"},{"$f":"CLEAN(CCA!I106)","v":"Letra financeira"},{"$f":"CCA!J106","v":2299018.37},{"$f":"CCA!K106","v":1510000},{"$f":"CLEAN(CCA!L106)","v":"passivo - custo amortizado"},{"$f":"CCA!M106","v":"2020-12-09"},{"$f":"CLEAN(CCA!N106)","v":"Perpétuo"},{"$f":"CCA!O106","v":"2050-12-09"},{"$f":"CLEAN(CCA!P106)","v":"Sim"},{"$f":"CLEAN(CCA!Q106)","v":"Anual, a partir de 10/12/2025"},{"$f":"CLEAN(CCA!R106)","v":"(1) Não há vinculação regulatória ou fiscal para resgate ou recompra"},{"$f":"CLEAN(CCA!S106)","v":"(2) Em parcela única na data da recompra"},{"$f":"CLEAN(CCA!T106)","v":"Não se aplica"},{"$f":"CLEAN(CCA!U106)","v":"Fixo"},{"$f":"CLEAN(CCA!V106)","v":"IPCA + 7,05%"},{"$f":"CLEAN(CCA!W106)","v":"Não"},{"$f":"CLEAN(CCA!X106)","v":"Mandatório"},{"$f":"CLEAN(CCA!Y106)","v":"Não"},{"$f":"CLEAN(CCA!Z106)","v":"Cumulativo"},{"$f":"CLEAN(CCA!AA106)","v":"Não conversível"},{"$f":"CLEAN(CCA!AB106)","v":"Não se aplica"},{"$f":"CLEAN(CCA!AC106)","v":"Não se aplica"},{"$f":"CLEAN(CCA!AD106)","v":"Não se aplica"},{"$f":"CLEAN(CCA!AE106)","v":"Não se aplica"},{"$f":"CLEAN(CCA!AF106)","v":"Não se aplica"},{"$f":"CLEAN(CCA!AG106)","v":"Não se aplica"},{"$f":"CLEAN(CCA!AH106)","v":"Sim"},{"$f":"CLEAN(CCA!AI106)","v":"Os títulos serão extintos, permanente e em valor no mínimo correspondente ao saldo computado no Nível I do Patrimônio de Referência do BRB – Banco de Brasília S.A nas seguintes condições:         1. seja verificada a divulgação pelo BRB – Banco de Brasília S.A. de que seu Capital Principal está em patamar inferior a 5,125% (cinco inteiros e cento e vinte e cinco milésimos por cento) do montante RWA, estabelecida pela Resolução 4.193, de 2013; ou2. assinatura de compromisso de aporte para a instituição emitente, caso se configure a exceção prevista no caput do art. 28 da Lei Complementar no 101, de 4 de maio de 2000; ou3. seja decretado pelo BACEN o regime de administração especial temporária ou intervenção do BRB – Banco de Brasília S.A.; ou4. seja determinado pelo BACEN, segundo critérios estabelecidos em regulamento específico editado pelo Conselho Monetário Nacional,a extinção do instrumento."},{"$f":"CLEAN(CCA!AJ106)","v":"Totalmente"},{"$f":"CLEAN(CCA!AK106)","v":"Permanente"},{"$f":"CLEAN(CCA!AL106)","v":"Contratual"},{"$f":"CLEAN(CCA!AM106)","v":"Não"},{"$f":"CLEAN(CCA!AN106)","v":"Não"},{"$f":"CLEAN(CCA!AO106)","v":"Não se aplica"},"sem comentários"]
["CCA","20234T",{"$f":"EOMONTH(CCA!$C$4,0)","v":"2023-12-31"},{"$f":"CLEAN(CCA!C107)","v":"BRB - BANCO DE BRASILIA S/A"},{"$f":"CLEAN(CCA!D107)","v":"LFSC21001KL"},{"$f":"CLEAN(CCA!E107)","v":"Lei 12.249/2010 - Resolução 4.955/2021 do CMN"},{"$f":"CLEAN(CCA!F107)","v":"Capital Complementar"},{"$f":"CLEAN(CCA!G107)","v":"Capital Complementar"},{"$f":"CLEAN(CCA!H107)","v":"Conglomerado"},{"$f":"CLEAN(CCA!I107)","v":"Letra financeira"},{"$f":"CCA!J107","v":1396568.51},{"$f":"CCA!K107","v":1000000},{"$f":"CLEAN(CCA!L107)","v":"passivo - custo amortizado"},{"$f":"CCA!M107","v":"2021-07-16"},{"$f":"CLEAN(CCA!N107)","v":"Perpétuo"},{"$f":"CCA!O107","v":"2031-07-17"},{"$f":"CLEAN(CCA!P107)","v":"Sim"},{"$f":"CLEAN(CCA!Q107)","v":"Anual, a partir de 17/07/2026"},{"$f":"CLEAN(CCA!R107)","v":"(1) Não há vinculação regulatória ou fiscal para resgate ou recompra"},{"$f":"CLEAN(CCA!S107)","v":"(2) Em parcela única na data da recompra"},{"$f":"CLEAN(CCA!T107)","v":"Não se aplica"},{"$f":"CLEAN(CCA!U107)","v":"Fixo"},{"$f":"CLEAN(CCA!V107)","v":"IPCA + 7,5%"},{"$f":"CLEAN(CCA!W107)","v":"Não"},{"$f":"CLEAN(CCA!X107)","v":"Mandatório"},{"$f":"CLEAN(CCA!Y107)","v":"Não"},{"$f":"CLEAN(CCA!Z107)","v":"Cumulativo"},{"$f":"CLEAN(CCA!AA107)","v":"Não conversível"},{"$f":"CLEAN(CCA!AB107)","v":"Não se aplica"},{"$f":"CLEAN(CCA!AC107)","v":"Não se aplica"},{"$f":"CLEAN(CCA!AD107)","v":"Não se aplica"},{"$f":"CLEAN(CCA!AE107)","v":"Não se aplica"},{"$f":"CLEAN(CCA!AF107)","v":"Não se aplica"},{"$f":"CLEAN(CCA!AG107)","v":"Não se aplica"},{"$f":"CLEAN(CCA!AH107)","v":"Sim"},{"$f":"CLEAN(CCA!AI107)","v":"Os títulos serão extintos, permanente e em valor no mínimo correspondente ao saldo computado no Nível I do Patrimônio de Referência do BRB – Banco de Brasília S.A nas seguintes condições:         1. seja verificada a divulgação pelo BRB – Banco de Brasília S.A. de que seu Capital Principal está em patamar inferior a 5,125% (cinco inteiros e cento e vinte e cinco milésimos por cento) do montante RWA, estabelecida pela Resolução 4.193, de 2013; ou2. assinatura de compromisso de aporte para a instituição emitente, caso se configure a exceção prevista no caput do art. 28 da Lei Complementar no 101, de 4 de maio de 2000; ou3. seja decretado pelo BACEN o regime de administração especial temporária ou intervenção do BRB – Banco de Brasília S.A.; ou4. seja determinado pelo BACEN, segundo critérios estabelecidos em regulamento específico editado pelo Conselho Monetário Nacional,a extinção do instrumento."},{"$f":"CLEAN(CCA!AJ107)","v":"Totalmente"},{"$f":"CLEAN(CCA!AK107)","v":"Permanente"},{"$f":"CLEAN(CCA!AL107)","v":"Contratual"},{"$f":"CLEAN(CCA!AM107)","v":"Não"},{"$f":"CLEAN(CCA!AN107)","v":"Não"},{"$f":"CLEAN(CCA!AO107)","v":"Não se aplica"},"sem comentários"]
["CCA","20234T",{"$f":"EOMONTH(CCA!$C$4,0)","v":"2023-12-31"},{"$f":"CLEAN(CCA!C108)","v":"BRB - BANCO DE BRASILIA S/A"},{"$f":"CLEAN(CCA!D108)","v":"LFSC20001UQ"},{"$f":"CLEAN(CCA!E108)","v":"Lei 12.249/2010 - Resolução 4.955/2021 do CMN"},{"$f":"CLEAN(CCA!F108)","v":"Capital Complementar"},{"$f":"CLEAN(CCA!G108)","v":"Capital Complementar"},{"$f":"CLEAN(CCA!H108)","v":"Conglomerado"},{"$f":"CLEAN(CCA!I108)","v":"Letra financeira"},{"$f":"CCA!J108","v":3153605.08},{"$f":"CCA!K108","v":2007000},{"$f":"CLEAN(CCA!L108)","v":"passivo - custo amortizado"},{"$f":"CCA!M108","v":"2020-09-22"},{"$f":"CLEAN(CCA!N108)","v":"Perpétuo"},{"$f":"CCA!O108","v":"2050-09-22"},{"$f":"CLEAN(CCA!P108)","v":"Sim"},{"$f":"CLEAN(CCA!Q108)","v":"Anual, a partir de 23/09/2025"},{"$f":"CLEAN(CCA!R108)","v":"(1) Não há vinculação regulatória ou fiscal para resgate ou recompra"},{"$f":"CLEAN(CCA!S108)","v":"(2) Em parcela única na data da recompra"},{"$f":"CLEAN(CCA!T108)","v":"Não se aplica"},{"$f":"CLEAN(CCA!U108)","v":"Fixo"},{"$f":"CLEAN(CCA!V108)","v":"IPCA + 7,05%"},{"$f":"CLEAN(CCA!W108)","v":"Não"},{"$f":"CLEAN(CCA!X108)","v":"Mandatório"},{"$f":"CLEAN(CCA!Y108)","v":"Não"},{"$f":"CLEAN(CCA!Z108)","v":"Cumulativo"},{"$f":"CLEAN(CCA!AA108)","v":"Não conversível"},{"$f":"CLEAN(CCA!AB108)","v":"Não se aplica"},{"$f":"CLEAN(CCA!AC108)","v":"Não se aplica"},{"$f":"CLEAN(CCA!AD108)","v":"Não se aplica"},{"$f":"CLEAN(CCA!AE108)","v":"Não se aplica"},{"$f":"CLEAN(CCA!AF108)","v":"Não se aplica"},{"$f":"CLEAN(CCA!AG108)","v":"Não se aplica"},{"$f":"CLEAN(CCA!AH108)","v":"Sim"},{"$f":"CLEAN(CCA!AI108)","v":"Os títulos serão extintos, permanente e em valor no mínimo correspondente ao saldo computado no Nível I do Patrimônio de Referência do BRB – Banco de Brasília S.A nas seguintes condições:         1. seja verificada a divulgação pelo BRB – Banco de Brasília S.A. de que seu Capital Principal está em patamar inferior a 5,125% (cinco inteiros e cento e vinte e cinco milésimos por cento) do montante RWA, estabelecida pela Resolução 4.193, de 2013; ou2. assinatura de compromisso de aporte para a instituição emitente, caso se configure a exceção prevista no caput do art. 28 da Lei Complementar no 101, de 4 de maio de 2000; ou3. seja decretado pelo BACEN o regime de administração especial temporária ou intervenção do BRB – Banco de Brasília S.A.; ou4. seja determinado pelo BACEN, segundo critérios estabelecidos em regulamento específico editado pelo Conselho Monetário Nacional,a extinção do instrumento."},{"$f":"CLEAN(CCA!AJ108)","v":"Totalmente"},{"$f":"CLEAN(CCA!AK108)","v":"Permanente"},{"$f":"CLEAN(CCA!AL108)","v":"Contratual"},{"$f":"CLEAN(CCA!AM108)","v":"Não"},{"$f":"CLEAN(CCA!AN108)","v":"Não"},{"$f":"CLEAN(CCA!AO108)","v":"Não se aplica"},"sem comentários"]
["CCA","20234T",{"$f":"EOMONTH(CCA!$C$4,0)","v":"2023-12-31"},{"$f":"CLEAN(CCA!C109)","v":"BRB - BANCO DE BRASILIA S/A"},{"$f":"CLEAN(CCA!D109)","v":"LFSC20001UR"},{"$f":"CLEAN(CCA!E109)","v":"Lei 12.249/2010 - Resolução 4.955/2021 do CMN"},{"$f":"CLEAN(CCA!F109)","v":"Capital Complementar"},{"$f":"CLEAN(CCA!G109)","v":"Capital Complementar"},{"$f":"CLEAN(CCA!H109)","v":"Conglomerado"},{"$f":"CLEAN(CCA!I109)","v":"Letra financeira"},{"$f":"CCA!J109","v":1571302.98},{"$f":"CCA!K109","v":1000000},{"$f":"CLEAN(CCA!L109)","v":"passivo - custo amortizado"},{"$f":"CCA!M109","v":"2020-09-22"},{"$f":"CLEAN(CCA!N109)","v":"Perpétuo"},{"$f":"CCA!O109","v":"2050-09-22"},{"$f":"CLEAN(CCA!P109)","v":"Sim"},{"$f":"CLEAN(CCA!Q109)","v":"Anual, a partir de 23/09/2025"},{"$f":"CLEAN(CCA!R109)","v":"(1) Não há vinculação regulatória ou fiscal para resgate ou recompra"},{"$f":"CLEAN(CCA!S109)","v":"(2) Em parcela única na data da recompra"},{"$f":"CLEAN(CCA!T109)","v":"Não se aplica"},{"$f":"CLEAN(CCA!U109)","v":"Fixo"},{"$f":"CLEAN(CCA!V109)","v":"IPCA + 7,05%"},{"$f":"CLEAN(CCA!W109)","v":"Não"},{"$f":"CLEAN(CCA!X109)","v":"Mandatório"},{"$f":"CLEAN(CCA!Y109)","v":"Não"},{"$f":"CLEAN(CCA!Z109)","v":"Cumulativo"},{"$f":"CLEAN(CCA!AA109)","v":"Não conversível"},{"$f":"CLEAN(CCA!AB109)","v":"Não se aplica"},{"$f":"CLEAN(CCA!AC109)","v":"Não se aplica"},{"$f":"CLEAN(CCA!AD109)","v":"Não se aplica"},{"$f":"CLEAN(CCA!AE109)","v":"Não se aplica"},{"$f":"CLEAN(CCA!AF109)","v":"Não se aplica"},{"$f":"CLEAN(CCA!AG109)","v":"Não se aplica"},{"$f":"CLEAN(CCA!AH109)","v":"Sim"},{"$f":"CLEAN(CCA!AI109)","v":"Os títulos serão extintos, permanente e em valor no mínimo correspondente ao saldo computado no Nível I do Patrimônio de Referência do BRB – Banco de Brasília S.A nas seguintes condições:         1. seja verificada a divulgação pelo BRB – Banco de Brasília S.A. de que seu Capital Principal está em patamar inferior a 5,125% (cinco inteiros e cento e vinte e cinco milésimos por cento) do montante RWA, estabelecida pela Resolução 4.193, de 2013; ou2. assinatura de compromisso de aporte para a instituição emitente, caso se configure a exceção prevista no caput do art. 28 da Lei Complementar no 101, de 4 de maio de 2000; ou3. seja decretado pelo BACEN o regime de administração especial temporária ou intervenção do BRB – Banco de Brasília S.A.; ou4. seja determinado pelo BACEN, segundo critérios estabelecidos em regulamento específico editado pelo Conselho Monetário Nacional,a extinção do instrumento."},{"$f":"CLEAN(CCA!AJ109)","v":"Totalmente"},{"$f":"CLEAN(CCA!AK109)","v":"Permanente"},{"$f":"CLEAN(CCA!AL109)","v":"Contratual"},{"$f":"CLEAN(CCA!AM109)","v":"Não"},{"$f":"CLEAN(CCA!AN109)","v":"Não"},{"$f":"CLEAN(CCA!AO109)","v":"Não se aplica"},"sem comentários"]
["CCA","20234T",{"$f":"EOMONTH(CCA!$C$4,0)","v":"2023-12-31"},{"$f":"CLEAN(CCA!C110)","v":"BRB - BANCO DE BRASILIA S/A"},{"$f":"CLEAN(CCA!D110)","v":"LFSC20002C9"},{"$f":"CLEAN(CCA!E110)","v":"Lei 12.249/2010 - Resolução 4.955/2021 do CMN"},{"$f":"CLEAN(CCA!F110)","v":"Capital Complementar"},{"$f":"CLEAN(CCA!G110)","v":"Capital Complementar"},{"$f":"CLEAN(CCA!H110)","v":"Conglomerado"},{"$f":"CLEAN(CCA!I110)","v":"Letra financeira"},{"$f":"CCA!J110","v":1797918.52},{"$f":"CCA!K110","v":1172000},{"$f":"CLEAN(CCA!L110)","v":"passivo - custo amortizado"},{"$f":"CCA!M110","v":"2020-11-24"},{"$f":"CLEAN(CCA!N110)","v":"Perpétuo"},{"$f":"CCA!O110","v":"2050-10-10"},{"$f":"CLEAN(CCA!P110)","v":"Sim"},{"$f":"CLEAN(CCA!Q110)","v":"Anual, a partir de 25/11/2025"},{"$f":"CLEAN(CCA!R110)","v":"(1) Não há vinculação regulatória ou fiscal para resgate ou recompra"},{"$f":"CLEAN(CCA!S110)","v":"(2) Em parcela única na data da recompra"},{"$f":"CLEAN(CCA!T110)","v":"Não se aplica"},{"$f":"CLEAN(CCA!U110)","v":"Fixo"},{"$f":"CLEAN(CCA!V110)","v":"IPCA + 7,05%"},{"$f":"CLEAN(CCA!W110)","v":"Não"},{"$f":"CLEAN(CCA!X110)","v":"Mandatório"},{"$f":"CLEAN(CCA!Y110)","v":"Não"},{"$f":"CLEAN(CCA!Z110)","v":"Cumulativo"},{"$f":"CLEAN(CCA!AA110)","v":"Não conversível"},{"$f":"CLEAN(CCA!AB110)","v":"Não se aplica"},{"$f":"CLEAN(CCA!AC110)","v":"Não se aplica"},{"$f":"CLEAN(CCA!AD110)","v":"Não se aplica"},{"$f":"CLEAN(CCA!AE110)","v":"Não se aplica"},{"$f":"CLEAN(CCA!AF110)","v":"Não se aplica"},{"$f":"CLEAN(CCA!AG110)","v":"Não se aplica"},{"$f":"CLEAN(CCA!AH110)","v":"Sim"},{"$f":"CLEAN(CCA!AI110)","v":"Os títulos serão extintos, permanente e em valor no mínimo correspondente ao saldo computado no Nível I do Patrimônio de Referência do BRB – Banco de Brasília S.A nas seguintes condições:         1. seja verificada a divulgação pelo BRB – Banco de Brasília S.A. de que seu Capital Principal está em patamar inferior a 5,125% (cinco inteiros e cento e vinte e cinco milésimos por cento) do montante RWA, estabelecida pela Resolução 4.193, de 2013; ou2. assinatura de compromisso de aporte para a instituição emitente, caso se configure a exceção prevista no caput do art. 28 da Lei Complementar no 101, de 4 de maio de 2000; ou3. seja decretado pelo BACEN o regime de administração especial temporária ou intervenção do BRB – Banco de Brasília S.A.; ou4. seja determinado pelo BACEN, segundo critérios estabelecidos em regulamento específico editado pelo Conselho Monetário Nacional,a extinção do instrumento."},{"$f":"CLEAN(CCA!AJ110)","v":"Totalmente"},{"$f":"CLEAN(CCA!AK110)","v":"Permanente"},{"$f":"CLEAN(CCA!AL110)","v":"Contratual"},{"$f":"CLEAN(CCA!AM110)","v":"Não"},{"$f":"CLEAN(CCA!AN110)","v":"Não"},{"$f":"CLEAN(CCA!AO110)","v":"Não se aplica"},"sem comentários"]
["CCA","20234T",{"$f":"EOMONTH(CCA!$C$4,0)","v":"2023-12-31"},{"$f":"CLEAN(CCA!C111)","v":"BRB - BANCO DE BRASILIA S/A"},{"$f":"CLEAN(CCA!D111)","v":"LFSC20002C8"},{"$f":"CLEAN(CCA!E111)","v":"Lei 12.249/2010 - Resolução 4.955/2021 do CMN"},{"$f":"CLEAN(CCA!F111)","v":"Capital Complementar"},{"$f":"CLEAN(CCA!G111)","v":"Capital Complementar"},{"$f":"CLEAN(CCA!H111)","v":"Conglomerado"},{"$f":"CLEAN(CCA!I111)","v":"Letra financeira"},{"$f":"CCA!J111","v":5676022.6699999999},{"$f":"CCA!K111","v":3700000},{"$f":"CLEAN(CCA!L111)","v":"passivo - custo amortizado"},{"$f":"CCA!M111","v":"2020-11-24"},{"$f":"CLEAN(CCA!N111)","v":"Perpétuo"},{"$f":"CCA!O111","v":"2050-10-10"},{"$f":"CLEAN(CCA!P111)","v":"Sim"},{"$f":"CLEAN(CCA!Q111)","v":"Anual, a partir de 25/11/2025"},{"$f":"CLEAN(CCA!R111)","v":"(1) Não há vinculação regulatória ou fiscal para resgate ou recompra"},{"$f":"CLEAN(CCA!S111)","v":"(2) Em parcela única na data da recompra"},{"$f":"CLEAN(CCA!T111)","v":"Não se aplica"},{"$f":"CLEAN(CCA!U111)","v":"Fixo"},{"$f":"CLEAN(CCA!V111)","v":"IPCA + 7,05%"},{"$f":"CLEAN(CCA!W111)","v":"Não"},{"$f":"CLEAN(CCA!X111)","v":"Mandatório"},{"$f":"CLEAN(CCA!Y111)","v":"Não"},{"$f":"CLEAN(CCA!Z111)","v":"Cumulativo"},{"$f":"CLEAN(CCA!AA111)","v":"Não conversível"},{"$f":"CLEAN(CCA!AB111)","v":"Não se aplica"},{"$f":"CLEAN(CCA!AC111)","v":"Não se aplica"},{"$f":"CLEAN(CCA!AD111)","v":"Não se aplica"},{"$f":"CLEAN(CCA!AE111)","v":"Não se aplica"},{"$f":"CLEAN(CCA!AF111)","v":"Não se aplica"},{"$f":"CLEAN(CCA!AG111)","v":"Não se aplica"},{"$f":"CLEAN(CCA!AH111)","v":"Sim"},{"$f":"CLEAN(CCA!AI111)","v":"Os títulos serão extintos, permanente e em valor no mínimo correspondente ao saldo computado no Nível I do Patrimônio de Referência do BRB – Banco de Brasília S.A nas seguintes condições:         1. seja verificada a divulgação pelo BRB – Banco de Brasília S.A. de que seu Capital Principal está em patamar inferior a 5,125% (cinco inteiros e cento e vinte e cinco milésimos por cento) do montante RWA, estabelecida pela Resolução 4.193, de 2013; ou2. assinatura de compromisso de aporte para a instituição emitente, caso se configure a exceção prevista no caput do art. 28 da Lei Complementar no 101, de 4 de maio de 2000; ou3. seja decretado pelo BACEN o regime de administração especial temporária ou intervenção do BRB – Banco de Brasília S.A.; ou4. seja determinado pelo BACEN, segundo critérios estabelecidos em regulamento específico editado pelo Conselho Monetário Nacional,a extinção do instrumento."},{"$f":"CLEAN(CCA!AJ111)","v":"Totalmente"},{"$f":"CLEAN(CCA!AK111)","v":"Permanente"},{"$f":"CLEAN(CCA!AL111)","v":"Contratual"},{"$f":"CLEAN(CCA!AM111)","v":"Não"},{"$f":"CLEAN(CCA!AN111)","v":"Não"},{"$f":"CLEAN(CCA!AO111)","v":"Não se aplica"},"sem comentários"]
["CCA",{"$f":"YEAR(C105)&IF(MONTH(C105)>9,4,IF(MONTH(C105)>6,3,IF(MONTH(C105)>3,2,1)))&\"T\"","v":"20234T"},{"$f":"EOMONTH(CCA!$C$4,0)","v":"2023-12-31"},{"$f":"CLEAN(CCA!C112)","v":"BRB - BANCO DE BRASILIA S/A"},{"$f":"CLEAN(CCA!D112)","v":"LFSC200025Z"},{"$f":"CLEAN(CCA!E112)","v":"Lei 12.249/2010 - Resolução 4.955/2021 do CMN"},{"$f":"CLEAN(CCA!F112)","v":"Capital Complementar"},{"$f":"CLEAN(CCA!G112)","v":"Capital Complementar"},{"$f":"CLEAN(CCA!H112)","v":"Conglomerado"},{"$f":"CLEAN(CCA!I112)","v":"Letra financeira"},{"$f":"CCA!J112","v":15329153.07},{"$f":"CCA!K112","v":9910000},{"$f":"CLEAN(CCA!L112)","v":"passivo - custo amortizado"},{"$f":"CCA!M112","v":"2020-11-05"},{"$f":"CLEAN(CCA!N112)","v":"Perpétuo"},{"$f":"CCA!O112","v":"2050-11-07"},{"$f":"CLEAN(CCA!P112)","v":"Sim"},{"$f":"CLEAN(CCA!Q112)","v":"Anual, a partir de 06/11/2025"},{"$f":"CLEAN(CCA!R112)","v":"(1) Não há vinculação regulatória ou fiscal para resgate ou recompra"},{"$f":"CLEAN(CCA!S112)","v":"(2) Em parcela única na data da recompra"},{"$f":"CLEAN(CCA!T112)","v":"Não se aplica"},{"$f":"CLEAN(CCA!U112)","v":"Fixo"},{"$f":"CLEAN(CCA!V112)","v":"IPCA + 7,05%"},{"$f":"CLEAN(CCA!W112)","v":"Não"},{"$f":"CLEAN(CCA!X112)","v":"Mandatório"},{"$f":"CLEAN(CCA!Y112)","v":"Não"},{"$f":"CLEAN(CCA!Z112)","v":"Cumulativo"},{"$f":"CLEAN(CCA!AA112)","v":"Não conversível"},{"$f":"CLEAN(CCA!AB112)","v":"Não se aplica"},{"$f":"CLEAN(CCA!AC112)","v":"Não se aplica"},{"$f":"CLEAN(CCA!AD112)","v":"Não se aplica"},{"$f":"CLEAN(CCA!AE112)","v":"Não se aplica"},{"$f":"CLEAN(CCA!AF112)","v":"Não se aplica"},{"$f":"CLEAN(CCA!AG112)","v":"Não se aplica"},{"$f":"CLEAN(CCA!AH112)","v":"Sim"},{"$f":"CLEAN(CCA!AI112)","v":"Os títulos serão extintos, permanente e em valor no mínimo correspondente ao saldo computado no Nível I do Patrimônio de Referência do BRB – Banco de Brasília S.A nas seguintes condições:         1. seja verificada a divulgação pelo BRB – Banco de Brasília S.A. de que seu Capital Principal está em patamar inferior a 5,125% (cinco inteiros e cento e vinte e cinco milésimos por cento) do montante RWA, estabelecida pela Resolução 4.193, de 2013; ou2. assinatura de compromisso de aporte para a instituição emitente, caso se configure a exceção prevista no caput do art. 28 da Lei Complementar no 101, de 4 de maio de 2000; ou3. seja decretado pelo BACEN o regime de administração especial temporária ou intervenção do BRB – Banco de Brasília S.A.; ou4. seja determinado pelo BACEN, segundo critérios estabelecidos em regulamento específico editado pelo Conselho Monetário Nacional,a extinção do instrumento."},{"$f":"CLEAN(CCA!AJ112)","v":"Totalmente"},{"$f":"CLEAN(CCA!AK112)","v":"Permanente"},{"$f":"CLEAN(CCA!AL112)","v":"Contratual"},{"$f":"CLEAN(CCA!AM112)","v":"Não"},{"$f":"CLEAN(CCA!AN112)","v":"Não"},{"$f":"CLEAN(CCA!AO112)","v":"Não se aplica"},"sem comentários"]
["CCA","20234T",{"$f":"EOMONTH(CCA!$C$4,0)","v":"2023-12-31"},{"$f":"CLEAN(CCA!C113)","v":"BRB - BANCO DE BRASILIA S/A"},{"$f":"CLEAN(CCA!D113)","v":"LFSC200025Y"},{"$f":"CLEAN(CCA!E113)","v":"Lei 12.249/2010 - Resolução 4.955/2021 do CMN"},{"$f":"CLEAN(CCA!F113)","v":"Capital Complementar"},{"$f":"CLEAN(CCA!G113)","v":"Capital Complementar"},{"$f":"CLEAN(CCA!H113)","v":"Conglomerado"},{"$f":"CLEAN(CCA!I113)","v":"Letra financeira"},{"$f":"CCA!J113","v":2861648.14},{"$f":"CCA!K113","v":1850000},{"$f":"CLEAN(CCA!L113)","v":"passivo - custo amortizado"},{"$f":"CCA!M113","v":"2020-11-05"},{"$f":"CLEAN(CCA!N113)","v":"Perpétuo"},{"$f":"CCA!O113","v":"2050-11-07"},{"$f":"CLEAN(CCA!P113)","v":"Sim"},{"$f":"CLEAN(CCA!Q113)","v":"Anual, a partir de 06/11/2025"},{"$f":"CLEAN(CCA!R113)","v":"(1) Não há vinculação regulatória ou fiscal para resgate ou recompra"},{"$f":"CLEAN(CCA!S113)","v":"(2) Em parcela única na data da recompra"},{"$f":"CLEAN(CCA!T113)","v":"Não se aplica"},{"$f":"CLEAN(CCA!U113)","v":"Fixo"},{"$f":"CLEAN(CCA!V113)","v":"IPCA + 7,05%"},{"$f":"CLEAN(CCA!W113)","v":"Não"},{"$f":"CLEAN(CCA!X113)","v":"Mandatório"},{"$f":"CLEAN(CCA!Y113)","v":"Não"},{"$f":"CLEAN(CCA!Z113)","v":"Cumulativo"},{"$f":"CLEAN(CCA!AA113)","v":"Não conversível"},{"$f":"CLEAN(CCA!AB113)","v":"Não se aplica"},{"$f":"CLEAN(CCA!AC113)","v":"Não se aplica"},{"$f":"CLEAN(CCA!AD113)","v":"Não se aplica"},{"$f":"CLEAN(CCA!AE113)","v":"Não se aplica"},{"$f":"CLEAN(CCA!AF113)","v":"Não se aplica"},{"$f":"CLEAN(CCA!AG113)","v":"Não se aplica"},{"$f":"CLEAN(CCA!AH113)","v":"Sim"},{"$f":"CLEAN(CCA!AI113)","v":"Os títulos serão extintos, permanente e em valor no mínimo correspondente ao saldo computado no Nível I do Patrimônio de Referência do BRB – Banco de Brasília S.A nas seguintes condições:         1. seja verificada a divulgação pelo BRB – Banco de Brasília S.A. de que seu Capital Principal está em patamar inferior a 5,125% (cinco inteiros e cento e vinte e cinco milésimos por cento) do montante RWA, estabelecida pela Resolução 4.193, de 2013; ou2. assinatura de compromisso de aporte para a instituição emitente, caso se configure a exceção prevista no caput do art. 28 da Lei Complementar no 101, de 4 de maio de 2000; ou3. seja decretado pelo BACEN o regime de administração especial temporária ou intervenção do BRB – Banco de Brasília S.A.; ou4. seja determinado pelo BACEN, segundo critérios estabelecidos em regulamento específico editado pelo Conselho Monetário Nacional,a extinção do instrumento."},{"$f":"CLEAN(CCA!AJ113)","v":"Totalmente"},{"$f":"CLEAN(CCA!AK113)","v":"Permanente"},{"$f":"CLEAN(CCA!AL113)","v":"Contratual"},{"$f":"CLEAN(CCA!AM113)","v":"Não"},{"$f":"CLEAN(CCA!AN113)","v":"Não"},{"$f":"CLEAN(CCA!AO113)","v":"Não se aplica"},"sem comentários"]
["CCA","20234T",{"$f":"EOMONTH(CCA!$C$4,0)","v":"2023-12-31"},{"$f":"CLEAN(CCA!C114)","v":"BRB - BANCO DE BRASILIA S/A"},{"$f":"CLEAN(CCA!D114)","v":"LFSC21001EF"},{"$f":"CLEAN(CCA!E114)","v":"Lei 12.249/2010 - Resolução 4.955/2021 do CMN"},{"$f":"CLEAN(CCA!F114)","v":"Capital Complementar"},{"$f":"CLEAN(CCA!G114)","v":"Capital Complementar"},{"$f":"CLEAN(CCA!H114)","v":"Conglomerado"},{"$f":"CLEAN(CCA!I114)","v":"Letra financeira"},{"$f":"CCA!J114","v":2117240.2599999998},{"$f":"CCA!K114","v":1510000},{"$f":"CLEAN(CCA!L114)","v":"passivo - custo amortizado"},{"$f":"CCA!M114","v":"2021-07-08"},{"$f":"CLEAN(CCA!N114)","v":"Perpétuo"},{"$f":"CCA!O114","v":"2031-07-08"},{"$f":"CLEAN(CCA!P114)","v":"Sim"},{"$f":"CLEAN(CCA!Q114)","v":"Anual, a partir de 09/07/2026"},{"$f":"CLEAN(CCA!R114)","v":"(1) Não há vinculação regulatória ou fiscal para resgate ou recompra"},{"$f":"CLEAN(CCA!S114)","v":"(2) Em parcela única na data da recompra"},{"$f":"CLEAN(CCA!T114)","v":"Não se aplica"},{"$f":"CLEAN(CCA!U114)","v":"Fixo"},{"$f":"CLEAN(CCA!V114)","v":"IPCA + 7,5%"},{"$f":"CLEAN(CCA!W114)","v":"Não"},{"$f":"CLEAN(CCA!X114)","v":"Mandatório"},{"$f":"CLEAN(CCA!Y114)","v":"Não"},{"$f":"CLEAN(CCA!Z114)","v":"Cumulativo"},{"$f":"CLEAN(CCA!AA114)","v":"Não conversível"},{"$f":"CLEAN(CCA!AB114)","v":"Não se aplica"},{"$f":"CLEAN(CCA!AC114)","v":"Não se aplica"},{"$f":"CLEAN(CCA!AD114)","v":"Não se aplica"},{"$f":"CLEAN(CCA!AE114)","v":"Não se aplica"},{"$f":"CLEAN(CCA!AF114)","v":"Não se aplica"},{"$f":"CLEAN(CCA!AG114)","v":"Não se aplica"},{"$f":"CLEAN(CCA!AH114)","v":"Sim"},{"$f":"CLEAN(CCA!AI114)","v":"Os títulos serão extintos, permanente e em valor no mínimo correspondente ao saldo computado no Nível I do Patrimônio de Referência do BRB – Banco de Brasília S.A nas seguintes condições:         1. seja verificada a divulgação pelo BRB – Banco de Brasília S.A. de que seu Capital Principal está em patamar inferior a 5,125% (cinco inteiros e cento e vinte e cinco milésimos por cento) do montante RWA, estabelecida pela Resolução 4.193, de 2013; ou2. assinatura de compromisso de aporte para a instituição emitente, caso se configure a exceção prevista no caput do art. 28 da Lei Complementar no 101, de 4 de maio de 2000; ou3. seja decretado pelo BACEN o regime de administração especial temporária ou intervenção do BRB – Banco de Brasília S.A.; ou4. seja determinado pelo BACEN, segundo critérios estabelecidos em regulamento específico editado pelo Conselho Monetário Nacional,a extinção do instrumento."},{"$f":"CLEAN(CCA!AJ114)","v":"Totalmente"},{"$f":"CLEAN(CCA!AK114)","v":"Permanente"},{"$f":"CLEAN(CCA!AL114)","v":"Contratual"},{"$f":"CLEAN(CCA!AM114)","v":"Não"},{"$f":"CLEAN(CCA!AN114)","v":"Não"},{"$f":"CLEAN(CCA!AO114)","v":"Não se aplica"},"sem comentários"]
["CCA","20234T",{"$f":"EOMONTH(CCA!$C$4,0)","v":"2023-12-31"},{"$f":"CLEAN(CCA!C115)","v":"BRB - BANCO DE BRASILIA S/A"},{"$f":"CLEAN(CCA!D115)","v":"LFSC21001EG"},{"$f":"CLEAN(CCA!E115)","v":"Lei 12.249/2010 - Resolução 4.955/2021 do CMN"},{"$f":"CLEAN(CCA!F115)","v":"Capital Complementar"},{"$f":"CLEAN(CCA!G115)","v":"Capital Complementar"},{"$f":"CLEAN(CCA!H115)","v":"Conglomerado"},{"$f":"CLEAN(CCA!I115)","v":"Letra financeira"},{"$f":"CCA!J115","v":4210644.04},{"$f":"CCA!K115","v":3003000},{"$f":"CLEAN(CCA!L115)","v":"passivo - custo amortizado"},{"$f":"CCA!M115","v":"2021-07-08"},{"$f":"CLEAN(CCA!N115)","v":"Perpétuo"},{"$f":"CCA!O115","v":"2031-07-08"},{"$f":"CLEAN(CCA!P115)","v":"Sim"},{"$f":"CLEAN(CCA!Q115)","v":"Anual, a partir de 09/07/2026"},{"$f":"CLEAN(CCA!R115)","v":"(1) Não há vinculação regulatória ou fiscal para resgate ou recompra"},{"$f":"CLEAN(CCA!S115)","v":"(2) Em parcela única na data da recompra"},{"$f":"CLEAN(CCA!T115)","v":"Não se aplica"},{"$f":"CLEAN(CCA!U115)","v":"Fixo"},{"$f":"CLEAN(CCA!V115)","v":"IPCA + 7,5%"},{"$f":"CLEAN(CCA!W115)","v":"Não"},{"$f":"CLEAN(CCA!X115)","v":"Mandatório"},{"$f":"CLEAN(CCA!Y115)","v":"Não"},{"$f":"CLEAN(CCA!Z115)","v":"Cumulativo"},{"$f":"CLEAN(CCA!AA115)","v":"Não conversível"},{"$f":"CLEAN(CCA!AB115)","v":"Não se aplica"},{"$f":"CLEAN(CCA!AC115)","v":"Não se aplica"},{"$f":"CLEAN(CCA!AD115)","v":"Não se aplica"},{"$f":"CLEAN(CCA!AE115)","v":"Não se aplica"},{"$f":"CLEAN(CCA!AF115)","v":"Não se aplica"},{"$f":"CLEAN(CCA!AG115)","v":"Não se aplica"},{"$f":"CLEAN(CCA!AH115)","v":"Sim"},{"$f":"CLEAN(CCA!AI115)","v":"Os títulos serão extintos, permanente e em valor no mínimo correspondente ao saldo computado no Nível I do Patrimônio de Referência do BRB – Banco de Brasília S.A nas seguintes condições:         1. seja verificada a divulgação pelo BRB – Banco de Brasília S.A. de que seu Capital Principal está em patamar inferior a 5,125% (cinco inteiros e cento e vinte e cinco milésimos por cento) do montante RWA, estabelecida pela Resolução 4.193, de 2013; ou2. assinatura de compromisso de aporte para a instituição emitente, caso se configure a exceção prevista no caput do art. 28 da Lei Complementar no 101, de 4 de maio de 2000; ou3. seja decretado pelo BACEN o regime de administração especial temporária ou intervenção do BRB – Banco de Brasília S.A.; ou4. seja determinado pelo BACEN, segundo critérios estabelecidos em regulamento específico editado pelo Conselho Monetário Nacional,a extinção do instrumento."},{"$f":"CLEAN(CCA!AJ115)","v":"Totalmente"},{"$f":"CLEAN(CCA!AK115)","v":"Permanente"},{"$f":"CLEAN(CCA!AL115)","v":"Contratual"},{"$f":"CLEAN(CCA!AM115)","v":"Não"},{"$f":"CLEAN(CCA!AN115)","v":"Não"},{"$f":"CLEAN(CCA!AO115)","v":"Não se aplica"},"sem comentários"]
["CCA","20234T",{"$f":"EOMONTH(CCA!$C$4,0)","v":"2023-12-31"},{"$f":"CLEAN(CCA!C116)","v":"BRB - BANCO DE BRASILIA S/A"},{"$f":"CLEAN(CCA!D116)","v":"LFSC200020E"},{"$f":"CLEAN(CCA!E116)","v":"Lei 12.249/2010 - Resolução 4.955/2021 do CMN"},{"$f":"CLEAN(CCA!F116)","v":"Capital Complementar"},{"$f":"CLEAN(CCA!G116)","v":"Capital Complementar"},{"$f":"CLEAN(CCA!H116)","v":"Conglomerado"},{"$f":"CLEAN(CCA!I116)","v":"Letra financeira"},{"$f":"CCA!J116","v":2892804.04},{"$f":"CCA!K116","v":1862000},{"$f":"CLEAN(CCA!L116)","v":"passivo - custo amortizado"},{"$f":"CCA!M116","v":"2020-10-26"},{"$f":"CLEAN(CCA!N116)","v":"Perpétuo"},{"$f":"CCA!O116","v":"2050-10-10"},{"$f":"CLEAN(CCA!P116)","v":"Sim"},{"$f":"CLEAN(CCA!Q116)","v":"Anual, a partir de 27/10/2025"},{"$f":"CLEAN(CCA!R116)","v":"(1) Não há vinculação regulatória ou fiscal para resgate ou recompra"},{"$f":"CLEAN(CCA!S116)","v":"(2) Em parcela única na data da recompra"},{"$f":"CLEAN(CCA!T116)","v":"Não se aplica"},{"$f":"CLEAN(CCA!U116)","v":"Fixo"},{"$f":"CLEAN(CCA!V116)","v":"IPCA + 7,05%"},{"$f":"CLEAN(CCA!W116)","v":"Não"},{"$f":"CLEAN(CCA!X116)","v":"Mandatório"},{"$f":"CLEAN(CCA!Y116)","v":"Não"},{"$f":"CLEAN(CCA!Z116)","v":"Cumulativo"},{"$f":"CLEAN(CCA!AA116)","v":"Não conversível"},{"$f":"CLEAN(CCA!AB116)","v":"Não se aplica"},{"$f":"CLEAN(CCA!AC116)","v":"Não se aplica"},{"$f":"CLEAN(CCA!AD116)","v":"Não se aplica"},{"$f":"CLEAN(CCA!AE116)","v":"Não se aplica"},{"$f":"CLEAN(CCA!AF116)","v":"Não se aplica"},{"$f":"CLEAN(CCA!AG116)","v":"Não se aplica"},{"$f":"CLEAN(CCA!AH116)","v":"Sim"},{"$f":"CLEAN(CCA!AI116)","v":"Os títulos serão extintos, permanente e em valor no mínimo correspondente ao saldo computado no Nível I do Patrimônio de Referência do BRB – Banco de Brasília S.A nas seguintes condições:         1. seja verificada a divulgação pelo BRB – Banco de Brasília S.A. de que seu Capital Principal está em patamar inferior a 5,125% (cinco inteiros e cento e vinte e cinco milésimos por cento) do montante RWA, estabelecida pela Resolução 4.193, de 2013; ou2. assinatura de compromisso de aporte para a instituição emitente, caso se configure a exceção prevista no caput do art. 28 da Lei Complementar no 101, de 4 de maio de 2000; ou3. seja decretado pelo BACEN o regime de administração especial temporária ou intervenção do BRB – Banco de Brasília S.A.; ou4. seja determinado pelo BACEN, segundo critérios estabelecidos em regulamento específico editado pelo Conselho Monetário Nacional,a extinção do instrumento."},{"$f":"CLEAN(CCA!AJ116)","v":"Totalmente"},{"$f":"CLEAN(CCA!AK116)","v":"Permanente"},{"$f":"CLEAN(CCA!AL116)","v":"Contratual"},{"$f":"CLEAN(CCA!AM116)","v":"Não"},{"$f":"CLEAN(CCA!AN116)","v":"Não"},{"$f":"CLEAN(CCA!AO116)","v":"Não se aplica"},"sem comentários"]
["CCA","20234T",{"$f":"EOMONTH(CCA!$C$4,0)","v":"2023-12-31"},{"$f":"CLEAN(CCA!C117)","v":"BRB - BANCO DE BRASILIA S/A"},{"$f":"CLEAN(CCA!D117)","v":"LFSC2100002"},{"$f":"CLEAN(CCA!E117)","v":"Lei 12.249/2010 - Resolução 4.955/2021 do CMN"},{"$f":"CLEAN(CCA!F117)","v":"Capital Complementar"},{"$f":"CLEAN(CCA!G117)","v":"Capital Complementar"},{"$f":"CLEAN(CCA!H117)","v":"Conglomerado"},{"$f":"CLEAN(CCA!I117)","v":"Letra financeira"},{"$f":"CCA!J117","v":2930135.33},{"$f":"CCA!K117","v":1950000},{"$f":"CLEAN(CCA!L117)","v":"passivo - custo amortizado"},{"$f":"CCA!M117","v":"2021-01-07"},{"$f":"CLEAN(CCA!N117)","v":"Perpétuo"},{"$f":"CCA!O117","v":"2051-01-09"},{"$f":"CLEAN(CCA!P117)","v":"Sim"},{"$f":"CLEAN(CCA!Q117)","v":"Anual, a partir de 08/01/2026"},{"$f":"CLEAN(CCA!R117)","v":"(1) Não há vinculação regulatória ou fiscal para resgate ou recompra"},{"$f":"CLEAN(CCA!S117)","v":"(2) Em parcela única na data da recompra"},{"$f":"CLEAN(CCA!T117)","v":"Não se aplica"},{"$f":"CLEAN(CCA!U117)","v":"Fixo"},{"$f":"CLEAN(CCA!V117)","v":"IPCA + 7,05%"},{"$f":"CLEAN(CCA!W117)","v":"Não"},{"$f":"CLEAN(CCA!X117)","v":"Mandatório"},{"$f":"CLEAN(CCA!Y117)","v":"Não"},{"$f":"CLEAN(CCA!Z117)","v":"Cumulativo"},{"$f":"CLEAN(CCA!AA117)","v":"Não conversível"},{"$f":"CLEAN(CCA!AB117)","v":"Não se aplica"},{"$f":"CLEAN(CCA!AC117)","v":"Não se aplica"},{"$f":"CLEAN(CCA!AD117)","v":"Não se aplica"},{"$f":"CLEAN(CCA!AE117)","v":"Não se aplica"},{"$f":"CLEAN(CCA!AF117)","v":"Não se aplica"},{"$f":"CLEAN(CCA!AG117)","v":"Não se aplica"},{"$f":"CLEAN(CCA!AH117)","v":"Sim"},{"$f":"CLEAN(CCA!AI117)","v":"Os títulos serão extintos, permanente e em valor no mínimo correspondente ao saldo computado no Nível I do Patrimônio de Referência do BRB – Banco de Brasília S.A nas seguintes condições:         1. seja verificada a divulgação pelo BRB – Banco de Brasília S.A. de que seu Capital Principal está em patamar inferior a 5,125% (cinco inteiros e cento e vinte e cinco milésimos por cento) do montante RWA, estabelecida pela Resolução 4.193, de 2013; ou2. assinatura de compromisso de aporte para a instituição emitente, caso se configure a exceção prevista no caput do art. 28 da Lei Complementar no 101, de 4 de maio de 2000; ou3. seja decretado pelo BACEN o regime de administração especial temporária ou intervenção do BRB – Banco de Brasília S.A.; ou4. seja determinado pelo BACEN, segundo critérios estabelecidos em regulamento específico editado pelo Conselho Monetário Nacional,a extinção do instrumento."},{"$f":"CLEAN(CCA!AJ117)","v":"Totalmente"},{"$f":"CLEAN(CCA!AK117)","v":"Permanente"},{"$f":"CLEAN(CCA!AL117)","v":"Contratual"},{"$f":"CLEAN(CCA!AM117)","v":"Não"},{"$f":"CLEAN(CCA!AN117)","v":"Não"},{"$f":"CLEAN(CCA!AO117)","v":"Não se aplica"},"sem comentários"]
["CCA","20234T",{"$f":"EOMONTH(CCA!$C$4,0)","v":"2023-12-31"},{"$f":"CLEAN(CCA!C118)","v":"BRB - BANCO DE BRASILIA S/A"},{"$f":"CLEAN(CCA!D118)","v":"LFSC20002MP"},{"$f":"CLEAN(CCA!E118)","v":"Lei 12.249/2010 - Resolução 4.955/2021 do CMN"},{"$f":"CLEAN(CCA!F118)","v":"Capital Complementar"},{"$f":"CLEAN(CCA!G118)","v":"Capital Complementar"},{"$f":"CLEAN(CCA!H118)","v":"Conglomerado"},{"$f":"CLEAN(CCA!I118)","v":"Letra financeira"},{"$f":"CCA!J118","v":4169260.44},{"$f":"CCA!K118","v":2762700},{"$f":"CLEAN(CCA!L118)","v":"passivo - custo amortizado"},{"$f":"CCA!M118","v":"2020-12-21"},{"$f":"CLEAN(CCA!N118)","v":"Perpétuo"},{"$f":"CCA!O118","v":"2050-12-21"},{"$f":"CLEAN(CCA!P118)","v":"Sim"},{"$f":"CLEAN(CCA!Q118)","v":"Anual, a partir de 22/12/2025"},{"$f":"CLEAN(CCA!R118)","v":"(1) Não há vinculação regulatória ou fiscal para resgate ou recompra"},{"$f":"CLEAN(CCA!S118)","v":"(2) Em parcela única na data da recompra"},{"$f":"CLEAN(CCA!T118)","v":"Não se aplica"},{"$f":"CLEAN(CCA!U118)","v":"Fixo"},{"$f":"CLEAN(CCA!V118)","v":"IPCA + 7,05%"},{"$f":"CLEAN(CCA!W118)","v":"Não"},{"$f":"CLEAN(CCA!X118)","v":"Mandatório"},{"$f":"CLEAN(CCA!Y118)","v":"Não"},{"$f":"CLEAN(CCA!Z118)","v":"Cumulativo"},{"$f":"CLEAN(CCA!AA118)","v":"Não conversível"},{"$f":"CLEAN(CCA!AB118)","v":"Não se aplica"},{"$f":"CLEAN(CCA!AC118)","v":"Não se aplica"},{"$f":"CLEAN(CCA!AD118)","v":"Não se aplica"},{"$f":"CLEAN(CCA!AE118)","v":"Não se aplica"},{"$f":"CLEAN(CCA!AF118)","v":"Não se aplica"},{"$f":"CLEAN(CCA!AG118)","v":"Não se aplica"},{"$f":"CLEAN(CCA!AH118)","v":"Sim"},{"$f":"CLEAN(CCA!AI118)","v":"Os títulos serão extintos, permanente e em valor no mínimo correspondente ao saldo computado no Nível I do Patrimônio de Referência do BRB – Banco de Brasília S.A nas seguintes condições:         1. seja verificada a divulgação pelo BRB – Banco de Brasília S.A. de que seu Capital Principal está em patamar inferior a 5,125% (cinco inteiros e cento e vinte e cinco milésimos por cento) do montante RWA, estabelecida pela Resolução 4.193, de 2013; ou2. assinatura de compromisso de aporte para a instituição emitente, caso se configure a exceção prevista no caput do art. 28 da Lei Complementar no 101, de 4 de maio de 2000; ou3. seja decretado pelo BACEN o regime de administração especial temporária ou intervenção do BRB – Banco de Brasília S.A.; ou4. seja determinado pelo BACEN, segundo critérios estabelecidos em regulamento específico editado pelo Conselho Monetário Nacional,a extinção do instrumento."},{"$f":"CLEAN(CCA!AJ118)","v":"Totalmente"},{"$f":"CLEAN(CCA!AK118)","v":"Permanente"},{"$f":"CLEAN(CCA!AL118)","v":"Contratual"},{"$f":"CLEAN(CCA!AM118)","v":"Não"},{"$f":"CLEAN(CCA!AN118)","v":"Não"},{"$f":"CLEAN(CCA!AO118)","v":"Não se aplica"},"sem comentários"]

{"sheet":"CC1","index":13,"n_rows":100,"n_cols":7,"rows_kept":100,"cut":false,"hidden":false,"merged":[[0,0,1,0],[5,2,5,3],[6,2,6,3],[88,3,88,5],[92,3,92,5]]}
[]
[]
[]
[]
[]
[null,null," Composição do Patrimônio de Referência (PR) ",null,null,{"$f":"Arquivos!A14","v":"2023-12-01"}]
[null,null,"Em R$ milhões",null,"a","b"]
[null,null,null,"Capital Principal: instrumentos de reservas","Valor (R$ mil)","Referência no Balanço do Conglomerado"]
[null,null,1,"Instrumentos Elegíveis ao Capital Principal",1300,"a"]
[null,null,2,"Reservas de lucros",{"$f":"('CC2'!E35)/10^3","v":1180.377},"b"]
[null,null,3,"Outras receitas e outras reservas",{"$f":"('CC2'!E36+'CC2'!E34)/10^3","v":127.06},"c/d"]
[null,null,5,"Participação de não controladores nos instrumentos emitidos por subsidiárias e elegíveis ao Capital Principal do conglomerado",{"$f":"('CC2'!E37)/10^3*0","v":0},"e"]
[null,null,6,"Capital Principal antes dos ajustes prudenciais",{"$f":"SUM(E9:E12)","v":2607.4369999999999},null,"ok"]
[null,null,null,"Capital Principal: ajustes prudenciais"]
[null,null,7,"Ajustes prudenciais relativos a apreçamentos de instrumentos financeiros (PVA)",{"$f":"(SUMIFS(Tb_DLO[valorConta],Tb_DLO[dataBase],F$6,Tb_DLO[codigoConta],\"111.92.12\")/10^6)","v":0}]
[null,null,8,"Ágios pagos na aquisição de investimentos com fundamento em expectativa de rentabilidade futura",{"$f":"(SUMIFS(Tb_DLO[valorConta],Tb_DLO[dataBase],F$6,Tb_DLO[codigoConta],\"111.92.01\")/10^6)","v":0}]
[null,null,9,"Ativos intangíveis",{"$f":"('CC2'!E22+'CC2'!E25)/10^3","v":266.79599999999999},"f/g","ok"]
[null,null,10,"Créditos tributários decorrentes de prejuízos fiscais e de base negativa de Contribuição Social sobre o Lucro Líquido e os originados dessa contribuição relativos a períodos de apuração encerrados até 31 de dezembro de 1998",{"$f":"('CC2'!E18)/10^3","v":156.61699999999999},"h"]
[null,null,11,"Ajustes relativos ao valor de mercado dos instrumentos financeiros derivativos utilizados para hedge de fluxo de caixa de itens protegidos que não tenham seus ajustes de marcação a mercado registrados contabilmente",0]
[null,null,15,"Ativos atuariais relacionados a fundos de pensão de benefícios definidos",{"$f":"(SUMIFS(Tb_DLO[valorConta],Tb_DLO[dataBase],F$6,Tb_DLO[codigoConta],\"111.92.03\")/10^6)","v":0}]
[null,null,16,"Ações ou outros instrumentos de emissão própria autorizados a compor o Capital Principal adquiridos diretamente, indiretamente ou de forma sintética",{"$f":"(SUMIFS(Tb_DLO[valorConta],Tb_DLO[dataBase],F$6,Tb_DLO[codigoConta],\"112.90.03\")/10^6)","v":0}]
[null,null,17,"Valor total das deduções relativas às aquisições recíprocas de Capital Principal",{"$f":"(SUMIFS(Tb_DLO[valorConta],Tb_DLO[dataBase],F$6,Tb_DLO[codigoConta],\"111.92.14\")/10^6)","v":0}]
[null,null,18,"Valor total das deduções relativas às participações líquidas não significativas em Capital Principal de instituições autorizadas a funcionar pelo Banco Central do Brasil e de instituições financeiras no exterior não consolidadas e em capital social de empresas assemelhadas a instituições financeiras não consolidadas, sociedades seguradoras, resseguradoras, de capitalização e entidades abertas de previdência complementar",{"$f":"(SUMIFS(Tb_DLO[valorConta],Tb_DLO[dataBase],F$6,Tb_DLO[codigoConta],\"111.93\")/10^6)","v":0}]
[null,null,19,"Valor total das deduções relativas às participações líquidas significativas em Capital Principal de instituições autorizadas a funcionar pelo Banco Central do Brasil e de instituições financeiras no exterior não consolidadas e em capital social de empresas assemelhadas a instituições financeiras não consolidadas, sociedades seguradoras, resseguradoras, de capitalização e entidades abertas de previdência complementar, que exceda 10% do valor do Capital Principal da própria instituição ou conglomerado, desconsiderando deduções específicas",{"$f":"(SUMIFS(Tb_DLO[valorConta],Tb_DLO[dataBase],F$6,Tb_DLO[codigoConta],\"111.92.04\")/10^6)","v":0}]
[null,null,21,"Créditos tributários decorrentes de diferenças temporárias que dependam de geração de lucros ou receitas tributáveis futuras para sua realização, acima do limite de 10% do Capital Principal, desconsiderando deduções específicas",0]
[null,null,22,"Valor que excede a 15% do Capital Principal",{"$f":"SUM(E27:E28)","v":0}]
[null,null,23,"do qual: oriundo de participações líquidas significativas em Capital Principal de instituições autorizadas a funcionar pelo Banco Central do Brasil e de instituições financeiras no exterior não consolidadas e em capital social de empresas assemelhadas a instituições financeiras não consolidadas, de sociedades seguradoras, resseguradoras, de capitalização e de entidades abertas de previdência complementar",0]
[null,null,25,"do qual: oriundo de créditos tributários decorrentes de diferenças temporárias que dependam de geração de lucros ou receitas tributáveis futuras para sua realização",{"$f":"(SUMIFS(Tb_DLO[valorConta],Tb_DLO[dataBase],F$6,Tb_DLO[codigoConta],\"111.94\")/10^6)","v":0}]
[null,null,26,"Ativos regulatórios nacionais",{"$f":"SUM(E30,E31,E32,E33,E36,E37)-E34-E35-E38","v":0}]
[null,null,"26a","Ativos permanentes diferidos",0]
[null,null,"26b","Investimentos em dependência, instituição financeira controlada no exterior ou entidade não financeira que componha o conglomerado, em relação às quais o Banco Central do Brasil não tenha acesso a informações, dados e documentos",0]
[null,null,"26d","Aumento de capital social não autorizado",0]
[null,null,"26e","Excedente ao valor ajustado de Capital Principal",0]
[null,null,"26f","Depósito para suprir deficiência de capital",0]
[null,null,"26g","Montante dos ativos intangíveis constituídos antes da entrada em vigor da Resolução nº 4.192, de 2013",0]
[null,null,"26h","Excesso dos recursos aplicados no Ativo Permanente",0]
[null,null,"26i","Destaque do PR",0]
[null,null,"26j","Outras diferenças residuais relativas à metodologia de apuração do Capital Principal para fins regulatórios",0]
[null,null,27,"Ajustes regulatórios aplicados ao capital Principal em função de insuficiência do capital Complementar e de Nível II para cobrir deduções",0]
[null,null,28,"Total das deduções regulatórias ao Capital Principal",{"$f":"SUM(E15:E26,E29,E39)","v":423.41300000000001}]
[null,null,29,"Capital Principal",{"$f":"E13-E40","v":2184.0239999999999}]
[null,null,null,"Capital complementar: instrumentos"]
[null,null,30,"Instrumentos Elegíveis ao Capital Complementar",{"$f":"(SUMIFS(Tb_DLO[valorConta],Tb_DLO[dataBase],F$6,Tb_DLO[codigoConta],\"112.01\")/10^6)","v":443.69954433999999}]
[null,null,31,"dos quais: classificados como capital social conforme as regras contábeis",0]
[null,null,32,"dos quais: classificados como passivo conforme as regras contábeis",{"$f":"E43","v":443.69954433999999}]
[null,null,33,"Instrumentos autorizados a compor o Capital Complementar antes da entrada em vigor da Resolução nº 4.192, de 2013",{"$f":"(SUMIFS(Tb_DLO[valorConta],Tb_DLO[dataBase],F$6,Tb_DLO[codigoConta],\"112.01.02\")/10^6)","v":0}]
[null,null,34,"Participação de não controladores em subsidiárias integrantes do conglomerado, não dedutível do Capital Complementar",{"$f":"(SUMIFS(Tb_DLO[valorConta],Tb_DLO[dataBase],F$6,Tb_DLO[codigoConta],\"112.91\")/10^6)","v":0}]
[null,null,35,"dos quais: instrumentos emitidos por subsidiárias antes da entrada em vigor da Resolução nº 4.192, de 2013",0]
[null,null,36,"Capital Complementar antes das deduções regulatórias",{"$f":"SUM(E43,E46,E47)","v":443.69954433999999}]
[null,null,null,"Capital Complementar: deduções regulatórias"]
[null,null,37,"Ações ou outros instrumentos de emissão própria autorizados a compor o Capital Complementar adquiridos diretamente, indiretamente ou de forma sintética",0]
[null,null,38,"Valor total das deduções relativas às aquisições recíprocas de Capital Complementar",0]
[null,null,39,"Valor total das deduções relativas aos investimentos líquidos não significativos em Capital Complementar de instituições autorizadas a funcionar pelo Banco Central do Brasil e de instituições financeiras no exterior não consolidadas",0]
[null,null,40,"Valor total das deduções relativas aos investimentos líquidos significativos em Capital Complementar de instituições autorizadas a funcionar pelo Banco Central do Brasil e de instituições financeiras no exterior não consolidadas",0]
[null,null,41,"Ajustes regulatórios nacionais",{"$f":"SUM(E56:E57)","v":0}]
[null,null,"41b","Participação de não controladores no Capital Complementar",0]
[null,null,"41c","Outras diferenças residuais relativas à metodologia de apuração do Capital Complementar para fins regulatórios",0]
[null,null,42,"Ajustes regulatórios aplicados ao Capital Complementar em função de insuficiência do Nível II para cobrir deduções",0]
[null,null,43,"Total de deduções regulatórias ao Capital Complementar",{"$f":"SUM(E51:E55,E58)","v":0}]
[null,null,44,"Capital Complementar",{"$f":"E49-E59","v":443.69954433999999}]
[null,null,45,"Nível I",{"$f":"E41+E60","v":2627.72354434}]
[null,null,null,"Nível II: instrumentos "]
[null,null,46,"Instrumentos elegíveis ao Nível II",{"$f":"(SUMIFS(Tb_DLO[valorConta],Tb_DLO[dataBase],F$6,Tb_DLO[codigoConta],\"120.01\")/10^6)","v":1443.27115641}]
[null,null,47,"Instrumentos autorizados a compor o Nível II antes da Resolução nº 4.192, de 2013",0]
[null,null,48,"Participação de não controladores nos instrumentos emitidos por subsidiárias do conglomerado e elegíveis ao seu Nível II",0]
[null,null,49,"dos quais: instrumentos emitidos por subsidiárias antes da entrada em vigor da Resolução nº 4.192, de 2013",0]
[null,null,51,"Nível II antes das deduções regulatórias",{"$f":"SUM(E63,E65,E64)","v":1443.27115641}]
[null,null,null,"Nível II: deduções regulatórias"]
[null,null,52,"Ações ou outros instrumentos de emissão própria, autorizados a compor o Nível II, adquiridos diretamente, indiretamente ou de forma sintética",0]
[null,null,53,"Valor total das deduções relativas às aquisições recíprocas de Nível II",0]
[null,null,54,"Valor total das deduções relativas aos investimentos líquidos não significativos em instrumentos de Nível II e em instrumentos reconhecidos como TLAC emitidos por instituições autorizadas a funcionar pelo Banco Central do Brasil ou por instituições financeiras no exterior não consolidadas",0]
[null,null,55,"Valor total das deduções relativas aos investimentos líquidos significativos em instrumentos de Nível II e em instrumentos reconhecidos como TLAC emitidos por instituições autorizadas a funcionar pelo Banco Central do Brasil ou por instituições financeiras no exterior não consolidadas",0]
[null,null,56,"Ajustes regulatórios nacionais",{"$f":"SUM(E74:E75)","v":0}]
[null,null,"56b","Participação de não controladores no Nível II",0]
[null,null,"56c","Outras diferenças residuais relativas à metodologia de apuração do Nível II para fins regulatórios",0]
[null,null,57,"Total de deduções regulatórias ao Nível II",{"$f":"SUM(E69:E73)","v":0}]
[null,null,58,"Nível II",{"$f":"E67-E76","v":1443.27115641}]
[null,null,59,"Patrimônio de Referência (Nível I + Nível II)",{"$f":"E61+E77","v":4070.99470075}]
[null,null,60,"Total de ativos ponderados pelo risco",{"$f":"(SUMIFS(Tb_DLO[valorConta],Tb_DLO[dataBase],F$6,Tb_DLO[codigoConta],900)/10^6)","v":27735.006480919998}]
[null,null,null,"Índices de Basileia e Adicional de Capital Principal"]
[null,null,61,"Índices de Capital Principal (ICP)",{"$f":"'KM1'!E17","v":7.8746147571030017E-2}]
[null,null,62,"Índice de Nível I (INI)",{"$f":"'KM1'!E18","v":9.4743964072181316E-2}]
[null,null,63,"Índice de Basileia (IB)",{"$f":"'KM1'!E19","v":0.14678185190908818}]
[null,null,64,"Percentual do adicional de Capital Principal (em relação ao RWA) ",{"$f":"SUM(E85:E87)","v":2.5000000000000008E-2}]
[null,null,65,"do qual: adicional para conservação de capital – ACPConservação",{"$f":"SUMIFS(ACP_Conserv,ACP_DT_REF,F$6)","v":2.5000000000000008E-2}]
[null,null,66,"do qual: adicional contracíclico – ACPContracíclico",{"$f":"SUMIFS(ACP_CONTRAC,ACP_DT_REF,F$6)","v":0}]
[null,null,67,"do qual: Adicional de Importância Sistêmica de Capital Principal – ACPSistêmico",{"$f":"SUMIFS(ACP_SISTEM,ACP_DT_REF,F$6)","v":0}]
[null,null,68,"Capital Principal excedente ao montante utilizado para cumprimento dos requerimentos de capital, como proporção do RWA (%)",{"$f":"E81-E84-SUMIFS(ICP_min,ACP_DT_REF,F$6)","v":8.7461475710300107E-3}]
[null,null,null,"Valores abaixo do limite de dedução antes da aplicação de fator de ponderação de risco "]
[null,null,72,"Valor total, sujeito à ponderação de risco, das participações não significativas em Capital Principal de instituições autorizadas a funcionar pelo Banco Central do Brasil e de instituições financeiras no exterior não consolidas e em capital social de empresas assemelhadas a instituições financeiras não consolidadas, sociedades seguradoras, resseguradoras, de capitalização e entidades abertas de previdência complementar, bem como dos investimentos não significativos em Capital Complementar, em instrumentos de Nível II e em instrumentos reconhecidos como TLAC emitidos por instituições financeiras autorizadas a funcionar pelo Banco Central do Brasil ou por instituições financeiras no exterior não consolidadas",0]
[null,null,73,"Valor total, sujeito à ponderação de risco, das participações significativas em Capital Principal de instituições autorizadas a funcionar pelo Banco Central do Brasil e de instituições financeiras no exterior não consolidas e em capital social de empresas assemelhadas a instituições financeiras não consolidadas, sociedades seguradoras, resseguradoras, de capitalização e entidades abertas de previdência complementar",0]
[null,null,75,"Créditos tributários decorrentes de diferenças temporárias que dependam de geração de lucros ou receitas tributáveis futuras para sua realização, não deduzidos do Capital Principal",0]
[null,null,null,"Instrumentos autorizados a compor o PR antes da entrada em vigor da Resolução 4.192, de 2013 (aplicável entre 1º de outubro de 2013 e 1º de janeiro de 2022"]
[null,null,82,"Limite atual para os instrumentos autorizados a compor o Capital Complementar antes da entrada em vigor da Resolução nº 4.192, de 2013",0]
[null,null,83,"Valor excluído do Capital Complementar devido ao limite da linha 82",0]
[null,null,84,"Instrumentos autorizados a compor o Nível II antes da entrada em vigor da Resolução nº 4.192, de 2013",0]
[null,null,85,"Valor excluído do Nível II devido ao limite da linha 84",0]
[null,null,"sem comentários"]
[]
[null,null,"ajustar célula E9"]

{"sheet":"csv_CC1","index":14,"n_rows":4,"n_cols":166,"rows_kept":4,"cut":false,"hidden":false,"merged":[]}
["COD_TABELA","COD_REFERENCIA","DT_REFERENCIA_ARQ","Vl_1","Vl_2","Vl_3","Vl_5","Vl_6","Vl_7","Vl_8","Vl_9","Vl_10","Vl_11","Vl_15","Vl_16","Vl_17","Vl_18","Vl_19","Vl_21","Vl_22","Vl_23","Vl_25","Vl_26","Vl_26a","Vl_26b","Vl_26d","Vl_26e","Vl_26f","Vl_26g","Vl_26h","Vl_26i","Vl_26j","Vl_27","Vl_28","Vl_29","Vl_30","Vl_31","Vl_32","Vl_33","Vl_34","Vl_35","Vl_36","Vl_37","Vl_38","Vl_39","Vl_40","Vl_41","Vl_41b","Vl_41c","Vl_42","Vl_43","Vl_44","Vl_45","Vl_46","Vl_47","Vl_48","Vl_49","Vl_51","Vl_52","Vl_53","Vl_54","Vl_55","Vl_56","Vl_56b","Vl_56c","Vl_57","Vl_58","Vl_59","Vl_60","Vl_61","Vl_62","Vl_63","Vl_64","Vl_65","Vl_66","Vl_67","Vl_68","Vl_72","Vl_73","Vl_75","Vl_82","Vl_83","Vl_84","Vl_85","Ref_Balanco_1","Ref_Balanco_2","Ref_Balanco_3","Ref_Balanco_5","Ref_Balanco_6","Ref_Balanco_7","Ref_Balanco_8","Ref_Balanco_9","Ref_Balanco_10","Ref_Balanco_11","Ref_Balanco_15","Ref_Balanco_16","Ref_Balanco_17","Ref_Balanco_18","Ref_Balanco_19","Ref_Balanco_21","Ref_Balanco_22","Ref_Balanco_23","Ref_Balanco_25","Ref_Balanco_26","Ref_Balanco_26a","Ref_Balanco_26b","Ref_Balanco_26d","Ref_Balanco_26e","Ref_Balanco_26f","Ref_Balanco_26g","Ref_Balanco_26h","Ref_Balanco_26i","Ref_Balanco_26j","Ref_Balanco_27","Ref_Balanco_28","Ref_Balanco_29","Ref_Balanco_30","Ref_Balanco_31","Ref_Balanco_32","Ref_Balanco_33","Ref_Balanco_34","Ref_Balanco_35","Ref_Balanco_36","Ref_Balanco_37","Ref_Balanco_38","Ref_Balanco_39","Ref_Balanco_40","Ref_Balanco_41","Ref_Balanco_41b","Ref_Balanco_41c","Ref_Balanco_42","Ref_Balanco_43","Ref_Balanco_44","Ref_Balanco_45","Ref_Balanco_46","Ref_Balanco_47","Ref_Balanco_48","Ref_Balanco_49","Ref_Balanco_51","Ref_Balanco_52","Ref_Balanco_53","Ref_Balanco_54","Ref_Balanco_55","Ref_Balanco_56","Ref_Balanco_56b","Ref_Balanco_56c","Ref_Balanco_57","Ref_Balanco_58","Ref_Balanco_59","Ref_Balanco_60","Ref_Balanco_61","Ref_Balanco_62","Ref_Balanco_63","Ref_Balanco_64","Ref_Balanco_65","Ref_Balanco_66","Ref_Balanco_67","Ref_Balanco_68","Ref_Balanco_72","Ref_Balanco_73","Ref_Balanco_75","Ref_Balanco_82","Ref_Balanco_83","Ref_Balanco_84","Ref_Balanco_85","DS_COMENTÁRIO_TABELA"]
["CC1",{"$f":"YEAR(C2)&IF(MONTH(C2)>9,4,IF(MONTH(C2)>6,3,IF(MONTH(C2)>3,2,1)))&\"T\"","v":"20234T"},{"$f":"EOMONTH('CC1'!F6,0)","v":"2023-12-31"},{"$f":"'CC1'!$E9","v":1300},{"$f":"'CC1'!$E10","v":1180.377},{"$f":"'CC1'!$E11","v":127.06},{"$f":"'CC1'!$E12","v":0},{"$f":"'CC1'!$E13","v":2607.4369999999999},{"$f":"'CC1'!$E15","v":0},{"$f":"'CC1'!$E16","v":0},{"$f":"'CC1'!$E17","v":266.79599999999999},{"$f":"'CC1'!$E18","v":156.61699999999999},{"$f":"'CC1'!$E19","v":0},{"$f":"'CC1'!$E20","v":0},{"$f":"'CC1'!$E21","v":0},{"$f":"'CC1'!$E22","v":0},{"$f":"'CC1'!$E23","v":0},{"$f":"'CC1'!$E24","v":0},{"$f":"'CC1'!$E25","v":0},{"$f":"'CC1'!$E26","v":0},{"$f":"'CC1'!$E27","v":0},{"$f":"'CC1'!$E28","v":0},{"$f":"'CC1'!$E29","v":0},{"$f":"'CC1'!$E30","v":0},{"$f":"'CC1'!$E31","v":0},{"$f":"'CC1'!$E32","v":0},{"$f":"'CC1'!$E33","v":0},{"$f":"'CC1'!$E34","v":0},{"$f":"'CC1'!$E35","v":0},{"$f":"'CC1'!$E36","v":0},{"$f":"'CC1'!$E37","v":0},{"$f":"'CC1'!$E38","v":0},{"$f":"'CC1'!$E39","v":0},{"$f":"'CC1'!$E40","v":423.41300000000001},{"$f":"'CC1'!$E41","v":2184.0239999999999},{"$f":"'CC1'!$E43","v":443.69954433999999},{"$f":"'CC1'!$E44","v":0},{"$f":"'CC1'!$E45","v":443.69954433999999},{"$f":"'CC1'!$E46","v":0},{"$f":"'CC1'!$E47","v":0},{"$f":"'CC1'!$E48","v":0},{"$f":"'CC1'!$E49","v":443.69954433999999},{"$f":"'CC1'!$E51","v":0},{"$f":"'CC1'!$E52","v":0},{"$f":"'CC1'!$E53","v":0},{"$f":"'CC1'!$E54","v":0},{"$f":"'CC1'!$E55","v":0},{"$f":"'CC1'!$E56","v":0},{"$f":"'CC1'!$E57","v":0},{"$f":"'CC1'!$E58","v":0},{"$f":"'CC1'!$E59","v":0},{"$f":"'CC1'!$E60","v":443.69954433999999},{"$f":"'CC1'!$E61","v":2627.72354434},{"$f":"'CC1'!$E63","v":1443.27115641},{"$f":"'CC1'!$E64","v":0},{"$f":"'CC1'!$E65","v":0},{"$f":"'CC1'!$E66","v":0},{"$f":"'CC1'!$E67","v":1443.27115641},{"$f":"'CC1'!$E69","v":0},{"$f":"'CC1'!$E70","v":0},{"$f":"'CC1'!$E71","v":0},{"$f":"'CC1'!$E72","v":0},{"$f":"'CC1'!$E73","v":0},{"$f":"'CC1'!$E74","v":0},{"$f":"'CC1'!$E75","v":0},{"$f":"'CC1'!$E76","v":0},{"$f":"'CC1'!$E77","v":1443.27115641},{"$f":"'CC1'!$E78","v":4070.99470075},{"$f":"'CC1'!$E79","v":27735.006480919998},{"$f":"'CC1'!$E81","v":7.8746147571030017E-2},{"$f":"'CC1'!$E82","v":9.4743964072181316E-2},{"$f":"'CC1'!$E83","v":0.14678185190908818},{"$f":"'CC1'!$E84","v":2.5000000000000008E-2},{"$f":"'CC1'!$E85","v":2.5000000000000008E-2},{"$f":"'CC1'!$E86","v":0},{"$f":"'CC1'!$E87","v":0},{"$f":"'CC1'!$E88","v":8.7461475710300107E-3},{"$f":"'CC1'!$E90","v":0},{"$f":"'CC1'!$E91","v":0},{"$f":"'CC1'!$E92","v":0},{"$f":"'CC1'!$E94","v":0},{"$f":"'CC1'!$E95","v":0},{"$f":"'CC1'!$E96","v":0},{"$f":"'CC1'!$E97","v":0},"a","b","c/d","e","N/A","N/A","N/A","f/g","h","N/A","N/A","N/A","N/A","N/A","N/A","N/A","N/A","N/A","N/A","N/A","N/A","N/A","N/A","N/A","N/A","N/A","N/A","N/A","N/A","N/A","N/A","N/A","N/A","N/A","N/A","N/A","N/A","N/A","N/A","N/A","N/A","N/A","N/A","N/A","N/A","N/A","N/A","N/A","N/A","N/A","N/A","N/A","N/A","N/A","N/A","N/A","N/A","N/A","N/A","N/A","N/A","N/A","N/A","N/A","N/A","N/A","N/A","N/A","N/A","N/A","N/A","N/A","N/A","N/A","N/A","N/A","N/A","N/A","N/A","N/A","N/A",{"$f":"'CC1'!C98","v":"sem comentários"}]
[]
["COD_TABELA","COD_REFERENCIA","DT_REFERENCIA_ARQ","NUM","NUM","NUM","NUM","NUM","NUM","NUM","NUM","NUM","NUM","NUM","NUM","NUM","NUM","NUM","NUM","NUM","NUM","NUM","NUM","NUM","NUM","NUM","NUM","NUM","NUM","NUM","NUM","NUM","NUM","NUM","NUM","NUM","NUM","NUM","NUM","NUM","NUM","NUM","NUM","NUM","NUM","NUM","NUM","NUM","NUM","NUM","NUM","NUM","NUM","NUM","NUM","NUM","NUM","NUM","NUM","NUM","NUM","NUM","NUM","NUM","NUM","NUM","NUM","NUM","NUM","NUM","NUM","NUM","NUM","NUM","NUM","NUM","NUM","NUM","NUM","NUM","NUM","NUM","NUM","NUM","TXT","TXT","TXT","TXT","TXT","TXT","TXT","TXT","TXT","TXT","TXT","TXT","TXT","TXT","TXT","TXT","TXT","TXT","TXT","TXT","TXT","TXT","TXT","TXT","TXT","TXT","TXT","TXT","TXT","TXT","TXT","TXT","TXT","TXT","TXT","TXT","TXT","TXT","TXT","TXT","TXT","TXT","TXT","TXT","TXT","TXT","TXT","TXT","TXT","TXT","TXT","TXT","TXT","TXT","TXT","TXT","TXT","TXT","TXT","TXT","TXT","TXT","TXT","TXT","TXT","TXT","TXT","TXT","TXT","TXT","TXT","TXT","TXT","TXT","TXT","TXT","TXT","TXT","TXT","TXT","TXT","TXT"]

{"sheet":"CC2","index":15,"n_rows":39,"n_cols":6,"rows_kept":39,"cut":false,"hidden":false,"merged":[[0,0,1,0],[4,2,4,3],[6,2,8,2],[6,3,8,3]]}
[]
[]
[]
[null,null,null,"public balancete","4060 prudencial"]
[null,null,"Conciliação do Patrimônio de Referência (PR) com o Balanço Patrimonial - (CC2)",null,null,{"$f":"Arquivos!A14","v":"2023-12-01"}]
[null,null," Em R$ milhares "," a "," b ","c"]
[null,null,"Balanço Patrimonial Consolidado","Valores do balanço patrimonial no final do período"]
[null,null,null,null,"Valores considerados para fins da regulamentação prudencial no final do período","Referência no balanço do conglomerado"]
[]
[null,null,"ATIVOS",50034383,49822683]
[null,null,"Disponibilidades",190398,190378]
[null,null,"Instrumentos Financeiros ",46938654,46641717]
[null,null,"Provisão Para Perda Esperada Associada ao Risco de Credito",-881558,-881558]
[null,null,"Outros Ativos",2280518,2290451]
[null,null,"Provisão para Redução ao Valor Recuperável de Ativos",-359,0]
[null,null,"Créditos Tributários",667749,667296]
[null,null,"Créditos Tributários Decorrentes de Diferenças Temporárias",472503,472050]
[null,null,"Créditos Tributários de Prejuízo Fiscal e Relacionados à CSLL",156617,156617,"h"]
[null,null,"Outros Créditos Tributários",38629,38629]
[null,null,"Investimentos em Coligadas e Controladas",250570,335364]
[null,null,"Imobilizado de Uso",481532,466668]
[null,null,"Intangível ",425400,423288,"f"]
[null,null,"Depreciação e Amortização",-318521,-310921]
[null,null,"Imobilizado",-160956,-154429]
[null,null,"Intangível ",-157565,-156492,"g"]
[null,null,"PASSIVO",47451888,47212571]
[null,null,"Depósitos e Demais Instrumentos Financeiros",43764236,43781068]
[null,null,"Outras Obrigações ",2625326,2607179]
[null,null,"Passivo Atuarial",77934,77934]
[null,null,"Provisões",747503,745911]
[null,null,"Obrigações Fiscais Diferidas",236889,479]
[null,null,"PATRIMÔNIO LÍQUIDO",2582437,2607437]
[null,null,"Capital",1300000,1300000,"a"]
[null,null,"Reserva de Capital","-",0,"d"]
[null,null,"Reservas de Lucros",1155377,1180377,"b"]
[null,null,"Outros Resultados Abrangentes",127060,127060,"c"]
[null,null,"Participação de Não Controladores",58,2675,"e"]
[null,null,"PATRIMÔNIO LÍQUIDO ADMINISTRADO PELA CONTROLADORA",2582495,2610112]
[null,null,"TOTAL",50034383,49822683]

{"sheet":"csv_CC2","index":16,"n_rows":4,"n_cols":94,"rows_kept":4,"cut":false,"hidden":false,"merged":[]}
["COD_TABELA","COD_REFERENCIA","DT_REFERENCIA_ARQ","Vl_Bal_Ativos","Vl_Bal_Diponib","Vl_Bal_Instr_Finan","Vl_Bal_Prov_Perd_Esper","Vl_Bal_Out_Ativos","Vl_Bal_Prov_Red_Rec_Ativos","Vl_Bal_Cred_Trib","Vl_Bal_Cred_Trib_Dec_Dif_Temp","Vl_Bal_Cred_Trib_Prej_Fisc_CSLL","Vl_Bal_Outr_Cred_Trib","Vl_Bal_Inv_Colig_Control","Vl_Bal_Imob_de_Uso","Vl_Bal_Intang","Vl_Bal_Deprec_Amort","Vl_Bal_Deprec_Imob","Vl_Bal_Deprec_Intang","Vl_Bal_Passivo","Vl_Bal_Dep_Dem_Instr_Finan","Vl_Bal_Outr_Obrig","Vl_Bal_Pass_Atuarial","Vl_Bal_Prov_Passiv","Vl_Bal_Obrig_Fisc_Dif","Vl_Bal_Pat_Liq","Vl_Bal_Capital","Vl_Bal_Reserv_Capital","Vl_Bal_Resev_Lucro","Vl_Bal_Outr_Result_Abrang","Vl_Bal_Part_N_Control","Vl_Bal_Pat_Liq_Adm_Control","Vl_Bal_Total","Vl_Regul_Ativos","Vl_Regul_Diponib","Vl_Regul_Instr_Finan","Vl_Regul_Prov_Perd_Esper","Vl_Regul_Out_Ativos","Vl_Regul_Prov_Red_Rec_Ativos","Vl_Regul_Cred_Trib","Vl_Regul_Cred_Trib_Dec_Dif_Temp","Vl_Regul_Cred_Trib_Prej_Fisc_CSLL","Vl_Regul_Outr_Cred_Trib","Vl_Regul_Inv_Colig_Control","Vl_Regul_Imob_de_Uso","Vl_Regul_Intang","Vl_Regul_Deprec_Amort","Vl_Regul_Deprec_Imob","Vl_Regul_Deprec_Intang","Vl_Regul_Passivo","Vl_Regul_Dep_Dem_Instr_Finan","Vl_Regul_Outr_Obrig","Vl_Regul_Pass_Atuarial","Vl_Regul_Prov_Passiv","Vl_Regul_Obrig_Fisc_Dif","Vl_Regul_Pat_Liq","Vl_Regul_Capital","Vl_Regul_Reserv_Capital","Vl_Regul_Resev_Lucro","Vl_Regul_Outr_Result_Abrang","Vl_Regul_Part_N_Control","Vl_Regul_Pat_Liq_Adm_Control","Vl_Regul_Total","Ref_Bal_Ativos","Ref_Bal_Diponib","Ref_Bal_Instr_Finan","Ref_Bal_Prov_Perd_Esper","Ref_Bal_Out_Ativos","Ref_Bal_Prov_Red_Rec_Ativos","Ref_Bal_Cred_Trib","Ref_Bal_Cred_Trib_Dec_Dif_Temp","Ref_Bal_Cred_Trib_Prej_Fisc_CSLL","Ref_Bal_Outr_Cred_Trib","Ref_Bal_Inv_Colig_Control","Ref_Bal_Imob_de_Uso","Ref_Bal_Intang","Ref_Bal_Deprec_Amort","Ref_Bal_Deprec_Imob","Ref_Bal_Deprec_Intang","Ref_Bal_Passivo","Ref_Bal_Dep_Dem_Instr_Finan","Ref_Bal_Outr_Obrig","Ref_Bal_Pass_Atuarial","Ref_Bal_Prov_Passiv","Ref_Bal_Obrig_Fisc_Dif","Ref_Bal_Pat_Liq","Ref_Bal_Capital","Ref_Bal_Reserv_Capital","Ref_Bal_Resev_Lucro","Ref_Bal_Outr_Result_Abrang","Ref_Bal_Part_N_Control","Ref_Bal_Pat_Liq_Adm_Control","Ref_Bal_Total","DS_COMENTÁRIO_TABELA"]
["CC2",{"$f":"YEAR(C2)&IF(MONTH(C2)>9,4,IF(MONTH(C2)>6,3,IF(MONTH(C2)>3,2,1)))&\"T\"","v":"20234T"},{"$f":"EOMONTH('CC2'!F5,0)","v":"2023-12-31"},{"$f":"'CC2'!$D10","v":50034383},{"$f":"'CC2'!$D11","v":190398},{"$f":"'CC2'!$D12","v":46938654},{"$f":"'CC2'!$D13","v":-881558},{"$f":"'CC2'!$D14","v":2280518},{"$f":"'CC2'!$D15","v":-359},{"$f":"'CC2'!$D16","v":667749},{"$f":"'CC2'!$D17","v":472503},{"$f":"'CC2'!$D18","v":156617},{"$f":"'CC2'!$D19","v":38629},{"$f":"'CC2'!$D20","v":250570},{"$f":"'CC2'!$D21","v":481532},{"$f":"'CC2'!$D22","v":425400},{"$f":"'CC2'!$D23","v":-318521},{"$f":"'CC2'!$D24","v":-160956},{"$f":"'CC2'!$D25","v":-157565},{"$f":"'CC2'!$D26","v":47451888},{"$f":"'CC2'!$D27","v":43764236},{"$f":"'CC2'!$D28","v":2625326},{"$f":"'CC2'!$D29","v":77934},{"$f":"'CC2'!$D30","v":747503},{"$f":"'CC2'!$D31","v":236889},{"$f":"'CC2'!$D32","v":2582437},{"$f":"'CC2'!$D33","v":1300000},{"$f":"'CC2'!$D34","v":"-"},{"$f":"'CC2'!$D35","v":1155377},{"$f":"'CC2'!$D36","v":127060},{"$f":"'CC2'!$D37","v":58},{"$f":"'CC2'!$D38","v":2582495},{"$f":"'CC2'!$D39","v":50034383},{"$f":"'CC2'!$E10","v":49822683},{"$f":"'CC2'!$E11","v":190378},{"$f":"'CC2'!$E12","v":46641717},{"$f":"'CC2'!$E13","v":-881558},{"$f":"'CC2'!$E14","v":2290451},{"$f":"'CC2'!$E15","v":0},{"$f":"'CC2'!$E16","v":667296},{"$f":"'CC2'!$E17","v":472050},{"$f":"'CC2'!$E18","v":156617},{"$f":"'CC2'!$E19","v":38629},{"$f":"'CC2'!$E20","v":335364},{"$f":"'CC2'!$E21","v":466668},{"$f":"'CC2'!$E22","v":423288},{"$f":"'CC2'!$E23","v":-310921},{"$f":"'CC2'!$E24","v":-154429},{"$f":"'CC2'!$E25","v":-156492},{"$f":"'CC2'!$E26","v":47212571},{"$f":"'CC2'!$E27","v":43781068},{"$f":"'CC2'!$E28","v":2607179},{"$f":"'CC2'!$E29","v":77934},{"$f":"'CC2'!$E30","v":745911},{"$f":"'CC2'!$E31","v":479},{"$f":"'CC2'!$E32","v":2607437},{"$f":"'CC2'!$E33","v":1300000},{"$f":"'CC2'!$E34","v":0},{"$f":"'CC2'!$E35","v":1180377},{"$f":"'CC2'!$E36","v":127060},{"$f":"'CC2'!$E37","v":2675},{"$f":"'CC2'!$E38","v":2610112},{"$f":"'CC2'!$E39","v":49822683},"N/A","N/A","N/A","N/A","N/A","N/A","N/A","N/A","h","N/A","N/A","N/A","f","N/A","N/A","g","N/A","N/A","N/A","N/A","N/A","N/A","N/A","a","d","b","c","e","N/A","N/A","no coments"]
[]
["TXT","TXT","TXT","NUM","NUM","NUM","NUM","NUM","NUM","NUM","NUM","NUM","NUM","NUM","NUM","NUM","NUM","NUM","NUM","NUM","NUM","NUM","NUM","NUM","NUM","NUM","NUM","NUM","NUM","NUM","NUM","NUM","NUM","NUM","NUM","NUM","NUM","NUM","NUM","NUM","NUM","NUM","NUM","NUM","NUM","NUM","NUM","NUM","NUM","NUM","NUM","NUM","NUM","NUM","NUM","NUM","NUM","NUM","NUM","NUM","NUM","NUM","NUM","TXT","TXT","TXT","TXT","TXT","TXT","TXT","TXT","TXT","TXT","TXT","TXT","TXT","TXT","TXT","TXT","TXT","TXT","TXT","TXT","TXT","TXT","TXT","TXT","TXT","TXT","TXT","TXT","TXT","TXT","TXT"]

{"sheet":"CR1","index":17,"n_rows":17,"n_cols":8,"rows_kept":17,"cut":false,"hidden":false,"merged":[[0,0,1,0],[5,2,5,3],[6,2,6,3],[7,4,7,5]]}
[]
[]
[]
[]
[]
[null,null,"Qualidade creditícia das exposições - (CR1)",null,null,null,null,{"$f":"Arquivos!A14","v":"2023-12-01"}]
[null,null,"Em R$ milhões"]
[null,null,null,null,"valor bruto"]
[null,null,null,null,"Exposições caracterizadas como operações em curso anormal","Em curso normal","Provisões, adiantamentos e rendas a apropriar","Valor líquido"]
[null,null,null,null,"a","b","c","a+b-c"]
[null,null,1,"Concessão de crédito",1392.2967197299799,31103.87030327012,714.10768319999829,31782.059339800104]
[null,null,2,"Títulos de dívida",0,15648.091901545637,4.7860499599999997,15643.305851585637]
[null,null,"2a","dos quais: títulos soberanos nacionais",0,11994.437614556422,0,11994.437614556422]
[null,null,"2b","dos quais: outros títulos",0,3653.6542869892164,4.7860499599999997,3648.8682370292163]
[null,null,3,"Operações não contabilizadas no balanço patrimonial",0,21050.027215791,0,21050.027215791]
[null,null,4,"Total",1392.2967197299799,67801.989420606755,718.89373315999831,68475.39240717674]
[null,null,"Mudanças no estoque de operações em curso anormal entre dois períodos, considerando as operações reportadas na tabela acima, são detalhadas na tabela CR2"]

{"sheet":"csv_CR1","index":18,"n_rows":4,"n_cols":28,"rows_kept":4,"cut":false,"hidden":false,"merged":[]}
["COD_TABELA","COD_REFERENCIA","DT_REFERENCIA_ARQ","Vl_Concess_créd_curso_anormal_a","Vl_Concess_créd_curso_normal_b","Vl_Concess_créd_prov_adiant_rendas_c","Vl_Concess_créd_liq","Vl_Tit_de_divida_curso_anormal_a","Vl_Tit_de_divida_curso_normal_b","Vl_Tit_de_divida_prov_adiant_rendas_c","Vl_Tit_de_divida_liq","Vl_Tit_Sober_Nac_curso_anormal_a","Vl_Tit_Sober_Nac_curso_normal_b","Vl_Tit_Sober_Nac_prov_adiant_rendas_c","Vl_Tit_Sober_Nac_liq","Vl_Outros_Tit_curso_anormal_a","Vl_Outros_Tit_curso_normal_b","Vl_Outros_Tit_prov_adiant_rendas_c","Vl_Outros_Tit_liq","Vl_N_Ctb_Bal_Pat_curso_anormal_a","Vl_N_Ctb_Bal_Pat_curso_normal_b","Vl_N_Ctb_Bal_Pat_prov_adiant_rendas_c","Vl_N_Ctb_Bal_Pat_liq","Vl_Total_curso_anormal_a","Vl_Total_curso_normal_b","Vl_Total_prov_adiant_rendas_c","Vl_Total_liq","DS_COMENTÁRIO_TABELA"]
["CR1",{"$f":"YEAR(C2)&IF(MONTH(C2)>9,4,IF(MONTH(C2)>6,3,IF(MONTH(C2)>3,2,1)))&\"T\"","v":"20234T"},{"$f":"EOMONTH('CR1'!H6,0)","v":"2023-12-31"},{"$f":"'CR1'!E11","v":1392.2967197299799},{"$f":"'CR1'!F11","v":31103.87030327012},{"$f":"'CR1'!G11","v":714.10768319999829},{"$f":"'CR1'!H11","v":31782.059339800104},{"$f":"'CR1'!E12","v":0},{"$f":"'CR1'!F12","v":15648.091901545637},{"$f":"'CR1'!G12","v":4.7860499599999997},{"$f":"'CR1'!H12","v":15643.305851585637},{"$f":"'CR1'!E13","v":0},{"$f":"'CR1'!F13","v":11994.437614556422},{"$f":"'CR1'!G13","v":0},{"$f":"'CR1'!H13","v":11994.437614556422},{"$f":"'CR1'!E14","v":0},{"$f":"'CR1'!F14","v":3653.6542869892164},{"$f":"'CR1'!G14","v":4.7860499599999997},{"$f":"'CR1'!H14","v":3648.8682370292163},{"$f":"'CR1'!E15","v":0},{"$f":"'CR1'!F15","v":21050.027215791},{"$f":"'CR1'!G15","v":0},{"$f":"'CR1'!H15","v":21050.027215791},{"$f":"'CR1'!E16","v":1392.2967197299799},{"$f":"'CR1'!F16","v":67801.989420606755},{"$f":"'CR1'!G16","v":718.89373315999831},{"$f":"'CR1'!H16","v":68475.39240717674},{"$f":"'CR1'!C17","v":"Mudanças no estoque de operações em curso anormal entre dois períodos, considerando as operações reportadas na tabela acima, são detalhadas na tabela CR2"}]
[]
["TXT","TXT","TXT","NUM","NUM","NUM","NUM","NUM","NUM","NUM","NUM","NUM","NUM","NUM","NUM","NUM","NUM","NUM","NUM","NUM","NUM","NUM","NUM","NUM","NUM","NUM","NUM","TXT"]

{"sheet":"CR2","index":19,"n_rows":13,"n_cols":5,"rows_kept":13,"cut":false,"hidden":false,"merged":[[0,0,1,0],[4,2,4,3],[5,2,5,3]]}
[]
[]
[]
[]
[null,null,"Mudanças no estoque de operações em curso anormal - (CR2)",null,{"$f":"Arquivos!A14","v":"2023-12-01"}]
[null,null,"Em R$ milhões"]
[null,null,null,null,"Saldo"]
[null,null,1,"Valor das operações em curso anormal no final do período anterior ",1393.9722332198601]
[null,null,2,"Valor das operações que passaram a ser classificadas como em curso anormal no período corrente",600.8181517699802]
[null,null,3,"Valor das operações reclassificadas para curso normal",-249.34911064986198]
[null,null,4,"Valor da baixa contábil por prejuízo",-334.753129760001]
[null,null,5,"Outros ajustes",-18.391424849997161]
[null,null,6,"Valor das operações em curso anormal no final do período corrente (1+2+3+4+5)",1392.2967197299799]

{"sheet":"csv_CR2","index":20,"n_rows":4,"n_cols":10,"rows_kept":4,"cut":false,"hidden":false,"merged":[]}
["COD_TABELA","COD_REFERENCIA","DT_REFERENCIA_ARQ","VL_Op_curso_anormal_período_ant","VL_Op_classificadas_curso_anormal_período_corrente","Vl_Op_reclassif_para_curso_normal","Vl_Baixa_Ctb_por_prejuízo","Vl_Outros_Ajustes","VL_Op_curso_anormal_no_final_período_corrente","DS_COMENTÁRIO_TABELA"]
["CR2",{"$f":"YEAR(C2)&IF(MONTH(C2)>9,4,IF(MONTH(C2)>6,3,IF(MONTH(C2)>3,2,1)))&\"T\"","v":"20234T"},{"$f":"EOMONTH('CR2'!E5,0)","v":"2023-12-31"},{"$f":"'CR2'!E8","v":1393.9722332198601},{"$f":"'CR2'!E9","v":600.8181517699802},{"$f":"'CR2'!E10","v":-249.34911064986198},{"$f":"'CR2'!E11","v":-334.753129760001},{"$f":"'CR2'!E12","v":-18.391424849997161},{"$f":"'CR2'!E13","v":1392.2967197299799},{"$f":"'CR2'!C14","v":0}]
[]
["TXT","TXT","TXT","NUM","NUM","NUM","NUM","NUM","NUM","TXT"]

{"sheet":"OVA","index":21,"n_rows":16,"n_cols":4,"rows_kept":16,"cut":false,"hidden":false,"merged":[[0,0,1,0]]}
[]
[]
[]
[]
[]
[null,null,"  Visão Geral do Gerenciamento de Riscos da Instituição - OVA"]
[null,null,null,{"$f":"Arquivos!A14","v":"2023-12-01"}]
[null,null,"a","O BRB possui uma estrutura de gestão de riscos compatível com seu modelo de negócio, com a natureza de suas operações e com a complexidade de seus produtos, serviços, atividades, processos e sistemas. Dentre as unidades que compõem a Diretoria Executiva de Controle e Riscos – DICOR, a promoção e viabilização da gestão de riscos e de capital competem às superintendências SURIS e SUROC, a monitoração e a validação dos modelos dos riscos relevantes competem à GEVAM, a supervisão dos processos de controles interno conformidade e integridade cabem à SUCOI, o estabelecimento de estratégias, metas, procedimentos e mecanismos de controle das atividades relativas à cobrança, renegociação e recuperação de crédito compete à SUCOR e o desenvolvimento de metodologias para a análise de concessão de crédito, modelos de Atacado e Varejos, análise de risco de clientes e de operações ativas, bem como acompanhar os limites e os resultados de crédito competem à SURIC.\n\nA Superintendência de Riscos Corporativos – SURIS utiliza práticas consistentes e integradas para calcular, monitorar e acompanhar os níveis de apetite e tolerância aos riscos de crédito, de mercado, IRRBB, de liquidez e da gestão do capital.\n\nA Superintendência de Risco Operacional e Cibernético – SUROC trata do planejamento e controle dos riscos não financeiros (risco operacional, sociais, ambientais, climaticos, reputacional e de imagem, cibernético e prevenção a fraudes), assim como a disseminação da cultura de gestão de riscos não financeiros e segurança cibernética na Instituição.\n\nA Gerência de Monitoração e Validação de Modelos – GEVAM é responsável pela validação independente dos modelos de mensuração do risco, a fim de garantir a consistência das premissas, das bases de dados utilizadas e dos resultados obtidos, que são, também, monitorados posteriormente quanto ao desempenho esperado, controlando adequadamente o risco dos modelos.\n\nA Superintendência de Controle Institucional – SUCOI supervisiona os processos de controles internos, conformidade e integridade, observando as atribuições de cada linha e as melhores práticas de mercado.\n\nA Superintendência de Cobrança e Recuperação de Ativos – SUCOR é responsável por coordenar o planejamento e a normatização que envolvem todo o processo de cobrança, renegociação e recuperação de crédito no Banco.\n\nA Superintendência de Risco de Crédito – SURIC trata do processo de desenvolvimento de metodologias para a análise de concessão de crédito, modelos de atacado e varejo, análise de risco de clientes e de operações ativas, bem como acompanha os limites e os resultados de crédito.\n\nApetite por Riscos – RAS \n\nA Declaração de Apetite por Riscos do BRB em vigor orienta a estratégia de negócios e estabelece os níveis de riscos aos quais o Banco e as demais instituições integrantes do Conglomerado admitem estar expostos. A RAS é monitorada permanentemente (revisada anualmente ou sempre que necessário) pelo Conselho de Administração, reforçando e disseminando a cultura de gestão riscos da Instituição, direcionando os planos estratégicos e de negócios e possibilitando aos seus colaboradores o conhecimento dos principais aspectos do apetite e da tolerância a riscos.\n\nRiscos Relevantes\n\nA Instituição, diante da complexidade e variedade de produtos e serviços oferecidos aos seus clientes em todos os segmentos de mercado, está exposta a diversos tipos de riscos, sejam eles decorrentes de fatores internos ou externos. Portanto, é imprescindível a adoção de um monitoramento constante de todos os riscos de forma a dar segurança a todas as partes interessadas. Dentre os principais tipos de riscos, destacamos: \n\n \tRisco de Crédito;\n \tRisco de Mercado;\n \tRisco de variação das taxas de juros para os instrumentos da carteira bancária (IRRBB);\n \tRisco de Liquidez;\n \tRisco Operacional;\n \tRisco Social, ambiental e Climático;\n \tRisco Cibernético."]
[null,null,"b","A governança corporativa da Instituição, pautada nas melhores práticas de mercado, gerencia os seus riscos institucionais e o seu capital por meio de decisões colegiadas, amparadas em Comitês Estatutários e Executivos específicos, que contam com a participação de membros da Administração. \n\nPrincipais Atribuições vinculadas às estruturas de Governança e Gerenciamento de Riscos:\n\nConselho de Administração\tAprova e revisa as estruturas e políticas de gerenciamento integrado de riscos e de capital, o Programa de Testes de Estresse, o plano de contingência de liquidez, o plano de capital, o plano de contingência de capital e as políticas para a gestão de continuidade de negócios. Fixa os níveis de apetite por risco da instituição na RAS e os revisa, com o auxílio do comitê de riscos, da Diretoria Colegiada e do CRO. Assegura a aderência da Instituição às políticas, às estratégias, e aos limites de gerenciamento de riscos, bem como aprova a correção tempestiva das deficiências da estrutura de gerenciamento de riscos e de capital. Autoriza, quando necessário, exceções às políticas, aos procedimentos, aos limites e aos níveis de apetite por riscos.\n\nDiretoria\nColegiada\tPropõe ao Conselho de Administração alterações significativas, em decorrência dos riscos de que trata o artigo 7º, inciso V da Resolução CMN nº 4.557/2017, nas políticas e nas estratégias do BRB, de suas subsidiárias e controladas, bem como em seus sistemas, rotinas e procedimentos\nComitê de\nRiscos \tAssessora o Conselho de Administração no que concerne ao exercício de suas funções relativas à Gestão de Risco e de Capital, de forma unificada, para as instituições integrantes do Conglomerado BRB. Avalia os níveis de apetite por riscos fixados na RAS e as estratégias para o seu gerenciamento, considerando os riscos individualmente e de forma integrada. Supervisiona a atuação e o desempenho do Diretor responsável pelo Gerenciamento de Riscos (CRO) no âmbito do BRB, suas Subsidiárias, Controladas e Coligadas. \n\nComitê de Riscos,\nControles, ALM e Prevenção a Ilícitos Financeiros\tAprova os modelos e metodologias de gerenciamento dos riscos corporativos, dos controles internos e de planejamento de capital, avalia relatórios periódicos a respeito das matérias de sua competência e leva ao conhecimento da Diretoria Colegiada, mede e avalia o desempenho das medidas e estratégias de gerenciamento de riscos, controles internos e capital, monitora o cumprimento das políticas de gerenciamento de riscos, controles internos e capital, manifesta sobre a Declaração de Apetite por Riscos – RAS e reporta à Diretoria Colegiada e ao Comitê de Riscos suas considerações. Define as políticas, diretrizes e ações de Prevenção à Fraudes, Lavagem de Dinheiro e ao Financiamento do Terrorismo e Segurança da informação, Segurança de Pessoas e Patrimônio, Gestão de Continuidade de Negócios e Gestão Documental. Delibera por medidas e procedimentos de proteção ao sigilo bancário, à segurança de tecnologia da informação e combate a ilícitos financeiros que afetem os canais de atendimento disponibilizados pelo BRB.\n\nComitê de Auditoria\nAvalia e monitora as exposições de risco do BRB – Banco de Brasília S.A. e de suas Subsidiárias e Controladas, podendo requerer, entre outras, informações detalhadas sobre políticas e procedimentos referentes a remuneração da Administração, utilização de ativos e gastos incorridos em nome do Conglomerado BRB.\n\nDiretor para Gerenciamento\nde Riscos \n(CRO – Chief Risk Officer)\n\tSupervisiona o desenvolvimento, a implementação e o desempenho da estrutura de gerenciamento de riscos, incluindo seu aperfeiçoamento. Responsável pela adequação à RAS e aos objetivos estratégicos das políticas, dos processos, dos relatórios, dos sistemas e dos modelos utilizados no gerenciamento de riscos. Responsável pela adequada capacitação dos integrantes da unidade específica, acerca das políticas, dos processos, dos relatórios, dos sistemas e dos modelos da estrutura de gerenciamento de riscos, mesmo que desenvolvidos por terceiros. Subsidia e participa do processo de tomada de decisões estratégicas relacionadas ao gerenciamento de riscos e, quando aplicável, ao gerenciamento de capital, auxiliando o Conselho de Administração.\n"]
[null,null,"c","Em consonância com as melhores práticas de governança corporativa e aculturação, o BRB dissemina conteúdo relacionado aos riscos e ao capital, para todo o corpo funcional, por meio de treinamentos, divulgação de conteúdo na intranet, além de estabelecer certificações internas em gestão de riscos e capital a todos os colaboradores."]
[null,null,"d","O escopo do gerenciamento de riscos do BRB compreende uma abordagem consolidada, possibilitando que o Processo Corporativo de Gerenciamento de Riscos possa suportar todos os riscos do Conglomerado, objetivando assegurar o desenvolvimento das atividades relacionadas. \n\nNesse contexto, a Política de Gerenciamento Integrado de Riscos e de Capital é o documento onde estão descritos os princípios, diretrizes, papéis, responsabilidades e a governança corporativa para um efetivo gerenciamento dos riscos e capital e faz parte do arcabouço normativo da gestão de riscos e de capital.\n\nA RAS, por sua vez, documento estratégico para a definição do apetite ao risco da Organização, desempenha o papel de balizador para o planejamento da estratégia de negócios, conduzindo o alinhamento entre orçamento e capital, e alocação sustentável e otimizada, de acordo com a capacidade da Instituição de assunção a riscos e de seus objetivos estratégicos.\n\nA RAS é aplicada de forma a estabelecer limites de exposição aceitos de acordo com os impactos previstos no capital do Conglomerado BRB, conceito este, estendido a todas as empresas controladas pelo BRB, considerando suas respectivas especificidades relacionadas à natureza de atuação."]
[null,null,"e","A Área responsável pelo controle dos riscos e pelo gerenciamento do capital disponibiliza à Administração, por meio de boletins e relatórios consolidados e periódicos, informações relacionadas ao acompanhamento dos riscos e do capital, com o objetivo de posicioná-los quanto ao comportamento e evolução dos principais indicadores de risco e do gerenciamento de capital."]
[null,null,"f","O Programa de Testes de Estresse (PTE) do Conglomerado BRB é o conjunto coordenado de processos, rotinas e metodologias criados com a finalidade de identificar potenciais vulnerabilidades da Instituição, considerando os riscos relevantes a que está exposta.\n\nA implementação do PTE viabiliza a realização de testes de estresse de forma integrada para os riscos de crédito, de mercado, de variação das taxas de juros para os instrumentos classificados na carteira bancária (IRRBB), de liquidez, operacional e atuarial. \n\nO resultado do programa possibilita a avaliação prospectiva dos potenciais impactos de circunstâncias adversas para a Instituição, além de contribuir para a verificação dos efeitos resultantes das interações entre os riscos e dos impactos sobre o capital, sobre a liquidez do Conglomerado e sobre outros indicadores contemplados na Declaração de Apetite por Riscos (RAS).\n\nOs resultados constantes no programa são apresentados às alçadas competentes e são utilizados nas decisões estratégicas da Instituição, na revisão das políticas e limites estabelecidos para fins de gerenciamento de riscos e de capital, dos níveis de apetite a riscos e para avaliação da adequação do capital."]
[null,null,"g","Por meio da RAS são estabelecidos os parâmetros norteadores que devem ser observados para mitigar o risco de deslocamento quanto aos indicadores e metas estabelecidos pela Instituição, de modo a assegurar o vigor da estrutura de capital. O monitoramento dos principais indicadores é realizado de forma sistemática, possibilitando a recomendação de medidas e procedimentos corretivos para eventuais deficiências identificadas.\n\nA Superintendência de Riscos Corporativos – SURIS e a Superintendência de Risco Operacional e Cibernético – SUROC são unidades executoras da Política de Gerenciamento Integrado de Riscos e de Capital, gerenciando os mecanismos de mitigação de risco da Instituição, com o objetivo de manter a exposição ao risco em níveis considerados aceitáveis. \n\nA SURIS e a SUROC propõem as métricas de controle dos riscos, calculam e divulgam os indicadores nas periodicidades estabelecidas, monitoram e controlam o cumprimento dos limites definidos na RAS, realizam simulações dos principais indicadores implementados e comunicam os assuntos relacionados nas instâncias colegiadas onde o tema é abordado. \n\nA Superintendência de Risco Operacional e Cibernético – SUROC é a unidade responsável pela mensuração dos riscos não financeiros nas atividades executadas pelo BRB, pela prevenção à fraude e pela Gestão da Continuidade de Negócios da instituição. A SUROC atua desde a identificação dos riscos até sua mitigação, orientando e fiscalizando a efetividade das ações tomadas pela primeira linha de defesa, tendo como objetivo manter o risco residual em níveis mínimos e assegurar o pleno funcionamento dos processos considerados críticos para o banco, ainda que em situações de incidentes e/ou crise.\n\nA Superintendência de Controle Institucional – SUCOI supervisiona a implementação e a disseminação da cultura de conformidade normativa, controles internos, integridade e prevenção e combate à corrupção, à fraude interna e à lavagem de dinheiro no Conglomerado BRB\n\nA Gerência de Monitoração e Validação de Modelos –  GEVAM, por sua vez, realiza a validação independente dos modelos de mensuração do risco, a fim de garantir a consistência das premissas, das bases de dados utilizadas e dos resultados obtidos, que são, também, monitorados posteriormente quanto ao desempenho esperado, controlando adequadamente o risco dos modelos.\n\nA Auditoria Interna analisa, periodicamente e de maneira independente, a efetividade de todo o processo de gerenciamento de riscos incorridos pelo BRB.\n\nNesse contexto, o BRB demonstra que, mesmo em cenários severos, dispõe de estratégias com capacidade de geração dos recursos necessários para garantir a sustentabilidade de atividades críticas e serviços essenciais ao seu portfólio de clientes."]
[null,null,"h","O planejamento e o gerenciamento de capital são viabilizados por meio do Plano de Capital, que é revisado anualmente ou quando há necessidade em razão de alterações no planejamento estratégico, plano de negócios, insumos utilizados na projeção dos indicadores e atualizações relevantes na regulação vigente.\n\nEm conformidade com o que descreve a Resolução CMN nº 4.557/2017, o Plano de Capital do BRB, alinhado ao Planejamento Estratégico da Instituição, contempla as metas e projeções de capital, as principais fontes de capital, além de considerar: as ameaças e oportunidades relativas ao ambiente econômico e de negócios; as projeções dos valores dos ativos e passivos, das operações não contabilizadas no balanço patrimonial, bem como das receitas e despesas; as metas de crescimento ou de participação no mercado; a política de distribuição de resultados; e os termos da RAS. \n\nSeu objetivo principal é assegurar a existência de capital regulamentar em volume suficiente para cobertura dos riscos idiossincráticos e sistêmicos oriundos das atividades planejadas para o período e apresentar projeções dos requerimentos mínimos com base nas expectativas orçamentárias e planejamento estratégico, fornecendo perspectivas futuras de alocação de capital, e de viabilizar a monitoração, de forma permanente, de situações potenciais para acionamento dos estados de alerta e de contingência, as quais exigem ações específicas, apresentadas no plano, a serem decididas pelo Conselho de Administração e distribuídas às respectivas Áreas competentes para avaliação de viabilidade e execução. \n\nO Plano de Contingência de Capital apresenta ações que visam assegurar o enquadramento do Banco aos níveis de capital regulatórios e àqueles definidos pela Administração, caso as fontes de capital definidas no Plano de Capital mostrem-se insuficientes ou inviáveis, ou ainda na ocorrência de acontecimentos não previstos. "]
[null,null,null,"sem comentários"]

{"sheet":"csv_OVA","index":22,"n_rows":4,"n_cols":12,"rows_kept":4,"cut":false,"hidden":false,"merged":[]}
["COD_TABELA","COD_REFERENCIA","DT_REFERENCIA_ARQ","CAMPO_A","CAMPO_B","CAMPO_C","CAMPO_D","CAMPO_E","CAMPO_F","CAMPO_G","CAMPO_H","DS_COMENTÁRIO_TABELA"]
["OVA",{"$f":"YEAR(C2)&IF(MONTH(C2)>9,4,IF(MONTH(C2)>6,3,IF(MONTH(C2)>3,2,1)))&\"T\"","v":"20234T"},{"$f":"EOMONTH(OVA!D7,0)","v":"2023-12-31"},{"$f":"CLEAN(OVA!$D8)","v":"O BRB possui uma estrutura de gestão de riscos compatível com seu modelo de negócio, com a natureza de suas operações e com a complexidade de seus produtos, serviços, atividades, processos e sistemas. Dentre as unidades que compõem a Diretoria Executiva de Controle e Riscos – DICOR, a promoção e viabilização da gestão de riscos e de capital competem às superintendências SURIS e SUROC, a monitoração e a validação dos modelos dos riscos relevantes competem à GEVAM, a supervisão dos processos de controles interno conformidade e integridade cabem à SUCOI, o estabelecimento de estratégias, metas, procedimentos e mecanismos de controle das atividades relativas à cobrança, renegociação e recuperação de crédito compete à SUCOR e o desenvolvimento de metodologias para a análise de concessão de crédito, modelos de Atacado e Varejos, análise de risco de clientes e de operações ativas, bem como acompanhar os limites e os resultados de crédito competem à SURIC.A Superintendência de Riscos Corporativos – SURIS utiliza práticas consistentes e integradas para calcular, monitorar e acompanhar os níveis de apetite e tolerância aos riscos de crédito, de mercado, IRRBB, de liquidez e da gestão do capital.A Superintendência de Risco Operacional e Cibernético – SUROC trata do planejamento e controle dos riscos não financeiros (risco operacional, sociais, ambientais, climaticos, reputacional e de imagem, cibernético e prevenção a fraudes), assim como a disseminação da cultura de gestão de riscos não financeiros e segurança cibernética na Instituição.A Gerência de Monitoração e Validação de Modelos – GEVAM é responsável pela validação independente dos modelos de mensuração do risco, a fim de garantir a consistência das premissas, das bases de dados utilizadas e dos resultados obtidos, que são, também, monitorados posteriormente quanto ao desempenho esperado, controlando adequadamente o risco dos modelos.A Superintendência de Controle Institucional – SUCOI supervisiona os processos de controles internos, conformidade e integridade, observando as atribuições de cada linha e as melhores práticas de mercado.A Superintendência de Cobrança e Recuperação de Ativos – SUCOR é responsável por coordenar o planejamento e a normatização que envolvem todo o processo de cobrança, renegociação e recuperação de crédito no Banco.A Superintendência de Risco de Crédito – SURIC trata do processo de desenvolvimento de metodologias para a análise de concessão de crédito, modelos de atacado e varejo, análise de risco de clientes e de operações ativas, bem como acompanha os limites e os resultados de crédito.Apetite por Riscos – RAS A Declaração de Apetite por Riscos do BRB em vigor orienta a estratégia de negócios e estabelece os níveis de riscos aos quais o Banco e as demais instituições integrantes do Conglomerado admitem estar expostos. A RAS é monitorada permanentemente (revisada anualmente ou sempre que necessário) pelo Conselho de Administração, reforçando e disseminando a cultura de gestão riscos da Instituição, direcionando os planos estratégicos e de negócios e possibilitando aos seus colaboradores o conhecimento dos principais aspectos do apetite e da tolerância a riscos.Riscos RelevantesA Instituição, diante da complexidade e variedade de produtos e serviços oferecidos aos seus clientes em todos os segmentos de mercado, está exposta a diversos tipos de riscos, sejam eles decorrentes de fatores internos ou externos. Portanto, é imprescindível a adoção de um monitoramento constante de todos os riscos de forma a dar segurança a todas as partes interessadas. Dentre os principais tipos de riscos, destacamos:  Risco de Crédito; Risco de Mercado; Risco de variação das taxas de juros para os instrumentos da carteira bancária (IRRBB); Risco de Liquidez; Risco Operacional; Risco Social, ambiental e Climático; Risco Cibernético."},{"$f":"CLEAN(OVA!$D9)","v":"A governança corporativa da Instituição, pautada nas melhores práticas de mercado, gerencia os seus riscos institucionais e o seu capital por meio de decisões colegiadas, amparadas em Comitês Estatutários e Executivos específicos, que contam com a participação de membros da Administração. Principais Atribuições vinculadas às estruturas de Governança e Gerenciamento de Riscos:Conselho de AdministraçãoAprova e revisa as estruturas e políticas de gerenciamento integrado de riscos e de capital, o Programa de Testes de Estresse, o plano de contingência de liquidez, o plano de capital, o plano de contingência de capital e as políticas para a gestão de continuidade de negócios. Fixa os níveis de apetite por risco da instituição na RAS e os revisa, com o auxílio do comitê de riscos, da Diretoria Colegiada e do CRO. Assegura a aderência da Instituição às políticas, às estratégias, e aos limites de gerenciamento de riscos, bem como aprova a correção tempestiva das deficiências da estrutura de gerenciamento de riscos e de capital. Autoriza, quando necessário, exceções às políticas, aos procedimentos, aos limites e aos níveis de apetite por riscos.DiretoriaColegiadaPropõe ao Conselho de Administração alterações significativas, em decorrência dos riscos de que trata o artigo 7º, inciso V da Resolução CMN nº 4.557/2017, nas políticas e nas estratégias do BRB, de suas subsidiárias e controladas, bem como em seus sistemas, rotinas e procedimentosComitê deRiscos Assessora o Conselho de Administração no que concerne ao exercício de suas funções relativas à Gestão de Risco e de Capital, de forma unificada, para as instituições integrantes do Conglomerado BRB. Avalia os níveis de apetite por riscos fixados na RAS e as estratégias para o seu gerenciamento, considerando os riscos individualmente e de forma integrada. Supervisiona a atuação e o desempenho do Diretor responsável pelo Gerenciamento de Riscos (CRO) no âmbito do BRB, suas Subsidiárias, Controladas e Coligadas. Comitê de Riscos,Controles, ALM e Prevenção a Ilícitos FinanceirosAprova os modelos e metodologias de gerenciamento dos riscos corporativos, dos controles internos e de planejamento de capital, avalia relatórios periódicos a respeito das matérias de sua competência e leva ao conhecimento da Diretoria Colegiada, mede e avalia o desempenho das medidas e estratégias de gerenciamento de riscos, controles internos e capital, monitora o cumprimento das políticas de gerenciamento de riscos, controles internos e capital, manifesta sobre a Declaração de Apetite por Riscos – RAS e reporta à Diretoria Colegiada e ao Comitê de Riscos suas considerações. Define as políticas, diretrizes e ações de Prevenção à Fraudes, Lavagem de Dinheiro e ao Financiamento do Terrorismo e Segurança da informação, Segurança de Pessoas e Patrimônio, Gestão de Continuidade de Negócios e Gestão Documental. Delibera por medidas e procedimentos de proteção ao sigilo bancário, à segurança de tecnologia da informação e combate a ilícitos financeiros que afetem os canais de atendimento disponibilizados pelo BRB.Comitê de AuditoriaAvalia e monitora as exposições de risco do BRB – Banco de Brasília S.A. e de suas Subsidiárias e Controladas, podendo requerer, entre outras, informações detalhadas sobre políticas e procedimentos referentes a remuneração da Administração, utilização de ativos e gastos incorridos em nome do Conglomerado BRB.Diretor para Gerenciamentode Riscos (CRO – Chief Risk Officer)Supervisiona o desenvolvimento, a implementação e o desempenho da estrutura de gerenciamento de riscos, incluindo seu aperfeiçoamento. Responsável pela adequação à RAS e aos objetivos estratégicos das políticas, dos processos, dos relatórios, dos sistemas e dos modelos utilizados no gerenciamento de riscos. Responsável pela adequada capacitação dos integrantes da unidade específica, acerca das políticas, dos processos, dos relatórios, dos sistemas e dos modelos da estrutura de gerenciamento de riscos, mesmo que desenvolvidos por terceiros. Subsidia e participa do processo de tomada de decisões estratégicas relacionadas ao gerenciamento de riscos e, quando aplicável, ao gerenciamento de capital, auxiliando o Conselho de Administração."},{"$f":"CLEAN(OVA!$D10)","v":"Em consonância com as melhores práticas de governança corporativa e aculturação, o BRB dissemina conteúdo relacionado aos riscos e ao capital, para todo o corpo funcional, por meio de treinamentos, divulgação de conteúdo na intranet, além de estabelecer certificações internas em gestão de riscos e capital a todos os colaboradores."},{"$f":"CLEAN(OVA!$D11)","v":"O escopo do gerenciamento de riscos do BRB compreende uma abordagem consolidada, possibilitando que o Processo Corporativo de Gerenciamento de Riscos possa suportar todos os riscos do Conglomerado, objetivando assegurar o desenvolvimento das atividades relacionadas. Nesse contexto, a Política de Gerenciamento Integrado de Riscos e de Capital é o documento onde estão descritos os princípios, diretrizes, papéis, responsabilidades e a governança corporativa para um efetivo gerenciamento dos riscos e capital e faz parte do arcabouço normativo da gestão de riscos e de capital.A RAS, por sua vez, documento estratégico para a definição do apetite ao risco da Organização, desempenha o papel de balizador para o planejamento da estratégia de negócios, conduzindo o alinhamento entre orçamento e capital, e alocação sustentável e otimizada, de acordo com a capacidade da Instituição de assunção a riscos e de seus objetivos estratégicos.A RAS é aplicada de forma a estabelecer limites de exposição aceitos de acordo com os impactos previstos no capital do Conglomerado BRB, conceito este, estendido a todas as empresas controladas pelo BRB, considerando suas respectivas especificidades relacionadas à natureza de atuação."},{"$f":"CLEAN(OVA!$D12)","v":"A Área responsável pelo controle dos riscos e pelo gerenciamento do capital disponibiliza à Administração, por meio de boletins e relatórios consolidados e periódicos, informações relacionadas ao acompanhamento dos riscos e do capital, com o objetivo de posicioná-los quanto ao comportamento e evolução dos principais indicadores de risco e do gerenciamento de capital."},{"$f":"CLEAN(OVA!$D13)","v":"O Programa de Testes de Estresse (PTE) do Conglomerado BRB é o conjunto coordenado de processos, rotinas e metodologias criados com a finalidade de identificar potenciais vulnerabilidades da Instituição, considerando os riscos relevantes a que está exposta.A implementação do PTE viabiliza a realização de testes de estresse de forma integrada para os riscos de crédito, de mercado, de variação das taxas de juros para os instrumentos classificados na carteira bancária (IRRBB), de liquidez, operacional e atuarial. O resultado do programa possibilita a avaliação prospectiva dos potenciais impactos de circunstâncias adversas para a Instituição, além de contribuir para a verificação dos efeitos resultantes das interações entre os riscos e dos impactos sobre o capital, sobre a liquidez do Conglomerado e sobre outros indicadores contemplados na Declaração de Apetite por Riscos (RAS).Os resultados constantes no programa são apresentados às alçadas competentes e são utilizados nas decisões estratégicas da Instituição, na revisão das políticas e limites estabelecidos para fins de gerenciamento de riscos e de capital, dos níveis de apetite a riscos e para avaliação da adequação do capital."},{"$f":"CLEAN(OVA!$D14)","v":"Por meio da RAS são estabelecidos os parâmetros norteadores que devem ser observados para mitigar o risco de deslocamento quanto aos indicadores e metas estabelecidos pela Instituição, de modo a assegurar o vigor da estrutura de capital. O monitoramento dos principais indicadores é realizado de forma sistemática, possibilitando a recomendação de medidas e procedimentos corretivos para eventuais deficiências identificadas.A Superintendência de Riscos Corporativos – SURIS e a Superintendência de Risco Operacional e Cibernético – SUROC são unidades executoras da Política de Gerenciamento Integrado de Riscos e de Capital, gerenciando os mecanismos de mitigação de risco da Instituição, com o objetivo de manter a exposição ao risco em níveis considerados aceitáveis. A SURIS e a SUROC propõem as métricas de controle dos riscos, calculam e divulgam os indicadores nas periodicidades estabelecidas, monitoram e controlam o cumprimento dos limites definidos na RAS, realizam simulações dos principais indicadores implementados e comunicam os assuntos relacionados nas instâncias colegiadas onde o tema é abordado. A Superintendência de Risco Operacional e Cibernético – SUROC é a unidade responsável pela mensuração dos riscos não financeiros nas atividades executadas pelo BRB, pela prevenção à fraude e pela Gestão da Continuidade de Negócios da instituição. A SUROC atua desde a identificação dos riscos até sua mitigação, orientando e fiscalizando a efetividade das ações tomadas pela primeira linha de defesa, tendo como objetivo manter o risco residual em níveis mínimos e assegurar o pleno funcionamento dos processos considerados críticos para o banco, ainda que em situações de incidentes e/ou crise.A Superintendência de Controle Institucional – SUCOI supervisiona a implementação e a disseminação da cultura de conformidade normativa, controles internos, integridade e prevenção e combate à corrupção, à fraude interna e à lavagem de dinheiro no Conglomerado BRBA Gerência de Monitoração e Validação de Modelos –  GEVAM, por sua vez, realiza a validação independente dos modelos de mensuração do risco, a fim de garantir a consistência das premissas, das bases de dados utilizadas e dos resultados obtidos, que são, também, monitorados posteriormente quanto ao desempenho esperado, controlando adequadamente o risco dos modelos.A Auditoria Interna analisa, periodicamente e de maneira independente, a efetividade de todo o processo de gerenciamento de riscos incorridos pelo BRB.Nesse contexto, o BRB demonstra que, mesmo em cenários severos, dispõe de estratégias com capacidade de geração dos recursos necessários para garantir a sustentabilidade de atividades críticas e serviços essenciais ao seu portfólio de clientes."},{"$f":"CLEAN(OVA!$D15)","v":"O planejamento e o gerenciamento de capital são viabilizados por meio do Plano de Capital, que é revisado anualmente ou quando há necessidade em razão de alterações no planejamento estratégico, plano de negócios, insumos utilizados na projeção dos indicadores e atualizações relevantes na regulação vigente.Em conformidade com o que descreve a Resolução CMN nº 4.557/2017, o Plano de Capital do BRB, alinhado ao Planejamento Estratégico da Instituição, contempla as metas e projeções de capital, as principais fontes de capital, além de considerar: as ameaças e oportunidades relativas ao ambiente econômico e de negócios; as projeções dos valores dos ativos e passivos, das operações não contabilizadas no balanço patrimonial, bem como das receitas e despesas; as metas de crescimento ou de participação no mercado; a política de distribuição de resultados; e os termos da RAS. Seu objetivo principal é assegurar a existência de capital regulamentar em volume suficiente para cobertura dos riscos idiossincráticos e sistêmicos oriundos das atividades planejadas para o período e apresentar projeções dos requerimentos mínimos com base nas expectativas orçamentárias e planejamento estratégico, fornecendo perspectivas futuras de alocação de capital, e de viabilizar a monitoração, de forma permanente, de situações potenciais para acionamento dos estados de alerta e de contingência, as quais exigem ações específicas, apresentadas no plano, a serem decididas pelo Conselho de Administração e distribuídas às respectivas Áreas competentes para avaliação de viabilidade e execução. O Plano de Contingência de Capital apresenta ações que visam assegurar o enquadramento do Banco aos níveis de capital regulatórios e àqueles definidos pela Administração, caso as fontes de capital definidas no Plano de Capital mostrem-se insuficientes ou inviáveis, ou ainda na ocorrência de acontecimentos não previstos. "},{"$f":"OVA!D16","v":"sem comentários"}]
[]
["TXT","TXT","TXT","TXT","TXT","TXT","TXT","TXT","TXT","TXT","TXT","TXT"]

{"sheet":"LIQA","index":23,"n_rows":14,"n_cols":4,"rows_kept":14,"cut":false,"hidden":false,"merged":[[0,0,1,0]]}
[]
[]
[]
[]
[]
[null,null,"  Informações Qualitativas Sobre o Gerenciamento do Risco de Liquidez - LIQA"]
[null,null,null,{"$f":"Arquivos!A14","v":"2023-12-01"}]
[null,null,"a","O gerenciamento do risco de liquidez é executado, no BRB, de modo corporativo e permeia as camadas da Governança da Instituição.\n\nA estrutura de gerenciamento do risco de liquidez atende aos aspectos e padrões previstos nos normativos emitidos pelo Conselho Monetário Nacional (CMN) e pelo Banco Central do Brasil (BCB), sendo composta pelas áreas de operações financeiras, de gestão de riscos corporativos e de controle institucional, além de comitês executivos e estatutários, subordinados ao Conselho de Administração. Esses órgãos colegiados acompanham os indicadores do risco de liquidez, avaliam os resultados das métricas adotadas, monitoram o cumprimento dos limites estabelecidos, analisam os resultados dos testes de estresse e propõem o apetite ao risco de liquidez da Instituição.\n\nA Superintendência de Operações Financeiras, vinculada à Diretoria Executiva de Finanças e Controladoria, realiza a gestão diária do caixa da Instituição e cumpre os limites estratégicos e operacionais estabelecidos.\n\nJá a Superintendência de Riscos Corporativos, vinculada à Diretoria Executiva de Controle e Riscos, propõe as métricas de controle do risco de liquidez, calcula e divulga os indicadores desse risco nas periodicidades estabelecidas, monitora e controla o cumprimento dos limites definidos na RAS, realiza simulações dos principais indicadores implementados, executa testes de estresse sobre as exposições assumidas, avalia periodicamente o desempenho dos modelos de cálculo do risco de liquidez por meio de testes de aderência (backtesting) e comunica assuntos relacionados ao risco de liquidez nas instâncias colegiadas onde o tema é abordado.\n\nA Gerência de Monitoração e Validação de Modelos, também vinculada à Diretoria Executiva de Controle e Riscos, por sua vez, realiza a validação independente dos modelos de mensuração do risco de liquidez, enquanto a Auditoria Interna analisa, periodicamente, a efetividade de todo o processo de gerenciamento do risco de liquidez do BRB.\n\nA comunicação interna sobre o risco de liquidez, tanto entre os setores quanto entre as diversas camadas da Governança Interna, é feita por meio de relatórios internos, que são submetidos à avaliação de órgãos colegiados executivos e estatutários e demais áreas de interesse da Organização. Os relatórios são elaborados periodicamente e possuem informações qualitativas e quantitativas sobre o risco de liquidez, tais como: indicadores apurados e projetados, adequação aos limites internos fixados na RAS e resultados de testes de estresse.\n\nAs decisões relacionadas à gestão de risco de liquidez são comunicadas às áreas intervenientes por meio de documentos que expressam objetivamente o posicionamento tomado pela Administração, garantindo a sua aplicação em todos os níveis do Banco."]
[null,null,"b","Visando à mitigação do risco de concentração, o Banco mantém uma estrutura de fontes de financiamento diversificada e estável, alinhada com seu apetite ao risco, e seguindo uma estratégia de captações pulverizadas, propiciada por uma rede diversificada de clientes, pessoas físicas e jurídicas.\n\nA emissão de títulos próprios do BRB é baseada em preços e condições de mercado, a fim de possibilitar uma adequada rentabilidade para a Instituição, e busca evitar uma concentração dos recursos captados para que o Banco tenha mais autonomia na gestão do seu fluxo de caixa.\n\nOs volumes captados para cada produto e modalidade são definidos de acordo com as diretrizes do Planejamento Estratégico e do Orçamento Gerencial do BRB, observando, ainda, as necessidades de liquidez, capital e equilíbrio dos descasamentos de indexadores, de moedas e de prazos entre ativos e passivos.\n\nOs processos relativos ao gerenciamento de risco de liquidez preveem a adoção das seguintes estratégias para captação de recursos:\n\n \tmanutenção de perfil de captação adequado ao risco de liquidez dos ativos e passivos da Instituição, bem como de exposições não contabilizadas no seu balanço patrimonial; e\n \tdiversificação adequada das fontes de captação de recursos."]
[null,null,"c","A apuração dos indicadores do risco de liquidez, bem como outras ações que compõem o conjunto de estratégias para controle desse risco, são realizadas por área segregada das unidades de negócio. Tais estratégias consistem em identificar, mensurar, avaliar, monitorar, reportar e controlar o risco de liquidez em diferentes horizontes de tempo, em condições normais ou de estresse, contemplando a avaliação diária das operações com prazos de liquidação inferiores a 90 (noventa) dias, além de assegurar a manutenção de estoque adequado de ativos líquidos que possam ser prontamente convertidos em caixa em situações de estresse, garantindo o cumprimento eficiente das obrigações da Organização.\n\nSão exemplos de estratégias adotadas no BRB para a mitigação do risco de liquidez:\n\n \tNormatização dos procedimentos de gestão desse risco, a fim de garantir a padronização da execução das atividades e a retenção do conhecimento;\n \tDivulgação diária de relatórios internos com os resultados dos indicadores do risco de liquidez, para monitoramento das exposições;\n \tAdoção de limites gerenciais de liquidez, compatíveis com o apetite ao risco de liquidez da Entidade;\n \tAnálise prévia de propostas de criação ou reformulação de produtos e serviços que possam afetar a liquidez da Instituição;\n \tDiversificação de captações com relação a prazo e contraparte, facilitando a gestão do fluxo de caixa da Organização;\n \tReavaliação periódica do modelo de mensuração do risco de liquidez, por meio da aplicação de testes de aderência (backtesting), de modo a verificar a acurácia dos cálculos gerados e de checar a adequabilidade das premissas consideradas;\n \tRealização de testes de estresse relacionados ao risco de liquidez, com o intuito de capturar eventuais vulnerabilidades do BRB e possibilitar uma melhor preparação para o enfrentamento de situações adversas; e\n \tDisseminação das melhores práticas relacionadas aos mitigadores existentes para risco de liquidez."]
[null,null,"d","Os testes de estresse são instrumentos adotados pelo BRB para o gerenciamento do risco de liquidez da Organização. Trata-se de estudos que compõem o Programa de Testes de Estresse da Instituição, o qual é coordenado pela área de riscos e tem como finalidade a avaliação prospectiva dos potenciais impactos de eventos severos e circunstâncias adversas na liquidez da Entidade.\n\nSão objetivos dos testes de estresse associados ao risco de liquidez:\n\n \tVerificar a suficiência do volume de ativos líquidos atualmente mantido pelo BRB;\n \tSimular o grau de deterioração dos indicadores de liquidez, para diferentes horizontes de tempo, em função de eventuais acontecimentos desfavoráveis;\n \tChecar a resiliência do Banco diante da possibilidade de ocorrência de eventos extremos (que podem ser macroeconômicos ou idiossincráticos);\n \tAntecipar a necessidade de adoção de eventuais medidas preventivas que busquem preservar a eficiência operacional e resguardar a perenidade da Organização;\n \tSubsidiar a proposição dos limites de controle dos indicadores de liquidez; \n \tNortear a definição das estratégias de negócio assumidas pela Instituição; e\n \tContribuir para a elaboração do Plano de Contingência de Liquidez (PCL), permitindo uma melhor preparação da Entidade para o enfrentamento de situações de crise de liquidez.\n\nOs resultados são incluídos no Programa de Testes de Estresse e são submetidos, periodicamente, à avaliação da Diretoria Executiva, e encaminhados ao Conselho de Administração."]
[null,null,"e","O Plano de Contingência de Liquidez (PCL) é um documento formal, aprovado pelo Conselho de Administração do BRB e revisado no mínimo anualmente, que tem como objetivo estabelecer responsabilidades e alçadas, bem como definir as medidas de contingência, estratégias e procedimentos que permitam o enfrentamento de situações de crise de liquidez, buscando uma rápida recomposição dos indicadores de liquidez para o cumprimento eficiente das necessidades de caixa da Entidade. O Plano de Contingência de Liquidez (PCL) da Organização abrange os seguintes tópicos:\n\n \tPropósito do documento;\n \tConceitos correlatos ao gerenciamento do risco de liquidez;\n \tCritérios para acionamento do PCL, segregados por indicador de liquidez;\n \tResponsabilidades dos diversos agentes envolvidos no processo de recuperação da liquidez;\n \tAções e medidas destinadas à recomposição dos níveis mínimos aceitáveis de liquidez;\n \tCritérios para desativação do PCL; e\n \tAbrangência e frequência de revisão do Plano."]
[null,null,"f","O risco de liquidez é monitorado sistematicamente e sua apuração diária é realizada conforme procedimentos aprovados pela Administração. O processo de gestão desse risco prevê, dentre outras atividades, a adoção de limites mínimos de liquidez suficientes para a absorção de perdas em cenários adversos e a análise prévia de produtos e serviços que possam afetar a liquidez da Organização. \n\nA mensuração do risco de liquidez é realizada por meio dos seguintes indicadores:\n\n \tÍndice de Liquidez de Curto Prazo – ILCP, que corresponde à razão entre os ativos de liquidez imediata (ALI) e a reserva mínima de liquidez (RML), considerando as entradas e saídas de caixa estimadas, sob condições adversas, para os 21 dias úteis seguintes à data-base; e\n \tFluxo de Caixa Projetado Acumulado – FCPA, que representa graficamente os resultados líquidos diários acumulados de caixa, projetados para os 63 dias úteis subsequentes à data-base sob premissas e parâmetros conservadores previamente definidos.\n \tÍndice de Liquidez de Longo Prazo – ILLP, que corresponde à razão entre os recursos estáveis disponíveis (RED) e os recursos estáveis requeridos (RER), e mede a capacidade do Conglomerado BRB em financiar suas atividades de maneira sustentável; e\n \tFluxo de Caixa Projetado Estendido – FCPE, que representa graficamente os resultados líquidos diários acumulados de caixa, projetados para os 252 dias úteis subsequentes à data-base sob premissas e parâmetros conservadores previamente definidos.\n\nA Instituição executa, periodicamente, testes de estresse relacionados ao risco de liquidez, com o intuito de identificar eventuais vulnerabilidades que possam comprometer a capacidade de cumprimento das obrigações assumidas, e simulações de movimentações financeiras relevantes para estimar seu impacto sobre o fluxo de caixa da Entidade. \n\nPeriodicamente também são realizados testes de aderência (backtesting) dos modelos de mensuração do risco de liquidez, a fim de verificar a acurácia dos cálculos gerados e de checar a adequabilidade das premissas consideradas. Destaca-se que tais modelagens são constantemente avaliadas pela área de validação independente e pela Auditoria Interna. \n\nAdicionalmente, para cumprimento da Carta Circular BCB nº 3.775/2016, é enviado mensalmente ao Banco Central do Brasil o Demonstrativo de Risco de Liquidez (DRL) – Modelo II, o qual consiste numa proxy para o indicador de Liquidez de Curto Prazo (LCR)."]
[null,null,null,"sem comentários"]

{"sheet":"csv_LIQA","index":24,"n_rows":4,"n_cols":10,"rows_kept":4,"cut":false,"hidden":false,"merged":[]}
["COD_TABELA","COD_REFERENCIA","DT_REFERENCIA_ARQ","CAMPO_A","CAMPO_B","CAMPO_C","CAMPO_D","CAMPO_E","CAMPO_F","DS_COMENTÁRIO_TABELA"]
["LIQA",{"$f":"YEAR(C2)&IF(MONTH(C2)>9,4,IF(MONTH(C2)>6,3,IF(MONTH(C2)>3,2,1)))&\"T\"","v":"20234T"},{"$f":"EOMONTH(LIQA!D7,0)","v":"2023-12-31"},{"$f":"CLEAN(LIQA!$D8)","v":"O gerenciamento do risco de liquidez é executado, no BRB, de modo corporativo e permeia as camadas da Governança da Instituição.A estrutura de gerenciamento do risco de liquidez atende aos aspectos e padrões previstos nos normativos emitidos pelo Conselho Monetário Nacional (CMN) e pelo Banco Central do Brasil (BCB), sendo composta pelas áreas de operações financeiras, de gestão de riscos corporativos e de controle institucional, além de comitês executivos e estatutários, subordinados ao Conselho de Administração. Esses órgãos colegiados acompanham os indicadores do risco de liquidez, avaliam os resultados das métricas adotadas, monitoram o cumprimento dos limites estabelecidos, analisam os resultados dos testes de estresse e propõem o apetite ao risco de liquidez da Instituição.A Superintendência de Operações Financeiras, vinculada à Diretoria Executiva de Finanças e Controladoria, realiza a gestão diária do caixa da Instituição e cumpre os limites estratégicos e operacionais estabelecidos.Já a Superintendência de Riscos Corporativos, vinculada à Diretoria Executiva de Controle e Riscos, propõe as métricas de controle do risco de liquidez, calcula e divulga os indicadores desse risco nas periodicidades estabelecidas, monitora e controla o cumprimento dos limites definidos na RAS, realiza simulações dos principais indicadores implementados, executa testes de estresse sobre as exposições assumidas, avalia periodicamente o desempenho dos modelos de cálculo do risco de liquidez por meio de testes de aderência (backtesting) e comunica assuntos relacionados ao risco de liquidez nas instâncias colegiadas onde o tema é abordado.A Gerência de Monitoração e Validação de Modelos, também vinculada à Diretoria Executiva de Controle e Riscos, por sua vez, realiza a validação independente dos modelos de mensuração do risco de liquidez, enquanto a Auditoria Interna analisa, periodicamente, a efetividade de todo o processo de gerenciamento do risco de liquidez do BRB.A comunicação interna sobre o risco de liquidez, tanto entre os setores quanto entre as diversas camadas da Governança Interna, é feita por meio de relatórios internos, que são submetidos à avaliação de órgãos colegiados executivos e estatutários e demais áreas de interesse da Organização. Os relatórios são elaborados periodicamente e possuem informações qualitativas e quantitativas sobre o risco de liquidez, tais como: indicadores apurados e projetados, adequação aos limites internos fixados na RAS e resultados de testes de estresse.As decisões relacionadas à gestão de risco de liquidez são comunicadas às áreas intervenientes por meio de documentos que expressam objetivamente o posicionamento tomado pela Administração, garantindo a sua aplicação em todos os níveis do Banco."},{"$f":"CLEAN(LIQA!$D9)","v":"Visando à mitigação do risco de concentração, o Banco mantém uma estrutura de fontes de financiamento diversificada e estável, alinhada com seu apetite ao risco, e seguindo uma estratégia de captações pulverizadas, propiciada por uma rede diversificada de clientes, pessoas físicas e jurídicas.A emissão de títulos próprios do BRB é baseada em preços e condições de mercado, a fim de possibilitar uma adequada rentabilidade para a Instituição, e busca evitar uma concentração dos recursos captados para que o Banco tenha mais autonomia na gestão do seu fluxo de caixa.Os volumes captados para cada produto e modalidade são definidos de acordo com as diretrizes do Planejamento Estratégico e do Orçamento Gerencial do BRB, observando, ainda, as necessidades de liquidez, capital e equilíbrio dos descasamentos de indexadores, de moedas e de prazos entre ativos e passivos.Os processos relativos ao gerenciamento de risco de liquidez preveem a adoção das seguintes estratégias para captação de recursos: manutenção de perfil de captação adequado ao risco de liquidez dos ativos e passivos da Instituição, bem como de exposições não contabilizadas no seu balanço patrimonial; e diversificação adequada das fontes de captação de recursos."},{"$f":"CLEAN(LIQA!$D10)","v":"A apuração dos indicadores do risco de liquidez, bem como outras ações que compõem o conjunto de estratégias para controle desse risco, são realizadas por área segregada das unidades de negócio. Tais estratégias consistem em identificar, mensurar, avaliar, monitorar, reportar e controlar o risco de liquidez em diferentes horizontes de tempo, em condições normais ou de estresse, contemplando a avaliação diária das operações com prazos de liquidação inferiores a 90 (noventa) dias, além de assegurar a manutenção de estoque adequado de ativos líquidos que possam ser prontamente convertidos em caixa em situações de estresse, garantindo o cumprimento eficiente das obrigações da Organização.São exemplos de estratégias adotadas no BRB para a mitigação do risco de liquidez: Normatização dos procedimentos de gestão desse risco, a fim de garantir a padronização da execução das atividades e a retenção do conhecimento; Divulgação diária de relatórios internos com os resultados dos indicadores do risco de liquidez, para monitoramento das exposições; Adoção de limites gerenciais de liquidez, compatíveis com o apetite ao risco de liquidez da Entidade; Análise prévia de propostas de criação ou reformulação de produtos e serviços que possam afetar a liquidez da Instituição; Diversificação de captações com relação a prazo e contraparte, facilitando a gestão do fluxo de caixa da Organização; Reavaliação periódica do modelo de mensuração do risco de liquidez, por meio da aplicação de testes de aderência (backtesting), de modo a verificar a acurácia dos cálculos gerados e de checar a adequabilidade das premissas consideradas; Realização de testes de estresse relacionados ao risco de liquidez, com o intuito de capturar eventuais vulnerabilidades do BRB e possibilitar uma melhor preparação para o enfrentamento de situações adversas; e Disseminação das melhores práticas relacionadas aos mitigadores existentes para risco de liquidez."},{"$f":"CLEAN(LIQA!$D11)","v":"Os testes de estresse são instrumentos adotados pelo BRB para o gerenciamento do risco de liquidez da Organização. Trata-se de estudos que compõem o Programa de Testes de Estresse da Instituição, o qual é coordenado pela área de riscos e tem como finalidade a avaliação prospectiva dos potenciais impactos de eventos severos e circunstâncias adversas na liquidez da Entidade.São objetivos dos testes de estresse associados ao risco de liquidez: Verificar a suficiência do volume de ativos líquidos atualmente mantido pelo BRB; Simular o grau de deterioração dos indicadores de liquidez, para diferentes horizontes de tempo, em função de eventuais acontecimentos desfavoráveis; Checar a resiliência do Banco diante da possibilidade de ocorrência de eventos extremos (que podem ser macroeconômicos ou idiossincráticos); Antecipar a necessidade de adoção de eventuais medidas preventivas que busquem preservar a eficiência operacional e resguardar a perenidade da Organização; Subsidiar a proposição dos limites de controle dos indicadores de liquidez;  Nortear a definição das estratégias de negócio assumidas pela Instituição; e Contribuir para a elaboração do Plano de Contingência de Liquidez (PCL), permitindo uma melhor preparação da Entidade para o enfrentamento de situações de crise de liquidez.Os resultados são incluídos no Programa de Testes de Estresse e são submetidos, periodicamente, à avaliação da Diretoria Executiva, e encaminhados ao Conselho de Administração."},{"$f":"CLEAN(LIQA!$D12)","v":"O Plano de Contingência de Liquidez (PCL) é um documento formal, aprovado pelo Conselho de Administração do BRB e revisado no mínimo anualmente, que tem como objetivo estabelecer responsabilidades e alçadas, bem como definir as medidas de contingência, estratégias e procedimentos que permitam o enfrentamento de situações de crise de liquidez, buscando uma rápida recomposição dos indicadores de liquidez para o cumprimento eficiente das necessidades de caixa da Entidade. O Plano de Contingência de Liquidez (PCL) da Organização abrange os seguintes tópicos: Propósito do documento; Conceitos correlatos ao gerenciamento do risco de liquidez; Critérios para acionamento do PCL, segregados por indicador de liquidez; Responsabilidades dos diversos agentes envolvidos no processo de recuperação da liquidez; Ações e medidas destinadas à recomposição dos níveis mínimos aceitáveis de liquidez; Critérios para desativação do PCL; e Abrangência e frequência de revisão do Plano."},{"$f":"CLEAN(LIQA!$D13)","v":"O risco de liquidez é monitorado sistematicamente e sua apuração diária é realizada conforme procedimentos aprovados pela Administração. O processo de gestão desse risco prevê, dentre outras atividades, a adoção de limites mínimos de liquidez suficientes para a absorção de perdas em cenários adversos e a análise prévia de produtos e serviços que possam afetar a liquidez da Organização. A mensuração do risco de liquidez é realizada por meio dos seguintes indicadores: Índice de Liquidez de Curto Prazo – ILCP, que corresponde à razão entre os ativos de liquidez imediata (ALI) e a reserva mínima de liquidez (RML), considerando as entradas e saídas de caixa estimadas, sob condições adversas, para os 21 dias úteis seguintes à data-base; e Fluxo de Caixa Projetado Acumulado – FCPA, que representa graficamente os resultados líquidos diários acumulados de caixa, projetados para os 63 dias úteis subsequentes à data-base sob premissas e parâmetros conservadores previamente definidos. Índice de Liquidez de Longo Prazo – ILLP, que corresponde à razão entre os recursos estáveis disponíveis (RED) e os recursos estáveis requeridos (RER), e mede a capacidade do Conglomerado BRB em financiar suas atividades de maneira sustentável; e Fluxo de Caixa Projetado Estendido – FCPE, que representa graficamente os resultados líquidos diários acumulados de caixa, projetados para os 252 dias úteis subsequentes à data-base sob premissas e parâmetros conservadores previamente definidos.A Instituição executa, periodicamente, testes de estresse relacionados ao risco de liquidez, com o intuito de identificar eventuais vulnerabilidades que possam comprometer a capacidade de cumprimento das obrigações assumidas, e simulações de movimentações financeiras relevantes para estimar seu impacto sobre o fluxo de caixa da Entidade. Periodicamente também são realizados testes de aderência (backtesting) dos modelos de mensuração do risco de liquidez, a fim de verificar a acurácia dos cálculos gerados e de checar a adequabilidade das premissas consideradas. Destaca-se que tais modelagens são constantemente avaliadas pela área de validação independente e pela Auditoria Interna. Adicionalmente, para cumprimento da Carta Circular BCB nº 3.775/2016, é enviado mensalmente ao Banco Central do Brasil o Demonstrativo de Risco de Liquidez (DRL) – Modelo II, o qual consiste numa proxy para o indicador de Liquidez de Curto Prazo (LCR)."},{"$f":"LIQA!D14","v":"sem comentários"}]
[]
["TXT","TXT","TXT","TXT","TXT","TXT","TXT","TXT","TXT","TXT"]

{"sheet":"CRA","index":25,"n_rows":13,"n_cols":4,"rows_kept":13,"cut":false,"hidden":false,"merged":[[0,0,1,0]]}
[]
[]
[]
[]
[]
[null,null,"Informações Qualitativas Sobre o Gerenciamento do Risco de Crédito"]
[null,null,null,{"$f":"Arquivos!A14","v":"2023-12-01"}]
[null,null,"a","No âmbito do Conglomerado BRB o risco de crédito é representado pela possibilidade de ocorrer perdas associadas ao não cumprimento, pelo tomador ou contraparte, de suas respectivas obrigações financeiras nos termos pactuados, bem como à desvalorização de contrato de crédito decorrente da deterioração na classificação de risco do tomador, à redução de ganhos ou remunerações, às vantagens concedidas na renegociação, aos custos de recuperação e a outros valores relativos ao descumprimento de obrigações financeiras da contraparte. \n\nA Declaração de Apetite a Riscos – RAS, norma estratégica aprovada pelo Conselho de Administração, orienta o modelo de negócios junto das demais medidas estratégicas. A RAS é o instrumento que contempla o conjunto de limites, valores de referência, intervalos e direcionadores qualitativos que expressam o apetite e a tolerância a riscos aplicável a todo o Conglomerado BRB. Por meio desta Declaração, o Conglomerado BRB reforça a disseminação da cultura de gestão de riscos e de capital, possibilitando a todos os seus colaboradores o conhecimento dos principais aspectos do apetite e da tolerância a riscos."]
[null,null,"b","Os limites internos associados ao risco de crédito são estabelecidos pela RAS e estruturados de forma a observar as classificações de risco dos clientes. São atribuídos para os clientes pessoas físicas e pessoas jurídicas de varejo uma classificação de crédito com base em modelos estatísticos. Tais modelos passam por validação independente a fim de garantir a consistência das premissas, das bases de dados utilizadas e dos resultados obtidos, que são, também, monitorados posteriormente quanto ao desempenho esperado, controlando adequadamente o risco dos modelos. Já para os clientes de atacado há uma análise pormenorizada que visa, a partir de alçadas bem definidas, classificar os clientes com base em sua saúde financeira.\n\nO BRB revisa sua Política de Crédito anualmente alinhando à pratica de mercado, ao Planejamento Estratégico da Instituição e aos critérios estabelecidos na RAS. São definidos critérios impeditivos à concessão de crédito, levando-se em consideração critérios econômicos, sociais, ambientais e de riscos. A norma considera ainda aspectos de todo o processo de crédito, inclusive com macro estratégias relacionadas ao processo de cobrança e recuperação de créditos.\n\nO risco de concentração de crédito também é mensurado e monitorado."]
[null,null,"c","O BRB possui uma estrutura de gestão e controle do risco de crédito que visa manter a qualidade da carteira de crédito aderente ao apetite a risco da instituição em cada uma das linhas de crédito em que opera. Há um processo sistêmico e independente de gerenciamento do risco de crédito, abrangendo todo o Conglomerado e aplicado durante todo o ciclo do crédito. O processo envolve áreas distintas, com atribuições específicas, e com o objetivo de garantir uma estrutura robusta e eficiente de gestão e controle, sempre observando o planejamento estratégico adotado pela instituição.\n\nPara garantir maior governança, o BRB possui um sistema de alçadas estruturado na concessão de operações de crédito e renegociações. "]
[null,null,"d","Toda a estrutura de gestão do risco de crédito e dos controles necessários à sua mitigação são realizadas em três linhas de defesa, conforme estrutura estabelecida internamente. "]
[null,null,"e","Os relatórios gerenciais oferecem suporte às instâncias competentes no processo de tomada de decisão sobre o risco de crédito. As exposições são monitoradas e controladas periodicamente por meio do acompanhamento do consumo dos limites presentes na RAS, das evoluções e volumes das carteiras de crédito, dos ativos problemáticos, dos níveis de provisionamento, da inadimplência, pré-inadimplência, do índice de cobertura e dos índices de concentração por grupo econômico ou por cliente individual, grupo familiar, por partes relacionadas e por setor de atividade econômica. As análises são segregadas por tipo de pessoa e cliente, por porte, por segmentos de negócios, por produtos e por setores de atividades econômicas.\n\nO monitoramento da carteira de crédito e das políticas e estratégias adotadas é contínuo de forma a garantir a qualidade creditícia das operações e a conformidade com as normas e a legislação em vigor.  \n\nO BRB também mensura e acompanha o risco de crédito das aplicações do Conglomerado em Títulos e Valores Mobiliários – TVM, cujo reporte é direcionado às instâncias competentes. "]
[null,null,null,"sem comentários"]

{"sheet":"csv_CRA","index":26,"n_rows":4,"n_cols":9,"rows_kept":4,"cut":false,"hidden":false,"merged":[]}
["COD_TABELA","COD_REFERENCIA","DT_REFERENCIA_ARQ","CAMPO_A","CAMPO_B","CAMPO_C","CAMPO_D","CAMPO_E","DS_COMENTÁRIO_TABELA"]
["CRA",{"$f":"YEAR(C2)&IF(MONTH(C2)>9,4,IF(MONTH(C2)>6,3,IF(MONTH(C2)>3,2,1)))&\"T\"","v":"20234T"},{"$f":"EOMONTH(CRA!D7,0)","v":"2023-12-31"},{"$f":"CLEAN(CRA!$D8)","v":"No âmbito do Conglomerado BRB o risco de crédito é representado pela possibilidade de ocorrer perdas associadas ao não cumprimento, pelo tomador ou contraparte, de suas respectivas obrigações financeiras nos termos pactuados, bem como à desvalorização de contrato de crédito decorrente da deterioração na classificação de risco do tomador, à redução de ganhos ou remunerações, às vantagens concedidas na renegociação, aos custos de recuperação e a outros valores relativos ao descumprimento de obrigações financeiras da contraparte. A Declaração de Apetite a Riscos – RAS, norma estratégica aprovada pelo Conselho de Administração, orienta o modelo de negócios junto das demais medidas estratégicas. A RAS é o instrumento que contempla o conjunto de limites, valores de referência, intervalos e direcionadores qualitativos que expressam o apetite e a tolerância a riscos aplicável a todo o Conglomerado BRB. Por meio desta Declaração, o Conglomerado BRB reforça a disseminação da cultura de gestão de riscos e de capital, possibilitando a todos os seus colaboradores o conhecimento dos principais aspectos do apetite e da tolerância a riscos."},{"$f":"CLEAN(CRA!$D9)","v":"Os limites internos associados ao risco de crédito são estabelecidos pela RAS e estruturados de forma a observar as classificações de risco dos clientes. São atribuídos para os clientes pessoas físicas e pessoas jurídicas de varejo uma classificação de crédito com base em modelos estatísticos. Tais modelos passam por validação independente a fim de garantir a consistência das premissas, das bases de dados utilizadas e dos resultados obtidos, que são, também, monitorados posteriormente quanto ao desempenho esperado, controlando adequadamente o risco dos modelos. Já para os clientes de atacado há uma análise pormenorizada que visa, a partir de alçadas bem definidas, classificar os clientes com base em sua saúde financeira.O BRB revisa sua Política de Crédito anualmente alinhando à pratica de mercado, ao Planejamento Estratégico da Instituição e aos critérios estabelecidos na RAS. São definidos critérios impeditivos à concessão de crédito, levando-se em consideração critérios econômicos, sociais, ambientais e de riscos. A norma considera ainda aspectos de todo o processo de crédito, inclusive com macro estratégias relacionadas ao processo de cobrança e recuperação de créditos.O risco de concentração de crédito também é mensurado e monitorado."},{"$f":"CLEAN(CRA!$D10)","v":"O BRB possui uma estrutura de gestão e controle do risco de crédito que visa manter a qualidade da carteira de crédito aderente ao apetite a risco da instituição em cada uma das linhas de crédito em que opera. Há um processo sistêmico e independente de gerenciamento do risco de crédito, abrangendo todo o Conglomerado e aplicado durante todo o ciclo do crédito. O processo envolve áreas distintas, com atribuições específicas, e com o objetivo de garantir uma estrutura robusta e eficiente de gestão e controle, sempre observando o planejamento estratégico adotado pela instituição.Para garantir maior governança, o BRB possui um sistema de alçadas estruturado na concessão de operações de crédito e renegociações. "},{"$f":"CLEAN(CRA!$D11)","v":"Toda a estrutura de gestão do risco de crédito e dos controles necessários à sua mitigação são realizadas em três linhas de defesa, conforme estrutura estabelecida internamente. "},{"$f":"CLEAN(CRA!$D12)","v":"Os relatórios gerenciais oferecem suporte às instâncias competentes no processo de tomada de decisão sobre o risco de crédito. As exposições são monitoradas e controladas periodicamente por meio do acompanhamento do consumo dos limites presentes na RAS, das evoluções e volumes das carteiras de crédito, dos ativos problemáticos, dos níveis de provisionamento, da inadimplência, pré-inadimplência, do índice de cobertura e dos índices de concentração por grupo econômico ou por cliente individual, grupo familiar, por partes relacionadas e por setor de atividade econômica. As análises são segregadas por tipo de pessoa e cliente, por porte, por segmentos de negócios, por produtos e por setores de atividades econômicas.O monitoramento da carteira de crédito e das políticas e estratégias adotadas é contínuo de forma a garantir a qualidade creditícia das operações e a conformidade com as normas e a legislação em vigor.  O BRB também mensura e acompanha o risco de crédito das aplicações do Conglomerado em Títulos e Valores Mobiliários – TVM, cujo reporte é direcionado às instâncias competentes. "},{"$f":"CRA!D13","v":"sem comentários"}]
[]
["TXT","TXT","TXT","TXT","TXT","TXT","TXT","TXT","TXT"]

{"sheet":"CRB_a","index":27,"n_rows":30,"n_cols":5,"rows_kept":30,"cut":false,"hidden":false,"merged":[[0,0,1,0],[4,2,4,3],[5,3,5,4]]}
[]
[]
[]
[]
[null,null,"Total Exposições por setor econômico",null,{"$f":"Arquivos!A14","v":"2023-12-01"}]
[null,null," Em milhões","Total das Exposições"]
[null,null,"Seção CNAE","Valor Bruto","Valor Liquido"]
[null,1,"CONSTRUÇÃO",1404.6906236300001,1374.9820179100002]
[null,2,"ADMINISTRAÇÃO PÚBLICA, DEFESA E SEGURIDADE SOCIAL",1022.51669964,1022.51669964]
[null,3,"COMÉRCIO; REPARAÇÃO DE VEÍCULOS AUTOMOTORES E MOTOCICLETAS",559.01909871999806,526.77116089999799]
[null,4,"SAÚDE HUMANA E SERVIÇOS SOCIAIS",399.65511077999901,397.21845915999899]
[null,5,"ATIVIDADES FINANCEIRAS, DE SEGUROS E SERVIÇOS RELACIONADOS",227.36819802000002,226.48696150000001]
[null,6,"ATIVIDADES ADMINISTRATIVAS E SERVIÇOS COMPLEMENTARES",202.52552506999999,174.45695841]
[null,7,"INFORMAÇÃO E COMUNICAÇÃO",153.62982031999999,151.33740180000001]
[null,8,"TRANSPORTE, ARMAZENAGEM E CORREIO",147.85943611000002,144.94736065000001]
[null,9,"AGRICULTURA, PECUÁRIA, PRODUÇÃO FLORESTAL, PESCA E AQÜICULTURA",136.63153462,132.65822298999998]
[null,10,"ATIVIDADES PROFISSIONAIS, CIENTÍFICAS E TÉCNICAS",107.05124923000001,101.76330743000001]
[null,11,"INDÚSTRIAS DE TRANSFORMAÇÃO",102.26648573,99.237718999999998]
[null,12,"ATIVIDADES IMOBILIÁRIAS",99.331296370000089,98.341461020000096]
[null,13,"ALOJAMENTO E ALIMENTAÇÃO",92.770158640000105,85.906032730000092]
[null,14,"ARTES, CULTURA, ESPORTE E RECREAÇÃO",57.628018740000002,56.113458020000003]
[null,15,"ÁGUA, ESGOTO, ATIVIDADES DE GESTÃO DE RESÍDUOS E DESCONTAMINAÇÃO",45.330230189999995,45.231502290000002]
[null,16,"(NÃO INFORMADO)",42.183127219999996,37.695043950000006]
[null,17,"EDUCAÇÃO",39.116440490000002,38.350180340000001]
[null,18,"OUTRAS ATIVIDADES DE SERVIÇOS",32.087095499999997,29.510480440000002]
[null,19,"INDÚSTRIAS EXTRATIVAS",3.5560934799999999,3.4831502300000001]
[null,20,"SERVIÇOS DOMÉSTICOS",7.1238410000000002E-2,7.1238410000000002E-2]
[null,21,"PESSOA FÍSICA",25560.829838489401,24954.7087569697]
[null,null,"Total:",{"$f":"SUM(D8:D28)","v":30436.117319399396},{"$f":"SUM(E8:E28)","v":29701.787573789697}]
[null,null,"sem comentários"]

{"sheet":"csv_CRB_a","index":28,"n_rows":4,"n_cols":69,"rows_kept":4,"cut":false,"hidden":false,"merged":[]}
["COD_TABELA","COD_REFERENCIA","DT_REFERENCIA_ARQ","Secao_CNAE_1","Vl_Bruto_CNAE_1","Vl_Liq_CNAE_1","Secao_CNAE_2","Vl_Bruto_CNAE_2","Vl_Liq_CNAE_2","Secao_CNAE_3","Vl_Bruto_CNAE_3","Vl_Liq_CNAE_3","Secao_CNAE_4","Vl_Bruto_CNAE_4","Vl_Liq_CNAE_4","Secao_CNAE_5","Vl_Bruto_CNAE_5","Vl_Liq_CNAE_5","Secao_CNAE_6","Vl_Bruto_CNAE_6","Vl_Liq_CNAE_6","Secao_CNAE_7","Vl_Bruto_CNAE_7","Vl_Liq_CNAE_7","Secao_CNAE_8","Vl_Bruto_CNAE_8","Vl_Liq_CNAE_8","Secao_CNAE_9","Vl_Bruto_CNAE_9","Vl_Liq_CNAE_9","Secao_CNAE_10","Vl_Bruto_CNAE_10","Vl_Liq_CNAE_10","Secao_CNAE_11","Vl_Bruto_CNAE_11","Vl_Liq_CNAE_11","Secao_CNAE_12","Vl_Bruto_CNAE_12","Vl_Liq_CNAE_12","Secao_CNAE_13","Vl_Bruto_CNAE_13","Vl_Liq_CNAE_13","Secao_CNAE_14","Vl_Bruto_CNAE_14","Vl_Liq_CNAE_14","Secao_CNAE_15","Vl_Bruto_CNAE_15","Vl_Liq_CNAE_15","Secao_CNAE_16","Vl_Bruto_CNAE_16","Vl_Liq_CNAE_16","Secao_CNAE_17","Vl_Bruto_CNAE_17","Vl_Liq_CNAE_17","Secao_CNAE_18","Vl_Bruto_CNAE_18","Vl_Liq_CNAE_18","Secao_CNAE_19","Vl_Bruto_CNAE_19","Vl_Liq_CNAE_19","Secao_CNAE_20","Vl_Bruto_CNAE_20","Vl_Liq_CNAE_20","Secao_CNAE_21","Vl_Bruto_CNAE_21","Vl_Liq_CNAE_21","Total_Vl_Bruto","Total_Vl_Liq","DS_COMENTÁRIO_TABELA"]
["CRB_a",{"$f":"YEAR(C2)&IF(MONTH(C2)>9,4,IF(MONTH(C2)>6,3,IF(MONTH(C2)>3,2,1)))&\"T\"","v":"20234T"},{"$f":"EOMONTH(CRB_a!E5,0)","v":"2023-12-31"},{"$f":"CRB_a!$C8","v":"CONSTRUÇÃO"},{"$f":"CRB_a!$D8","v":1404.6906236300001},{"$f":"CRB_a!$E8","v":1374.9820179100002},{"$f":"CRB_a!$C9","v":"ADMINISTRAÇÃO PÚBLICA, DEFESA E SEGURIDADE SOCIAL"},{"$f":"CRB_a!$D9","v":1022.51669964},{"$f":"CRB_a!$E9","v":1022.51669964},{"$f":"CRB_a!$C10","v":"COMÉRCIO; REPARAÇÃO DE VEÍCULOS AUTOMOTORES E MOTOCICLETAS"},{"$f":"CRB_a!$D10","v":559.01909871999806},{"$f":"CRB_a!$E10","v":526.77116089999799},{"$f":"CRB_a!$C11","v":"SAÚDE HUMANA E SERVIÇOS SOCIAIS"},{"$f":"CRB_a!$D11","v":399.65511077999901},{"$f":"CRB_a!$E11","v":397.21845915999899},{"$f":"CRB_a!$C12","v":"ATIVIDADES FINANCEIRAS, DE SEGUROS E SERVIÇOS RELACIONADOS"},{"$f":"CRB_a!$D12","v":227.36819802000002},{"$f":"CRB_a!$E12","v":226.48696150000001},{"$f":"CRB_a!$C13","v":"ATIVIDADES ADMINISTRATIVAS E SERVIÇOS COMPLEMENTARES"},{"$f":"CRB_a!$D13","v":202.52552506999999},{"$f":"CRB_a!$E13","v":174.45695841},{"$f":"CRB_a!$C14","v":"INFORMAÇÃO E COMUNICAÇÃO"},{"$f":"CRB_a!$D14","v":153.62982031999999},{"$f":"CRB_a!$E14","v":151.33740180000001},{"$f":"CRB_a!$C15","v":"TRANSPORTE, ARMAZENAGEM E CORREIO"},{"$f":"CRB_a!$D15","v":147.85943611000002},{"$f":"CRB_a!$E15","v":144.94736065000001},{"$f":"CRB_a!$C16","v":"AGRICULTURA, PECUÁRIA, PRODUÇÃO FLORESTAL, PESCA E AQÜICULTURA"},{"$f":"CRB_a!$D16","v":136.63153462},{"$f":"CRB_a!$E16","v":132.65822298999998},{"$f":"CRB_a!$C17","v":"ATIVIDADES PROFISSIONAIS, CIENTÍFICAS E TÉCNICAS"},{"$f":"CRB_a!$D17","v":107.05124923000001},{"$f":"CRB_a!$E17","v":101.76330743000001},{"$f":"CRB_a!$C18","v":"INDÚSTRIAS DE TRANSFORMAÇÃO"},{"$f":"CRB_a!$D18","v":102.26648573},{"$f":"CRB_a!$E18","v":99.237718999999998},{"$f":"CRB_a!$C19","v":"ATIVIDADES IMOBILIÁRIAS"},{"$f":"CRB_a!$D19","v":99.331296370000089},{"$f":"CRB_a!$E19","v":98.341461020000096},{"$f":"CRB_a!$C20","v":"ALOJAMENTO E ALIMENTAÇÃO"},{"$f":"CRB_a!$D20","v":92.770158640000105},{"$f":"CRB_a!$E20","v":85.906032730000092},{"$f":"CRB_a!$C21","v":"ARTES, CULTURA, ESPORTE E RECREAÇÃO"},{"$f":"CRB_a!$D21","v":57.628018740000002},{"$f":"CRB_a!$E21","v":56.113458020000003},{"$f":"CRB_a!$C22","v":"ÁGUA, ESGOTO, ATIVIDADES DE GESTÃO DE RESÍDUOS E DESCONTAMINAÇÃO"},{"$f":"CRB_a!$D22","v":45.330230189999995},{"$f":"CRB_a!$E22","v":45.231502290000002},{"$f":"CRB_a!$C23","v":"(NÃO INFORMADO)"},{"$f":"CRB_a!$D23","v":42.183127219999996},{"$f":"CRB_a!$E23","v":37.695043950000006},{"$f":"CRB_a!$C24","v":"EDUCAÇÃO"},{"$f":"CRB_a!$D24","v":39.116440490000002},{"$f":"CRB_a!$E24","v":38.350180340000001},{"$f":"CRB_a!$C25","v":"OUTRAS ATIVIDADES DE SERVIÇOS"},{"$f":"CRB_a!$D25","v":32.087095499999997},{"$f":"CRB_a!$E25","v":29.510480440000002},{"$f":"CRB_a!$C26","v":"INDÚSTRIAS EXTRATIVAS"},{"$f":"CRB_a!$D26","v":3.5560934799999999},{"$f":"CRB_a!$E26","v":3.4831502300000001},{"$f":"CRB_a!$C27","v":"SERVIÇOS DOMÉSTICOS"},{"$f":"CRB_a!$D27","v":7.1238410000000002E-2},{"$f":"CRB_a!$E27","v":7.1238410000000002E-2},{"$f":"CRB_a!$C28","v":"PESSOA FÍSICA"},{"$f":"CRB_a!$D28","v":25560.829838489401},{"$f":"CRB_a!$E28","v":24954.7087569697},{"$f":"CRB_a!D29","v":30436.117319399396},{"$f":"CRB_a!E29","v":29701.787573789697},{"$f":"CRB_a!C30","v":"sem comentários"}]
[]
["TXT","TXT","TXT","TXT","NUM","NUM","TXT","NUM","NUM","TXT","NUM","NUM","TXT","NUM","NUM","TXT","NUM","NUM","TXT","NUM","NUM","TXT","NUM","NUM","TXT","NUM","NUM","TXT","NUM","NUM","TXT","NUM","NUM","TXT","NUM","NUM","TXT","NUM","NUM","TXT","NUM","NUM","TXT","NUM","NUM","TXT","NUM","NUM","TXT","NUM","NUM","TXT","NUM","NUM","TXT","NUM","NUM","TXT","NUM","NUM","TXT","NUM","NUM","TXT","NUM","NUM","NUM","NUM","TXT"]

{"sheet":"CRB_b","index":29,"n_rows":13,"n_cols":5,"rows_kept":13,"cut":false,"hidden":false,"merged":[[0,0,1,0],[5,3,5,4]]}
[]
[]
[]
[]
[null,null,"Total Exposições por prazo remanescente de vencimento",null,{"$f":"Arquivos!A14","v":"2023-12-01"}]
[null,null,"em milhões","Total das Exposições"]
[null,null,"Prazo Remanescente","Valor Bruto","Valor Líquido"]
[null,null,"ATÉ 6 MESES",1588.5026963900002,1285.3768662300001]
[null,null,"DE 6 MESES A 1 ANO",1455.7729933099999,1428.79998269]
[null,null,"DE 1 A 5 ANOS",7403.8222351099994,7237.1120060499989]
[null,null,"ACIMA DE 5 ANOS",19988.019394589999,19750.498718819999]
[null,null,"Total:",30436.1173194,29701.787573789999]
[null,null,"sem comentários"]

{"sheet":"csv_CRB_b","index":30,"n_rows":4,"n_cols":14,"rows_kept":4,"cut":false,"hidden":false,"merged":[]}
["COD_TABELA","COD_REFERENCIA","DT_REFERENCIA_ARQ","Vl_Bruto_Ate_6_meses","Vl_Liq_Ate_6_meses","Vl_Bruto_de_6_meses_a_1_ano","Vl_Liq_de_6_meses_a_1_ano","Vl_Bruto_de_1_a_5_anos","Vl_Liq_de_1_a_5_anos","Vl_Bruto_acima_de_5_anos","Vl_Liq_acima_de_5_anos","Vl_Bruto_Total","Vl_Liq_Total","DS_COMENTÁRIO_TABELA"]
["CRB_b",{"$f":"YEAR(C2)&IF(MONTH(C2)>9,4,IF(MONTH(C2)>6,3,IF(MONTH(C2)>3,2,1)))&\"T\"","v":"20234T"},{"$f":"EOMONTH(CRB_b!E5,0)","v":"2023-12-31"},{"$f":"CRB_b!D8","v":1588.5026963900002},{"$f":"CRB_b!E8","v":1285.3768662300001},{"$f":"CRB_b!D9","v":1455.7729933099999},{"$f":"CRB_b!E9","v":1428.79998269},{"$f":"CRB_b!D10","v":7403.8222351099994},{"$f":"CRB_b!E10","v":7237.1120060499989},{"$f":"CRB_b!D11","v":19988.019394589999},{"$f":"CRB_b!E11","v":19750.498718819999},{"$f":"CRB_b!D12","v":30436.1173194},{"$f":"CRB_b!E12","v":29701.787573789999},{"$f":"CRB_b!C13","v":"sem comentários"}]
[]
["TXT","TXT","TXT","NUM","NUM","NUM","NUM","NUM","NUM","NUM","NUM","NUM","NUM","TXT"]

{"sheet":"CRB_c","index":31,"n_rows":14,"n_cols":4,"rows_kept":14,"cut":false,"hidden":false,"merged":[[0,0,1,0]]}
[]
[]
[]
[]
[null,null,"Total das Exposições em atraso por faixa de atraso",{"$f":"Arquivos!A14","v":"2023-12-01"}]
[null,null,"em milhões","Total das Exposições"]
[null,null,"Faixa de Atraso","Valor Bruto"]
[null,null,"Menor que 30 dias",29503.427607887697]
[null,null,"Entre 31 e 90 dias",286.36434842000301]
[null,null,"Entre 91 e 180 dias ",211.01172547000181]
[null,null,"Entre 181 e 365 dias",382.941968049992]
[null,null,"Maior que 365 dias",52.371669570000094]
[null,null,"Total:",30436.117319397694]
[null,null,"sem comentários"]

{"sheet":"csv_CRB_c","index":32,"n_rows":4,"n_cols":10,"rows_kept":4,"cut":false,"hidden":false,"merged":[]}
["COD_TABELA","COD_REFERENCIA","DT_REFERENCIA_ARQ","Vl_Menor_que_30_dias","Vl_Entre_31_e_90_dias","Vl_Entre_91_e_180_dias ","Vl_Entre_181_e_365_dias","Vl_Maior_que_365_dias","Vl_Total","DS_COMENTÁRIO_TABELA"]
["CRB_c",{"$f":"YEAR(C2)&IF(MONTH(C2)>9,4,IF(MONTH(C2)>6,3,IF(MONTH(C2)>3,2,1)))&\"T\"","v":"20234T"},{"$f":"EOMONTH(CRB_c!D5,0)","v":"2023-12-31"},{"$f":"CRB_c!$D8","v":29503.427607887697},{"$f":"CRB_c!$D9","v":286.36434842000301},{"$f":"CRB_c!$D10","v":211.01172547000181},{"$f":"CRB_c!$D11","v":382.941968049992},{"$f":"CRB_c!$D12","v":52.371669570000094},{"$f":"CRB_c!$D13","v":30436.117319397694},{"$f":"CRB_c!C14","v":"sem comentários"}]
[]
["TXT","TXT","TXT","NUM","NUM","NUM","NUM","NUM","NUM","TXT"]

{"sheet":"CRB_d","index":33,"n_rows":15,"n_cols":5,"rows_kept":15,"cut":false,"hidden":false,"merged":[[0,0,1,0],[6,3,6,4]]}
[]
[]
[]
[]
[]
[null,null,"Total das Exposições por Região",null,{"$f":"Arquivos!A14","v":"2023-12-01"}]
[null,null,"em milhões","Total das Exposições"]
[null,null,"Região","Valor Bruto","Valor Liquido"]
[null,null,"Centro Oeste",29645.0171057394,28947.846641339802]
[null,null,"Nordeste",199.14336009000098,195.006569490001]
[null,null,"Norte",97.144771390000102,96.664822980000196]
[null,null,"Sudeste",494.81208217999898,462.26953997999902]
[null,null,"Sul",0,0]
[null,null,"Total:",30436.1173193994,29701.787573789803]
[null,null,"sem comentários"]

{"sheet":"csv_CRB_d","index":34,"n_rows":4,"n_cols":16,"rows_kept":4,"cut":false,"hidden":false,"merged":[]}
["COD_TABELA","COD_REFERENCIA","DT_REFERENCIA_ARQ","Vl_Bruto_Centro_Oeste","Vl_Liq_Centro_Oeste","Vl_Bruto_Nordeste","Vl_Liq_Nordeste","Vl_Bruto_Norte","Vl_Liq_Norte","Vl_Bruto_Sudeste","Vl_Liq_Sudeste","Vl_Bruto_Sul","Vl_Liq_Sul","Vl_Bruto_Total","Vl_Liq_Total","DS_COMENTÁRIO_TABELA"]
["CRB_d",{"$f":"YEAR(C2)&IF(MONTH(C2)>9,4,IF(MONTH(C2)>6,3,IF(MONTH(C2)>3,2,1)))&\"T\"","v":"20234T"},{"$f":"EOMONTH(CRB_d!E6,0)","v":"2023-12-31"},{"$f":"CRB_d!D9","v":29645.0171057394},{"$f":"CRB_d!E9","v":28947.846641339802},{"$f":"CRB_d!D10","v":199.14336009000098},{"$f":"CRB_d!E10","v":195.006569490001},{"$f":"CRB_d!D11","v":97.144771390000102},{"$f":"CRB_d!E11","v":96.664822980000196},{"$f":"CRB_d!D12","v":494.81208217999898},{"$f":"CRB_d!E12","v":462.26953997999902},{"$f":"CRB_d!D13","v":0},{"$f":"CRB_d!E13","v":0},{"$f":"CRB_d!D14","v":30436.1173193994},{"$f":"CRB_d!E14","v":29701.787573789803},{"$f":"CRB_d!C15","v":"sem comentários"}]
[]
["TXT","TXT","TXT","NUM","NUM","NUM","NUM","NUM","NUM","NUM","NUM","NUM","NUM","NUM","NUM","TXT"]

{"sheet":"CRB_e","index":35,"n_rows":11,"n_cols":5,"rows_kept":11,"cut":false,"hidden":false,"merged":[[0,0,1,0],[6,3,6,4]]}
[]
[]
[]
[]
[]
[null,null,"Total das Exposições por País",null,{"$f":"Arquivos!A14","v":"2023-12-01"}]
[null,null,"em milhões","Total das Exposições"]
[null,null,"País","Valor Bruto","Valor Liquido"]
[null,null,"Brasil",30436.1173193994,29701.787573789701]
[null,null,"Total:",30436.1173193994,29701.787573789701]
[null,null,"sem comentários"]

{"sheet":"csv_CRB_e","index":36,"n_rows":4,"n_cols":8,"rows_kept":4,"cut":false,"hidden":false,"merged":[]}
["COD_TABELA","COD_REFERENCIA","DT_REFERENCIA_ARQ","Vl_Bruto_Brasil","Vl_Liq_Brasil","Vl_Bruto_Total","Vl_Liq_Total","DS_COMENTÁRIO_TABELA"]
["CRB_e",{"$f":"YEAR(C2)&IF(MONTH(C2)>9,4,IF(MONTH(C2)>6,3,IF(MONTH(C2)>3,2,1)))&\"T\"","v":"20234T"},{"$f":"EOMONTH(CRB_e!E6,0)","v":"2023-12-31"},{"$f":"CRB_e!D9","v":30436.1173193994},{"$f":"CRB_e!E9","v":29701.787573789701},{"$f":"CRB_e!D10","v":30436.1173193994},{"$f":"CRB_e!E10","v":29701.787573789701},{"$f":"CRB_e!C11","v":"sem comentários"}]
[]
["TXT","TXT","TXT","NUM","NUM","NUM","NUM","TXT"]

{"sheet":"CRB_f","index":37,"n_rows":10,"n_cols":5,"rows_kept":10,"cut":false,"hidden":false,"merged":[[0,0,1,0],[5,3,5,4]]}
[]
[]
[]
[]
[null,null,"Maiores Exposições",null,{"$f":"Arquivos!A14","v":"2023-12-01"}]
[null,null,"em milhões"]
[null,null,"Maiores Exposições","Valor Exposição","% da Carteira"]
[null,null,"10 Maiores",1607.7688703699998,3.6352156360758302E-2]
[null,null,"100 Maiores",3617.6264250999998,8.1795663471069618E-2]
[null,null,"sem comentários"]

{"sheet":"csv_CRB_f","index":38,"n_rows":4,"n_cols":8,"rows_kept":4,"cut":false,"hidden":false,"merged":[]}
["COD_TABELA","COD_REFERENCIA","DT_REFERENCIA_ARQ","Vl_10_Maiores_Exposicao","Vl_100_Maiores_Exposicao","Vl_10_Maiores_Percent_Carteira","Vl_100_Maiores_Percent_Carteira","DS_COMENTÁRIO_TABELA"]
["CRB_f",{"$f":"YEAR(C2)&IF(MONTH(C2)>9,4,IF(MONTH(C2)>6,3,IF(MONTH(C2)>3,2,1)))&\"T\"","v":"20234T"},{"$f":"EOMONTH(CRB_f!E5,0)","v":"2023-12-31"},{"$f":"CRB_f!D8","v":1607.7688703699998},{"$f":"CRB_f!D9","v":3617.6264250999998},{"$f":"CRB_f!E8","v":3.6352156360758302E-2},{"$f":"CRB_f!E9","v":8.1795663471069618E-2},{"$f":"CRB_f!C10","v":"sem comentários"}]
[]
["TXT","TXT","TXT","NUM","NUM","NUM","NUM","TXT"]

{"sheet":"CRB_g","index":39,"n_rows":11,"n_cols":4,"rows_kept":11,"cut":false,"hidden":false,"merged":[[0,0,1,0]]}
[]
[]
[]
[]
[null,null,"Total Exposições Reestruturadas",{"$f":"Arquivos!A14","v":"2023-12-01"}]
[null,null,"em milhões","Total das Exposições"]
[null,null,null,"Valor Bruto"]
[null,null,"Curso Anormal",58.39743489]
[null,null,"Demais Exposições",436.20828652999995]
[null,null,"Total:",494.60572141999899]
[null,null,"Segregação do total das exposições reestruturadas, entre aquelas classificadas como operações em curso anormal e as demais."]

{"sheet":"csv_CRB_g","index":40,"n_rows":4,"n_cols":7,"rows_kept":4,"cut":false,"hidden":false,"merged":[]}
["COD_TABELA","COD_REFERENCIA","DT_REFERENCIA_ARQ","Vl_Bruto_Exposicoes_Curso Anormal","Vl_Bruto_Demais_Exposicoes","Vl_Bruto_Total","DS_COMENTÁRIO_TABELA"]
["CRB_g",{"$f":"YEAR(C2)&IF(MONTH(C2)>9,4,IF(MONTH(C2)>6,3,IF(MONTH(C2)>3,2,1)))&\"T\"","v":"20234T"},{"$f":"EOMONTH(CRB_g!D5,0)","v":"2023-12-31"},{"$f":"CRB_g!D8","v":58.39743489},{"$f":"CRB_g!D9","v":436.20828652999995},{"$f":"CRB_g!D10","v":494.60572141999899},{"$f":"CRB_g!C11","v":"Segregação do total das exposições reestruturadas, entre aquelas classificadas como operações em curso anormal e as demais."}]
[]
["TXT","TXT","TXT","NUM","NUM","NUM","TXT"]

{"sheet":"MRA","index":41,"n_rows":9,"n_cols":4,"rows_kept":9,"cut":false,"hidden":false,"merged":[]}
[]
[]
[]
[null,null,null,{"$f":"Arquivos!A14","v":"2023-12-01"}]
[null,null,"Informações qualitativas sobre o gerenciamento do risco de mercado (MRA)"]
[null,null,"a","O risco de mercado do Conglomerado BRB é identificado, mensurado, avaliado, monitorado, reportado e controlado por unidade específica da Instituição, segregada das áreas de negócio. Todas as posições sujeitas a este risco estão alinhadas às diretrizes estabelecidas pela Administração e são mapeadas e avaliadas, diariamente, em um processo aprovado pela estrutura de Governança. \n\nSão exemplos de estratégias e ferramentas adotadas no BRB para o gerenciamento do risco de mercado:\n\n \tNormatização dos procedimentos de gestão desse risco, a fim de garantir a padronização da execução das atividades e a retenção do conhecimento;\n \tDivulgação diária de relatórios gerenciais com os resultados dos indicadores do risco de mercado, para monitoramento das exposições;\n \tAdoção de limites gerenciais, compatíveis com o apetite ao risco de mercado da Entidade;\n \tAnálise prévia de propostas de criação ou reformulação de produtos e serviços que possam gerar perdas à Instituição em função da flutuação de preços, taxas e índices;\n \tReavaliação periódica do modelo de mensuração do risco de mercado, por meio da aplicação de testes de aderência (backtesting), de modo a verificar a acurácia dos cálculos gerados e de checar a adequabilidade das premissas consideradas;\n \tExecução de análises de sensibilidade, para avaliação dos efeitos provocados por variações no patamar dos fatores de risco de mercado sobre o valor das exposições detidas pela Instituição;\n \tRealização de testes de estresse relacionados ao risco de mercado, com o intuito de capturar eventuais vulnerabilidades do BRB e de possibilitar a adoção tempestiva de ações preventivas destinadas à proteção da Instituição. O teste de estresse consiste numa técnica de simulação para avaliação do comportamento dos ativos e passivos da carteira quando fatores de risco são levados a situações extremas de mercado (baseadas em cenários prospectivos ou históricos); e\n \tDisseminação das melhores práticas relacionadas aos mitigadores existentes para risco de mercado.\n\nDentre as métricas utilizadas para o gerenciamento do risco de mercado, destaca-se o cálculo do Valor em Risco (VaR). O modelo VaR representa, sob condições normais de mercado, a perda potencial máxima esperada para a carteira da Instituição com base em certo grau de confiança e dentro de determinado horizonte de tempo. Para a apuração do VaR, é adotada a abordagem paramétrica, com 99% de confiança e holding period compatível com o número de dias úteis necessários para se desfazer das exposições existentes.\n\nA Política de Gerenciamento Integrado de Riscos e de Capital, que é aprovada pelo Conselho de Administração e revisada no mínimo anualmente, encontra-se aderente à Resolução CMN nº 4.557/2017 e fornece as principais diretrizes de atuação para o gerenciamento de riscos. Além desta Política, a Organização dispõe de normas específicas para regulamentar o processo de gerenciamento do risco de mercado."]
[null,null,"b","A estrutura de gestão do risco de mercado é compatível com o porte do Banco, com a natureza dos negócios, com a complexidade dos produtos, serviços, atividades e processos, proporcionais à dimensão e a relevância da exposição, e integrada aos demais riscos da Instituição.\n\nO processo de gerenciamento do risco de mercado é realizado de maneira corporativa, abrangendo desde unidades de negócios até o Conselho de Administração. Este processo envolve diversas áreas, com atribuições específicas, garantindo uma estrutura eficiente, sendo que a mensuração e controle do risco de mercado são realizados de maneira centralizada e independente.\n\nA Governança Corporativa da Entidade, pautada nas melhores práticas, gerencia o risco de mercado por meio de decisões colegiadas, amparadas em comitês executivos e estatutários específicos, que contam com a participação de membros da Administração. \n\nEsses Órgãos Colegiados acompanham as exposições existentes, avaliam os resultados das métricas adotadas, monitoram o cumprimento dos limites estabelecidos, analisam os resultados dos testes de estresse e propõem o apetite ao risco de mercado da Instituição.\nA Superintendência de Operações Financeiras, vinculada à Diretoria Executiva de Finanças e Controladoria, realiza a gestão dos instrumentos financeiros disponíveis na Tesouraria da Instituição e cumpre os limites estratégicos e operacionais estabelecidos.\n\nJá a Superintendência de Riscos Corporativos, vinculada à Diretoria Executiva de Controle e Riscos, propõe as métricas de controle do risco de mercado, calcula e divulga os indicadores desse risco nas periodicidades estabelecidas, monitora e controla o cumprimento dos limites definidos na RAS, realiza análises de sensibilidade e testes de estresse sobre a exposições assumidas, avalia periodicamente o desempenho dos modelos de cálculo do risco de mercado por meio de testes de aderência (backtesting) e comunica assuntos relacionados ao risco de mercado nas instâncias colegiadas onde o tema é abordado.\n\nA Gerência de Monitoração e Validação de Modelos, também vinculada à Diretoria Executiva de Controle e Riscos, realiza, por sua vez, a validação independente das metodologias de mensuração do risco de mercado, enquanto a Auditoria Interna, vinculada ao Conselho de Administração, analisa, periodicamente, a efetividade de todo o processo de gerenciamento do risco de mercado do BRB.\n\nA comunicação interna sobre o risco de mercado, tanto entre os setores quanto entre as diversas camadas da Governança interna, é feita por meio de relatórios internos, que são submetidos à avaliação de órgãos colegiados executivos e estatutários e demais áreas de interesse da Organização.\n\nOs relatórios são elaborados periodicamente e possuem informações gerenciais qualitativas e quantitativas sobre o risco de mercado, tais como: indicadores apurados e projetados, adequação aos limites internos fixados na RAS e resultados de testes de estresse.\n\nAs decisões relacionadas à gestão de risco de mercado são comunicadas às áreas intervenientes por meio de documentos que expressam objetivamente o posicionamento tomado pela Administração, garantindo a sua aplicação em todos os níveis do Banco."]
[null,null,"c","O BRB utiliza sistema externo para a geração dos cálculos do risco de mercado, o qual possui as seguintes características principais:\n\n \tControle de acesso;\n \tManutenção contínua e evolutiva;\n \tAderência às normas vigentes;\n \tAlta disponibilidade dos serviços. \n\nPor meio de tal sistema informatizado, a Instituição realiza suas atividades relacionadas ao gerenciamento do risco de mercado."]
[null,null,null,"sem comentários"]

{"sheet":"csv_MRA","index":42,"n_rows":4,"n_cols":7,"rows_kept":4,"cut":false,"hidden":false,"merged":[]}
["COD_TABELA","COD_REFERENCIA","DT_REFERENCIA_ARQ","CAMPO_A","CAMPO_B","CAMPO_C","DS_COMENTÁRIO_TABELA"]
["MRA",{"$f":"YEAR(C2)&IF(MONTH(C2)>9,4,IF(MONTH(C2)>6,3,IF(MONTH(C2)>3,2,1)))&\"T\"","v":"20234T"},{"$f":"EOMONTH(MRA!D4,0)","v":"2023-12-31"},{"$f":"CLEAN(MRA!$D6)","v":"O risco de mercado do Conglomerado BRB é identificado, mensurado, avaliado, monitorado, reportado e controlado por unidade específica da Instituição, segregada das áreas de negócio. Todas as posições sujeitas a este risco estão alinhadas às diretrizes estabelecidas pela Administração e são mapeadas e avaliadas, diariamente, em um processo aprovado pela estrutura de Governança. São exemplos de estratégias e ferramentas adotadas no BRB para o gerenciamento do risco de mercado: Normatização dos procedimentos de gestão desse risco, a fim de garantir a padronização da execução das atividades e a retenção do conhecimento; Divulgação diária de relatórios gerenciais com os resultados dos indicadores do risco de mercado, para monitoramento das exposições; Adoção de limites gerenciais, compatíveis com o apetite ao risco de mercado da Entidade; Análise prévia de propostas de criação ou reformulação de produtos e serviços que possam gerar perdas à Instituição em função da flutuação de preços, taxas e índices; Reavaliação periódica do modelo de mensuração do risco de mercado, por meio da aplicação de testes de aderência (backtesting), de modo a verificar a acurácia dos cálculos gerados e de checar a adequabilidade das premissas consideradas; Execução de análises de sensibilidade, para avaliação dos efeitos provocados por variações no patamar dos fatores de risco de mercado sobre o valor das exposições detidas pela Instituição; Realização de testes de estresse relacionados ao risco de mercado, com o intuito de capturar eventuais vulnerabilidades do BRB e de possibilitar a adoção tempestiva de ações preventivas destinadas à proteção da Instituição. O teste de estresse consiste numa técnica de simulação para avaliação do comportamento dos ativos e passivos da carteira quando fatores de risco são levados a situações extremas de mercado (baseadas em cenários prospectivos ou históricos); e Disseminação das melhores práticas relacionadas aos mitigadores existentes para risco de mercado.Dentre as métricas utilizadas para o gerenciamento do risco de mercado, destaca-se o cálculo do Valor em Risco (VaR). O modelo VaR representa, sob condições normais de mercado, a perda potencial máxima esperada para a carteira da Instituição com base em certo grau de confiança e dentro de determinado horizonte de tempo. Para a apuração do VaR, é adotada a abordagem paramétrica, com 99% de confiança e holding period compatível com o número de dias úteis necessários para se desfazer das exposições existentes.A Política de Gerenciamento Integrado de Riscos e de Capital, que é aprovada pelo Conselho de Administração e revisada no mínimo anualmente, encontra-se aderente à Resolução CMN nº 4.557/2017 e fornece as principais diretrizes de atuação para o gerenciamento de riscos. Além desta Política, a Organização dispõe de normas específicas para regulamentar o processo de gerenciamento do risco de mercado."},{"$f":"CLEAN(MRA!$D7)","v":"A estrutura de gestão do risco de mercado é compatível com o porte do Banco, com a natureza dos negócios, com a complexidade dos produtos, serviços, atividades e processos, proporcionais à dimensão e a relevância da exposição, e integrada aos demais riscos da Instituição.O processo de gerenciamento do risco de mercado é realizado de maneira corporativa, abrangendo desde unidades de negócios até o Conselho de Administração. Este processo envolve diversas áreas, com atribuições específicas, garantindo uma estrutura eficiente, sendo que a mensuração e controle do risco de mercado são realizados de maneira centralizada e independente.A Governança Corporativa da Entidade, pautada nas melhores práticas, gerencia o risco de mercado por meio de decisões colegiadas, amparadas em comitês executivos e estatutários específicos, que contam com a participação de membros da Administração. Esses Órgãos Colegiados acompanham as exposições existentes, avaliam os resultados das métricas adotadas, monitoram o cumprimento dos limites estabelecidos, analisam os resultados dos testes de estresse e propõem o apetite ao risco de mercado da Instituição.A Superintendência de Operações Financeiras, vinculada à Diretoria Executiva de Finanças e Controladoria, realiza a gestão dos instrumentos financeiros disponíveis na Tesouraria da Instituição e cumpre os limites estratégicos e operacionais estabelecidos.Já a Superintendência de Riscos Corporativos, vinculada à Diretoria Executiva de Controle e Riscos, propõe as métricas de controle do risco de mercado, calcula e divulga os indicadores desse risco nas periodicidades estabelecidas, monitora e controla o cumprimento dos limites definidos na RAS, realiza análises de sensibilidade e testes de estresse sobre a exposições assumidas, avalia periodicamente o desempenho dos modelos de cálculo do risco de mercado por meio de testes de aderência (backtesting) e comunica assuntos relacionados ao risco de mercado nas instâncias colegiadas onde o tema é abordado.A Gerência de Monitoração e Validação de Modelos, também vinculada à Diretoria Executiva de Controle e Riscos, realiza, por sua vez, a validação independente das metodologias de mensuração do risco de mercado, enquanto a Auditoria Interna, vinculada ao Conselho de Administração, analisa, periodicamente, a efetividade de todo o processo de gerenciamento do risco de mercado do BRB.A comunicação interna sobre o risco de mercado, tanto entre os setores quanto entre as diversas camadas da Governança interna, é feita por meio de relatórios internos, que são submetidos à avaliação de órgãos colegiados executivos e estatutários e demais áreas de interesse da Organização.Os relatórios são elaborados periodicamente e possuem informações gerenciais qualitativas e quantitativas sobre o risco de mercado, tais como: indicadores apurados e projetados, adequação aos limites internos fixados na RAS e resultados de testes de estresse.As decisões relacionadas à gestão de risco de mercado são comunicadas às áreas intervenientes por meio de documentos que expressam objetivamente o posicionamento tomado pela Administração, garantindo a sua aplicação em todos os níveis do Banco."},{"$f":"CLEAN(MRA!$D8)","v":"O BRB utiliza sistema externo para a geração dos cálculos do risco de mercado, o qual possui as seguintes características principais: Controle de acesso; Manutenção contínua e evolutiva; Aderência às normas vigentes; Alta disponibilidade dos serviços. Por meio de tal sistema informatizado, a Instituição realiza suas atividades relacionadas ao gerenciamento do risco de mercado."},{"$f":"MRA!D9","v":"sem comentários"}]
[]
["TXT","TXT","TXT","TXT","TXT","TXT","TXT"]

{"sheet":"CCRA","index":43,"n_rows":9,"n_cols":4,"rows_kept":9,"cut":false,"hidden":false,"merged":[[0,0,1,0]]}
[]
[]
[]
[null,null,null,{"$f":"Arquivos!A14","v":"2023-12-01"}]
[null,null,null,"Informações Qualitativas Sobre o Gerenciamento do Risco de Crédito de Contraparte – CCRA"]
[null,null,"a","O risco de crédito de contraparte (RCC) representa a perda financeira potencial em razão do não cumprimento das obrigações assumidas por determinada contraparte relativa à liquidação de operações que envolvam a negociação de ativos financeiros, incluindo a liquidação de instrumentos financeiros derivativos ou pela deterioração da qualidade creditícia do mesmo. O processo de gerenciamento do risco de crédito de contraparte ocorre de forma sistemática e independente, abrangendo todo o Conglomerado BRB. Este processo envolve áreas correlatas responsáveis pela análise de crédito, com atribuições específicas, seguindo a mesma esteira de aprovação da análise utilizada em outras modalidades, sempre respeitando os limites estabelecidos na RAS e visando o objetivo de garantir uma estrutura eficiente de gestão e controle.\n\nDe forma profilática, a Gestão da Tesouraria do BRB segue os principais modelos de mitigação de risco de crédito de contraparte. Ferramentas como avaliação de Notas de Rating nacionais e internacionais dos emissores e dos papéis negociados, bem como avaliação do risco de imagem e modelos de cálculo da exposição desses riscos são sistematicamente utilizadas para coibir erros de avaliação e corroboram para melhor avaliação dos ativos disponíveis no mercado."]
[null,null,"b","Considerando os modelos e formas de mitigação do risco de crédito de contraparte, a que a Instituição está exposta, é realizado o acompanhamento da evolução das exposições ao risco de crédito. Em complemento, nas operações realizadas junto a Câmara de Compensação e Liquidação (Clearings), há transferência de risco, sendo que o valor das operações incide no limite de crédito da Câmara. Além disso, para as operações que estão sujeitas ao risco de crédito de contraparte (RCC), o BRB considera esse risco como parâmetro para ajuste no valor dos ativos expostos que são marcados a mercado - MaM. Para exposições sujeitas ao RCC, nem sempre é possível alcançar garantias para cobertura total ou parcial na realização dos negócios. No entanto, adota-se a regra de operar apenas com instituições ou papéis que possuem rating de classificação em nível de investimentos, que refletem na precificação do papel. Destaca-se que, no BRB, o valor das exposições referentes ao risco de contraparte não é significativo quando comparado às demais exposições, uma vez que a maior parte é realizada com o Tesouro Nacional, Sistema de Liquidação e Câmaras e Instituições Financeiras, sendo ainda, lastreadas por Títulos Públicos."]
[null,null,"c","Atualmente, o BRB não tem impacto no montante de colaterais a serem empenhados no caso de rebaixamento da sua classificação de crédito. "]
[null,null,null,"sem comentários"]

{"sheet":"csv_CCRA","index":44,"n_rows":4,"n_cols":7,"rows_kept":4,"cut":false,"hidden":false,"merged":[]}
["COD_TABELA","COD_REFERENCIA","DT_REFERENCIA_ARQ","CAMPO_A","CAMPO_B","CAMPO_C","DS_COMENTÁRIO_TABELA"]
["CCRA",{"$f":"YEAR(C2)&IF(MONTH(C2)>9,4,IF(MONTH(C2)>6,3,IF(MONTH(C2)>3,2,1)))&\"T\"","v":"20234T"},{"$f":"CCRA!D4","v":"2023-12-01"},{"$f":"CLEAN(CCRA!$D6)","v":"O risco de crédito de contraparte (RCC) representa a perda financeira potencial em razão do não cumprimento das obrigações assumidas por determinada contraparte relativa à liquidação de operações que envolvam a negociação de ativos financeiros, incluindo a liquidação de instrumentos financeiros derivativos ou pela deterioração da qualidade creditícia do mesmo. O processo de gerenciamento do risco de crédito de contraparte ocorre de forma sistemática e independente, abrangendo todo o Conglomerado BRB. Este processo envolve áreas correlatas responsáveis pela análise de crédito, com atribuições específicas, seguindo a mesma esteira de aprovação da análise utilizada em outras modalidades, sempre respeitando os limites estabelecidos na RAS e visando o objetivo de garantir uma estrutura eficiente de gestão e controle.De forma profilática, a Gestão da Tesouraria do BRB segue os principais modelos de mitigação de risco de crédito de contraparte. Ferramentas como avaliação de Notas de Rating nacionais e internacionais dos emissores e dos papéis negociados, bem como avaliação do risco de imagem e modelos de cálculo da exposição desses riscos são sistematicamente utilizadas para coibir erros de avaliação e corroboram para melhor avaliação dos ativos disponíveis no mercado."},{"$f":"CLEAN(CCRA!$D7)","v":"Considerando os modelos e formas de mitigação do risco de crédito de contraparte, a que a Instituição está exposta, é realizado o acompanhamento da evolução das exposições ao risco de crédito. Em complemento, nas operações realizadas junto a Câmara de Compensação e Liquidação (Clearings), há transferência de risco, sendo que o valor das operações incide no limite de crédito da Câmara. Além disso, para as operações que estão sujeitas ao risco de crédito de contraparte (RCC), o BRB considera esse risco como parâmetro para ajuste no valor dos ativos expostos que são marcados a mercado - MaM. Para exposições sujeitas ao RCC, nem sempre é possível alcançar garantias para cobertura total ou parcial na realização dos negócios. No entanto, adota-se a regra de operar apenas com instituições ou papéis que possuem rating de classificação em nível de investimentos, que refletem na precificação do papel. Destaca-se que, no BRB, o valor das exposições referentes ao risco de contraparte não é significativo quando comparado às demais exposições, uma vez que a maior parte é realizada com o Tesouro Nacional, Sistema de Liquidação e Câmaras e Instituições Financeiras, sendo ainda, lastreadas por Títulos Públicos."},{"$f":"CLEAN(CCRA!$D8)","v":"Atualmente, o BRB não tem impacto no montante de colaterais a serem empenhados no caso de rebaixamento da sua classificação de crédito. "},{"$f":"CCRA!D9","v":"sem comentários"}]
[]
["TXT","TXT","TXT","TXT","TXT","TXT","TXT"]

{"sheet":"IRRBBA","index":45,"n_rows":19,"n_cols":4,"rows_kept":19,"cut":false,"hidden":false,"merged":[]}
[]
[]
[]
[]
[null,null,"Objetivos e Políticas para o Gerenciamento de IRRBB – IRRBBA"]
[null,null,null,{"$f":"Arquivos!A14","v":"2023-12-01"}]
[null,null,"Informações qualitativas"]
[null,null,"a","O IRRBB (“Interest Rate Risk in the Banking Book” ou “Risco de Variação das Taxas de Juros para Instrumentos Classificados na Carteira Bancária”) é definido como o risco, atual ou prospectivo, do impacto de movimentos adversos das taxas de juros no capital e no resultado da Instituição, para os instrumentos classificados na carteira bancária. O IRRBB representa a possibilidade da carteira bancária da instituição ser impactada negativamente, sob a ótica de valor econômico ou de resultado de intermediação financeira, em função de eventuais variações desfavoráveis das taxas de juros.\n\nConsiderando que parte significativa das posições detidas pelo Conglomerado BRB é sujeita ao IRRBB, então o adequado gerenciamento desse risco gera melhores condições para o atingimento dos objetivos institucionais do BRB e aumenta a previsibilidade dos resultados da Entidade."]
[null,null,"b","O BRB realiza, diariamente, o gerenciamento do IRRBB através de procedimentos e ferramentas estabelecidos e documentados internamente.\n\nO IRRBB é identificado, mensurado, avaliado, monitorado, reportado e controlado por unidade específica da Instituição, segregada das áreas de negócio. Todas as posições sujeitas a este risco são mapeadas e avaliadas, diariamente, em um processo aprovado pela estrutura de Governança. São exemplos de estratégias e ferramentas adotadas no BRB para o gerenciamento do IRRBB:\n\n \tNormatização dos procedimentos de gestão desse risco, a fim de garantir a padronização da execução das atividades e a retenção do conhecimento;\n \tDivulgação diária de relatórios gerenciais com os resultados dos indicadores do IRRBB, para monitoramento das exposições;\n \tMonitoramento contínuo dos descasamentos de volumes, indexadores e prazos entre ativos e passivos do Conglomerado BRB;\n \tAdoção de limites gerenciais para a Margem sobre o PR considerando a parcela IRRBB e o ACP, compatíveis com o apetite da Entidade ao IRRBB;\n \tAnálise prévia de propostas de criação ou reformulação de produtos e serviços que possam gerar perdas à carteira bancária da Instituição em função da flutuação de taxas de juros;\n \tReavaliação periódica de premissas assumidas no modelo de mensuração do IRRBB, por meio da aplicação de testes de aderência (backtesting), de modo a verificar a acurácia dos cálculos gerados e de checar a adequabilidade dos parâmetros considerados;\n \tExecução de análises de sensibilidade, para avaliação dos efeitos provocados por eventuais mudanças na composição da carteira bancária da Instituição sobre os resultados apurados de IRRBB;\n \tRealização de testes de estresse relacionados ao IRRBB, com o intuito de capturar eventuais vulnerabilidades do BRB e de possibilitar a adoção tempestiva de ações preventivas destinadas à proteção da Instituição. O teste de estresse consiste numa avaliação prospectiva do efeito que determinadas alterações extremas de taxas de juros causam sobre o valor presente ou sobre o resultado associado aos instrumentos financeiros sujeitos ao IRRBB; e\n \tDisseminação das melhores práticas relacionadas aos mitigadores existentes para o IRRBB.\n\nA parcela de capital para cobertura do IRRBB (denominada parcela IRRBB) é compatível com a dimensão das exposições sujeitas ao IRRBB. Seu montante é apurado a partir dos valores de perdas e ganhos embutidos (EGL) e das métricas padronizadas ΔEVE e ΔNII, cujos cálculos abrangem todas as exposições sensíveis ao IRRBB.\n\nAdicionalmente, a parcela IRRBB também é compatível com a Declaração de Apetite por Riscos (RAS) do Conglomerado BRB, haja vista que seu valor é utilizado na mensuração da “Margem sobre o PR considerando o IRRBB e o ACP”, para a qual existem níveis mínimos de apetite dispostos na RAS que são monitorados de forma contínua pela Entidade."]
[null,null,"c","O IRRBB é calculado diariamente por meio das métricas padronizadas ∆EVE, ∆NII e EGL, as quais são descritas na Circular BCB nº 3.876/2018.\n\nO ΔEVE consiste na diferença entre o valor presente do somatório dos fluxos de reapreçamento de instrumentos sujeitos ao IRRBB em um cenário-base e o valor presente do somatório dos fluxos de reapreçamento desses mesmos instrumentos em um cenário de choque nas taxas de juros.\n\nJá o ΔNII é definido como a diferença entre o resultado de intermediação financeira dos instrumentos sujeitos ao IRRBB em um cenário-base e o resultado de intermediação financeira desses mesmos instrumentos em um cenário de choque nas taxas de juros.\n\nPor sua vez, a métrica de perdas e ganhos embutidos (EGL) consiste na diferença entre o valor presente e o respectivo valor contábil dos instrumentos sujeitos ao IRRBB.\n\nCabe destacar que os valores apurados para o ΔEVE não representam impacto imediato ao patrimônio líquido, enquanto que o ΔNII indica potencial volatilidade dos resultados projetados considerando as premissas dos modelos."]
[null,null,"d","Os cenários de choques utilizados para o cálculo do ∆EVE e do ∆NII são os de aumento das taxas de juros de curto prazo e de longo prazo (denominado paralelo de alta) e de redução das taxas de juros de curto prazo e de longo prazo (denominado paralelo de baixa). \n\nA magnitude dos choques paralelos de alta e de baixa associados às taxas de juros prefixadas (ou pós-fixadas) referenciadas em reais é, conforme define a Circular BCB nº 3.876/2018, de 400 pontos-base, onde 1 ponto-base representa o centésimo de 1% (um por cento). \n\nJá para os instrumentos com exposição simultânea a fatores de risco pós-fixados e a taxas de cupons prefixadas, os valores dos choques paralelos referentes às taxas de cupons são equivalentes ao choque paralelo da taxa prefixada da moeda em que o cupom é denominado multiplicado pela razão “p”, que consiste no maior valor entre os 1º e 99º percentis, ambos em valores absolutos, de uma distribuição histórica composta por 1.260 observações diárias da razão verificada entre a taxa do cupom e a taxa prefixada da moeda em que o cupom é denominado, ambas do vértice de 252 dias úteis."]
[null,null,"e","Como o BRB utiliza a abordagem padronizada descrita na Circular BCB nº 3.876/2018 para a mensuração do IRRBB, então, atualmente, não são adotadas premissas diferentes daquelas exigidas no modelo padrão."]
[null,null,"f","O Conglomerado BRB ainda não possui operações específicas de hedge com derivativos para suas exposições sujeitas ao IRRBB. Porém, o Banco, de forma contínua, monitora as condições de mercado e, periodicamente, realiza simulações de operações de hedge para identificar oportunidades de assumir posições destinadas à proteção da carteira da Entidade contra eventuais variações de taxas de juros. \n\nA Organização faz ainda, quando é possível e economicamente viável, operações de hedge natural, com o objetivo de atenuar os eventuais descasamentos por indexadores entre ativos e passivos. \n\nAdemais, a Instituição adota outras ações para diminuir o risco de base (diferença de indexadores entre ativos e passivos) — como a realização de captações via depósito judicial, que é um produto remunerado por uma taxa PRÉ + TR, em que este componente PRÉ é preponderante, o que gera um “casamento” desses passivos com os ativos prefixados do Conglomerado BRB — e o risco de gap (diferença de prazos médios entre ativos e passivos) — como a rolagem adequada de passivos mais curtos, com controle de custos, e a reprecificação tempestiva de ativos mais longos, considerando as perspectivas econômicas, de modo a preservar a liquidez e rentabilidade —, cujo tratamento contábil é feito de forma aderente às normas contábeis vigentes.\n"]
[null,null,"g","\n \t \tPara o ∆EVE, se as margens comerciais e outros componentes de spread foram incluídos nos fluxos de reapreçamento ou considerados nas taxas de desconto utilizadas;\n \tComo foi determinado o prazo médio de reapreçamento na linha 1, incluindo quaisquer características peculiares de produtos que afetem a avaliação do comportamento de reapreçamento;\n \tA metodologia utilizada para estimar as taxas de pré-pagamento de operações de crédito, as taxas de resgate antecipado de depósitos a prazo, e outras premissas consideradas relevantes;\n \tQuaisquer outras premissas que tenham impacto relevante sobre os valores de ∆EVE e do ∆NII reportados na Tabela IRRBB1, incluindo explicações de por que tais premissas são relevantes; e\n \tQuaisquer métodos de agregação de fatores de risco a estrutura de correlações entre curvas de juros utilizada.\n\nAs margens comerciais e outros componentes de spread foram incluídos no cálculo do ∆EVE e do ∆NII.\n\nDe maneira geral, as operações sujeitas às opcionalidades comportamentais abrangem os depósitos sem vencimento contratual definido (e que possibilitam saques a qualquer momento), as captações que permitem resgates antecipados (mesmo tendo vencimentos contratuais preestabelecidos) e produtos de crédito sujeitos a pré-pagamento.\n\nOs modelos para apuração das taxas de resgate antecipado em captações (com ou sem vencimento definido) e das taxas de pré-pagamento em operações de crédito foram baseados em estudos estatísticos considerando evoluções e comportamentos históricos e safras de cada produto.\n\nPara estimar a taxa de resgate antecipado para os produtos de captação sujeitos a essa opcionalidade comportamental, foram feitos estudos para verificação dos seus comportamentos históricos, bem como a possibilidade de manutenção dos mesmos. Através destes estudos, foram definidos o montante estável (parcela core) assim como o critério de alocação ao longo do tempo. A estimativa adota a premissa de que o volume de resgates antecipados ocorrerá em escala similar àquela observada na série histórica.\n\nEm relação às taxas de pré-pagamento em operações de crédito do Conglomerado BRB, verificou-se por meio de estudo específico, com base no comportamento histórico de safras de produtos de crédito com características similares, que essa opcionalidade comportamental é relevante para a Instituição.\n\nNão são adotados pelo Banco quaisquer métodos de agregação de fatores de risco a estrutura de correlações entre curvas de juros utilizada."]
[null,null,"h","(Opcional) Quaisquer outras informações que a instituição deseje divulgar com respeito à sua interpretação da relevância e sensibilidade das medidas de IRRBB divulgadas, além de notas explicativas sobre eventuais variações significativas no nível de IRRBB reportado em relação a datas-bases anteriores."]
[null,null,"Informações quantitativas"]
[null,null,1,"1217 dias úteis"]
[null,null,2,"1260 dias úteis"]
[null,null,null,"sem comentários"]

{"sheet":"csv_IRRBBA","index":46,"n_rows":4,"n_cols":14,"rows_kept":4,"cut":false,"hidden":false,"merged":[]}
["COD_TABELA","COD_REFERENCIA","DT_REFERENCIA_ARQ","Inf_Qualit_a","Inf_Qualit_b","Inf_Qualit_c","Inf_Qualit_d","Inf_Qualit_e","Inf_Qualit_f","Inf_Qualit_g","Inf_Qualit_h","Qtd_dias_uteis_1","Qtd_dias_uteis_2","DS_COMENTÁRIO_TABELA"]
["IRRBBA",{"$f":"YEAR(C2)&IF(MONTH(C2)>9,4,IF(MONTH(C2)>6,3,IF(MONTH(C2)>3,2,1)))&\"T\"","v":"20234T"},{"$f":"EOMONTH(IRRBBA!D6,0)","v":"2023-12-31"},{"$f":"CLEAN(IRRBBA!$D8)","v":"O IRRBB (“Interest Rate Risk in the Banking Book” ou “Risco de Variação das Taxas de Juros para Instrumentos Classificados na Carteira Bancária”) é definido como o risco, atual ou prospectivo, do impacto de movimentos adversos das taxas de juros no capital e no resultado da Instituição, para os instrumentos classificados na carteira bancária. O IRRBB representa a possibilidade da carteira bancária da instituição ser impactada negativamente, sob a ótica de valor econômico ou de resultado de intermediação financeira, em função de eventuais variações desfavoráveis das taxas de juros.Considerando que parte significativa das posições detidas pelo Conglomerado BRB é sujeita ao IRRBB, então o adequado gerenciamento desse risco gera melhores condições para o atingimento dos objetivos institucionais do BRB e aumenta a previsibilidade dos resultados da Entidade."},{"$f":"CLEAN(IRRBBA!$D9)","v":"O BRB realiza, diariamente, o gerenciamento do IRRBB através de procedimentos e ferramentas estabelecidos e documentados internamente.O IRRBB é identificado, mensurado, avaliado, monitorado, reportado e controlado por unidade específica da Instituição, segregada das áreas de negócio. Todas as posições sujeitas a este risco são mapeadas e avaliadas, diariamente, em um processo aprovado pela estrutura de Governança. São exemplos de estratégias e ferramentas adotadas no BRB para o gerenciamento do IRRBB: Normatização dos procedimentos de gestão desse risco, a fim de garantir a padronização da execução das atividades e a retenção do conhecimento; Divulgação diária de relatórios gerenciais com os resultados dos indicadores do IRRBB, para monitoramento das exposições; Monitoramento contínuo dos descasamentos de volumes, indexadores e prazos entre ativos e passivos do Conglomerado BRB; Adoção de limites gerenciais para a Margem sobre o PR considerando a parcela IRRBB e o ACP, compatíveis com o apetite da Entidade ao IRRBB; Análise prévia de propostas de criação ou reformulação de produtos e serviços que possam gerar perdas à carteira bancária da Instituição em função da flutuação de taxas de juros; Reavaliação periódica de premissas assumidas no modelo de mensuração do IRRBB, por meio da aplicação de testes de aderência (backtesting), de modo a verificar a acurácia dos cálculos gerados e de checar a adequabilidade dos parâmetros considerados; Execução de análises de sensibilidade, para avaliação dos efeitos provocados por eventuais mudanças na composição da carteira bancária da Instituição sobre os resultados apurados de IRRBB; Realização de testes de estresse relacionados ao IRRBB, com o intuito de capturar eventuais vulnerabilidades do BRB e de possibilitar a adoção tempestiva de ações preventivas destinadas à proteção da Instituição. O teste de estresse consiste numa avaliação prospectiva do efeito que determinadas alterações extremas de taxas de juros causam sobre o valor presente ou sobre o resultado associado aos instrumentos financeiros sujeitos ao IRRBB; e Disseminação das melhores práticas relacionadas aos mitigadores existentes para o IRRBB.A parcela de capital para cobertura do IRRBB (denominada parcela IRRBB) é compatível com a dimensão das exposições sujeitas ao IRRBB. Seu montante é apurado a partir dos valores de perdas e ganhos embutidos (EGL) e das métricas padronizadas ΔEVE e ΔNII, cujos cálculos abrangem todas as exposições sensíveis ao IRRBB.Adicionalmente, a parcela IRRBB também é compatível com a Declaração de Apetite por Riscos (RAS) do Conglomerado BRB, haja vista que seu valor é utilizado na mensuração da “Margem sobre o PR considerando o IRRBB e o ACP”, para a qual existem níveis mínimos de apetite dispostos na RAS que são monitorados de forma contínua pela Entidade."},{"$f":"CLEAN(IRRBBA!$D10)","v":"O IRRBB é calculado diariamente por meio das métricas padronizadas ∆EVE, ∆NII e EGL, as quais são descritas na Circular BCB nº 3.876/2018.O ΔEVE consiste na diferença entre o valor presente do somatório dos fluxos de reapreçamento de instrumentos sujeitos ao IRRBB em um cenário-base e o valor presente do somatório dos fluxos de reapreçamento desses mesmos instrumentos em um cenário de choque nas taxas de juros.Já o ΔNII é definido como a diferença entre o resultado de intermediação financeira dos instrumentos sujeitos ao IRRBB em um cenário-base e o resultado de intermediação financeira desses mesmos instrumentos em um cenário de choque nas taxas de juros.Por sua vez, a métrica de perdas e ganhos embutidos (EGL) consiste na diferença entre o valor presente e o respectivo valor contábil dos instrumentos sujeitos ao IRRBB.Cabe destacar que os valores apurados para o ΔEVE não representam impacto imediato ao patrimônio líquido, enquanto que o ΔNII indica potencial volatilidade dos resultados projetados considerando as premissas dos modelos."},{"$f":"CLEAN(IRRBBA!$D11)","v":"Os cenários de choques utilizados para o cálculo do ∆EVE e do ∆NII são os de aumento das taxas de juros de curto prazo e de longo prazo (denominado paralelo de alta) e de redução das taxas de juros de curto prazo e de longo prazo (denominado paralelo de baixa). A magnitude dos choques paralelos de alta e de baixa associados às taxas de juros prefixadas (ou pós-fixadas) referenciadas em reais é, conforme define a Circular BCB nº 3.876/2018, de 400 pontos-base, onde 1 ponto-base representa o centésimo de 1% (um por cento). Já para os instrumentos com exposição simultânea a fatores de risco pós-fixados e a taxas de cupons prefixadas, os valores dos choques paralelos referentes às taxas de cupons são equivalentes ao choque paralelo da taxa prefixada da moeda em que o cupom é denominado multiplicado pela razão “p”, que consiste no maior valor entre os 1º e 99º percentis, ambos em valores absolutos, de uma distribuição histórica composta por 1.260 observações diárias da razão verificada entre a taxa do cupom e a taxa prefixada da moeda em que o cupom é denominado, ambas do vértice de 252 dias úteis."},{"$f":"CLEAN(IRRBBA!$D12)","v":"Como o BRB utiliza a abordagem padronizada descrita na Circular BCB nº 3.876/2018 para a mensuração do IRRBB, então, atualmente, não são adotadas premissas diferentes daquelas exigidas no modelo padrão."},{"$f":"CLEAN(IRRBBA!$D13)","v":"O Conglomerado BRB ainda não possui operações específicas de hedge com derivativos para suas exposições sujeitas ao IRRBB. Porém, o Banco, de forma contínua, monitora as condições de mercado e, periodicamente, realiza simulações de operações de hedge para identificar oportunidades de assumir posições destinadas à proteção da carteira da Entidade contra eventuais variações de taxas de juros. A Organização faz ainda, quando é possível e economicamente viável, operações de hedge natural, com o objetivo de atenuar os eventuais descasamentos por indexadores entre ativos e passivos. Ademais, a Instituição adota outras ações para diminuir o risco de base (diferença de indexadores entre ativos e passivos) — como a realização de captações via depósito judicial, que é um produto remunerado por uma taxa PRÉ + TR, em que este componente PRÉ é preponderante, o que gera um “casamento” desses passivos com os ativos prefixados do Conglomerado BRB — e o risco de gap (diferença de prazos médios entre ativos e passivos) — como a rolagem adequada de passivos mais curtos, com controle de custos, e a reprecificação tempestiva de ativos mais longos, considerando as perspectivas econômicas, de modo a preservar a liquidez e rentabilidade —, cujo tratamento contábil é feito de forma aderente às normas contábeis vigentes."},{"$f":"CLEAN(IRRBBA!$D14)","v":"  Para o ∆EVE, se as margens comerciais e outros componentes de spread foram incluídos nos fluxos de reapreçamento ou considerados nas taxas de desconto utilizadas; Como foi determinado o prazo médio de reapreçamento na linha 1, incluindo quaisquer características peculiares de produtos que afetem a avaliação do comportamento de reapreçamento; A metodologia utilizada para estimar as taxas de pré-pagamento de operações de crédito, as taxas de resgate antecipado de depósitos a prazo, e outras premissas consideradas relevantes; Quaisquer outras premissas que tenham impacto relevante sobre os valores de ∆EVE e do ∆NII reportados na Tabela IRRBB1, incluindo explicações de por que tais premissas são relevantes; e Quaisquer métodos de agregação de fatores de risco a estrutura de correlações entre curvas de juros utilizada.As margens comerciais e outros componentes de spread foram incluídos no cálculo do ∆EVE e do ∆NII.De maneira geral, as operações sujeitas às opcionalidades comportamentais abrangem os depósitos sem vencimento contratual definido (e que possibilitam saques a qualquer momento), as captações que permitem resgates antecipados (mesmo tendo vencimentos contratuais preestabelecidos) e produtos de crédito sujeitos a pré-pagamento.Os modelos para apuração das taxas de resgate antecipado em captações (com ou sem vencimento definido) e das taxas de pré-pagamento em operações de crédito foram baseados em estudos estatísticos considerando evoluções e comportamentos históricos e safras de cada produto.Para estimar a taxa de resgate antecipado para os produtos de captação sujeitos a essa opcionalidade comportamental, foram feitos estudos para verificação dos seus comportamentos históricos, bem como a possibilidade de manutenção dos mesmos. Através destes estudos, foram definidos o montante estável (parcela core) assim como o critério de alocação ao longo do tempo. A estimativa adota a premissa de que o volume de resgates antecipados ocorrerá em escala similar àquela observada na série histórica.Em relação às taxas de pré-pagamento em operações de crédito do Conglomerado BRB, verificou-se por meio de estudo específico, com base no comportamento histórico de safras de produtos de crédito com características similares, que essa opcionalidade comportamental é relevante para a Instituição.Não são adotados pelo Banco quaisquer métodos de agregação de fatores de risco a estrutura de correlações entre curvas de juros utilizada."},{"$f":"CLEAN(IRRBBA!$D15)","v":"(Opcional) Quaisquer outras informações que a instituição deseje divulgar com respeito à sua interpretação da relevância e sensibilidade das medidas de IRRBB divulgadas, além de notas explicativas sobre eventuais variações significativas no nível de IRRBB reportado em relação a datas-bases anteriores."},{"$f":"CLEAN(IRRBBA!$D17)","v":"1217 dias úteis"},{"$f":"CLEAN(IRRBBA!$D18)","v":"1260 dias úteis"},{"$f":"IRRBBA!D19","v":"sem comentários"}]
[]
["TXT","TXT","TXT","TXT","TXT","TXT","TXT","TXT","TXT","TXT","TXT","TXT","TXT","TXT"]

{"sheet":"IRRBB1","index":47,"n_rows":18,"n_cols":7,"rows_kept":18,"cut":false,"hidden":false,"merged":[[17,2,17,6],[6,3,6,4],[6,5,6,6],[15,3,15,4],[15,5,15,6],[16,3,16,4],[16,5,16,6]]}
[]
[]
[]
[]
[null,null,"Informações Qualitativas Sobre o IRRBB – IRRBB1",null,null,null,{"$f":"Arquivos!A14","v":"2023-12-01"}]
[]
[null,null,"Valores em R$","DEVE",null,"DNII"]
[null,null,"Data Base","T","T-1","T","T-1"]
[null,null,"Cenário Paralelo de Alta",707130755,395468657,482627929,380237416]
[null,null,"Cenário Paralelo de Baixa","-","-","-","-"]
[null,null,"Cenário de aumento das taxas de juros de curto prazo"]
[null,null,"Cenário de redução das taxas de juros de curto prazo"]
[null,null,"Cenário steepener"]
[null,null,"Cenário flattener"]
[null,null,"Variação máxima",707130755,395468657,482627929,380237416]
[null,null,"Data Base","T",null,"T-1"]
[null,null,"Nível I do Patrimônio de Referência (PR)",2626525979.1599998,null,2169554845.8000002]
[null,null,"Comentários: O aumento de 78,81% no Delta EVE em 29/12/2023 – com relação a 30/12/2022 foi ocasionado, principalmente, pela atualização dos parâmetros da opcionalidade comportamental de pré-pagamento.\n\nA elevação de 26,93% no Delta NII em 29/12/2023 – com relação a 30/12/2022 – foi resultante, principalmente, do incremento nos saldos de captações em LCIs pós-fixados e em depósitos judiciais indexados a cupom de TR."]

{"sheet":"csv_IRRBB1","index":48,"n_rows":4,"n_cols":34,"rows_kept":4,"cut":false,"hidden":false,"merged":[]}
["COD_TABELA","COD_REFERENCIA","DT_REFERENCIA_ARQ","Vl_EVE_Cen_Par_de_Alta_T","Vl_EVE_Cen_Par_de_Alta_T1","Vl_NII_Cen_Par_de_Alta_T","Vl_NII_Cen_Par_de_Alta_T1","Vl_EVE_Cen_Par_de_Baixa_T","Vl_EVE_Cen_Par_de_Baixa_T1","Vl_NII_Cen_Par_de_Baixa_T","Vl_NII_Cen_Par_de_Baixa_T1","Vl_EVE_Cen_aum_Tx_curto_prazo_T","Vl_EVE_Cen_aum_Tx_curto_prazo_T1","Vl_NII_Cen_aum_Tx_curto_prazo_T","Vl_NII_Cen_aum_Tx_curto_prazo_T1","Vl_EVE_Cen_red_Tx_curto_prazo_T","Vl_EVE_Cen_red_Tx_curto_prazo_T1","Vl_NII_Cen_red_Tx_curto_prazo_T","Vl_NII_Cen_red_Tx_curto_prazo_T1","Vl_EVE_steepener_T","Vl_EVE_steepener_T1","Vl_NII_steepener_T","Vl_NII_steepener_T1","Vl_EVE_flattener_T","Vl_EVE_flattener_T1","Vl_NII_flattener_T","Vl_NII_flattener_T1","Vl_EVE_variacao_max_T","Vl_EVE_variacao_max_T1","Vl_NII_variacao_max_T","Vl_NII_variacao_max_T1","Vl_Nivel_I_do_PR_T","Vl_Nivel_I_do_PR_T1","DS_COMENTÁRIO_TABELA"]
["IRRBB1",{"$f":"YEAR(C2)&IF(MONTH(C2)>9,4,IF(MONTH(C2)>6,3,IF(MONTH(C2)>3,2,1)))&\"T\"","v":"20234T"},{"$f":"EOMONTH(IRRBB1!G5,0)","v":"2023-12-31"},{"$f":"IRRBB1!D9","v":707130755},{"$f":"IRRBB1!E9","v":395468657},{"$f":"IRRBB1!F9","v":482627929},{"$f":"IRRBB1!G9","v":380237416},{"$f":"IRRBB1!D10","v":"-"},{"$f":"IRRBB1!E10","v":"-"},{"$f":"IRRBB1!F10","v":"-"},{"$f":"IRRBB1!G10","v":"-"},{"$f":"IRRBB1!D11","v":0},{"$f":"IRRBB1!E11","v":0},{"$f":"IRRBB1!F11","v":0},{"$f":"IRRBB1!G11","v":0},{"$f":"IRRBB1!D12","v":0},{"$f":"IRRBB1!E12","v":0},{"$f":"IRRBB1!F12","v":0},{"$f":"IRRBB1!G12","v":0},{"$f":"IRRBB1!D13","v":0},{"$f":"IRRBB1!E13","v":0},{"$f":"IRRBB1!F13","v":0},{"$f":"IRRBB1!G13","v":0},{"$f":"IRRBB1!D14","v":0},{"$f":"IRRBB1!E14","v":0},{"$f":"IRRBB1!F14","v":0},{"$f":"IRRBB1!G14","v":0},{"$f":"IRRBB1!D15","v":707130755},{"$f":"IRRBB1!E15","v":395468657},{"$f":"IRRBB1!F15","v":482627929},{"$f":"IRRBB1!G15","v":380237416},{"$f":"IRRBB1!D17","v":2626525979.1599998},{"$f":"IRRBB1!F17","v":2169554845.8000002},{"$f":"CLEAN(IRRBB1!C18)","v":"Comentários: O aumento de 78,81% no Delta EVE em 29/12/2023 – com relação a 30/12/2022 foi ocasionado, principalmente, pela atualização dos parâmetros da opcionalidade comportamental de pré-pagamento.A elevação de 26,93% no Delta NII em 29/12/2023 – com relação a 30/12/2022 – foi resultante, principalmente, do incremento nos saldos de captações em LCIs pós-fixados e em depósitos judiciais indexados a cupom de TR."}]
[]
["TXT","TXT","TXT","NUM","NUM","NUM","NUM","NUM","NUM","NUM","NUM","NUM","NUM","NUM","NUM","NUM","NUM","NUM","NUM","NUM","NUM","NUM","NUM","NUM","NUM","NUM","NUM","NUM","NUM","NUM","NUM","NUM","NUM","TXT"]